{"text_format":"1","workbook":"xlsx","n_sheets":4,"sheets":["PREZENCE","STARTOVKA","ZADANI","VYHODNOCENI"],"not_rendered":{"charts":0,"images":0,"macros":1,"external_links":0,"defined_names":3,"comments":0,"pivot_tables":0},"unopened":[],"bounds":{"document_bytes":16777216,"sheet_cells":100000,"rows_first":2000,"rows_last":500,"rows_between":2000,"halvings":0,"cell_chars":16384,"cell_head_chars":4096},"cells_cut":0,"cells_raw":0,"read":"whole","date_system":"1900"}

{"sheet":"PREZENCE","index":0,"n_rows":32,"n_cols":8,"rows_kept":32,"cut":false,"hidden":false,"merged":[[26,7,26,10],[30,7,30,10],[31,7,31,10],[21,7,21,10],[22,7,22,10],[23,7,23,10],[24,7,24,10],[25,7,25,10],[16,7,16,10],[17,7,17,10],[18,7,18,10],[19,7,19,10],[20,7,20,10],[11,7,11,10],[12,7,12,10],[13,7,13,10],[14,7,14,10],[15,7,15,10],[4,7,6,10],[7,7,7,10],[8,7,8,10],[9,7,9,10],[10,7,10,10],[25,3,25,6],[26,3,26,6],[18,3,18,6],[19,3,19,6],[20,3,20,6],[21,3,21,6],[22,3,22,6],[15,3,15,6],[16,3,16,6],[17,3,17,6],[23,3,23,6],[24,3,24,6],[10,3,10,6],[11,3,11,6],[12,3,12,6],[13,3,13,6],[14,3,14,6],[0,1,3,2],[0,3,0,4],[0,5,0,7],[1,3,1,4],[1,5,1,7],[2,3,2,4],[2,5,2,7],[3,3,3,4],[3,5,3,7],[4,3,6,6],[4,1,6,1],[7,3,7,6],[8,3,8,6],[9,3,9,6],[4,2,6,2]]}
[null,"PREZENČNÍ LISTINA",null," Místo soutěže:",null,"Vsetín"]
[null,null,null," Datum:",null,"2024-04-24"]
[]
[]
[null,"Los","Soutěžní družstvo","Územní odbor",null,null,null,"Stanice"]
[]
[]
[null,5,"HZS Zlínského kraje","Zlín",null,null,null,"CHS Zlín"]
[null,8,"HZS Zlínského kraje","Kroměříž",null,null,null,"CHS Kroměříž"]
[null,7,"HZS Zlínského kraje","Uherské Hradiště",null,null,null,"CHS Uherské Hradiště"]
[null,9,"HZS Zlínského kraje","Vsetín",null,null,null,"Valašské Meziříčí"]
[null,4,"HaZZ Trenčianskeho kraja","Považská Bystrica",null,null,null,"Okresné riaditeľstvo HaZZ v Považskej Bystrici"]
[null,6,"HZS Olomouckého kraje","Prostějov",null,null,null,"CHS Prostějov"]
[null,1,"HZS Olomouckého kraje","Olomouc",null,null,null,"CHS Olomouc"]
[null,2,"HZS Olomouckého kraje","Šumperk",null,null,null,"HS Zábřeh"]
[null,3,"HZS Olomouckého kraje","Přerov",null,null,null,"ÚO Přerov"]
[]
[]
[]
[]
[]
[]
[]
[]
[]
[]
[]
[]
[]
[]
[]
[null,null,"podpis velitele soutěže",null,null,null,null,"Podpis hlavního rozhodčího"]

{"sheet":"STARTOVKA","index":1,"n_rows":32,"n_cols":7,"rows_kept":32,"cut":false,"hidden":false,"merged":[[22,2,22,5],[23,2,23,5],[24,2,24,5],[25,2,25,5],[26,2,26,5],[17,2,17,5],[18,2,18,5],[19,2,19,5],[20,2,20,5],[21,2,21,5],[0,0,3,1],[0,2,0,3],[0,4,0,6],[1,2,1,3],[1,4,1,6],[2,2,2,3],[2,4,2,6],[3,2,3,3],[3,4,3,6],[30,3,30,6],[31,3,31,6],[4,0,6,0],[4,1,6,1],[4,2,6,5],[4,6,6,6],[7,2,7,5],[8,2,8,5],[9,2,9,5],[10,2,10,5],[11,2,11,5],[12,2,12,5],[13,2,13,5],[14,2,14,5],[15,2,15,5],[16,2,16,5]]}
["STARTOVNÍ LISTINA",null," Místo soutěže:",null,{"$f":"PREZENCE!F1","v":"Vsetín"}]
[null,null," Datum:",null,{"$f":"PREZENCE!F2","v":"2024-04-24"}]
[]
[]
["Soutěžní družstvo","Územní odbor","Stanice",null,null,null,"Los"]
[]
[]
["HZS Olomouckého kraje","Olomouc","CHS Olomouc",null,null,null,1]
["HZS Olomouckého kraje","Šumperk","HS Zábřeh",null,null,null,2]
["HZS Olomouckého kraje","Přerov","ÚO Přerov",null,null,null,3]
["HaZZ Trenčianskeho kraja","Považská Bystrica","Okresné riaditeľstvo HaZZ v Považskej Bystrici",null,null,null,4]
["HZS Zlínského kraje","Zlín","CHS Zlín",null,null,null,5]
["HZS Olomouckého kraje","Prostějov","CHS Prostějov",null,null,null,6]
["HZS Zlínského kraje","Uherské Hradiště","CHS Uherské Hradiště",null,null,null,7]
["HZS Zlínského kraje","Kroměříž","CHS Kroměříž",null,null,null,8]
["HZS Zlínského kraje","Vsetín","CHS Valašské Meziříčí",null,null,null,9]
[]
[]
[]
[]
[]
[]
[]
[]
[]
[]
[]
[]
[]
[]
[]
["podpis velitele soutěže",null,null,"podpis hlavního rozhodčího"]

{"sheet":"ZADANI","index":2,"n_rows":93,"n_cols":21,"rows_kept":93,"cut":false,"hidden":false,"merged":[]}
["SOUTĚŽNÍ TÝM","HZS Olomouckého kraje, \nCHS Olomouc","HZS Olomouckého kraje, \nHS Zábřeh","HZS Olomouckého kraje, \nÚO Přerov","HaZZ Trenčianskeho kraja, Okresné riaditeľstvo HaZZ v Považskej Bystrici","HZS Zlínského kraje, \nCHS Zlín","HZS Olomouckého kraje,\nCHS Prostějov","HZS Zlínského kraje, \nCHS Uherské Hradiště","HZS Zlínského kraje, \nCHS Kroměříž","HZS Zlínského kraje,\nCHS Valašské Meziříčí"]
["TAKTIKA PROVEDENÍ ZÁSAHU"]
["Přístup týmu a průzkum"]
["Rizika a nebezpečí rozpoznána a vyhodnocena",3,5,8,7,7,4,3,5,7]
["Celkový vnitřní a vnější průzkum",3,6,9,7,5,7,3,7,7]
["Výchozí priority sděleny členům",5,6,10,6,8,7,5,8,8]
["Plánování"]
["Plán vyproštění",4,8,9,8,8,8,4,7,7]
["Dodržení plánu",6,8,10,8,8,8,5,8,8]
["Povely zadané a pochopené",6,7,10,6,7,8,5,8,7]
["Velení"]
["Příkazy a velení, správná pozice",4,5,10,5,7,4,5,5,8]
["Správný postup",6,6,9,6,5,7,3,3,4]
["Postup velitele",6,8,10,5,8,6,3,6,7]
["Spolupráce a komunikace"]
["Celková komunikace týmu",6,7,10,4,8,6,5,7,8]
["Operativní schopnosti",3,5,10,4,5,5,4,3,7]
["Komunikace s KOPIS",4,6,9,7,7,5,4,8,9]
["Protipožární zabezpečení a úniky"]
["Zajištění proti požáru",4,7,9,7,7,7,5,7,7]
["Zabezpečení úniku kapalin",4,2,9,7,3,8,7,5,8]
["Řešení AKU a airbagů",4,5,7,8,3,9,5,5,3]
["Bezpečnost"]
["Použití OOP",7,6,9,8,8,9,7,7,7]
["Dodržení bezpečné pracovní zóny",8,6,6,5,7,8,6,7,7]
["Označení místa nehody",8,6,8,8,8,8,7,6,8]
["Obhajoba postupu (0 - 5 bodů)"]
["Kompenzace složitosti scénáře (0 - 10 bodů)",5]
["SOUČET BODŮ CELKEM (max. 195 bodů)",{"$f":"SUM(B2:B28)","v":96},109,162,116,119,124,86,112,127,{"$f":"SUM(K2:K28)","v":0},0,0,0,0,0,0,0,0,0,0]
["POŘADÍ",{"$f":"IF(B$29>0,SUMPRODUCT(($B$29:$U$29>=B$29)/COUNTIF($B$29:$U$29,\"\"&$B$29:$U$29)),\"\")","v":8},{"$f":"IF(C$29>0,SUMPRODUCT(($B$29:$U$29>=C$29)/COUNTIF($B$29:$U$29,\"\"&$B$29:$U$29)),\"\")","v":7},1,5,4,3,9,6,2,"","","","","","","","","","",""]
["TECHNIKA PROVEDENÍ ZÁSAHU"]
["Stabilizace a příprava vozidla (sklo)"]
["Stabilizace, rychlost a smysl",2,5,8,5,7,2,6,2,7]
["Pravidelná kontrola",0,6,7,6,7,4,5,5,6]
["Řešení skla, načasování a smysl",7,5,8,5,7,0,9,5,5]
["Ochrana zraněné osoby"]
["Použití ochranných prostředků",3,5,10,8,8,7,7,7,8]
["Vyhodnocení rizik uvnitř vozidla, reakce na ně",7,8,10,6,8,8,0,7,6]
["Ochrana dle vzniklé situace",3,5,10,7,8,7,8,6,8]
["Vytvoření prostoru pro přístup a manipulaci se zraněnou osobou"]
["Včasný počáteční přístup",3,3,10,8,10,10,3,0,3]
["Účinný postup vyproštění ",6,6,10,7,10,7,8,6,9]
["Výsledný vytvořený prostor",6,5,10,9,10,8,8,5,9]
["Ovládání nářadí"]
["Vyprošťovací nářadí a správná technika vytvoření prostoru",5,8,10,9,10,8,9,5,6]
["Ovládání nářadí, volba použití (úhlů)",6,8,10,5,10,8,9,8,3]
["Znalost nebezpečí, rozpoznání, identifikace, následné jednání",6,8,10,5,10,8,9,8,8]
["Uvolnění, vyproštění a transport zraněné osoby"]
["Přijatelné prostředí, žádné nežádoucí pohyby",3,7,8,4,10,4,9,9,9]
["Závěrečné vyproštění (vytažení)",3,6,8,7,10,7,9,6,9]
["Ochrana zraněného",3,5,10,8,8,7,8,6,8]
["Bezpečnost a týmová spolupráce při vyprošťování "]
["Změna postupu, příprava a provedení",5,6,10,6,6,7,5,5,5]
["Bezpečnost a OOP",7,5,10,7,10,8,0,3,5]
["Práce s nástroji",7,8,10,5,10,8,9,8,5]
["Obhajoba postupu (0 - 5 bodů)"]
["Kompenzace složitosti scénáře (0 - 10 bodů)"]
["SOUČET BODŮ CELKEM (max. 195 bodů)",{"$f":"SUM(B31:B57)","v":82},109,169,117,159,118,121,101,119,0,{"$f":"SUM(L31:L57)","v":0},0,0,0,0,0,0,0,0,0]
["POŘADÍ",{"$f":"IF(B$58>0,SUMPRODUCT(($B$58:$U$58>=B$58)/COUNTIF($B$58:$U$58,\"\"&$B$58:$U$58)),\"\")","v":9},{"$f":"IF(C$58>0,SUMPRODUCT(($B$58:$U$58>=C$58)/COUNTIF($B$58:$U$58,\"\"&$B$58:$U$58)),\"\")","v":7},1,6,2,5,3,8,4,"","","","","","","","","","",""]
["PRVNÍ PŘEDLÉKAŘSKÁ POMOC"]
["Přístup a kontakt"]
["Průzkum, oslovení (nehýbat hlavou), představení, bezpečnost zdravotníka - částečná stabilizace",5,10,10,3,10,4,2,0,5]
["Život zachraňující úkony, záklon hlavy, uklidnění",3,0,10,9,10,10,0,0,7]
["Ohrožení zdravotníka a zraněného, bezpečný vstup (sklo, ostré hrany, končetiny z vozu), přístup",10,2,5,10,10,10,3,5,10]
["Vyšetření a zajištění"]
["Fixace páteře, nasazení krčního límce jde-li (rukavice)",5,2,7,0,10,4,0,8,7]
["Zajištění dýchacích cest, podání kyslíku, tepelný komfort",10,8,7,5,10,9,5,10,10]
["Celková prohlídka zraněného",7,8,6,8,10,10,5,10,10]
["Vybavení"]
["Zdravotní pomůcky - manipulace, zacházení",10,10,6,3,7,10,7,10,10]
["Umí použít pomůcky - monitoring během zásahu + pulzní oxymetr",10,10,3,9,10,10,10,6,10]
["Ochrana zraněné osoby",8,5,10,7,3,10,5,10,10]
["Vyproštění"]
["Příprava zraněného na transport, polohování, naložení na desku",6,7,10,6,6,4,7,10,4]
["Transport zraněného, deska, vyproštění, transport z vozidla",10,9,5,0,6,4,4,10,4]
["Bezpečnost zraněného",10,5,5,10,10,5,9,10,4]
["Komunikace"]
["S velitelem, s týmem - koordinace",6,10,10,7,10,10,10,5,10]
["Se zraněným",6,10,7,10,10,10,10,10,7]
["Bonus zdravotníka",5,5,5,5,5,5,5,5,5]
["Předání"]
["Stav před příjezdem, při předání",3,3,8,0,10,10,4,0,7]
["Výsledek vyšetření a zajištění zraněného",10,3,6,8,5,10,5,5,10]
["Psychologické aspekty, hodnocení figuranta ",8,8,9,9,10,10,9,8,9]
["Obhajoba postupu (0 - 5 bodů)",null,null,null,null,null,null,null,4]
["Kompenzace složitosti scénáře (0 - 10 bodů)",5]
["SOUČET BODŮ CELKEM (max. 195 bodů)",{"$f":"SUM(B60:B86)","v":137},115,129,109,152,145,100,126,139,0,{"$f":"SUM(L60:L86)","v":0},0,0,0,0,0,0,0,0,0]
["POŘADÍ",{"$f":"IF(B$87>0,SUMPRODUCT(($B$87:$U$87>=B$87)/COUNTIF($B$87:$U$87,\"\"&$B$87:$U$87)),\"\")","v":4},{"$f":"IF(C$87>0,SUMPRODUCT(($B$87:$U$87>=C$87)/COUNTIF($B$87:$U$87,\"\"&$B$87:$U$87)),\"\")","v":7},5,8,1,2,9,6,3,"","","","","","","","","","",""]
["DOSAŽENÝ ČAS"]
["Minuty",18,19,17,18,18,19,19,19,19]
["Sekundy",41,33,45,47,53,30,34,24,57]
["Body za čas",{"$f":"IF(AND(B$90>14,B$90<18),(CEILING(((B$90-15)*60+B$91)/20,1)),0)+IF(AND(B$90>17,B$90<20),9+3*(CEILING(((B$90-18)*60+B$91)/20,1)),0)","v":18},{"$f":"IF(AND(C$90>14,C$90<18),(CEILING(((C$90-15)*60+C$91)/20,1)),0)+IF(AND(C$90>17,C$90<20),9+3*(CEILING(((C$90-18)*60+C$91)/20,1)),0)","v":24},9,18,18,24,24,24,27,0,0,0,0,0,0,0,0,0,0,0]
["CELKOVÉ BODY",{"$f":"IF(B$92=\"N\",0,IF(B$92<(B$29+B$58+B$87),B$29+B$58+B$87-B$92,0))","v":297},{"$f":"IF(C$92=\"N\",0,IF(C$92<(C$29+C$58+C$87),C$29+C$58+C$87-C$92,0))","v":309},451,324,412,363,283,315,358,0,0,0,0,0,0,0,0,0,0,0]

{"sheet":"VYHODNOCENI","index":3,"n_rows":32,"n_cols":14,"rows_kept":32,"cut":false,"hidden":false,"merged":[[30,0,30,3],[31,0,31,3],[30,5,30,12],[31,5,31,12],[0,4,0,5],[0,6,0,12],[1,4,1,5],[1,6,1,12],[2,4,2,5],[3,4,3,5],[2,6,2,12],[3,6,3,12],[4,10,6,10],[4,11,6,11],[5,7,5,8],[0,0,3,3],[4,12,6,12],[4,0,6,0],[4,1,6,1],[4,2,4,8],[4,9,6,9],[5,2,6,2],[5,3,5,4],[5,5,5,6]]}
["CELKOVÉ POŘADÍ",null,null,null," Místo soutěže:",null,"Valašské Meziříčí"]
[null,null,null,null," Datum:",null,"2024-05-16"]
[]
[]
["Soutěžní tým","Čas","Hodnocení",null,null,null,null,null,null,"Celkové body","Čas v sekundách","Průměr pořadí","CELKOVÉ POŘADÍ"]
[null,null,"body   za čas","Taktika provedení zásahu",null,"Technika provedení zásahu",null,"První předlékařská pomoc"]
[null,null,null,"body","pořadí","body","pořadí","body","pořadí"]
[{"$f":"ZADANI!$D$1","v":"HZS Olomouckého kraje, \nÚO Přerov"},{"$f":"IF(AND(ISBLANK(ZADANI!$D$90),ISBLANK(ZADANI!$D$91)),\"\",ZADANI!$D$90&\" : \"&ZADANI!$D$91)","v":"17 : 45"},{"$f":"ZADANI!$D$92","v":9},{"$f":"ZADANI!$D$29","v":162},{"$f":"ZADANI!$D$30","v":1},{"$f":"ZADANI!$D$58","v":169},{"$f":"ZADANI!$D$59","v":1},{"$f":"ZADANI!$D$87","v":129},{"$f":"ZADANI!$D$88","v":5},{"$f":"ZADANI!$D$93","v":451},{"$f":"IF($J8=0,\"\",ZADANI!$D$90*60+ZADANI!$D$91)","v":1065},{"$f":"IF($J8=0,\"\",ROUND(($E8+$G8+$I8)/3,3))","v":2.3330000000000002},{"$f":"IF($J8=0,\"\",RANK($J8,$J$8:$J$27,0))","v":1},3]
[{"$f":"ZADANI!$F$1","v":"HZS Zlínského kraje, \nCHS Zlín"},{"$f":"IF(AND(ISBLANK(ZADANI!$F$90),ISBLANK(ZADANI!$F$91)),\"\",ZADANI!$F$90&\" : \"&ZADANI!$F$91)","v":"18 : 53"},{"$f":"ZADANI!$F$92","v":18},{"$f":"ZADANI!$F$29","v":119},{"$f":"ZADANI!$F$30","v":4},{"$f":"ZADANI!$F$58","v":159},{"$f":"ZADANI!$F$59","v":2},{"$f":"ZADANI!$F$87","v":152},{"$f":"ZADANI!$F$88","v":1},{"$f":"ZADANI!$F$93","v":412},{"$f":"IF($J9=0,\"\",ZADANI!$F$90*60+ZADANI!$F$91)","v":1133},{"$f":"IF($J9=0,\"\",ROUND(($E9+$G9+$I9)/3,3))","v":2.3330000000000002},{"$f":"IF($J9=0,\"\",RANK($J9,$J$8:$J$27,0))","v":2},5]
[{"$f":"ZADANI!$G$1","v":"HZS Olomouckého kraje,\nCHS Prostějov"},{"$f":"IF(AND(ISBLANK(ZADANI!$G$90),ISBLANK(ZADANI!$G$91)),\"\",ZADANI!$G$90&\" : \"&ZADANI!$G$91)","v":"19 : 30"},{"$f":"ZADANI!$G$92","v":24},{"$f":"ZADANI!$G$29","v":124},{"$f":"ZADANI!$G$30","v":3},{"$f":"ZADANI!$G$58","v":118},{"$f":"ZADANI!$G$59","v":5},{"$f":"ZADANI!$G$87","v":145},{"$f":"ZADANI!$G$88","v":2},{"$f":"ZADANI!$G$93","v":363},{"$f":"IF($J10=0,\"\",ZADANI!$G$90*60+ZADANI!$G$91)","v":1170},{"$f":"IF($J10=0,\"\",ROUND(($E10+$G10+$I10)/3,3))","v":3.3330000000000002},{"$f":"IF($J10=0,\"\",RANK($J10,$J$8:$J$27,0))","v":3},6]
[{"$f":"ZADANI!$J$1","v":"HZS Zlínského kraje,\nCHS Valašské Meziříčí"},{"$f":"IF(AND(ISBLANK(ZADANI!$J$90),ISBLANK(ZADANI!$J$91)),\"\",ZADANI!$J$90&\" : \"&ZADANI!$J$91)","v":"19 : 57"},{"$f":"ZADANI!$J$92","v":27},{"$f":"ZADANI!$J$29","v":127},{"$f":"ZADANI!$J$30","v":2},{"$f":"ZADANI!$J$58","v":119},{"$f":"ZADANI!$J$59","v":4},{"$f":"ZADANI!$J$87","v":139},{"$f":"ZADANI!$J$88","v":3},{"$f":"ZADANI!$J$93","v":358},{"$f":"IF($J11=0,\"\",ZADANI!$J$90*60+ZADANI!$J$91)","v":1197},{"$f":"IF($J11=0,\"\",ROUND(($E11+$G11+$I11)/3,3))","v":3},{"$f":"IF($J11=0,\"\",RANK($J11,$J$8:$J$27,0))","v":4},9]
[{"$f":"ZADANI!$E$1","v":"HaZZ Trenčianskeho kraja, Okresné riaditeľstvo HaZZ v Považskej Bystrici"},{"$f":"IF(AND(ISBLANK(ZADANI!$E$90),ISBLANK(ZADANI!$E$91)),\"\",ZADANI!$E$90&\" : \"&ZADANI!$E$91)","v":"18 : 47"},{"$f":"ZADANI!$E$92","v":18},{"$f":"ZADANI!$E$29","v":116},{"$f":"ZADANI!$E$30","v":5},{"$f":"ZADANI!$E$58","v":117},{"$f":"ZADANI!$E$59","v":6},{"$f":"ZADANI!$E$87","v":109},{"$f":"ZADANI!$E$88","v":8},{"$f":"ZADANI!$E$93","v":324},{"$f":"IF($J12=0,\"\",ZADANI!$E$90*60+ZADANI!$E$91)","v":1127},{"$f":"IF($J12=0,\"\",ROUND(($E12+$G12+$I12)/3,3))","v":6.3330000000000002},{"$f":"IF($J12=0,\"\",RANK($J12,$J$8:$J$27,0))","v":5},4]
[{"$f":"ZADANI!$I$1","v":"HZS Zlínského kraje, \nCHS Kroměříž"},{"$f":"IF(AND(ISBLANK(ZADANI!$I$90),ISBLANK(ZADANI!$I$91)),\"\",ZADANI!$I$90&\" : \"&ZADANI!$I$91)","v":"19 : 24"},{"$f":"ZADANI!$I$92","v":24},{"$f":"ZADANI!$I$29","v":112},{"$f":"ZADANI!$I$30","v":6},{"$f":"ZADANI!$I$58","v":101},{"$f":"ZADANI!$I$59","v":8},{"$f":"ZADANI!$I$87","v":126},{"$f":"ZADANI!$I$88","v":6},{"$f":"ZADANI!$I$93","v":315},{"$f":"IF($J13=0,\"\",ZADANI!$I$90*60+ZADANI!$I$91)","v":1164},{"$f":"IF($J13=0,\"\",ROUND(($E13+$G13+$I13)/3,3))","v":6.6669999999999998},{"$f":"IF($J13=0,\"\",RANK($J13,$J$8:$J$27,0))","v":6},8]
[{"$f":"ZADANI!$C$1","v":"HZS Olomouckého kraje, \nHS Zábřeh"},{"$f":"IF(AND(ISBLANK(ZADANI!$C$90),ISBLANK(ZADANI!$C$91)),\"\",ZADANI!$C$90&\" : \"&ZADANI!$C$91)","v":"19 : 33"},{"$f":"ZADANI!$C$92","v":24},{"$f":"ZADANI!$C$29","v":109},{"$f":"ZADANI!$C$30","v":7},{"$f":"ZADANI!$C$58","v":109},{"$f":"ZADANI!$C$59","v":7},{"$f":"ZADANI!$C$87","v":115},{"$f":"ZADANI!$C$88","v":7},{"$f":"ZADANI!$C$93","v":309},{"$f":"IF($J14=0,\"\",ZADANI!$C$90*60+ZADANI!$C$91)","v":1173},{"$f":"IF($J14=0,\"\",ROUND(($E14+$G14+$I14)/3,3))","v":7},{"$f":"IF($J14=0,\"\",RANK($J14,$J$8:$J$27,0))","v":7},2]
[{"$f":"ZADANI!$B$1","v":"HZS Olomouckého kraje, \nCHS Olomouc"},{"$f":"IF(AND(ISBLANK(ZADANI!$B$90),ISBLANK(ZADANI!$B$91)),\"\",ZADANI!$B$90&\" : \"&ZADANI!$B$91)","v":"18 : 41"},{"$f":"ZADANI!$B$92","v":18},{"$f":"ZADANI!$B$29","v":96},{"$f":"ZADANI!$B$30","v":8},{"$f":"ZADANI!$B$58","v":82},{"$f":"ZADANI!$B$59","v":9},{"$f":"ZADANI!$B$87","v":137},{"$f":"ZADANI!$B$88","v":4},{"$f":"ZADANI!$B$93","v":297},{"$f":"IF($J15=0,\"\",ZADANI!$B$90*60+ZADANI!$B$91)","v":1121},{"$f":"IF($J15=0,\"\",ROUND(($E15+$G15+$I15)/3,3))","v":7},{"$f":"IF($J15=0,\"\",RANK($J15,$J$8:$J$27,0))","v":8},1]
[{"$f":"ZADANI!$H$1","v":"HZS Zlínského kraje, \nCHS Uherské Hradiště"},{"$f":"IF(AND(ISBLANK(ZADANI!$H$90),ISBLANK(ZADANI!$H$91)),\"\",ZADANI!$H$90&\" : \"&ZADANI!$H$91)","v":"19 : 34"},{"$f":"ZADANI!$H$92","v":24},{"$f":"ZADANI!$H$29","v":86},{"$f":"ZADANI!$H$30","v":9},{"$f":"ZADANI!$H$58","v":121},{"$f":"ZADANI!$H$59","v":3},{"$f":"ZADANI!$H$87","v":100},{"$f":"ZADANI!$H$88","v":9},{"$f":"ZADANI!$H$93","v":283},{"$f":"IF($J16=0,\"\",ZADANI!$H$90*60+ZADANI!$H$91)","v":1174},{"$f":"IF($J16=0,\"\",ROUND(($E16+$G16+$I16)/3,3))","v":7},{"$f":"IF($J16=0,\"\",RANK($J16,$J$8:$J$27,0))","v":9},7]
[{"$f":"ZADANI!$K$1","v":0},{"$f":"IF(AND(ISBLANK(ZADANI!$K$90),ISBLANK(ZADANI!$K$91)),\"\",ZADANI!$K$90&\" : \"&ZADANI!$K$91)","v":""},{"$f":"ZADANI!$K$92","v":0},{"$f":"ZADANI!$K$29","v":0},{"$f":"ZADANI!$K$30","v":""},{"$f":"ZADANI!$K$58","v":0},{"$f":"ZADANI!$K$59","v":""},{"$f":"ZADANI!$K$87","v":0},{"$f":"ZADANI!$K$88","v":""},{"$f":"ZADANI!$K$93","v":0},{"$f":"IF($J17=0,\"\",ZADANI!$K$90*60+ZADANI!$K$91)","v":""},{"$f":"IF($J17=0,\"\",ROUND(($E17+$G17+$I17)/3,3))","v":""},{"$f":"IF($J17=0,\"\",RANK($J17,$J$8:$J$27,0))","v":""},10]
[{"$f":"ZADANI!$L$1","v":0},{"$f":"IF(AND(ISBLANK(ZADANI!$L$90),ISBLANK(ZADANI!$L$91)),\"\",ZADANI!$L$90&\" : \"&ZADANI!$L$91)","v":""},{"$f":"ZADANI!$L$92","v":0},{"$f":"ZADANI!$L$29","v":0},{"$f":"ZADANI!$L$30","v":""},{"$f":"ZADANI!$L$58","v":0},{"$f":"ZADANI!$L$59","v":""},{"$f":"ZADANI!$L$87","v":0},{"$f":"ZADANI!$L$88","v":""},{"$f":"ZADANI!$L$93","v":0},{"$f":"IF($J18=0,\"\",ZADANI!$L$90*60+ZADANI!$L$91)","v":""},{"$f":"IF($J18=0,\"\",ROUND(($E18+$G18+$I18)/3,3))","v":""},{"$f":"IF($J18=0,\"\",RANK($J18,$J$8:$J$27,0))","v":""},11]
[{"$f":"ZADANI!$M$1","v":0},{"$f":"IF(AND(ISBLANK(ZADANI!$M$90),ISBLANK(ZADANI!$M$91)),\"\",ZADANI!$M$90&\" : \"&ZADANI!$M$91)","v":""},{"$f":"ZADANI!$M$92","v":0},{"$f":"ZADANI!$M$29","v":0},{"$f":"ZADANI!$M$30","v":""},{"$f":"ZADANI!$M$58","v":0},{"$f":"ZADANI!$M$59","v":""},{"$f":"ZADANI!$M$87","v":0},{"$f":"ZADANI!$M$88","v":""},{"$f":"ZADANI!$M$93","v":0},{"$f":"IF($J19=0,\"\",ZADANI!$M$90*60+ZADANI!$M$91)","v":""},{"$f":"IF($J19=0,\"\",ROUND(($E19+$G19+$I19)/3,3))","v":""},{"$f":"IF($J19=0,\"\",RANK($J19,$J$8:$J$27,0))","v":""},12]
[{"$f":"ZADANI!$N$1","v":0},{"$f":"IF(AND(ISBLANK(ZADANI!$N$90),ISBLANK(ZADANI!$N$91)),\"\",ZADANI!$N$90&\" : \"&ZADANI!$N$91)","v":""},{"$f":"ZADANI!$N$92","v":0},{"$f":"ZADANI!$N$29","v":0},{"$f":"ZADANI!$N$30","v":""},{"$f":"ZADANI!$N$58","v":0},{"$f":"ZADANI!$N$59","v":""},{"$f":"ZADANI!$N$87","v":0},{"$f":"ZADANI!$N$88","v":""},{"$f":"ZADANI!$N$93","v":0},{"$f":"IF($J20=0,\"\",ZADANI!$N$90*60+ZADANI!$N$91)","v":""},{"$f":"IF($J20=0,\"\",ROUND(($E20+$G20+$I20)/3,3))","v":""},{"$f":"IF($J20=0,\"\",RANK($J20,$J$8:$J$27,0))","v":""},13]
[{"$f":"ZADANI!$O$1","v":0},{"$f":"IF(AND(ISBLANK(ZADANI!$O$90),ISBLANK(ZADANI!$O$91)),\"\",ZADANI!$O$90&\" : \"&ZADANI!$O$91)","v":""},{"$f":"ZADANI!$O$92","v":0},{"$f":"ZADANI!$O$29","v":0},{"$f":"ZADANI!$O$30","v":""},{"$f":"ZADANI!$O$58","v":0},{"$f":"ZADANI!$O$59","v":""},{"$f":"ZADANI!$O$87","v":0},{"$f":"ZADANI!$O$88","v":""},{"$f":"ZADANI!$O$93","v":0},{"$f":"IF($J21=0,\"\",ZADANI!$O$90*60+ZADANI!$O$91)","v":""},{"$f":"IF($J21=0,\"\",ROUND(($E21+$G21+$I21)/3,3))","v":""},{"$f":"IF($J21=0,\"\",RANK($J21,$J$8:$J$27,0))","v":""},14]
[{"$f":"ZADANI!$P$1","v":0},{"$f":"IF(AND(ISBLANK(ZADANI!$P$90),ISBLANK(ZADANI!$P$91)),\"\",ZADANI!$P$90&\" : \"&ZADANI!$P$91)","v":""},{"$f":"ZADANI!$P$92","v":0},{"$f":"ZADANI!$P$29","v":0},{"$f":"ZADANI!$P$30","v":""},{"$f":"ZADANI!$P$58","v":0},{"$f":"ZADANI!$P$59","v":""},{"$f":"ZADANI!$P$87","v":0},{"$f":"ZADANI!$P$88","v":""},{"$f":"ZADANI!$P$93","v":0},{"$f":"IF($J22=0,\"\",ZADANI!$P$90*60+ZADANI!$P$91)","v":""},{"$f":"IF($J22=0,\"\",ROUND(($E22+$G22+$I22)/3,3))","v":""},{"$f":"IF($J22=0,\"\",RANK($J22,$J$8:$J$27,0))","v":""},15]
[{"$f":"ZADANI!$Q$1","v":0},{"$f":"IF(AND(ISBLANK(ZADANI!$Q$90),ISBLANK(ZADANI!$Q$91)),\"\",ZADANI!$Q$90&\" : \"&ZADANI!$Q$91)","v":""},{"$f":"ZADANI!$Q$92","v":0},{"$f":"ZADANI!$Q$29","v":0},{"$f":"ZADANI!$Q$30","v":""},{"$f":"ZADANI!$Q$58","v":0},{"$f":"ZADANI!$Q$59","v":""},{"$f":"ZADANI!$Q$87","v":0},{"$f":"ZADANI!$Q$88","v":""},{"$f":"ZADANI!$Q$93","v":0},{"$f":"IF($J23=0,\"\",ZADANI!$Q$90*60+ZADANI!$Q$91)","v":""},{"$f":"IF($J23=0,\"\",ROUND(($E23+$G23+$I23)/3,3))","v":""},{"$f":"IF($J23=0,\"\",RANK($J23,$J$8:$J$27,0))","v":""},16]
[{"$f":"ZADANI!$R$1","v":0},{"$f":"IF(AND(ISBLANK(ZADANI!$R$90),ISBLANK(ZADANI!$R$91)),\"\",ZADANI!$R$90&\" : \"&ZADANI!$R$91)","v":""},{"$f":"ZADANI!$R$92","v":0},{"$f":"ZADANI!$R$29","v":0},{"$f":"ZADANI!$R$30","v":""},{"$f":"ZADANI!$R$58","v":0},{"$f":"ZADANI!$R$59","v":""},{"$f":"ZADANI!$R$87","v":0},{"$f":"ZADANI!$R$88","v":""},{"$f":"ZADANI!$R$93","v":0},{"$f":"IF($J24=0,\"\",ZADANI!$R$90*60+ZADANI!$R$91)","v":""},{"$f":"IF($J24=0,\"\",ROUND(($E24+$G24+$I24)/3,3))","v":""},{"$f":"IF($J24=0,\"\",RANK($J24,$J$8:$J$27,0))","v":""},17]
[{"$f":"ZADANI!$S$1","v":0},{"$f":"IF(AND(ISBLANK(ZADANI!$S$90),ISBLANK(ZADANI!$S$91)),\"\",ZADANI!$S$90&\" : \"&ZADANI!$S$91)","v":""},{"$f":"ZADANI!$S$92","v":0},{"$f":"ZADANI!$S$29","v":0},{"$f":"ZADANI!$S$30","v":""},{"$f":"ZADANI!$S$58","v":0},{"$f":"ZADANI!$S$59","v":""},{"$f":"ZADANI!$S$87","v":0},{"$f":"ZADANI!$S$88","v":""},{"$f":"ZADANI!$S$93","v":0},{"$f":"IF($J25=0,\"\",ZADANI!$S$90*60+ZADANI!$S$91)","v":""},{"$f":"IF($J25=0,\"\",ROUND(($E25+$G25+$I25)/3,3))","v":""},{"$f":"IF($J25=0,\"\",RANK($J25,$J$8:$J$27,0))","v":""},18]
[{"$f":"ZADANI!$T$1","v":0},{"$f":"IF(AND(ISBLANK(ZADANI!$T$90),ISBLANK(ZADANI!$T$91)),\"\",ZADANI!$T$90&\" : \"&ZADANI!$T$91)","v":""},{"$f":"ZADANI!$T$92","v":0},{"$f":"ZADANI!$T$29","v":0},{"$f":"ZADANI!$T$30","v":""},{"$f":"ZADANI!$T$58","v":0},{"$f":"ZADANI!$T$59","v":""},{"$f":"ZADANI!$T$87","v":0},{"$f":"ZADANI!$T$88","v":""},{"$f":"ZADANI!$T$93","v":0},{"$f":"IF($J26=0,\"\",ZADANI!$T$90*60+ZADANI!$T$91)","v":""},{"$f":"IF($J26=0,\"\",ROUND(($E26+$G26+$I26)/3,3))","v":""},{"$f":"IF($J26=0,\"\",RANK($J26,$J$8:$J$27,0))","v":""},19]
[{"$f":"ZADANI!$U$1","v":0},{"$f":"IF(AND(ISBLANK(ZADANI!$U$90),ISBLANK(ZADANI!$U$91)),\"\",ZADANI!$U$90&\" : \"&ZADANI!$U$91)","v":""},{"$f":"ZADANI!$U$92","v":0},{"$f":"ZADANI!$U$29","v":0},{"$f":"ZADANI!$U$30","v":""},{"$f":"ZADANI!$U$58","v":0},{"$f":"ZADANI!$U$59","v":""},{"$f":"ZADANI!$U$87","v":0},{"$f":"ZADANI!$U$88","v":""},{"$f":"ZADANI!$U$93","v":0},{"$f":"IF($J27=0,\"\",ZADANI!$T$90*60+ZADANI!$T$91)","v":""},{"$f":"IF($J27=0,\"\",ROUND(($E27+$G27+$I27)/3,3))","v":""},{"$f":"IF($J27=0,\"\",RANK($J27,$J$8:$J$27,0))","v":""},20]
[]
[]
[]
[]
["podpis velitele soutěže",null,null,null,null,"podpis hlavního rozhodčího"]