{"text_format":"1","workbook":"xlsx","n_sheets":2,"sheets":["ZADANI","VYHODNOCENI"],"not_rendered":{"charts":0,"images":0,"macros":1,"external_links":0,"defined_names":1,"comments":0,"pivot_tables":0},"unopened":[],"bounds":{"document_bytes":16777216,"sheet_cells":100000,"rows_first":2000,"rows_last":500,"rows_between":2000,"halvings":0,"cell_chars":16384,"cell_head_chars":4096},"cells_cut":0,"cells_raw":0,"read":"whole","date_system":"1900"}

{"sheet":"ZADANI","index":0,"n_rows":93,"n_cols":21,"rows_kept":93,"cut":false,"hidden":false,"merged":[]}
["SOUTĚŽNÍ TÝM","Stanice Valašské Meziříčí \"A\"","Stanice Vsetín \"C\"","Stanice Valašské Meziříčí \"B\"","Stanice Valašské Meziříčí \"C\"","Stanice Vsetín \"A\"","Stanice Vsetín \"B\""]
["TAKTIKA PROVEDENÍ ZÁSAHU"]
["Přístup týmu a průzkum"]
["Rizika a nebezpečí rozpoznána a vyhodnocena",6,6,8,6,6,9]
["Celkový vnitřní a vnější průzkum",6,6,8,7,7,9]
["Výchozí priority sděleny členům",6,8,9,5,6,9]
["Plánování"]
["Plán vyproštění",8,8,9,8,8,10]
["Dodržení plánu",8,8,9,6,8,8]
["Povely zadané a pochopené",8,8,9,6,8,8]
["Velení"]
["Příkazy a velení, správná pozice",6,8,9,5,6,9]
["Správný postup",5,8,8,7,7,7]
["Postup velitele",7,9,8,5,6,8]
["Spolupráce a komunikace"]
["Celková komunikace týmu",6,9,9,5,5,8]
["Operativní schopnosti",6,8,8,6,5,9]
["Komunikace s KOPIS",2,6,10,7,7,9]
["Protipožární zabezpečení a úniky"]
["Zajištění proti požáru",9,9,9,9,9,9]
["Zabezpečení úniku kapalin",4,4,6,7,7,8]
["Řešení AKU a airbagů",1,5,6,3,5,5]
["Bezpečnost"]
["Použití OOP",6,6,9,6,5,5]
["Dodržení bezpečné pracovní zóny",7,6,9,7,5,7]
["Označení místa nehody",8,9,9,9,9,9]
["Obhajoba postupu (0 - 5 bodů)",null,3,null,1]
["Kompenzace složitosti scénáře (0 - 10 bodů)"]
["SOUČET BODŮ CELKEM (max. 195 bodů)",{"$f":"SUM(B2:B28)","v":109},{"$f":"SUM(C2:C28)","v":134},152,115,119,146,{"$f":"SUM(H2:H28)","v":0},{"$f":"SUM(I2:I28)","v":0},{"$f":"SUM(J2:J28)","v":0},{"$f":"SUM(K2:K28)","v":0},0,0,0,0,0,0,0,0,0,0]
["POŘADÍ",{"$f":"IF(B$29>0,SUMPRODUCT(($B$29:$U$29>=B$29)/COUNTIF($B$29:$U$29,\"\"&$B$29:$U$29)),\"\")","v":6},{"$f":"IF(C$29>0,SUMPRODUCT(($B$29:$U$29>=C$29)/COUNTIF($B$29:$U$29,\"\"&$B$29:$U$29)),\"\")","v":3},1,5,4,2,"","","","","","","","","","","","","",""]
["TECHNIKA PROVEDENÍ ZÁSAHU"]
["Stabilizace a příprava vozidla (sklo)"]
["Stabilizace, rychlost a smysl",6,6,8,6,5,6]
["Pravidelná kontrola",3,3,6,4,5,6]
["Řešení skla, načasování a smysl",5,7,6,5,5,5]
["Ochrana zraněné osoby"]
["Použití ochranných prostředků",6,6,8,5,5,7]
["Vyhodnocení rizik uvnitř vozidla, reakce na ně",0,5,8,4,5,6]
["Ochrana dle vzniklé situace",2,4,9,3,6,6]
["Vytvoření prostoru pro přístup a manipulaci se zraněnou osobou"]
["Včasný počáteční přístup",3,8,7,5,6,9]
["Účinný postup vyproštění ",4,7,8,5,6,8]
["Výsledný vytvořený prostor",8,7,8,5,7,7]
["Ovládání nářadí"]
["Vyprošťovací nářadí a správná technika vytvoření prostoru",5,6,8,5,7,7]
["Ovládání nářadí, volba použití (úhlů)",3,6,8,3,6,7]
["Znalost nebezpečí, rozpoznání, identifikace, následné jednání",3,6,9,3,5,6]
["Uvolnění, vyproštění a transport zraněné osoby"]
["Přijatelné prostředí, žádné nežádoucí pohyby",4,3,7,1,7,7]
["Závěrečné vyproštění (vytažení)",8,7,7,6,7,7]
["Ochrana zraněného",3,7,6,5,7,6]
["Bezpečnost a týmová spolupráce při vyprošťování "]
["Změna postupu, příprava a provedení",5,7,7,4,6,7]
["Bezpečnost a OOP",5,5,6,3,6,7]
["Práce s nástroji",5,6,7,5,6,8]
["Obhajoba postupu (0 - 5 bodů)"]
["Kompenzace složitosti scénáře (0 - 10 bodů)"]
["SOUČET BODŮ CELKEM (max. 195 bodů)",{"$f":"SUM(B31:B57)","v":78},{"$f":"SUM(C31:C57)","v":106},133,77,107,122,{"$f":"SUM(H31:H57)","v":0},0,0,0,{"$f":"SUM(L31:L57)","v":0},0,0,0,0,0,0,0,0,0]
["POŘADÍ",{"$f":"IF(B$58>0,SUMPRODUCT(($B$58:$U$58>=B$58)/COUNTIF($B$58:$U$58,\"\"&$B$58:$U$58)),\"\")","v":5},{"$f":"IF(C$58>0,SUMPRODUCT(($B$58:$U$58>=C$58)/COUNTIF($B$58:$U$58,\"\"&$B$58:$U$58)),\"\")","v":4},1,6,3,2,"","","","","","","","","","","","","",""]
["PRVNÍ PŘEDLÉKAŘSKÁ POMOC"]
["Přístup a kontakt"]
["Průzkum, oslovení (nehýbat hlavou), představení, bezpečnost zdravotníka - částečná stabilizace",6,10,7,4,10,9]
["Život zachraňující úkony, záklon hlavy, uklidnění",5,10,4,8,8,10]
["Ohrožení zdravotníka a zraněného, bezpečný vstup (sklo, ostré hrany, končetiny z vozu), přístup",4,8,9,6,7,8]
["Vyšetření a zajištění"]
["Fixace páteře, nasazení krčního límce jde-li (rukavice)",6,7,6,9,8,8]
["Zajištění dýchacích cest, podání kyslíku, tepelný komfort",5,9,6,7,8,10]
["Celková prohlídka zraněného",7,9,6,7,10,10]
["Vybavení"]
["Zdravotní pomůcky - manipulace, zacházení",4,10,6,8,8,9]
["Umí použít pomůcky - monitoring během zásahu + pulzní oxymetr",6,8,9,9,9,9]
["Ochrana zraněné osoby",2,9,8,9,6,9]
["Vyproštění"]
["Příprava zraněného na transport, polohování, naložení na desku",7,9,7,9,8,9]
["Transport zraněného, deska, vyproštění, transport z vozidla",9,10,8,8,7,7]
["Bezpečnost zraněného",7,9,7,9,9,9]
["Komunikace"]
["S velitelem, s týmem - koordinace",6,8,10,8,9,10]
["Se zraněným",9,10,9,8,9,10]
["Bonus zdravotníka",null,7,6,7,null,8]
["Předání"]
["Stav před příjezdem, při předání",8,9,6,8,9,9]
["Výsledek vyšetření a zajištění zraněného",9,9,6,9,9,10]
["Psychologické aspekty, hodnocení figuranta ",9,9,6,9,8,9]
["Obhajoba postupu (0 - 5 bodů)"]
["Kompenzace složitosti scénáře (0 - 10 bodů)"]
["SOUČET BODŮ CELKEM (max. 195 bodů)",{"$f":"SUM(B60:B86)","v":109},{"$f":"SUM(C60:C86)","v":160},126,142,142,163,{"$f":"SUM(H60:H86)","v":0},0,0,0,{"$f":"SUM(L60:L86)","v":0},0,0,0,0,0,0,0,0,0]
["POŘADÍ",{"$f":"IF(B$87>0,SUMPRODUCT(($B$87:$U$87>=B$87)/COUNTIF($B$87:$U$87,\"\"&$B$87:$U$87)),\"\")","v":5},{"$f":"IF(C$87>0,SUMPRODUCT(($B$87:$U$87>=C$87)/COUNTIF($B$87:$U$87,\"\"&$B$87:$U$87)),\"\")","v":2},4,3,3,1,"","","","","","","","","","","","","",""]
["DOSAŽENÝ ČAS"]
["Minuty",16,16,19,18,15,13]
["Sekundy",45,21,49,43,59,13]
["Body za čas",{"$f":"IF(AND(B$90>14,B$90<18),(CEILING(((B$90-15)*60+B$91)/20,1)),0)+IF(AND(B$90>17,B$90<20),9+3*(CEILING(((B$90-18)*60+B$91)/20,1)),0)","v":6},{"$f":"IF(AND(C$90>14,C$90<18),(CEILING(((C$90-15)*60+C$91)/20,1)),0)+IF(AND(C$90>17,C$90<20),9+3*(CEILING(((C$90-18)*60+C$91)/20,1)),0)","v":5},27,18,3,0,0,0,0,0,0,0,0,0,0,0,0,0,0,0]
["CELKOVÉ BODY",{"$f":"IF(B$92=\"N\",0,IF(B$92<(B$29+B$58+B$87),B$29+B$58+B$87-B$92,0))","v":290},{"$f":"IF(C$92=\"N\",0,IF(C$92<(C$29+C$58+C$87),C$29+C$58+C$87-C$92,0))","v":395},384,316,365,431,0,0,0,0,0,0,0,0,0,0,0,0,0,0]

{"sheet":"VYHODNOCENI","index":1,"n_rows":32,"n_cols":14,"rows_kept":32,"cut":false,"hidden":false,"merged":[[30,0,30,3],[31,0,31,3],[30,5,30,12],[31,5,31,12],[0,4,0,5],[0,6,0,12],[1,4,1,5],[1,6,1,12],[2,4,2,5],[3,4,3,5],[2,6,2,12],[3,6,3,12],[4,10,6,10],[4,11,6,11],[5,7,5,8],[0,0,3,3],[4,12,6,12],[4,0,6,0],[4,1,6,1],[4,2,4,8],[4,9,6,9],[5,2,6,2],[5,3,5,4],[5,5,5,6]]}
["CELKOVÉ POŘADÍ",null,null,null," Místo soutěže:",null,"Vsetín"]
[null,null,null,null," Datum:",null,"2022-04-26"]
[]
[]
["Soutěžní tým","Čas","Hodnocení",null,null,null,null,null,null,"Celkové body","Čas v sekundách","Průměr pořadí","CELKOVÉ POŘADÍ"]
[null,null,"body   za čas","Taktika provedení zásahu",null,"Technika provedení zásahu",null,"První předlékařská pomoc"]
[null,null,null,"body","pořadí","body","pořadí","body","pořadí"]
[{"$f":"ZADANI!$G$1","v":"Stanice Vsetín \"B\""},{"$f":"IF(AND(ISBLANK(ZADANI!$G$90),ISBLANK(ZADANI!$G$91)),\"\",ZADANI!$G$90&\" : \"&ZADANI!$G$91)","v":"13 : 13"},{"$f":"ZADANI!$G$92","v":0},{"$f":"ZADANI!$G$29","v":146},{"$f":"ZADANI!$G$30","v":2},{"$f":"ZADANI!$G$58","v":122},{"$f":"ZADANI!$G$59","v":2},{"$f":"ZADANI!$G$87","v":163},{"$f":"ZADANI!$G$88","v":1},{"$f":"ZADANI!$G$93","v":431},{"$f":"IF($J8=0,\"\",ZADANI!$G$90*60+ZADANI!$G$91)","v":793},{"$f":"IF($J8=0,\"\",ROUND(($E8+$G8+$I8)/3,3))","v":1.667},{"$f":"IF($J8=0,\"\",RANK($J8,$J$8:$J$27,0))","v":1},6]
[{"$f":"ZADANI!$C$1","v":"Stanice Vsetín \"C\""},{"$f":"IF(AND(ISBLANK(ZADANI!$C$90),ISBLANK(ZADANI!$C$91)),\"\",ZADANI!$C$90&\" : \"&ZADANI!$C$91)","v":"16 : 21"},{"$f":"ZADANI!$C$92","v":5},{"$f":"ZADANI!$C$29","v":134},{"$f":"ZADANI!$C$30","v":3},{"$f":"ZADANI!$C$58","v":106},{"$f":"ZADANI!$C$59","v":4},{"$f":"ZADANI!$C$87","v":160},{"$f":"ZADANI!$C$88","v":2},{"$f":"ZADANI!$C$93","v":395},{"$f":"IF($J9=0,\"\",ZADANI!$C$90*60+ZADANI!$C$91)","v":981},{"$f":"IF($J9=0,\"\",ROUND(($E9+$G9+$I9)/3,3))","v":3},{"$f":"IF($J9=0,\"\",RANK($J9,$J$8:$J$27,0))","v":2},2]
[{"$f":"ZADANI!$D$1","v":"Stanice Valašské Meziříčí \"B\""},{"$f":"IF(AND(ISBLANK(ZADANI!$D$90),ISBLANK(ZADANI!$D$91)),\"\",ZADANI!$D$90&\" : \"&ZADANI!$D$91)","v":"19 : 49"},{"$f":"ZADANI!$D$92","v":27},{"$f":"ZADANI!$D$29","v":152},{"$f":"ZADANI!$D$30","v":1},{"$f":"ZADANI!$D$58","v":133},{"$f":"ZADANI!$D$59","v":1},{"$f":"ZADANI!$D$87","v":126},{"$f":"ZADANI!$D$88","v":4},{"$f":"ZADANI!$D$93","v":384},{"$f":"IF($J10=0,\"\",ZADANI!$D$90*60+ZADANI!$D$91)","v":1189},{"$f":"IF($J10=0,\"\",ROUND(($E10+$G10+$I10)/3,3))","v":2},{"$f":"IF($J10=0,\"\",RANK($J10,$J$8:$J$27,0))","v":3},3]
[{"$f":"ZADANI!$F$1","v":"Stanice Vsetín \"A\""},{"$f":"IF(AND(ISBLANK(ZADANI!$F$90),ISBLANK(ZADANI!$F$91)),\"\",ZADANI!$F$90&\" : \"&ZADANI!$F$91)","v":"15 : 59"},{"$f":"ZADANI!$F$92","v":3},{"$f":"ZADANI!$F$29","v":119},{"$f":"ZADANI!$F$30","v":4},{"$f":"ZADANI!$F$58","v":107},{"$f":"ZADANI!$F$59","v":3},{"$f":"ZADANI!$F$87","v":142},{"$f":"ZADANI!$F$88","v":3},{"$f":"ZADANI!$F$93","v":365},{"$f":"IF($J11=0,\"\",ZADANI!$F$90*60+ZADANI!$F$91)","v":959},{"$f":"IF($J11=0,\"\",ROUND(($E11+$G11+$I11)/3,3))","v":3.3330000000000002},{"$f":"IF($J11=0,\"\",RANK($J11,$J$8:$J$27,0))","v":4},5]
[{"$f":"ZADANI!$E$1","v":"Stanice Valašské Meziříčí \"C\""},{"$f":"IF(AND(ISBLANK(ZADANI!$E$90),ISBLANK(ZADANI!$E$91)),\"\",ZADANI!$E$90&\" : \"&ZADANI!$E$91)","v":"18 : 43"},{"$f":"ZADANI!$E$92","v":18},{"$f":"ZADANI!$E$29","v":115},{"$f":"ZADANI!$E$30","v":5},{"$f":"ZADANI!$E$58","v":77},{"$f":"ZADANI!$E$59","v":6},{"$f":"ZADANI!$E$87","v":142},{"$f":"ZADANI!$E$88","v":3},{"$f":"ZADANI!$E$93","v":316},{"$f":"IF($J12=0,\"\",ZADANI!$E$90*60+ZADANI!$E$91)","v":1123},{"$f":"IF($J12=0,\"\",ROUND(($E12+$G12+$I12)/3,3))","v":4.6669999999999998},{"$f":"IF($J12=0,\"\",RANK($J12,$J$8:$J$27,0))","v":5},4]
[{"$f":"ZADANI!$B$1","v":"Stanice Valašské Meziříčí \"A\""},{"$f":"IF(AND(ISBLANK(ZADANI!$B$90),ISBLANK(ZADANI!$B$91)),\"\",ZADANI!$B$90&\" : \"&ZADANI!$B$91)","v":"16 : 45"},{"$f":"ZADANI!$B$92","v":6},{"$f":"ZADANI!$B$29","v":109},{"$f":"ZADANI!$B$30","v":6},{"$f":"ZADANI!$B$58","v":78},{"$f":"ZADANI!$B$59","v":5},{"$f":"ZADANI!$B$87","v":109},{"$f":"ZADANI!$B$88","v":5},{"$f":"ZADANI!$B$93","v":290},{"$f":"IF($J13=0,\"\",ZADANI!$B$90*60+ZADANI!$B$91)","v":1005},{"$f":"IF($J13=0,\"\",ROUND(($E13+$G13+$I13)/3,3))","v":5.3330000000000002},{"$f":"IF($J13=0,\"\",RANK($J13,$J$8:$J$27,0))","v":6},1]
[{"$f":"ZADANI!$H$1","v":0},{"$f":"IF(AND(ISBLANK(ZADANI!$H$90),ISBLANK(ZADANI!$H$91)),\"\",ZADANI!$H$90&\" : \"&ZADANI!$H$91)","v":""},{"$f":"ZADANI!$H$92","v":0},{"$f":"ZADANI!$H$29","v":0},{"$f":"ZADANI!$H$30","v":""},{"$f":"ZADANI!$H$58","v":0},{"$f":"ZADANI!$H$59","v":""},{"$f":"ZADANI!$H$87","v":0},{"$f":"ZADANI!$H$88","v":""},{"$f":"ZADANI!$H$93","v":0},{"$f":"IF($J14=0,\"\",ZADANI!$H$90*60+ZADANI!$H$91)","v":""},{"$f":"IF($J14=0,\"\",ROUND(($E14+$G14+$I14)/3,3))","v":""},{"$f":"IF($J14=0,\"\",RANK($J14,$J$8:$J$27,0))","v":""},7]
[{"$f":"ZADANI!$I$1","v":0},{"$f":"IF(AND(ISBLANK(ZADANI!$I$90),ISBLANK(ZADANI!$I$91)),\"\",ZADANI!$I$90&\" : \"&ZADANI!$I$91)","v":""},{"$f":"ZADANI!$I$92","v":0},{"$f":"ZADANI!$I$29","v":0},{"$f":"ZADANI!$I$30","v":""},{"$f":"ZADANI!$I$58","v":0},{"$f":"ZADANI!$I$59","v":""},{"$f":"ZADANI!$I$87","v":0},{"$f":"ZADANI!$I$88","v":""},{"$f":"ZADANI!$I$93","v":0},{"$f":"IF($J15=0,\"\",ZADANI!$I$90*60+ZADANI!$I$91)","v":""},{"$f":"IF($J15=0,\"\",ROUND(($E15+$G15+$I15)/3,3))","v":""},{"$f":"IF($J15=0,\"\",RANK($J15,$J$8:$J$27,0))","v":""},8]
[{"$f":"ZADANI!$J$1","v":0},{"$f":"IF(AND(ISBLANK(ZADANI!$J$90),ISBLANK(ZADANI!$J$91)),\"\",ZADANI!$J$90&\" : \"&ZADANI!$J$91)","v":""},{"$f":"ZADANI!$J$92","v":0},{"$f":"ZADANI!$J$29","v":0},{"$f":"ZADANI!$J$30","v":""},{"$f":"ZADANI!$J$58","v":0},{"$f":"ZADANI!$J$59","v":""},{"$f":"ZADANI!$J$87","v":0},{"$f":"ZADANI!$J$88","v":""},{"$f":"ZADANI!$J$93","v":0},{"$f":"IF($J16=0,\"\",ZADANI!$J$90*60+ZADANI!$J$91)","v":""},{"$f":"IF($J16=0,\"\",ROUND(($E16+$G16+$I16)/3,3))","v":""},{"$f":"IF($J16=0,\"\",RANK($J16,$J$8:$J$27,0))","v":""},9]
[{"$f":"ZADANI!$K$1","v":0},{"$f":"IF(AND(ISBLANK(ZADANI!$K$90),ISBLANK(ZADANI!$K$91)),\"\",ZADANI!$K$90&\" : \"&ZADANI!$K$91)","v":""},{"$f":"ZADANI!$K$92","v":0},{"$f":"ZADANI!$K$29","v":0},{"$f":"ZADANI!$K$30","v":""},{"$f":"ZADANI!$K$58","v":0},{"$f":"ZADANI!$K$59","v":""},{"$f":"ZADANI!$K$87","v":0},{"$f":"ZADANI!$K$88","v":""},{"$f":"ZADANI!$K$93","v":0},{"$f":"IF($J17=0,\"\",ZADANI!$K$90*60+ZADANI!$K$91)","v":""},{"$f":"IF($J17=0,\"\",ROUND(($E17+$G17+$I17)/3,3))","v":""},{"$f":"IF($J17=0,\"\",RANK($J17,$J$8:$J$27,0))","v":""},10]
[{"$f":"ZADANI!$L$1","v":0},{"$f":"IF(AND(ISBLANK(ZADANI!$L$90),ISBLANK(ZADANI!$L$91)),\"\",ZADANI!$L$90&\" : \"&ZADANI!$L$91)","v":""},{"$f":"ZADANI!$L$92","v":0},{"$f":"ZADANI!$L$29","v":0},{"$f":"ZADANI!$L$30","v":""},{"$f":"ZADANI!$L$58","v":0},{"$f":"ZADANI!$L$59","v":""},{"$f":"ZADANI!$L$87","v":0},{"$f":"ZADANI!$L$88","v":""},{"$f":"ZADANI!$L$93","v":0},{"$f":"IF($J18=0,\"\",ZADANI!$L$90*60+ZADANI!$L$91)","v":""},{"$f":"IF($J18=0,\"\",ROUND(($E18+$G18+$I18)/3,3))","v":""},{"$f":"IF($J18=0,\"\",RANK($J18,$J$8:$J$27,0))","v":""},11]
[{"$f":"ZADANI!$M$1","v":0},{"$f":"IF(AND(ISBLANK(ZADANI!$M$90),ISBLANK(ZADANI!$M$91)),\"\",ZADANI!$M$90&\" : \"&ZADANI!$M$91)","v":""},{"$f":"ZADANI!$M$92","v":0},{"$f":"ZADANI!$M$29","v":0},{"$f":"ZADANI!$M$30","v":""},{"$f":"ZADANI!$M$58","v":0},{"$f":"ZADANI!$M$59","v":""},{"$f":"ZADANI!$M$87","v":0},{"$f":"ZADANI!$M$88","v":""},{"$f":"ZADANI!$M$93","v":0},{"$f":"IF($J19=0,\"\",ZADANI!$M$90*60+ZADANI!$M$91)","v":""},{"$f":"IF($J19=0,\"\",ROUND(($E19+$G19+$I19)/3,3))","v":""},{"$f":"IF($J19=0,\"\",RANK($J19,$J$8:$J$27,0))","v":""},12]
[{"$f":"ZADANI!$N$1","v":0},{"$f":"IF(AND(ISBLANK(ZADANI!$N$90),ISBLANK(ZADANI!$N$91)),\"\",ZADANI!$N$90&\" : \"&ZADANI!$N$91)","v":""},{"$f":"ZADANI!$N$92","v":0},{"$f":"ZADANI!$N$29","v":0},{"$f":"ZADANI!$N$30","v":""},{"$f":"ZADANI!$N$58","v":0},{"$f":"ZADANI!$N$59","v":""},{"$f":"ZADANI!$N$87","v":0},{"$f":"ZADANI!$N$88","v":""},{"$f":"ZADANI!$N$93","v":0},{"$f":"IF($J20=0,\"\",ZADANI!$N$90*60+ZADANI!$N$91)","v":""},{"$f":"IF($J20=0,\"\",ROUND(($E20+$G20+$I20)/3,3))","v":""},{"$f":"IF($J20=0,\"\",RANK($J20,$J$8:$J$27,0))","v":""},13]
[{"$f":"ZADANI!$O$1","v":0},{"$f":"IF(AND(ISBLANK(ZADANI!$O$90),ISBLANK(ZADANI!$O$91)),\"\",ZADANI!$O$90&\" : \"&ZADANI!$O$91)","v":""},{"$f":"ZADANI!$O$92","v":0},{"$f":"ZADANI!$O$29","v":0},{"$f":"ZADANI!$O$30","v":""},{"$f":"ZADANI!$O$58","v":0},{"$f":"ZADANI!$O$59","v":""},{"$f":"ZADANI!$O$87","v":0},{"$f":"ZADANI!$O$88","v":""},{"$f":"ZADANI!$O$93","v":0},{"$f":"IF($J21=0,\"\",ZADANI!$O$90*60+ZADANI!$O$91)","v":""},{"$f":"IF($J21=0,\"\",ROUND(($E21+$G21+$I21)/3,3))","v":""},{"$f":"IF($J21=0,\"\",RANK($J21,$J$8:$J$27,0))","v":""},14]
[{"$f":"ZADANI!$P$1","v":0},{"$f":"IF(AND(ISBLANK(ZADANI!$P$90),ISBLANK(ZADANI!$P$91)),\"\",ZADANI!$P$90&\" : \"&ZADANI!$P$91)","v":""},{"$f":"ZADANI!$P$92","v":0},{"$f":"ZADANI!$P$29","v":0},{"$f":"ZADANI!$P$30","v":""},{"$f":"ZADANI!$P$58","v":0},{"$f":"ZADANI!$P$59","v":""},{"$f":"ZADANI!$P$87","v":0},{"$f":"ZADANI!$P$88","v":""},{"$f":"ZADANI!$P$93","v":0},{"$f":"IF($J22=0,\"\",ZADANI!$P$90*60+ZADANI!$P$91)","v":""},{"$f":"IF($J22=0,\"\",ROUND(($E22+$G22+$I22)/3,3))","v":""},{"$f":"IF($J22=0,\"\",RANK($J22,$J$8:$J$27,0))","v":""},15]
[{"$f":"ZADANI!$Q$1","v":0},{"$f":"IF(AND(ISBLANK(ZADANI!$Q$90),ISBLANK(ZADANI!$Q$91)),\"\",ZADANI!$Q$90&\" : \"&ZADANI!$Q$91)","v":""},{"$f":"ZADANI!$Q$92","v":0},{"$f":"ZADANI!$Q$29","v":0},{"$f":"ZADANI!$Q$30","v":""},{"$f":"ZADANI!$Q$58","v":0},{"$f":"ZADANI!$Q$59","v":""},{"$f":"ZADANI!$Q$87","v":0},{"$f":"ZADANI!$Q$88","v":""},{"$f":"ZADANI!$Q$93","v":0},{"$f":"IF($J23=0,\"\",ZADANI!$Q$90*60+ZADANI!$Q$91)","v":""},{"$f":"IF($J23=0,\"\",ROUND(($E23+$G23+$I23)/3,3))","v":""},{"$f":"IF($J23=0,\"\",RANK($J23,$J$8:$J$27,0))","v":""},16]
[{"$f":"ZADANI!$R$1","v":0},{"$f":"IF(AND(ISBLANK(ZADANI!$R$90),ISBLANK(ZADANI!$R$91)),\"\",ZADANI!$R$90&\" : \"&ZADANI!$R$91)","v":""},{"$f":"ZADANI!$R$92","v":0},{"$f":"ZADANI!$R$29","v":0},{"$f":"ZADANI!$R$30","v":""},{"$f":"ZADANI!$R$58","v":0},{"$f":"ZADANI!$R$59","v":""},{"$f":"ZADANI!$R$87","v":0},{"$f":"ZADANI!$R$88","v":""},{"$f":"ZADANI!$R$93","v":0},{"$f":"IF($J24=0,\"\",ZADANI!$R$90*60+ZADANI!$R$91)","v":""},{"$f":"IF($J24=0,\"\",ROUND(($E24+$G24+$I24)/3,3))","v":""},{"$f":"IF($J24=0,\"\",RANK($J24,$J$8:$J$27,0))","v":""},17]
[{"$f":"ZADANI!$S$1","v":0},{"$f":"IF(AND(ISBLANK(ZADANI!$S$90),ISBLANK(ZADANI!$S$91)),\"\",ZADANI!$S$90&\" : \"&ZADANI!$S$91)","v":""},{"$f":"ZADANI!$S$92","v":0},{"$f":"ZADANI!$S$29","v":0},{"$f":"ZADANI!$S$30","v":""},{"$f":"ZADANI!$S$58","v":0},{"$f":"ZADANI!$S$59","v":""},{"$f":"ZADANI!$S$87","v":0},{"$f":"ZADANI!$S$88","v":""},{"$f":"ZADANI!$S$93","v":0},{"$f":"IF($J25=0,\"\",ZADANI!$S$90*60+ZADANI!$S$91)","v":""},{"$f":"IF($J25=0,\"\",ROUND(($E25+$G25+$I25)/3,3))","v":""},{"$f":"IF($J25=0,\"\",RANK($J25,$J$8:$J$27,0))","v":""},18]
[{"$f":"ZADANI!$T$1","v":0},{"$f":"IF(AND(ISBLANK(ZADANI!$T$90),ISBLANK(ZADANI!$T$91)),\"\",ZADANI!$T$90&\" : \"&ZADANI!$T$91)","v":""},{"$f":"ZADANI!$T$92","v":0},{"$f":"ZADANI!$T$29","v":0},{"$f":"ZADANI!$T$30","v":""},{"$f":"ZADANI!$T$58","v":0},{"$f":"ZADANI!$T$59","v":""},{"$f":"ZADANI!$T$87","v":0},{"$f":"ZADANI!$T$88","v":""},{"$f":"ZADANI!$T$93","v":0},{"$f":"IF($J26=0,\"\",ZADANI!$T$90*60+ZADANI!$T$91)","v":""},{"$f":"IF($J26=0,\"\",ROUND(($E26+$G26+$I26)/3,3))","v":""},{"$f":"IF($J26=0,\"\",RANK($J26,$J$8:$J$27,0))","v":""},19]
[{"$f":"ZADANI!$U$1","v":0},{"$f":"IF(AND(ISBLANK(ZADANI!$U$90),ISBLANK(ZADANI!$U$91)),\"\",ZADANI!$U$90&\" : \"&ZADANI!$U$91)","v":""},{"$f":"ZADANI!$U$92","v":0},{"$f":"ZADANI!$U$29","v":0},{"$f":"ZADANI!$U$30","v":""},{"$f":"ZADANI!$U$58","v":0},{"$f":"ZADANI!$U$59","v":""},{"$f":"ZADANI!$U$87","v":0},{"$f":"ZADANI!$U$88","v":""},{"$f":"ZADANI!$U$93","v":0},{"$f":"IF($J27=0,\"\",ZADANI!$T$90*60+ZADANI!$T$91)","v":""},{"$f":"IF($J27=0,\"\",ROUND(($E27+$G27+$I27)/3,3))","v":""},{"$f":"IF($J27=0,\"\",RANK($J27,$J$8:$J$27,0))","v":""},20]
[]
[]
[]
[]
["podpis velitele soutěže",null,null,null,null,"podpis hlavního rozhodčího"]