{"text_format":"1","workbook":"xlsx","n_sheets":37,"sheets":["Úvod","Start","Kontakt","4x100m","4x100m - P","PJ - S","PJ - T","PJ-T","PJ-V","PJ-P","PJ - P","PJ-C","V - S","V - T","V-T","V-V","V - P","V-P","V-C","D-V","D - P","D-P","PÚ","PÚ - P","Výsledky","Výsledky3","Tisk-v1","Tisk-v2","Tisk-v3","Pozn.","J100m","JVez","POM","Seznam","Data","RozC1","RozC2"],"not_rendered":{"charts":0,"images":1,"macros":1,"external_links":0,"defined_names":80,"comments":1,"pivot_tables":0},"unopened":[],"bounds":{"document_bytes":16777216,"sheet_cells":100000,"rows_first":2000,"rows_last":500,"rows_between":2000,"halvings":0,"cell_chars":16384,"cell_head_chars":4096},"cells_cut":0,"cells_raw":0,"read":"whole","date_system":"1900"}

{"sheet":"Úvod","index":0,"n_rows":31,"n_cols":4,"rows_kept":31,"cut":false,"hidden":false,"merged":[[0,1,0,9],[1,1,1,9]]}
[null,"Program pro zpracování výsledků "]
[null,"POŽÁRNÍ SPORT - Pro"]
[]
[]
[]
[]
[]
[]
[]
[]
[]
[]
[]
[]
[]
[]
[]
[]
[]
[]
[]
[]
[]
[]
[]
[]
[]
[]
[null,"Autor programu:",null,"Ing. Milan Hoffmann"]
[null,"Oprávněný uživatel:",null,"SH ČMS"]
[null,"Verze programu:",null,"2011/1 (11.02.2011)"]

{"sheet":"Start","index":1,"n_rows":46,"n_cols":6,"rows_kept":46,"cut":false,"hidden":false,"merged":[[0,1,0,7],[1,1,1,7],[2,1,2,7],[4,5,4,7]]}
[null,"Startovní listina soutěže"]
[null,"VC ČR v požárním útoku družstev HZS krajů a HZS podniků"]
[null,"Petrovice 19.9.2019"]
[]
[null,"Kat.:","MUŽI",null,{"$f":"COUNTA(C7:C46)","v":9},{"$f":"\"Pozn.: Přihlášeno \"&E5&\" družstev\"","v":"Pozn.: Přihlášeno 9 družstev"}]
[null,"st.č.","SDH / HZS / Tým","Okres / Kraj"]
[null,1,"HZS Jihočeského kraje","ÚO J. Hradec"]
[null,2,"HZS Kraje Vysočina"]
[null,3,"HZS Zlínského Kraje"]
[null,4,"HZS správa železnic","JPO Plzeň"]
[null,5,"HZS Libereckého Kraje"]
[null,6,"HZS Pardubického Kraje","ÚO Pardubice"]
[null,7,"HZS Královohradeckého Kr."]
[null,8,"HZS Plzeňského Kraje","ÚO Domažlice"]
[null,9,"HZSP Deza"]
[null,10]
[null,11]
[null,12]
[null,13]
[null,14]
[null,15]
[null,16]
[null,17]
[null,18]
[null,19]
[null,20]
[null,21]
[null,22]
[null,23]
[null,24]
[null,25]
[null,26]
[null,27]
[null,28]
[null,29]
[null,30]
[null,31]
[null,32]
[null,33]
[null,34]
[null,35]
[null,36]
[null,37]
[null,38]
[null,39]
[null,40]

{"sheet":"Kontakt","index":2,"n_rows":15,"n_cols":3,"rows_kept":15,"cut":false,"hidden":false,"merged":[[0,1,0,13]]}
[null,"Kontakt"]
[]
[null,"Program na zpracování výsledků (Požární sport - Pro) vytvořil:"]
[]
[null,"Ing. Milan HOFFMANN"]
[null,"Vojanova 760/49"]
[null,"318 00 PLZEŇ"]
[]
[null,"tel.:","+420 373 540 062"]
[null,"mobil:","+420 606 916 333"]
[null,null,"+420 731 428 398"]
[]
[null,"mail:","milan.hoffmann@seznam.cz"]
[]
[null,"www:","www.dh.cz"]

{"sheet":"4x100m","index":3,"n_rows":44,"n_cols":23,"rows_kept":44,"cut":false,"hidden":false,"merged":[[0,1,0,13],[2,3,2,6],[2,7,2,10],[1,3,1,11]]}
[null,"Štafeta 4x100 m s překážkami:",null,null,null,null,null,null,null,null,null,null,null,null,null,{"$f":"IF(U2=\"OK\",\"\",\"Stiskni\")","v":""}]
[null,null,null,"Upozornění: Pořadí je platné pouze při vstupu na stránku či kliknutí na zelené tlačítko",null,null,null,null,null,null,null,null,null,null,null,null,null,null,null,null,"OK",null,{"$f":"IF(MAX(W5:W44)>1,\"POZOR\",\"OK\")","v":"POZOR"}]
[null,null,{"$f":"Start!$C$5","v":"MUŽI"},"I.p.",null,null,null,"II.p."]
[null,"st.č.","SDH",1,2,3,"čas",1,2,3,"čas","C.čas",null,"Poř.",null,"Poř.","I.p.","II.p.","P.čas"]
[null,{"$f":"Start!B7","v":1},{"$f":"IF(Start!C7=\"\",\"\",Start!C7)","v":"HZS Jihočeského kraje"},0,null,null,{"$f":"IF($C5=\"\",\"\",IF(OR($D5=\"DNF\",$E5=\"DNF\",$F5=\"DNF\",AND($D5=\"\",$E5=\"\",$F5=\"\")),\"DNF\",IF(OR($D5=\"NP\",$E5=\"NP\",$F5=\"NP\"),\"NP\",IF(ISERROR(MEDIAN($D5:$F5)),\"DNF\",IF(OR($D5=\"X\",$E5=\"X\",$F5=\"X\",$D5=\"\",$E5=\"\",$F5=\"\",$D5=\"x\",$E5=\"x\",$F5=\"x\"),MAX($D5:$F5),MEDIAN($D5:$F5))))))","v":0},null,null,null,{"$f":"IF($C5=\"\",\"\",IF(OR($H5=\"DNF\",$I5=\"DNF\",$J5=\"DNF\",AND($H5=\"\",$I5=\"\",$J5=\"\")),\"DNF\",IF(OR($H5=\"NP\",$I5=\"NP\",$J5=\"NP\"),\"NP\",IF(ISERROR(MEDIAN($H5:$J5)),\"DNF\",IF(OR($H5=\"X\",$I5=\"X\",$J5=\"X\",$H5=\"\",$I5=\"\",$J5=\"\",$H5=\"x\",$I5=\"x\",$J5=\"x\"),MAX($H5:$J5),MEDIAN($H5:$J5))))))","v":"DNF"},{"$f":"IF(C5=\"\",\"\",IF(OR(AND(G5=\"NP\",K5=\"NP\"),AND(G5=\"DNF\",K5=\"DNF\")),G5,IF(AND(G5=\"NP\",K5=\"DNF\"),G5,IF(AND(G5=\"DNF\",K5=\"NP\"),K5,MIN(G5,K5)))))","v":0},null,1,null,{"$f":"IF(C5=\"\",\"\",IF(OR(L5=\"NP\",L5=\"DNF\"),Start!$E$5,RANK(L5,L$5:L$44,1)))","v":1},{"$f":"IF($C5=\"\",\"\",IF(OR($G5=\"NP\",$G5=\"DNF\"),9000,$G5))","v":0},{"$f":"IF($C5=\"\",\"\",IF(OR($K5=\"NP\",$K5=\"DNF\"),9000,$K5))","v":9000},{"$f":"IF($C5=\"\",\"\",SUM($Q5:$R5))","v":9000},null,{"$f":"IF(C5=\"\",\"\",IF(OR(N5=\"DNF\",N5=\"NP\"),\"X\",COUNTIF($N$5:$N$44,N5)))","v":10},null,{"$f":"IF(C5=\"\",\"\",IF(OR(N5=\"DNF\",N5=\"NP\"),\"X\",COUNTIF($L$5:$L$44,L5)))","v":9}]
[null,{"$f":"Start!B8","v":2},{"$f":"IF(Start!C8=\"\",\"\",Start!C8)","v":"HZS Kraje Vysočina"},0,null,null,{"$f":"IF($C6=\"\",\"\",IF(OR($D6=\"DNF\",$E6=\"DNF\",$F6=\"DNF\",AND($D6=\"\",$E6=\"\",$F6=\"\")),\"DNF\",IF(OR($D6=\"NP\",$E6=\"NP\",$F6=\"NP\"),\"NP\",IF(ISERROR(MEDIAN($D6:$F6)),\"DNF\",IF(OR($D6=\"X\",$E6=\"X\",$F6=\"X\",$D6=\"\",$E6=\"\",$F6=\"\",$D6=\"x\",$E6=\"x\",$F6=\"x\"),MAX($D6:$F6),MEDIAN($D6:$F6))))))","v":0},null,null,null,{"$f":"IF($C6=\"\",\"\",IF(OR($H6=\"DNF\",$I6=\"DNF\",$J6=\"DNF\",AND($H6=\"\",$I6=\"\",$J6=\"\")),\"DNF\",IF(OR($H6=\"NP\",$I6=\"NP\",$J6=\"NP\"),\"NP\",IF(ISERROR(MEDIAN($H6:$J6)),\"DNF\",IF(OR($H6=\"X\",$I6=\"X\",$J6=\"X\",$H6=\"\",$I6=\"\",$J6=\"\",$H6=\"x\",$I6=\"x\",$J6=\"x\"),MAX($H6:$J6),MEDIAN($H6:$J6))))))","v":"DNF"},{"$f":"IF(C6=\"\",\"\",IF(OR(AND(G6=\"NP\",K6=\"NP\"),AND(G6=\"DNF\",K6=\"DNF\")),G6,IF(AND(G6=\"NP\",K6=\"DNF\"),G6,IF(AND(G6=\"DNF\",K6=\"NP\"),K6,MIN(G6,K6)))))","v":0},null,1,null,{"$f":"IF(C6=\"\",\"\",IF(OR(L6=\"NP\",L6=\"DNF\"),Start!$E$5,RANK(L6,L$5:L$44,1)))","v":1},{"$f":"IF($C6=\"\",\"\",IF(OR($G6=\"NP\",$G6=\"DNF\"),9000,$G6))","v":0},{"$f":"IF($C6=\"\",\"\",IF(OR($K6=\"NP\",$K6=\"DNF\"),9000,$K6))","v":9000},9000,null,10,null,9]
[null,{"$f":"Start!B9","v":3},{"$f":"IF(Start!C9=\"\",\"\",Start!C9)","v":"HZS Zlínského Kraje"},0,null,null,0,null,null,null,"DNF",0,null,1,null,{"$f":"IF(C7=\"\",\"\",IF(OR(L7=\"NP\",L7=\"DNF\"),Start!$E$5,RANK(L7,L$5:L$44,1)))","v":1},0,9000,9000,null,10,null,9]
[null,{"$f":"Start!B10","v":4},{"$f":"IF(Start!C10=\"\",\"\",Start!C10)","v":"HZS správa železnic"},0,null,null,0,null,null,null,"DNF",0,null,1,null,{"$f":"IF(C8=\"\",\"\",IF(OR(L8=\"NP\",L8=\"DNF\"),Start!$E$5,RANK(L8,L$5:L$44,1)))","v":1},0,9000,9000,null,10,null,9]
[null,{"$f":"Start!B11","v":5},{"$f":"IF(Start!C11=\"\",\"\",Start!C11)","v":"HZS Libereckého Kraje"},0,null,null,0,null,null,null,"DNF",0,null,1,null,{"$f":"IF(C9=\"\",\"\",IF(OR(L9=\"NP\",L9=\"DNF\"),Start!$E$5,RANK(L9,L$5:L$44,1)))","v":1},0,9000,9000,null,10,null,9]
[null,{"$f":"Start!B12","v":6},{"$f":"IF(Start!C12=\"\",\"\",Start!C12)","v":"HZS Pardubického Kraje"},0,null,null,0,null,null,null,"DNF",0,null,1,null,{"$f":"IF(C10=\"\",\"\",IF(OR(L10=\"NP\",L10=\"DNF\"),Start!$E$5,RANK(L10,L$5:L$44,1)))","v":1},0,9000,9000,null,10,null,9]
[null,{"$f":"Start!B13","v":7},{"$f":"IF(Start!C13=\"\",\"\",Start!C13)","v":"HZS Královohradeckého Kr."},0,null,null,0,null,null,null,"DNF",0,null,1,null,{"$f":"IF(C11=\"\",\"\",IF(OR(L11=\"NP\",L11=\"DNF\"),Start!$E$5,RANK(L11,L$5:L$44,1)))","v":1},0,9000,9000,null,10,null,9]
[null,{"$f":"Start!B14","v":8},{"$f":"IF(Start!C14=\"\",\"\",Start!C14)","v":"HZS Plzeňského Kraje"},0,null,null,0,null,null,null,"DNF",0,null,1,null,{"$f":"IF(C12=\"\",\"\",IF(OR(L12=\"NP\",L12=\"DNF\"),Start!$E$5,RANK(L12,L$5:L$44,1)))","v":1},0,9000,9000,null,10,null,9]
[null,{"$f":"Start!B15","v":9},{"$f":"IF(Start!C15=\"\",\"\",Start!C15)","v":"HZSP Deza"},0,null,null,0,null,null,null,"DNF",0,null,1,null,{"$f":"IF(C13=\"\",\"\",IF(OR(L13=\"NP\",L13=\"DNF\"),Start!$E$5,RANK(L13,L$5:L$44,1)))","v":1},0,9000,9000,null,10,null,9]
[null,{"$f":"Start!B16","v":10},{"$f":"IF(Start!C16=\"\",\"\",Start!C16)","v":""},0,null,null,"",null,null,null,"","",null,1,null,{"$f":"IF(C14=\"\",\"\",IF(OR(L14=\"NP\",L14=\"DNF\"),Start!$E$5,RANK(L14,L$5:L$44,1)))","v":""},"","","",null,"",null,""]
[null,{"$f":"Start!B17","v":11},{"$f":"IF(Start!C17=\"\",\"\",Start!C17)","v":""},0,null,null,"",null,null,null,"","",null,null,null,{"$f":"IF(C15=\"\",\"\",IF(OR(L15=\"NP\",L15=\"DNF\"),Start!$E$5,RANK(L15,L$5:L$44,1)))","v":""},"","","",null,"",null,""]
[null,{"$f":"Start!B18","v":12},{"$f":"IF(Start!C18=\"\",\"\",Start!C18)","v":""},0,null,null,"",null,null,null,"","",null,null,null,{"$f":"IF(C16=\"\",\"\",IF(OR(L16=\"NP\",L16=\"DNF\"),Start!$E$5,RANK(L16,L$5:L$44,1)))","v":""},"","","",null,"",null,""]
[null,{"$f":"Start!B19","v":13},{"$f":"IF(Start!C19=\"\",\"\",Start!C19)","v":""},null,null,null,"",null,null,null,"","",null,null,null,{"$f":"IF(C17=\"\",\"\",IF(OR(L17=\"NP\",L17=\"DNF\"),Start!$E$5,RANK(L17,L$5:L$44,1)))","v":""},"","","",null,"",null,""]
[null,{"$f":"Start!B20","v":14},{"$f":"IF(Start!C20=\"\",\"\",Start!C20)","v":""},null,null,null,"",null,null,null,"","",null,null,null,{"$f":"IF(C18=\"\",\"\",IF(OR(L18=\"NP\",L18=\"DNF\"),Start!$E$5,RANK(L18,L$5:L$44,1)))","v":""},"","","",null,"",null,""]
[null,{"$f":"Start!B21","v":15},{"$f":"IF(Start!C21=\"\",\"\",Start!C21)","v":""},null,null,null,"",null,null,null,"","",null,null,null,{"$f":"IF(C19=\"\",\"\",IF(OR(L19=\"NP\",L19=\"DNF\"),Start!$E$5,RANK(L19,L$5:L$44,1)))","v":""},"","","",null,"",null,""]
[null,{"$f":"Start!B22","v":16},{"$f":"IF(Start!C22=\"\",\"\",Start!C22)","v":""},null,null,null,"",null,null,null,"","",null,null,null,{"$f":"IF(C20=\"\",\"\",IF(OR(L20=\"NP\",L20=\"DNF\"),Start!$E$5,RANK(L20,L$5:L$44,1)))","v":""},"","","",null,"",null,""]
[null,{"$f":"Start!B23","v":17},{"$f":"IF(Start!C23=\"\",\"\",Start!C23)","v":""},null,null,null,"",null,null,null,"","",null,null,null,{"$f":"IF(C21=\"\",\"\",IF(OR(L21=\"NP\",L21=\"DNF\"),Start!$E$5,RANK(L21,L$5:L$44,1)))","v":""},"","","",null,"",null,""]
[null,{"$f":"Start!B24","v":18},{"$f":"IF(Start!C24=\"\",\"\",Start!C24)","v":""},null,null,null,"",null,null,null,"","",null,null,null,{"$f":"IF(C22=\"\",\"\",IF(OR(L22=\"NP\",L22=\"DNF\"),Start!$E$5,RANK(L22,L$5:L$44,1)))","v":""},"","","",null,"",null,""]
[null,{"$f":"Start!B25","v":19},{"$f":"IF(Start!C25=\"\",\"\",Start!C25)","v":""},null,null,null,"",null,null,null,"","",null,null,null,{"$f":"IF(C23=\"\",\"\",IF(OR(L23=\"NP\",L23=\"DNF\"),Start!$E$5,RANK(L23,L$5:L$44,1)))","v":""},"","","",null,"",null,""]
[null,{"$f":"Start!B26","v":20},{"$f":"IF(Start!C26=\"\",\"\",Start!C26)","v":""},null,null,null,"",null,null,null,"","",null,null,null,{"$f":"IF(C24=\"\",\"\",IF(OR(L24=\"NP\",L24=\"DNF\"),Start!$E$5,RANK(L24,L$5:L$44,1)))","v":""},"","","",null,"",null,""]
[null,{"$f":"Start!B27","v":21},{"$f":"IF(Start!C27=\"\",\"\",Start!C27)","v":""},null,null,null,"",null,null,null,"","",null,null,null,{"$f":"IF(C25=\"\",\"\",IF(OR(L25=\"NP\",L25=\"DNF\"),Start!$E$5,RANK(L25,L$5:L$44,1)))","v":""},"","","",null,"",null,""]
[null,{"$f":"Start!B28","v":22},{"$f":"IF(Start!C28=\"\",\"\",Start!C28)","v":""},null,null,null,"",null,null,null,"","",null,null,null,{"$f":"IF(C26=\"\",\"\",IF(OR(L26=\"NP\",L26=\"DNF\"),Start!$E$5,RANK(L26,L$5:L$44,1)))","v":""},"","","",null,"",null,""]
[null,{"$f":"Start!B29","v":23},{"$f":"IF(Start!C29=\"\",\"\",Start!C29)","v":""},null,null,null,"",null,null,null,"","",null,null,null,{"$f":"IF(C27=\"\",\"\",IF(OR(L27=\"NP\",L27=\"DNF\"),Start!$E$5,RANK(L27,L$5:L$44,1)))","v":""},"","","",null,"",null,""]
[null,{"$f":"Start!B30","v":24},{"$f":"IF(Start!C30=\"\",\"\",Start!C30)","v":""},null,null,null,"",null,null,null,"","",null,null,null,{"$f":"IF(C28=\"\",\"\",IF(OR(L28=\"NP\",L28=\"DNF\"),Start!$E$5,RANK(L28,L$5:L$44,1)))","v":""},"","","",null,"",null,""]
[null,{"$f":"Start!B31","v":25},{"$f":"IF(Start!C31=\"\",\"\",Start!C31)","v":""},null,null,null,"",null,null,null,"","",null,null,null,{"$f":"IF(C29=\"\",\"\",IF(OR(L29=\"NP\",L29=\"DNF\"),Start!$E$5,RANK(L29,L$5:L$44,1)))","v":""},"","","",null,"",null,""]
[null,{"$f":"Start!B32","v":26},{"$f":"IF(Start!C32=\"\",\"\",Start!C32)","v":""},null,null,null,"",null,null,null,"",{"$f":"IF(C30=\"\",\"\",IF(OR(AND(G30=\"NP\",K30=\"NP\"),AND(G30=\"DNF\",K30=\"DNF\")),G30,IF(AND(G30=\"NP\",K30=\"DNF\"),G30,IF(AND(G30=\"DNF\",K30=\"NP\"),K30,MIN(G30,K30)))))","v":""},null,null,null,{"$f":"IF(C30=\"\",\"\",IF(OR(L30=\"NP\",L30=\"DNF\"),Start!$E$5,RANK(L30,L$5:L$44,1)))","v":""},"","","",null,"",null,""]
[null,{"$f":"Start!B33","v":27},{"$f":"IF(Start!C33=\"\",\"\",Start!C33)","v":""},null,null,null,"",null,null,null,"",{"$f":"IF(C31=\"\",\"\",IF(OR(AND(G31=\"NP\",K31=\"NP\"),AND(G31=\"DNF\",K31=\"DNF\")),G31,IF(AND(G31=\"NP\",K31=\"DNF\"),G31,IF(AND(G31=\"DNF\",K31=\"NP\"),K31,MIN(G31,K31)))))","v":""},null,null,null,{"$f":"IF(C31=\"\",\"\",IF(OR(L31=\"NP\",L31=\"DNF\"),Start!$E$5,RANK(L31,L$5:L$44,1)))","v":""},"","","",null,"",null,""]
[null,{"$f":"Start!B34","v":28},{"$f":"IF(Start!C34=\"\",\"\",Start!C34)","v":""},null,null,null,"",null,null,null,"","",null,null,null,{"$f":"IF(C32=\"\",\"\",IF(OR(L32=\"NP\",L32=\"DNF\"),Start!$E$5,RANK(L32,L$5:L$44,1)))","v":""},"","","",null,"",null,""]
[null,{"$f":"Start!B35","v":29},{"$f":"IF(Start!C35=\"\",\"\",Start!C35)","v":""},null,null,null,"",null,null,null,"","",null,null,null,{"$f":"IF(C33=\"\",\"\",IF(OR(L33=\"NP\",L33=\"DNF\"),Start!$E$5,RANK(L33,L$5:L$44,1)))","v":""},"","","",null,"",null,""]
[null,{"$f":"Start!B36","v":30},{"$f":"IF(Start!C36=\"\",\"\",Start!C36)","v":""},null,null,null,"",null,null,null,"","",null,null,null,{"$f":"IF(C34=\"\",\"\",IF(OR(L34=\"NP\",L34=\"DNF\"),Start!$E$5,RANK(L34,L$5:L$44,1)))","v":""},"","","",null,"",null,""]
[null,{"$f":"Start!B37","v":31},{"$f":"IF(Start!C37=\"\",\"\",Start!C37)","v":""},null,null,null,"",null,null,null,"","",null,null,null,{"$f":"IF(C35=\"\",\"\",IF(OR(L35=\"NP\",L35=\"DNF\"),Start!$E$5,RANK(L35,L$5:L$44,1)))","v":""},"","","",null,"",null,""]
[null,{"$f":"Start!B38","v":32},{"$f":"IF(Start!C38=\"\",\"\",Start!C38)","v":""},null,null,null,"",null,null,null,"","",null,null,null,{"$f":"IF(C36=\"\",\"\",IF(OR(L36=\"NP\",L36=\"DNF\"),Start!$E$5,RANK(L36,L$5:L$44,1)))","v":""},"","","",null,"",null,""]
[null,{"$f":"Start!B39","v":33},{"$f":"IF(Start!C39=\"\",\"\",Start!C39)","v":""},null,null,null,"",null,null,null,"","",null,null,null,{"$f":"IF(C37=\"\",\"\",IF(OR(L37=\"NP\",L37=\"DNF\"),Start!$E$5,RANK(L37,L$5:L$44,1)))","v":""},"","",{"$f":"IF($C37=\"\",\"\",SUM($Q37:$R37))","v":""},null,"",null,""]
[null,{"$f":"Start!B40","v":34},{"$f":"IF(Start!C40=\"\",\"\",Start!C40)","v":""},null,null,null,"",null,null,null,"","",null,null,null,{"$f":"IF(C38=\"\",\"\",IF(OR(L38=\"NP\",L38=\"DNF\"),Start!$E$5,RANK(L38,L$5:L$44,1)))","v":""},"","","",null,"",null,""]
[null,{"$f":"Start!B41","v":35},{"$f":"IF(Start!C41=\"\",\"\",Start!C41)","v":""},null,null,null,"",null,null,null,"","",null,null,null,{"$f":"IF(C39=\"\",\"\",IF(OR(L39=\"NP\",L39=\"DNF\"),Start!$E$5,RANK(L39,L$5:L$44,1)))","v":""},"","","",null,"",null,""]
[null,{"$f":"Start!B42","v":36},{"$f":"IF(Start!C42=\"\",\"\",Start!C42)","v":""},null,null,null,"",null,null,null,"","",null,null,null,{"$f":"IF(C40=\"\",\"\",IF(OR(L40=\"NP\",L40=\"DNF\"),Start!$E$5,RANK(L40,L$5:L$44,1)))","v":""},"","","",null,"",null,""]
[null,{"$f":"Start!B43","v":37},{"$f":"IF(Start!C43=\"\",\"\",Start!C43)","v":""},null,null,null,"",null,null,null,"","",null,null,null,{"$f":"IF(C41=\"\",\"\",IF(OR(L41=\"NP\",L41=\"DNF\"),Start!$E$5,RANK(L41,L$5:L$44,1)))","v":""},"","","",null,"",null,""]
[null,{"$f":"Start!B44","v":38},{"$f":"IF(Start!C44=\"\",\"\",Start!C44)","v":""},null,null,null,"",null,null,null,"","",null,null,null,{"$f":"IF(C42=\"\",\"\",IF(OR(L42=\"NP\",L42=\"DNF\"),Start!$E$5,RANK(L42,L$5:L$44,1)))","v":""},"","","",null,"",null,""]
[null,{"$f":"Start!B45","v":39},{"$f":"IF(Start!C45=\"\",\"\",Start!C45)","v":""},null,null,null,"",null,null,null,"","",null,null,null,{"$f":"IF(C43=\"\",\"\",IF(OR(L43=\"NP\",L43=\"DNF\"),Start!$E$5,RANK(L43,L$5:L$44,1)))","v":""},"","","",null,"",null,""]
[null,{"$f":"Start!B46","v":40},{"$f":"IF(Start!C46=\"\",\"\",Start!C46)","v":""},null,null,null,"",null,null,null,"","",null,null,null,{"$f":"IF(C44=\"\",\"\",IF(OR(L44=\"NP\",L44=\"DNF\"),Start!$E$5,RANK(L44,L$5:L$44,1)))","v":""},"","","",null,"",null,""]

{"sheet":"4x100m - P","index":4,"n_rows":44,"n_cols":19,"rows_kept":44,"cut":false,"hidden":false,"merged":[[0,1,0,13],[2,3,2,6],[2,7,2,10],[1,3,1,11]]}
[null,"Štafeta 4x100 m s překážkami:"]
[null,null,null,"Upozornění: Pořadí je platné pouze při vstupu na stránku či kliknutí na zelené tlačítko"]
[null,null,{"$f":"Start!$C$5","v":"MUŽI"},"I.p.",null,null,null,"II.p."]
[null,"st.č.","SDH",1,2,3,"čas",1,2,3,"čas","C.čas",null,"Poř.",null,"Poř.","I.p.","II.p.","P.čas"]
[null,{"$f":"Start!B7","v":1},"HZS Zlínského kraje",0,null,null,0,null,null,null,"DNF",0,null,1,null,1,0,9000,9000]
[null,{"$f":"Start!B8","v":2},"HZS Moravskoslezského kraje Ostrava",0,null,null,0,null,null,null,"DNF",0,null,1,null,1,0,9000,9000]
[null,{"$f":"Start!B9","v":3},"HZS Kraje Vysočina",0,null,null,0,null,null,null,"DNF",0,null,1,null,1,0,9000,9000]
[null,{"$f":"Start!B10","v":4},"HZS Pardubického kraje Pardubice",0,null,null,0,null,null,null,"DNF",0,null,1,null,1,0,9000,9000]
[null,{"$f":"Start!B11","v":5},"HZS Olomouckého kraje Přerov",0,null,null,0,null,null,null,"DNF",0,null,1,null,1,0,9000,9000]
[null,{"$f":"Start!B12","v":6},"HZSP SŽDC Č. Třebová",0,null,null,0,null,null,null,"DNF",0,null,1,null,1,0,9000,9000]
[null,{"$f":"Start!B13","v":7},"HZS Jihočeského kraje",0,null,null,0,null,null,null,"DNF",0,null,1,null,1,0,9000,9000]
[null,{"$f":"Start!B14","v":8},"HZSP DEZA Valaš. Meziříčí",0,null,null,0,null,null,null,"DNF",0,null,1,null,1,0,9000,9000]
[null,{"$f":"Start!B15","v":9},"HZS Libereckého kraje",0,null,null,0,null,null,null,"DNF",0,null,1,null,1,0,9000,9000]
[null,{"$f":"Start!B16","v":10},"HZS Olomouckého kraje Prostějov",0,null,null,0,null,null,null,"DNF",0,null,1,null,1,0,9000,9000]
[null,{"$f":"Start!B17","v":11},"",0,null,null,"",null,null,null,"","",null,null,null,"","","",""]
[null,{"$f":"Start!B18","v":12},"",0,null,null,"",null,null,null,"","",null,null,null,"","","",""]
[null,{"$f":"Start!B19","v":13},"",null,null,null,"",null,null,null,"","",null,null,null,"","","",""]
[null,{"$f":"Start!B20","v":14},"",null,null,null,"",null,null,null,"","",null,null,null,"","","",""]
[null,{"$f":"Start!B21","v":15},"",null,null,null,"",null,null,null,"","",null,null,null,"","","",""]
[null,{"$f":"Start!B22","v":16},"",null,null,null,"",null,null,null,"","",null,null,null,"","","",""]
[null,{"$f":"Start!B23","v":17},"",null,null,null,"",null,null,null,"","",null,null,null,"","","",""]
[null,{"$f":"Start!B24","v":18},"",null,null,null,"",null,null,null,"","",null,null,null,"","","",""]
[null,{"$f":"Start!B25","v":19},"",null,null,null,"",null,null,null,"","",null,null,null,"","","",""]
[null,{"$f":"Start!B26","v":20},"",null,null,null,"",null,null,null,"","",null,null,null,"","","",""]
[null,{"$f":"Start!B27","v":21},"",null,null,null,"",null,null,null,"","",null,null,null,"","","",""]
[null,{"$f":"Start!B28","v":22},"HZS Plzeňského kraje Domažlice",null,null,null,"DNF",null,null,null,"DNF","DNF",null,20,null,20,9000,9000,18000]
[null,{"$f":"Start!B29","v":23},"HZS Plzeňského kraje Plžeň",null,null,null,"DNF",null,null,null,"DNF","DNF",null,20,null,20,9000,9000,18000]
[null,{"$f":"Start!B30","v":24},"HZS Středočeského kraje Kraj. Výběr",null,null,null,"DNF",null,null,null,"DNF","DNF",null,20,null,20,9000,9000,18000]
[null,{"$f":"Start!B31","v":25},"HZS Královéhradeckého kraje",null,null,null,"DNF",null,null,null,"DNF","DNF",null,20,null,20,9000,9000,18000]
[null,{"$f":"Start!B32","v":26},"HZS Hlavního města Prahy",null,null,null,"DNF",null,null,null,"DNF","DNF",null,20,null,20,9000,9000,18000]
[null,{"$f":"Start!B33","v":27},"HZS Moravskoslezského kraje Karviná",null,null,null,"DNF",null,null,null,"DNF","DNF",null,20,null,20,9000,9000,18000]
[null,{"$f":"Start!B34","v":28},"HZS Středočeského kraje M.Boleslav",null,null,null,"DNF",null,null,null,"DNF","DNF",null,20,null,20,9000,9000,18000]
[null,{"$f":"Start!B35","v":29},"HZS Jihočeského kraje Strakonice",null,null,null,"DNF",null,null,null,"DNF","DNF",null,20,null,20,9000,9000,18000]
[null,{"$f":"Start!B36","v":30},"HZSP SŽDC Plzeň",null,null,null,"DNF",null,null,null,"DNF","DNF",null,20,null,20,9000,9000,18000]
[null,{"$f":"Start!B37","v":31},"SDH DNEBOH",null,null,null,"DNF",null,null,null,"DNF","DNF",null,20,null,20,9000,9000,18000]
[null,{"$f":"Start!B38","v":32},"",null,null,null,"",null,null,null,"","",null,null,null,"","","",""]
[null,{"$f":"Start!B39","v":33},"",null,null,null,"",null,null,null,"","",null,null,null,"","","",""]
[null,{"$f":"Start!B40","v":34},"",null,null,null,"",null,null,null,"","",null,null,null,"","","",""]
[null,{"$f":"Start!B41","v":35},"",null,null,null,"",null,null,null,"","",null,null,null,"","","",""]
[null,{"$f":"Start!B42","v":36},"",null,null,null,"",null,null,null,"","",null,null,null,"","","",""]
[null,{"$f":"Start!B43","v":37},"",null,null,null,"",null,null,null,"","",null,null,null,"","","",""]
[null,{"$f":"Start!B44","v":38},"",null,null,null,"",null,null,null,"","",null,null,null,"","","",""]
[null,{"$f":"Start!B45","v":39},"",null,null,null,"",null,null,null,"","",null,null,null,"","","",""]
[null,{"$f":"Start!B46","v":40},"",null,null,null,"",null,null,null,"","",null,null,null,"","","",""]

{"sheet":"PJ - S","index":5,"n_rows":44,"n_cols":22,"rows_kept":44,"cut":false,"hidden":false,"merged":[[3,21,3,22],[0,1,0,22],[2,3,2,22],[3,3,3,4],[3,5,3,6],[3,7,3,8],[3,9,3,10],[3,11,3,12],[3,13,3,14],[3,15,3,16],[3,17,3,18],[3,19,3,20]]}
[null,"Běh na 100m s překážkami -  Seznam soutěžících"]
[]
[null,2,{"$f":"Start!$C$5","v":"MUŽI"},"Soutěžící"]
[null,"st.č.","Družstvo",1,null,2,null,3,null,4,null,5,null,6,null,7,null,8,null,9,null,10]
[null,{"$f":"Start!$B7","v":1},{"$f":"IF(Start!$C7=\"\",\"\",Start!$C7)","v":"HZS Jihočeského kraje"},1,"Kusalík Miroslav",2,"Synek Petr",3,"Kadara Josef",4,"Novák Dušan",5,"Svitálek Roman",null,null,7,"Kudláč Lukáš",8,"Slavík Martin"]
[null,{"$f":"Start!$B8","v":2},{"$f":"IF(Start!$C8=\"\",\"\",Start!$C8)","v":"HZS Kraje Vysočina"},null,null,12,"Kunfürst Michal",13,"Ptáček Jindřich",14,"Průža Jiří",15,"Řehoř Radim",16,"Sláma Josef",17,"Špaček Marek",18,"Škapa Miroslav"]
[null,{"$f":"Start!$B9","v":3},{"$f":"IF(Start!$C9=\"\",\"\",Start!$C9)","v":"HZS Zlínského Kraje"},21,"Hons Lukáš",22,"Fila Vojtěch",23,"Hnízdil Pavel",24,"Traxler Pavel",25,"Slatinský Petr",26,"Stuchlík Martin",27,"Čurda Aleš",28,"Urbánek Pavel"]
[null,{"$f":"Start!$B10","v":4},{"$f":"IF(Start!$C10=\"\",\"\",Start!$C10)","v":"HZS správa železnic"},31,"Rajchman Jan",32,"Kachyňa Zdeněk",33,"Celta Vojtěch",34,"Ondráček Martin",39,"Kaňa Jakub",36,"Brveník Jan",37,"Barát Michal",38,"Pospíšil Karel"]
[null,{"$f":"Start!$B11","v":5},{"$f":"IF(Start!$C11=\"\",\"\",Start!$C11)","v":"HZS Libereckého Kraje"},null,null,45,"Štěpanovský Marek",41,"Pařil Jiří",46,"Skurčák František",42,"Pařil Milan",47,"Štumar Michal",48,"Caha Petr"]
[null,{"$f":"Start!$B12","v":6},{"$f":"IF(Start!$C12=\"\",\"\",Start!$C12)","v":"HZS Pardubického Kraje"},51,"Kubát Pavel",52,"Hajčman Martin",54,"Veselý Petr",56,"Prokeš Ondřej",57,"Tvrdý Zdeněk",58,"Prchal Jan",59,"Stehlík Ondřej"]
[null,{"$f":"Start!$B13","v":7},{"$f":"IF(Start!$C13=\"\",\"\",Start!$C13)","v":"HZS Královohradeckého Kr."},null,null,62,"Kaňa Jindřich",63,"Cejpek Zdeněk",64,"Hušek Dominik",65,"Jiříkovský David",66,"Pokorný Martin",67,"Sarga Aleš"]
[null,{"$f":"Start!$B14","v":8},{"$f":"IF(Start!$C14=\"\",\"\",Start!$C14)","v":"HZS Plzeňského Kraje"},71,"Jocov Jaroslav",72,"Medek Martin",73,"Daněk Lukáš",74,"Kalinič Marek",75,"Kinc Michal",76,"Klíč Miloš",77,"Minařík David",78,"Gargula Josef"]
[null,{"$f":"Start!$B15","v":9},{"$f":"IF(Start!$C15=\"\",\"\",Start!$C15)","v":"HZSP Deza"},81,"Hofírek Michal",82,"Bauer Jiří",83,"Kubík František",84,"Bílek Martin",85,"Čech Radim",86,"Škaroupka Jiří",87,"Zhoř Jaroslav",89,"Pěnča Josef"]
[null,{"$f":"Start!$B16","v":10},{"$f":"IF(Start!$C16=\"\",\"\",Start!$C16)","v":""},96,"Stach Tomáš",98,"Podhrázský Petr",99,"Paulík Václav",97,"Dvořák Martin",94,"Ryšavý Vilém",93,"Janko Vladimír"]
[null,{"$f":"Start!$B17","v":11},{"$f":"IF(Start!$C17=\"\",\"\",Start!$C17)","v":""},101,"Novotný Pavel",102,"Šmerek Jakub",103,"Tinka Martin",104,"Šindelka Tomáš",105,"Seehofner Jakub",106,"Antl Vladimír",107,"Šlachta Roman",108,"Podloučka Pavel"]
[null,{"$f":"Start!$B18","v":12},{"$f":"IF(Start!$C18=\"\",\"\",Start!$C18)","v":""},111,"Dvořáček Jan",112,"Kavečka Marek",113,"Pospíšil Jan",115,"Müller Martin",116,"Masař Tomáš",117,"Pupík Jan",118,"Jeřábek Martin",119,"Rajci Miroslav"]
[null,{"$f":"Start!$B19","v":13},{"$f":"IF(Start!$C19=\"\",\"\",Start!$C19)","v":""}]
[null,{"$f":"Start!$B20","v":14},{"$f":"IF(Start!$C20=\"\",\"\",Start!$C20)","v":""}]
[null,{"$f":"Start!$B21","v":15},{"$f":"IF(Start!$C21=\"\",\"\",Start!$C21)","v":""}]
[null,{"$f":"Start!$B22","v":16},{"$f":"IF(Start!$C22=\"\",\"\",Start!$C22)","v":""}]
[null,{"$f":"Start!$B23","v":17},{"$f":"IF(Start!$C23=\"\",\"\",Start!$C23)","v":""}]
[null,{"$f":"Start!$B24","v":18},{"$f":"IF(Start!$C24=\"\",\"\",Start!$C24)","v":""}]
[null,{"$f":"Start!$B25","v":19},{"$f":"IF(Start!$C25=\"\",\"\",Start!$C25)","v":""}]
[null,{"$f":"Start!$B26","v":20},{"$f":"IF(Start!$C26=\"\",\"\",Start!$C26)","v":""}]
[null,{"$f":"Start!$B27","v":21},{"$f":"IF(Start!$C27=\"\",\"\",Start!$C27)","v":""}]
[null,{"$f":"Start!$B28","v":22},{"$f":"IF(Start!$C28=\"\",\"\",Start!$C28)","v":""}]
[null,{"$f":"Start!$B29","v":23},{"$f":"IF(Start!$C29=\"\",\"\",Start!$C29)","v":""}]
[null,{"$f":"Start!$B30","v":24},{"$f":"IF(Start!$C30=\"\",\"\",Start!$C30)","v":""}]
[null,{"$f":"Start!$B31","v":25},{"$f":"IF(Start!$C31=\"\",\"\",Start!$C31)","v":""}]
[null,{"$f":"Start!$B32","v":26},{"$f":"IF(Start!$C32=\"\",\"\",Start!$C32)","v":""}]
[null,{"$f":"Start!$B33","v":27},{"$f":"IF(Start!$C33=\"\",\"\",Start!$C33)","v":""}]
[null,{"$f":"Start!$B34","v":28},{"$f":"IF(Start!$C34=\"\",\"\",Start!$C34)","v":""}]
[null,{"$f":"Start!$B35","v":29},{"$f":"IF(Start!$C35=\"\",\"\",Start!$C35)","v":""}]
[null,{"$f":"Start!$B36","v":30},{"$f":"IF(Start!$C36=\"\",\"\",Start!$C36)","v":""}]
[null,{"$f":"Start!$B37","v":31},{"$f":"IF(Start!$C37=\"\",\"\",Start!$C37)","v":""}]
[null,{"$f":"Start!$B38","v":32},{"$f":"IF(Start!$C38=\"\",\"\",Start!$C38)","v":""}]
[null,{"$f":"Start!$B39","v":33},{"$f":"IF(Start!$C39=\"\",\"\",Start!$C39)","v":""}]
[null,{"$f":"Start!$B40","v":34},{"$f":"IF(Start!$C40=\"\",\"\",Start!$C40)","v":""}]
[null,{"$f":"Start!$B41","v":35},{"$f":"IF(Start!$C41=\"\",\"\",Start!$C41)","v":""}]
[null,{"$f":"Start!$B42","v":36},{"$f":"IF(Start!$C42=\"\",\"\",Start!$C42)","v":""}]
[null,{"$f":"Start!$B43","v":37},{"$f":"IF(Start!$C43=\"\",\"\",Start!$C43)","v":""}]
[null,{"$f":"Start!$B44","v":38},{"$f":"IF(Start!$C44=\"\",\"\",Start!$C44)","v":""}]
[null,{"$f":"Start!$B45","v":39},{"$f":"IF(Start!$C45=\"\",\"\",Start!$C45)","v":""}]
[null,{"$f":"Start!$B46","v":40},{"$f":"IF(Start!$C46=\"\",\"\",Start!$C46)","v":""}]

{"sheet":"PJ - T","index":6,"n_rows":404,"n_cols":15,"rows_kept":404,"cut":false,"hidden":false,"merged":[[0,1,0,14],[2,4,2,7],[2,10,2,13]]}
[null,"Běh na 100m s překážkami - Startovní listina"]
[]
[null,null,{"$f":"Start!$C$5","v":"MUŽI"},null,"I. pokus",null,null,null,null,null,"II. pokus"]
[null,"st.č.","Jméno","Kolektiv",1,2,3,"Čas","dr.",null,1,2,3,"Čas","dr."]
[null,1,"Kusalík Miroslav","ÚO Hodonín",null,null,null,null,"1",null,null,null,null,null,"2"]
[null,21,"Hons Lukáš","ÚO Třebíč",null,null,null,null,"2",null,null,null,null,null,"3"]
[null,31,"Rajchman Jan","ÚO Břeclav",null,null,null,null,"3",null,null,null,null,null,"1"]
[null,51,"Kubát Pavel","ÚO Havlíčkův Brod",null,null,null,null,"1",null,null,null,null,null,"2"]
[null,71,"Jocov Jaroslav","ÚO Brno - město",null,null,null,null,"2",null,null,null,null,null,"3"]
[null,81,"Hofírek Michal","ÚO Blansko",null,null,null,null,"3",null,null,null,null,null,"1"]
[null,96,"Stach Tomáš","ÚO Pelhřimov",null,null,null,null,"1",null,null,null,null,null,"2"]
[null,101,"Novotný Pavel","ÚO Brno - venkov",null,null,null,null,"2",null,null,null,null,null,"3"]
[null,111,"Dvořáček Jan","ÚO Vyškov",null,null,null,null,"3",null,null,null,null,null,"1"]
[null,2,"Synek Petr","ÚO Hodonín",null,null,null,null,"1",null,null,null,null,null,"2"]
[null,12,"Kunfürst Michal","ÚO Žďár nad Sázavou",null,null,null,null,"2",null,null,null,null,null,"3"]
[null,22,"Fila Vojtěch","ÚO Třebíč",null,null,null,null,"3",null,null,null,null,null,"1"]
[null,32,"Kachyňa Zdeněk","ÚO Břeclav",null,null,null,null,"1",null,null,null,null,null,"2"]
[null,45,"Štěpanovský Marek","ÚO Jihlava",null,null,null,null,"2",null,null,null,null,null,"3"]
[null,52,"Hajčman Martin","ÚO Havlíčkův Brod",null,null,null,null,"3",null,null,null,null,null,"1"]
[null,62,"Kaňa Jindřich","ÚO Znojmo",null,null,null,null,"1",null,null,null,null,null,"2"]
[null,72,"Medek Martin","ÚO Brno - město",null,null,null,null,"2",null,null,null,null,null,"3"]
[null,82,"Bauer Jiří","ÚO Blansko",null,null,null,null,"3",null,null,null,null,null,"1"]
[null,98,"Podhrázský Petr","ÚO Pelhřimov",null,null,null,null,"1",null,null,null,null,null,"2"]
[null,102,"Šmerek Jakub","ÚO Brno - venkov",null,null,null,null,"2",null,null,null,null,null,"3"]
[null,112,"Kavečka Marek","ÚO Vyškov",null,null,null,null,"3",null,null,null,null,null,"1"]
[null,3,"Kadara Josef","ÚO Hodonín",null,null,null,null,"1",null,null,null,null,null,"2"]
[null,13,"Ptáček Jindřich","ÚO Žďár nad Sázavou",null,null,null,null,"2",null,null,null,null,null,"3"]
[null,23,"Hnízdil Pavel","ÚO Třebíč",null,null,null,null,"3",null,null,null,null,null,"1"]
[null,33,"Celta Vojtěch","ÚO Břeclav",null,null,null,null,"1",null,null,null,null,null,"2"]
[null,41,"Pařil Jiří","ÚO Jihlava",null,null,null,null,"2",null,null,null,null,null,"3"]
[null,54,"Veselý Petr","ÚO Havlíčkův Brod",null,null,null,null,"3",null,null,null,null,null,"1"]
[null,63,"Cejpek Zdeněk","ÚO Znojmo",null,null,null,null,"1",null,null,null,null,null,"2"]
[null,73,"Daněk Lukáš","ÚO Brno - město",null,null,null,null,"2",null,null,null,null,null,"3"]
[null,83,"Kubík František","ÚO Blansko",null,null,null,null,"3",null,null,null,null,null,"1"]
[null,99,"Paulík Václav","ÚO Pelhřimov",null,null,null,null,"1",null,null,null,null,null,"2"]
[null,103,"Tinka Martin","ÚO Brno - venkov",null,null,null,null,"2",null,null,null,null,null,"3"]
[null,113,"Pospíšil Jan","ÚO Vyškov",null,null,null,null,"3",null,null,null,null,null,"1"]
[null,4,"Novák Dušan","ÚO Hodonín",null,null,null,null,"1",null,null,null,null,null,"2"]
[null,14,"Průža Jiří","ÚO Žďár nad Sázavou",null,null,null,null,"2",null,null,null,null,null,"3"]
[null,24,"Traxler Pavel","ÚO Třebíč",null,null,null,null,"3",null,null,null,null,null,"1"]
[null,34,"Ondráček Martin","ÚO Břeclav",null,null,null,null,"1",null,null,null,null,null,"2"]
[null,46,"Skurčák František","ÚO Jihlava",null,null,null,null,"2",null,null,null,null,null,"3"]
[null,56,"Prokeš Ondřej","ÚO Havlíčkův Brod",null,null,null,null,"3",null,null,null,null,null,"1"]
[null,64,"Hušek Dominik","ÚO Znojmo",null,null,null,null,"1",null,null,null,null,null,"2"]
[null,74,"Kalinič Marek","ÚO Brno - město",null,null,null,null,"2",null,null,null,null,null,"3"]
[null,84,"Bílek Martin","ÚO Blansko",null,null,null,null,"3",null,null,null,null,null,"1"]
[null,97,"Dvořák Martin","ÚO Pelhřimov",null,null,null,null,"1",null,null,null,null,null,"2"]
[null,104,"Šindelka Tomáš","ÚO Brno - venkov",null,null,null,null,"2",null,null,null,null,null,"3"]
[null,115,"Müller Martin","ÚO Vyškov",null,null,null,null,"3",null,null,null,null,null,"1"]
[null,5,"Svitálek Roman","ÚO Hodonín",null,null,null,null,"1",null,null,null,null,null,"2"]
[null,15,"Řehoř Radim","ÚO Žďár nad Sázavou",null,null,null,null,"2",null,null,null,null,null,"3"]
[null,25,"Slatinský Petr","ÚO Třebíč",null,null,null,null,"3",null,null,null,null,null,"1"]
[null,39,"Kaňa Jakub","ÚO Břeclav",null,null,null,null,"1",null,null,null,null,null,"2"]
[null,42,"Pařil Milan","ÚO Jihlava",null,null,null,null,"2",null,null,null,null,null,"3"]
[null,57,"Tvrdý Zdeněk","ÚO Havlíčkův Brod",null,null,null,null,"3",null,null,null,null,null,"1"]
[null,65,"Jiříkovský David","ÚO Znojmo",null,null,null,null,"1",null,null,null,null,null,"2"]
[null,75,"Kinc Michal","ÚO Brno - město",null,null,null,null,"2",null,null,null,null,null,"3"]
[null,85,"Čech Radim","ÚO Blansko",null,null,null,null,"3",null,null,null,null,null,"1"]
[null,94,"Ryšavý Vilém","ÚO Pelhřimov",null,null,null,null,"1",null,null,null,null,null,"2"]
[null,105,"Seehofner Jakub","ÚO Brno - venkov",null,null,null,null,"2",null,null,null,null,null,"3"]
[null,116,"Masař Tomáš","ÚO Vyškov",null,null,null,null,"3",null,null,null,null,null,"1"]
[null,16,"Sláma Josef","ÚO Žďár nad Sázavou",null,null,null,null,"1",null,null,null,null,null,"2"]
[null,26,"Stuchlík Martin","ÚO Třebíč",null,null,null,null,"2",null,null,null,null,null,"3"]
[null,36,"Brveník Jan","ÚO Břeclav",null,null,null,null,"3",null,null,null,null,null,"1"]
[null,47,"Štumar Michal","ÚO Jihlava",null,null,null,null,"1",null,null,null,null,null,"2"]
[null,58,"Prchal Jan","ÚO Havlíčkův Brod",null,null,null,null,"2",null,null,null,null,null,"3"]
[null,66,"Pokorný Martin","ÚO Znojmo",null,null,null,null,"3",null,null,null,null,null,"1"]
[null,76,"Klíč Miloš","ÚO Brno - město",null,null,null,null,"1",null,null,null,null,null,"2"]
[null,86,"Škaroupka Jiří","ÚO Blansko",null,null,null,null,"2",null,null,null,null,null,"3"]
[null,93,"Janko Vladimír","ÚO Pelhřimov",null,null,null,null,"3",null,null,null,null,null,"1"]
[null,106,"Antl Vladimír","ÚO Brno - venkov",null,null,null,null,"1",null,null,null,null,null,"2"]
[null,117,"Pupík Jan","ÚO Vyškov",null,null,null,null,"2",null,null,null,null,null,"3"]
[null,7,"Kudláč Lukáš","ÚO Hodonín",null,null,null,null,"3",null,null,null,null,null,"1"]
[null,17,"Špaček Marek","ÚO Žďár nad Sázavou",null,null,null,null,"1",null,null,null,null,null,"2"]
[null,27,"Čurda Aleš","ÚO Třebíč",null,null,null,null,"2",null,null,null,null,null,"3"]
[null,37,"Barát Michal","ÚO Břeclav",null,null,null,null,"3",null,null,null,null,null,"1"]
[null,48,"Caha Petr","ÚO Jihlava",null,null,null,null,"1",null,null,null,null,null,"2"]
[null,59,"Stehlík Ondřej","ÚO Havlíčkův Brod",null,null,null,null,"2",null,null,null,null,null,"3"]
[null,67,"Sarga Aleš","ÚO Znojmo",null,null,null,null,"3",null,null,null,null,null,"1"]
[null,77,"Minařík David","ÚO Brno - město",null,null,null,null,"1",null,null,null,null,null,"2"]
[null,87,"Zhoř Jaroslav","ÚO Blansko",null,null,null,null,"2",null,null,null,null,null,"3"]
[null,107,"Šlachta Roman","ÚO Brno - venkov",null,null,null,null,"3",null,null,null,null,null,"1"]
[null,118,"Jeřábek Martin","ÚO Vyškov",null,null,null,null,"1",null,null,null,null,null,"2"]
[null,8,"Slavík Martin","ÚO Hodonín",null,null,null,null,"2",null,null,null,null,null,"3"]
[null,18,"Škapa Miroslav","ÚO Žďár nad Sázavou",null,null,null,null,"3",null,null,null,null,null,"1"]
[null,28,"Urbánek Pavel","ÚO Třebíč",null,null,null,null,"1",null,null,null,null,null,"2"]
[null,38,"Pospíšil Karel","ÚO Břeclav",null,null,null,null,"2",null,null,null,null,null,"3"]
[null,78,"Gargula Josef","ÚO Brno - město",null,null,null,null,"3",null,null,null,null,null,"1"]
[null,89,"Pěnča Josef","ÚO Blansko",null,null,null,null,"1",null,null,null,null,null,"2"]
[null,108,"Podloučka Pavel","ÚO Brno - venkov",null,null,null,null,"2",null,null,null,null,null,"3"]
[null,119,"Rajci Miroslav","ÚO Vyškov",null,null,null,null,"3",null,null,null,null,null,"1"]
[null,null,null,null,null,null,null,null,"1",null,null,null,null,null,"2"]
[null,null,null,null,null,null,null,null,"2",null,null,null,null,null,"3"]
[null,null,null,null,null,null,null,null,"3",null,null,null,null,null,"1"]
[null,null,null,null,null,null,null,null,"1",null,null,null,null,null,"2"]
[null,null,null,null,null,null,null,null,"2",null,null,null,null,null,"3"]
[null,null,null,null,null,null,null,null,"3",null,null,null,null,null,"1"]
[null,null,null,null,null,null,null,null,"1",null,null,null,null,null,"2"]
[null,null,null,null,null,null,null,null,"2",null,null,null,null,null,"3"]
[null,null,null,null,null,null,null,null,"3",null,null,null,null,null,"1"]
[null,null,null,null,null,null,null,null,"1",null,null,null,null,null,"2"]
[null,null,null,null,null,null,null,null,"2",null,null,null,null,null,"3"]
[null,null,null,null,null,null,null,null,"3",null,null,null,null,null,"1"]
[null,null,null,null,null,null,null,null,"1",null,null,null,null,null,"2"]
[null,null,null,null,null,null,null,null,"2",null,null,null,null,null,"3"]
[null,null,null,null,null,null,null,null,"3",null,null,null,null,null,"1"]
[null,null,null,null,null,null,null,null,"1",null,null,null,null,null,"2"]
[null,null,null,null,null,null,null,null,"2",null,null,null,null,null,"3"]
[null,null,null,null,null,null,null,null,"3",null,null,null,null,null,"1"]
[null,null,null,null,null,null,null,null,"1",null,null,null,null,null,"2"]
[null,null,null,null,null,null,null,null,"2",null,null,null,null,null,"3"]
[null,null,null,null,null,null,null,null,"3",null,null,null,null,null,"1"]
[null,null,null,null,null,null,null,null,"1",null,null,null,null,null,"2"]
[null,null,null,null,null,null,null,null,"2",null,null,null,null,null,"3"]
[null,null,null,null,null,null,null,null,"3",null,null,null,null,null,"1"]
[null,null,null,null,null,null,null,null,"1",null,null,null,null,null,"2"]
[null,null,null,null,null,null,null,null,"2",null,null,null,null,null,"3"]
[null,null,null,null,null,null,null,null,"3",null,null,null,null,null,"1"]
[null,null,null,null,null,null,null,null,"1",null,null,null,null,null,"2"]
[null,null,null,null,null,null,null,null,"2",null,null,null,null,null,"3"]
[null,null,null,null,null,null,null,null,"3",null,null,null,null,null,"1"]
[null,null,null,null,null,null,null,null,"1",null,null,null,null,null,"2"]
[null,null,null,null,null,null,null,null,"2",null,null,null,null,null,"3"]
[null,null,null,null,null,null,null,null,"3",null,null,null,null,null,"1"]
[null,null,null,null,null,null,null,null,"1",null,null,null,null,null,"2"]
[null,null,null,null,null,null,null,null,"2",null,null,null,null,null,"3"]
[null,null,null,null,null,null,null,null,"3",null,null,null,null,null,"1"]
[null,null,null,null,null,null,null,null,"1",null,null,null,null,null,"2"]
[null,null,null,null,null,null,null,null,"2",null,null,null,null,null,"3"]
[null,null,null,null,null,null,null,null,"3",null,null,null,null,null,"1"]
[null,null,null,null,null,null,null,null,"1",null,null,null,null,null,"2"]
[null,null,null,null,null,null,null,null,"2",null,null,null,null,null,"3"]
[null,null,null,null,null,null,null,null,"3",null,null,null,null,null,"1"]
[null,null,null,null,null,null,null,null,"1",null,null,null,null,null,"2"]
[null,null,null,null,null,null,null,null,"2",null,null,null,null,null,"3"]
[null,null,null,null,null,null,null,null,"3",null,null,null,null,null,"1"]
[null,null,null,null,null,null,null,null,"1",null,null,null,null,null,"2"]
[null,null,null,null,null,null,null,null,"2",null,null,null,null,null,"3"]
[null,null,null,null,null,null,null,null,"3",null,null,null,null,null,"1"]
[null,null,null,null,null,null,null,null,"1",null,null,null,null,null,"2"]
[null,null,null,null,null,null,null,null,"2",null,null,null,null,null,"3"]
[null,null,null,null,null,null,null,null,"3",null,null,null,null,null,"1"]
[null,null,null,null,null,null,null,null,"1",null,null,null,null,null,"2"]
[null,null,null,null,null,null,null,null,"2",null,null,null,null,null,"3"]
[null,null,null,null,null,null,null,null,"3",null,null,null,null,null,"1"]
[null,null,null,null,null,null,null,null,"1",null,null,null,null,null,"2"]
[null,null,null,null,null,null,null,null,"2",null,null,null,null,null,"3"]
[null,null,null,null,null,null,null,null,"3",null,null,null,null,null,"1"]
[null,null,null,null,null,null,null,null,"1",null,null,null,null,null,"2"]
[null,null,null,null,null,null,null,null,"2",null,null,null,null,null,"3"]
[null,null,null,null,null,null,null,null,"3",null,null,null,null,null,"1"]
[null,null,null,null,null,null,null,null,"1",null,null,null,null,null,"2"]
[null,null,null,null,null,null,null,null,"2",null,null,null,null,null,"3"]
[null,null,null,null,null,null,null,null,"3",null,null,null,null,null,"1"]
[null,null,null,null,null,null,null,null,"1",null,null,null,null,null,"2"]
[null,null,null,null,null,null,null,null,"2",null,null,null,null,null,"3"]
[null,null,null,null,null,null,null,null,"3",null,null,null,null,null,"1"]
[null,null,null,null,null,null,null,null,"1",null,null,null,null,null,"2"]
[null,null,null,null,null,null,null,null,"2",null,null,null,null,null,"3"]
[null,null,null,null,null,null,null,null,"3",null,null,null,null,null,"1"]
[null,null,null,null,null,null,null,null,"1",null,null,null,null,null,"2"]
[null,null,null,null,null,null,null,null,"2",null,null,null,null,null,"3"]
[null,null,null,null,null,null,null,null,"3",null,null,null,null,null,"1"]
[null,null,null,null,null,null,null,null,"1",null,null,null,null,null,"2"]
[null,null,null,null,null,null,null,null,"2",null,null,null,null,null,"3"]
[null,null,null,null,null,null,null,null,"3",null,null,null,null,null,"1"]
[null,null,null,null,null,null,null,null,"1",null,null,null,null,null,"2"]
[null,null,null,null,null,null,null,null,"2",null,null,null,null,null,"3"]
[null,null,null,null,null,null,null,null,"3",null,null,null,null,null,"1"]
[null,null,null,null,null,null,null,null,"1",null,null,null,null,null,"2"]
[null,null,null,null,null,null,null,null,"2",null,null,null,null,null,"3"]
[null,null,null,null,null,null,null,null,"3",null,null,null,null,null,"1"]
[null,null,null,null,null,null,null,null,"1",null,null,null,null,null,"2"]
[null,null,null,null,null,null,null,null,"2",null,null,null,null,null,"3"]
[null,null,null,null,null,null,null,null,"3",null,null,null,null,null,"1"]
[null,null,null,null,null,null,null,null,"1",null,null,null,null,null,"2"]
[null,null,null,null,null,null,null,null,"2",null,null,null,null,null,"3"]
[null,null,null,null,null,null,null,null,"3",null,null,null,null,null,"1"]
[null,null,null,null,null,null,null,null,"1",null,null,null,null,null,"2"]
[null,null,null,null,null,null,null,null,"2",null,null,null,null,null,"3"]
[null,null,null,null,null,null,null,null,"3",null,null,null,null,null,"1"]
[null,null,null,null,null,null,null,null,"1",null,null,null,null,null,"2"]
[null,null,null,null,null,null,null,null,"2",null,null,null,null,null,"3"]
[null,null,null,null,null,null,null,null,"3",null,null,null,null,null,"1"]
[null,null,null,null,null,null,null,null,"1",null,null,null,null,null,"2"]
[null,null,null,null,null,null,null,null,"2",null,null,null,null,null,"3"]
[null,null,null,null,null,null,null,null,"3",null,null,null,null,null,"1"]
[null,null,null,null,null,null,null,null,"1",null,null,null,null,null,"2"]
[null,null,null,null,null,null,null,null,"2",null,null,null,null,null,"3"]
[null,null,null,null,null,null,null,null,"3",null,null,null,null,null,"1"]
[null,null,null,null,null,null,null,null,"1",null,null,null,null,null,"2"]
[null,null,null,null,null,null,null,null,"2",null,null,null,null,null,"3"]
[null,null,null,null,null,null,null,null,"3",null,null,null,null,null,"1"]
[null,null,null,null,null,null,null,null,"1",null,null,null,null,null,"2"]
[null,null,null,null,null,null,null,null,"2",null,null,null,null,null,"3"]
[null,null,null,null,null,null,null,null,"3",null,null,null,null,null,"1"]
[null,null,null,null,null,null,null,null,"1",null,null,null,null,null,"2"]
[null,null,null,null,null,null,null,null,"2",null,null,null,null,null,"3"]
[null,null,null,null,null,null,null,null,"3",null,null,null,null,null,"1"]
[null,null,null,null,null,null,null,null,"1",null,null,null,null,null,"2"]
[null,null,null,null,null,null,null,null,"2",null,null,null,null,null,"3"]
[null,null,null,null,null,null,null,null,"3",null,null,null,null,null,"1"]
[null,null,null,null,null,null,null,null,"1",null,null,null,null,null,"2"]
[null,null,null,null,null,null,null,null,"2",null,null,null,null,null,"3"]
[null,null,null,null,null,null,null,null,"3",null,null,null,null,null,"1"]
[null,null,null,null,null,null,null,null,"1",null,null,null,null,null,"2"]
[null,null,null,null,null,null,null,null,"2",null,null,null,null,null,"3"]
[null,null,null,null,null,null,null,null,"3",null,null,null,null,null,"1"]
[null,null,null,null,null,null,null,null,"1",null,null,null,null,null,"2"]
[null,null,null,null,null,null,null,null,"2",null,null,null,null,null,"3"]
[null,null,null,null,null,null,null,null,"3",null,null,null,null,null,"1"]
[null,null,null,null,null,null,null,null,"1",null,null,null,null,null,"2"]
[null,null,null,null,null,null,null,null,"2",null,null,null,null,null,"3"]
[null,null,null,null,null,null,null,null,"3",null,null,null,null,null,"1"]
[null,null,null,null,null,null,null,null,"1",null,null,null,null,null,"2"]
[null,null,null,null,null,null,null,null,"2",null,null,null,null,null,"3"]
[null,null,null,null,null,null,null,null,"3",null,null,null,null,null,"1"]
[null,null,null,null,null,null,null,null,"1",null,null,null,null,null,"2"]
[null,null,null,null,null,null,null,null,"2",null,null,null,null,null,"3"]
[null,null,null,null,null,null,null,null,"3",null,null,null,null,null,"1"]
[null,null,null,null,null,null,null,null,"1",null,null,null,null,null,"2"]
[null,null,null,null,null,null,null,null,"2",null,null,null,null,null,"3"]
[null,null,null,null,null,null,null,null,"3",null,null,null,null,null,"1"]
[null,null,null,null,null,null,null,null,"1",null,null,null,null,null,"2"]
[null,null,null,null,null,null,null,null,"2",null,null,null,null,null,"3"]
[null,null,null,null,null,null,null,null,"3",null,null,null,null,null,"1"]
[null,null,null,null,null,null,null,null,"1",null,null,null,null,null,"2"]
[null,null,null,null,null,null,null,null,"2",null,null,null,null,null,"3"]
[null,null,null,null,null,null,null,null,"3",null,null,null,null,null,"1"]
[null,null,null,null,null,null,null,null,"1",null,null,null,null,null,"2"]
[null,null,null,null,null,null,null,null,"2",null,null,null,null,null,"3"]
[null,null,null,null,null,null,null,null,"3",null,null,null,null,null,"1"]
[null,null,null,null,null,null,null,null,"1",null,null,null,null,null,"2"]
[null,null,null,null,null,null,null,null,"2",null,null,null,null,null,"3"]
[null,null,null,null,null,null,null,null,"3",null,null,null,null,null,"1"]
[null,null,null,null,null,null,null,null,"1",null,null,null,null,null,"2"]
[null,null,null,null,null,null,null,null,"2",null,null,null,null,null,"3"]
[null,null,null,null,null,null,null,null,"3",null,null,null,null,null,"1"]
[null,null,null,null,null,null,null,null,"1",null,null,null,null,null,"2"]
[null,null,null,null,null,null,null,null,"2",null,null,null,null,null,"3"]
[null,null,null,null,null,null,null,null,"3",null,null,null,null,null,"1"]
[null,null,null,null,null,null,null,null,"1",null,null,null,null,null,"2"]
[null,null,null,null,null,null,null,null,"2",null,null,null,null,null,"3"]
[null,null,null,null,null,null,null,null,"3",null,null,null,null,null,"1"]
[null,null,null,null,null,null,null,null,"1",null,null,null,null,null,"2"]
[null,null,null,null,null,null,null,null,"2",null,null,null,null,null,"3"]
[null,null,null,null,null,null,null,null,"3",null,null,null,null,null,"1"]
[null,null,null,null,null,null,null,null,"1",null,null,null,null,null,"2"]
[null,null,null,null,null,null,null,null,"2",null,null,null,null,null,"3"]
[null,null,null,null,null,null,null,null,"3",null,null,null,null,null,"1"]
[null,null,null,null,null,null,null,null,"1",null,null,null,null,null,"2"]
[null,null,null,null,null,null,null,null,"2",null,null,null,null,null,"3"]
[null,null,null,null,null,null,null,null,"3",null,null,null,null,null,"1"]
[null,null,null,null,null,null,null,null,"1",null,null,null,null,null,"2"]
[null,null,null,null,null,null,null,null,"2",null,null,null,null,null,"3"]
[null,null,null,null,null,null,null,null,"3",null,null,null,null,null,"1"]
[null,null,null,null,null,null,null,null,"1",null,null,null,null,null,"2"]
[null,null,null,null,null,null,null,null,"2",null,null,null,null,null,"3"]
[null,null,null,null,null,null,null,null,"3",null,null,null,null,null,"1"]
[null,null,null,null,null,null,null,null,"1",null,null,null,null,null,"2"]
[null,null,null,null,null,null,null,null,"2",null,null,null,null,null,"3"]
[null,null,null,null,null,null,null,null,"3",null,null,null,null,null,"1"]
[null,null,null,null,null,null,null,null,"1",null,null,null,null,null,"2"]
[null,null,null,null,null,null,null,null,"2",null,null,null,null,null,"3"]
[null,null,null,null,null,null,null,null,"3",null,null,null,null,null,"1"]
[null,null,null,null,null,null,null,null,"1",null,null,null,null,null,"2"]
[null,null,null,null,null,null,null,null,"2",null,null,null,null,null,"3"]
[null,null,null,null,null,null,null,null,"3",null,null,null,null,null,"1"]
[null,null,null,null,null,null,null,null,"1",null,null,null,null,null,"2"]
[null,null,null,null,null,null,null,null,"2",null,null,null,null,null,"3"]
[null,null,null,null,null,null,null,null,"3",null,null,null,null,null,"1"]
[null,null,null,null,null,null,null,null,"1",null,null,null,null,null,"2"]
[null,null,null,null,null,null,null,null,"2",null,null,null,null,null,"3"]
[null,null,null,null,null,null,null,null,"3",null,null,null,null,null,"1"]
[null,null,null,null,null,null,null,null,"1",null,null,null,null,null,"2"]
[null,null,null,null,null,null,null,null,"2",null,null,null,null,null,"3"]
[null,null,null,null,null,null,null,null,"3",null,null,null,null,null,"1"]
[null,null,null,null,null,null,null,null,"1",null,null,null,null,null,"2"]
[null,null,null,null,null,null,null,null,"2",null,null,null,null,null,"3"]
[null,null,null,null,null,null,null,null,"3",null,null,null,null,null,"1"]
[null,null,null,null,null,null,null,null,"1",null,null,null,null,null,"2"]
[null,null,null,null,null,null,null,null,"2",null,null,null,null,null,"3"]
[null,null,null,null,null,null,null,null,"3",null,null,null,null,null,"1"]
[null,null,null,null,null,null,null,null,"1",null,null,null,null,null,"2"]
[null,null,null,null,null,null,null,null,"2",null,null,null,null,null,"3"]
[null,null,null,null,null,null,null,null,"3",null,null,null,null,null,"1"]
[null,null,null,null,null,null,null,null,"1",null,null,null,null,null,"2"]
[null,null,null,null,null,null,null,null,"2",null,null,null,null,null,"3"]
[null,null,null,null,null,null,null,null,"3",null,null,null,null,null,"1"]
[null,null,null,null,null,null,null,null,"1",null,null,null,null,null,"2"]
[null,null,null,null,null,null,null,null,"2",null,null,null,null,null,"3"]
[null,null,null,null,null,null,null,null,"3",null,null,null,null,null,"1"]
[null,null,null,null,null,null,null,null,"1",null,null,null,null,null,"2"]
[null,null,null,null,null,null,null,null,"2",null,null,null,null,null,"3"]
[null,null,null,null,null,null,null,null,"3",null,null,null,null,null,"1"]
[null,null,null,null,null,null,null,null,"1",null,null,null,null,null,"2"]
[null,null,null,null,null,null,null,null,"2",null,null,null,null,null,"3"]
[null,null,null,null,null,null,null,null,"3",null,null,null,null,null,"1"]
[null,null,null,null,null,null,null,null,"1",null,null,null,null,null,"2"]
[null,null,null,null,null,null,null,null,"2",null,null,null,null,null,"3"]
[null,null,null,null,null,null,null,null,"3",null,null,null,null,null,"1"]
[null,null,null,null,null,null,null,null,"1",null,null,null,null,null,"2"]
[null,null,null,null,null,null,null,null,"2",null,null,null,null,null,"3"]
[null,null,null,null,null,null,null,null,"3",null,null,null,null,null,"1"]
[null,null,null,null,null,null,null,null,"1",null,null,null,null,null,"2"]
[null,null,null,null,null,null,null,null,"2",null,null,null,null,null,"3"]
[null,null,null,null,null,null,null,null,"3",null,null,null,null,null,"1"]
[null,null,null,null,null,null,null,null,"1",null,null,null,null,null,"2"]
[null,null,null,null,null,null,null,null,"2",null,null,null,null,null,"3"]
[null,null,null,null,null,null,null,null,"3",null,null,null,null,null,"1"]
[null,null,null,null,null,null,null,null,"1",null,null,null,null,null,"2"]
[null,null,null,null,null,null,null,null,"2",null,null,null,null,null,"3"]
[null,null,null,null,null,null,null,null,"3",null,null,null,null,null,"1"]
[null,null,null,null,null,null,null,null,"1",null,null,null,null,null,"2"]
[null,null,null,null,null,null,null,null,"2",null,null,null,null,null,"3"]
[null,null,null,null,null,null,null,null,"3",null,null,null,null,null,"1"]
[null,null,null,null,null,null,null,null,"1",null,null,null,null,null,"2"]
[null,null,null,null,null,null,null,null,"2",null,null,null,null,null,"3"]
[null,null,null,null,null,null,null,null,"3",null,null,null,null,null,"1"]
[null,null,null,null,null,null,null,null,"1",null,null,null,null,null,"2"]
[null,null,null,null,null,null,null,null,"2",null,null,null,null,null,"3"]
[null,null,null,null,null,null,null,null,"3",null,null,null,null,null,"1"]
[null,null,null,null,null,null,null,null,"1",null,null,null,null,null,"2"]
[null,null,null,null,null,null,null,null,"2",null,null,null,null,null,"3"]
[null,null,null,null,null,null,null,null,"3",null,null,null,null,null,"1"]
[null,null,null,null,null,null,null,null,"1",null,null,null,null,null,"2"]
[null,null,null,null,null,null,null,null,"2",null,null,null,null,null,"3"]
[null,null,null,null,null,null,null,null,"3",null,null,null,null,null,"1"]
[null,null,null,null,null,null,null,null,"1",null,null,null,null,null,"2"]
[null,null,null,null,null,null,null,null,"2",null,null,null,null,null,"3"]
[null,null,null,null,null,null,null,null,"3",null,null,null,null,null,"1"]
[null,null,null,null,null,null,null,null,"1",null,null,null,null,null,"2"]
[null,null,null,null,null,null,null,null,"2",null,null,null,null,null,"3"]
[null,null,null,null,null,null,null,null,"3",null,null,null,null,null,"1"]
[null,null,null,null,null,null,null,null,"1",null,null,null,null,null,"2"]
[null,null,null,null,null,null,null,null,"2",null,null,null,null,null,"3"]
[null,null,null,null,null,null,null,null,"3",null,null,null,null,null,"1"]
[null,null,null,null,null,null,null,null,"1",null,null,null,null,null,"2"]
[null,null,null,null,null,null,null,null,"2",null,null,null,null,null,"3"]
[null,null,null,null,null,null,null,null,"3",null,null,null,null,null,"1"]
[null,null,null,null,null,null,null,null,"1",null,null,null,null,null,"2"]
[null,null,null,null,null,null,null,null,"2",null,null,null,null,null,"3"]
[null,null,null,null,null,null,null,null,"3",null,null,null,null,null,"1"]
[null,null,null,null,null,null,null,null,"1",null,null,null,null,null,"2"]
[null,null,null,null,null,null,null,null,"2",null,null,null,null,null,"3"]
[null,null,null,null,null,null,null,null,"3",null,null,null,null,null,"1"]
[null,null,null,null,null,null,null,null,"1",null,null,null,null,null,"2"]
[null,null,null,null,null,null,null,null,"2",null,null,null,null,null,"3"]
[null,null,null,null,null,null,null,null,"3",null,null,null,null,null,"1"]
[null,null,null,null,null,null,null,null,"1",null,null,null,null,null,"2"]
[null,null,null,null,null,null,null,null,"2",null,null,null,null,null,"3"]
[null,null,null,null,null,null,null,null,"3",null,null,null,null,null,"1"]
[null,null,null,null,null,null,null,null,"1",null,null,null,null,null,"2"]
[null,null,null,null,null,null,null,null,"2",null,null,null,null,null,"3"]
[null,null,null,null,null,null,null,null,"3",null,null,null,null,null,"1"]
[null,null,null,null,null,null,null,null,"1",null,null,null,null,null,"2"]
[null,null,null,null,null,null,null,null,"2",null,null,null,null,null,"3"]
[null,null,null,null,null,null,null,null,"3",null,null,null,null,null,"1"]
[null,null,null,null,null,null,null,null,"1",null,null,null,null,null,"2"]
[null,null,null,null,null,null,null,null,"2",null,null,null,null,null,"3"]
[null,null,null,null,null,null,null,null,"3",null,null,null,null,null,"1"]
[null,null,null,null,null,null,null,null,"1",null,null,null,null,null,"2"]
[null,null,null,null,null,null,null,null,"2",null,null,null,null,null,"3"]
[null,null,null,null,null,null,null,null,"3",null,null,null,null,null,"1"]
[null,null,null,null,null,null,null,null,"1",null,null,null,null,null,"2"]
[null,null,null,null,null,null,null,null,"2",null,null,null,null,null,"3"]
[null,null,null,null,null,null,null,null,"3",null,null,null,null,null,"1"]
[null,null,null,null,null,null,null,null,"1",null,null,null,null,null,"2"]
[null,null,null,null,null,null,null,null,"2",null,null,null,null,null,"3"]
[null,null,null,null,null,null,null,null,"3",null,null,null,null,null,"1"]
[null,null,null,null,null,null,null,null,"1",null,null,null,null,null,"2"]
[null,null,null,null,null,null,null,null,"2",null,null,null,null,null,"3"]
[null,null,null,null,null,null,null,null,"3",null,null,null,null,null,"1"]
[null,null,null,null,null,null,null,null,"1",null,null,null,null,null,"2"]
[null,null,null,null,null,null,null,null,"2",null,null,null,null,null,"3"]
[null,null,null,null,null,null,null,null,"3",null,null,null,null,null,"1"]
[null,null,null,null,null,null,null,null,"1",null,null,null,null,null,"2"]
[null,null,null,null,null,null,null,null,"2",null,null,null,null,null,"3"]
[null,null,null,null,null,null,null,null,"3",null,null,null,null,null,"1"]
[null,null,null,null,null,null,null,null,"1",null,null,null,null,null,"2"]
[null,null,null,null,null,null,null,null,"2",null,null,null,null,null,"3"]
[null,null,null,null,null,null,null,null,"3",null,null,null,null,null,"1"]
[null,null,null,null,null,null,null,null,"1",null,null,null,null,null,"2"]
[null,null,null,null,null,null,null,null,"2",null,null,null,null,null,"3"]
[null,null,null,null,null,null,null,null,"3",null,null,null,null,null,"1"]
[null,null,null,null,null,null,null,null,"1",null,null,null,null,null,"2"]
[null,null,null,null,null,null,null,null,"2",null,null,null,null,null,"3"]
[null,null,null,null,null,null,null,null,"3",null,null,null,null,null,"1"]
[null,null,null,null,null,null,null,null,"1",null,null,null,null,null,"2"]
[null,null,null,null,null,null,null,null,"2",null,null,null,null,null,"3"]
[null,null,null,null,null,null,null,null,"3",null,null,null,null,null,"1"]
[null,null,null,null,null,null,null,null,"1",null,null,null,null,null,"2"]
[null,null,null,null,null,null,null,null,"2",null,null,null,null,null,"3"]
[null,null,null,null,null,null,null,null,"3",null,null,null,null,null,"1"]
[null,null,null,null,null,null,null,null,"1",null,null,null,null,null,"2"]
[null,null,null,null,null,null,null,null,"2",null,null,null,null,null,"3"]
[null,null,null,null,null,null,null,null,"3",null,null,null,null,null,"1"]
[null,null,null,null,null,null,null,null,"1",null,null,null,null,null,"2"]
[null,null,null,null,null,null,null,null,"2",null,null,null,null,null,"3"]
[null,null,null,null,null,null,null,null,"3",null,null,null,null,null,"1"]
[null,null,null,null,null,null,null,null,"1",null,null,null,null,null,"2"]
[null,null,null,null,null,null,null,null,"2",null,null,null,null,null,"3"]
[null,null,null,null,null,null,null,null,"3",null,null,null,null,null,"1"]
[null,null,null,null,null,null,null,null,"4",null,null,null,null,null,"1"]

{"sheet":"PJ-T","index":7,"n_rows":472,"n_cols":15,"rows_kept":472,"cut":false,"hidden":false,"merged":[[420,1,420,14],[422,2,422,5],[422,6,422,13],[424,4,424,7],[424,10,424,13],[462,1,462,14],[464,2,464,5],[464,6,464,13],[466,4,466,7],[466,10,466,13],[128,2,128,5],[128,6,128,13],[130,4,130,7],[130,10,130,13],[86,6,86,13],[210,1,210,14],[0,1,0,14],[4,4,4,7],[4,10,4,13],[42,1,42,14],[2,2,2,5],[2,6,2,13],[84,1,84,14],[86,2,86,5],[88,4,88,7],[88,10,88,13],[44,2,44,5],[44,6,44,13],[46,4,46,7],[46,10,46,13],[126,1,126,14],[168,1,168,14],[170,2,170,5],[170,6,170,13],[172,4,172,7],[172,10,172,13],[298,4,298,7],[298,10,298,13],[212,2,212,5],[212,6,212,13],[214,4,214,7],[214,10,214,13],[252,1,252,14],[254,2,254,5],[254,6,254,13],[256,4,256,7],[256,10,256,13],[294,1,294,14],[296,2,296,5],[296,6,296,13],[380,2,380,5],[380,6,380,13],[382,4,382,7],[382,10,382,13],[336,1,336,14],[338,2,338,5],[338,6,338,13],[340,4,340,7],[340,10,340,13],[378,1,378,14]]}
[null,"Běh na 100m s překážkami - Startovní listina"]
[]
[null,null,{"$f":"Start!B2","v":"VC ČR v požárním útoku družstev HZS krajů a HZS podniků"},null,null,null,{"$f":"Start!B3","v":"Petrovice 19.9.2019"}]
[]
[null,null,{"$f":"Start!$C$5","v":"MUŽI"},null,"I. pokus",null,null,null,null,null,"II. pokus"]
[null,"st.č.","Jméno","Kolektiv",1,2,3,"Čas","dr.",null,1,2,3,"Čas","dr."]
[null,1,"Kusalík Miroslav","ÚO Hodonín",null,null,null,null,"1",null,null,null,null,null,"2"]
[null,21,"Hons Lukáš","ÚO Třebíč",null,null,null,null,"2",null,null,null,null,null,"3"]
[null,31,"Rajchman Jan","ÚO Břeclav",null,null,null,null,"3",null,null,null,null,null,"1"]
[null,51,"Kubát Pavel","ÚO Havlíčkův Brod",null,null,null,null,"1",null,null,null,null,null,"2"]
[null,71,"Jocov Jaroslav","ÚO Brno - město",null,null,null,null,"2",null,null,null,null,null,"3"]
[null,81,"Hofírek Michal","ÚO Blansko",null,null,null,null,"3",null,null,null,null,null,"1"]
[null,96,"Stach Tomáš","ÚO Pelhřimov",null,null,null,null,"1",null,null,null,null,null,"2"]
[null,101,"Novotný Pavel","ÚO Brno - venkov",null,null,null,null,"2",null,null,null,null,null,"3"]
[null,111,"Dvořáček Jan","ÚO Vyškov",null,null,null,null,"3",null,null,null,null,null,"1"]
[null,2,"Synek Petr","ÚO Hodonín",null,null,null,null,"1",null,null,null,null,null,"2"]
[null,12,"Kunfürst Michal","ÚO Žďár nad Sázavou",null,null,null,null,"2",null,null,null,null,null,"3"]
[null,22,"Fila Vojtěch","ÚO Třebíč",null,null,null,null,"3",null,null,null,null,null,"1"]
[null,32,"Kachyňa Zdeněk","ÚO Břeclav",null,null,null,null,"1",null,null,null,null,null,"2"]
[null,45,"Štěpanovský Marek","ÚO Jihlava",null,null,null,null,"2",null,null,null,null,null,"3"]
[null,52,"Hajčman Martin","ÚO Havlíčkův Brod",null,null,null,null,"3",null,null,null,null,null,"1"]
[null,62,"Kaňa Jindřich","ÚO Znojmo",null,null,null,null,"1",null,null,null,null,null,"2"]
[null,72,"Medek Martin","ÚO Brno - město",null,null,null,null,"2",null,null,null,null,null,"3"]
[null,82,"Bauer Jiří","ÚO Blansko",null,null,null,null,"3",null,null,null,null,null,"1"]
[null,98,"Podhrázský Petr","ÚO Pelhřimov",null,null,null,null,"1",null,null,null,null,null,"2"]
[null,102,"Šmerek Jakub","ÚO Brno - venkov",null,null,null,null,"2",null,null,null,null,null,"3"]
[null,112,"Kavečka Marek","ÚO Vyškov",null,null,null,null,"3",null,null,null,null,null,"1"]
[null,3,"Kadara Josef","ÚO Hodonín",null,null,null,null,"1",null,null,null,null,null,"2"]
[null,13,"Ptáček Jindřich","ÚO Žďár nad Sázavou",null,null,null,null,"2",null,null,null,null,null,"3"]
[null,23,"Hnízdil Pavel","ÚO Třebíč",null,null,null,null,"3",null,null,null,null,null,"1"]
[null,33,"Celta Vojtěch","ÚO Břeclav",null,null,null,null,"1",null,null,null,null,null,"2"]
[null,41,"Pařil Jiří","ÚO Jihlava",null,null,null,null,"2",null,null,null,null,null,"3"]
[null,54,"Veselý Petr","ÚO Havlíčkův Brod",null,null,null,null,"3",null,null,null,null,null,"1"]
[null,63,"Cejpek Zdeněk","ÚO Znojmo",null,null,null,null,"1",null,null,null,null,null,"2"]
[null,73,"Daněk Lukáš","ÚO Brno - město",null,null,null,null,"2",null,null,null,null,null,"3"]
[null,83,"Kubík František","ÚO Blansko",null,null,null,null,"3",null,null,null,null,null,"1"]
[null,99,"Paulík Václav","ÚO Pelhřimov",null,null,null,null,"1",null,null,null,null,null,"2"]
[null,103,"Tinka Martin","ÚO Brno - venkov",null,null,null,null,"2",null,null,null,null,null,"3"]
[null,113,"Pospíšil Jan","ÚO Vyškov",null,null,null,null,"3",null,null,null,null,null,"1"]
[null,4,"Novák Dušan","ÚO Hodonín",null,null,null,null,"1",null,null,null,null,null,"2"]
[null,14,"Průža Jiří","ÚO Žďár nad Sázavou",null,null,null,null,"2",null,null,null,null,null,"3"]
[null,24,"Traxler Pavel","ÚO Třebíč",null,null,null,null,"3",null,null,null,null,null,"1"]
[null,{"$f":"$B$1","v":"Běh na 100m s překážkami - Startovní listina"}]
[]
[null,null,{"$f":"$C$3","v":"VC ČR v požárním útoku družstev HZS krajů a HZS podniků"},null,null,null,{"$f":"$G$3","v":"Petrovice 19.9.2019"}]
[]
[null,null,{"$f":"Start!$C$5","v":"MUŽI"},null,"I. pokus",null,null,null,null,null,"II. pokus"]
[null,"st.č.","Jméno","Kolektiv",1,2,3,"Čas","dr.",null,1,2,3,"Čas","dr."]
[null,34,"Ondráček Martin","ÚO Břeclav",null,null,null,null,"1",null,null,null,null,null,"2"]
[null,46,"Skurčák František","ÚO Jihlava",null,null,null,null,"2",null,null,null,null,null,"3"]
[null,56,"Prokeš Ondřej","ÚO Havlíčkův Brod",null,null,null,null,"3",null,null,null,null,null,"1"]
[null,64,"Hušek Dominik","ÚO Znojmo",null,null,null,null,"1",null,null,null,null,null,"2"]
[null,74,"Kalinič Marek","ÚO Brno - město",null,null,null,null,"2",null,null,null,null,null,"3"]
[null,84,"Bílek Martin","ÚO Blansko",null,null,null,null,"3",null,null,null,null,null,"1"]
[null,97,"Dvořák Martin","ÚO Pelhřimov",null,null,null,null,"1",null,null,null,null,null,"2"]
[null,104,"Šindelka Tomáš","ÚO Brno - venkov",null,null,null,null,"2",null,null,null,null,null,"3"]
[null,115,"Müller Martin","ÚO Vyškov",null,null,null,null,"3",null,null,null,null,null,"1"]
[null,5,"Svitálek Roman","ÚO Hodonín",null,null,null,null,"1",null,null,null,null,null,"2"]
[null,15,"Řehoř Radim","ÚO Žďár nad Sázavou",null,null,null,null,"2",null,null,null,null,null,"3"]
[null,25,"Slatinský Petr","ÚO Třebíč",null,null,null,null,"3",null,null,null,null,null,"1"]
[null,39,"Kaňa Jakub","ÚO Břeclav",null,null,null,null,"1",null,null,null,null,null,"2"]
[null,42,"Pařil Milan","ÚO Jihlava",null,null,null,null,"2",null,null,null,null,null,"3"]
[null,57,"Tvrdý Zdeněk","ÚO Havlíčkův Brod",null,null,null,null,"3",null,null,null,null,null,"1"]
[null,65,"Jiříkovský David","ÚO Znojmo",null,null,null,null,"1",null,null,null,null,null,"2"]
[null,75,"Kinc Michal","ÚO Brno - město",null,null,null,null,"2",null,null,null,null,null,"3"]
[null,85,"Čech Radim","ÚO Blansko",null,null,null,null,"3",null,null,null,null,null,"1"]
[null,94,"Ryšavý Vilém","ÚO Pelhřimov",null,null,null,null,"1",null,null,null,null,null,"2"]
[null,105,"Seehofner Jakub","ÚO Brno - venkov",null,null,null,null,"2",null,null,null,null,null,"3"]
[null,116,"Masař Tomáš","ÚO Vyškov",null,null,null,null,"3",null,null,null,null,null,"1"]
[null,16,"Sláma Josef","ÚO Žďár nad Sázavou",null,null,null,null,"1",null,null,null,null,null,"2"]
[null,26,"Stuchlík Martin","ÚO Třebíč",null,null,null,null,"2",null,null,null,null,null,"3"]
[null,36,"Brveník Jan","ÚO Břeclav",null,null,null,null,"3",null,null,null,null,null,"1"]
[null,47,"Štumar Michal","ÚO Jihlava",null,null,null,null,"1",null,null,null,null,null,"2"]
[null,58,"Prchal Jan","ÚO Havlíčkův Brod",null,null,null,null,"2",null,null,null,null,null,"3"]
[null,66,"Pokorný Martin","ÚO Znojmo",null,null,null,null,"3",null,null,null,null,null,"1"]
[null,76,"Klíč Miloš","ÚO Brno - město",null,null,null,null,"1",null,null,null,null,null,"2"]
[null,86,"Škaroupka Jiří","ÚO Blansko",null,null,null,null,"2",null,null,null,null,null,"3"]
[null,93,"Janko Vladimír","ÚO Pelhřimov",null,null,null,null,"3",null,null,null,null,null,"1"]
[null,106,"Antl Vladimír","ÚO Brno - venkov",null,null,null,null,"1",null,null,null,null,null,"2"]
[null,117,"Pupík Jan","ÚO Vyškov",null,null,null,null,"2",null,null,null,null,null,"3"]
[null,7,"Kudláč Lukáš","ÚO Hodonín",null,null,null,null,"3",null,null,null,null,null,"1"]
[null,17,"Špaček Marek","ÚO Žďár nad Sázavou",null,null,null,null,"1",null,null,null,null,null,"2"]
[null,27,"Čurda Aleš","ÚO Třebíč",null,null,null,null,"2",null,null,null,null,null,"3"]
[null,37,"Barát Michal","ÚO Břeclav",null,null,null,null,"3",null,null,null,null,null,"1"]
[null,{"$f":"$B$1","v":"Běh na 100m s překážkami - Startovní listina"}]
[]
[null,null,{"$f":"$C$3","v":"VC ČR v požárním útoku družstev HZS krajů a HZS podniků"},null,null,null,{"$f":"$G$3","v":"Petrovice 19.9.2019"}]
[]
[null,null,{"$f":"Start!$C$5","v":"MUŽI"},null,"I. pokus",null,null,null,null,null,"II. pokus"]
[null,"st.č.","Jméno","Kolektiv",1,2,3,"Čas","dr.",null,1,2,3,"Čas","dr."]
[null,48,"Caha Petr","ÚO Jihlava",null,null,null,null,"1",null,null,null,null,null,"2"]
[null,59,"Stehlík Ondřej","ÚO Havlíčkův Brod",null,null,null,null,"2",null,null,null,null,null,"3"]
[null,67,"Sarga Aleš","ÚO Znojmo",null,null,null,null,"3",null,null,null,null,null,"1"]
[null,77,"Minařík David","ÚO Brno - město",null,null,null,null,"1",null,null,null,null,null,"2"]
[null,87,"Zhoř Jaroslav","ÚO Blansko",null,null,null,null,"2",null,null,null,null,null,"3"]
[null,107,"Šlachta Roman","ÚO Brno - venkov",null,null,null,null,"3",null,null,null,null,null,"1"]
[null,118,"Jeřábek Martin","ÚO Vyškov",null,null,null,null,"1",null,null,null,null,null,"2"]
[null,8,"Slavík Martin","ÚO Hodonín",null,null,null,null,"2",null,null,null,null,null,"3"]
[null,18,"Škapa Miroslav","ÚO Žďár nad Sázavou",null,null,null,null,"3",null,null,null,null,null,"1"]
[null,28,"Urbánek Pavel","ÚO Třebíč",null,null,null,null,"1",null,null,null,null,null,"2"]
[null,38,"Pospíšil Karel","ÚO Břeclav",null,null,null,null,"2",null,null,null,null,null,"3"]
[null,78,"Gargula Josef","ÚO Brno - město",null,null,null,null,"3",null,null,null,null,null,"1"]
[null,89,"Pěnča Josef","ÚO Blansko",null,null,null,null,"1",null,null,null,null,null,"2"]
[null,108,"Podloučka Pavel","ÚO Brno - venkov",null,null,null,null,"2",null,null,null,null,null,"3"]
[null,119,"Rajci Miroslav","ÚO Vyškov",null,null,null,null,"3",null,null,null,null,null,"1"]
[null,null,null,null,null,null,null,null,"1",null,null,null,null,null,"2"]
[null,null,null,null,null,null,null,null,"2",null,null,null,null,null,"3"]
[null,null,null,null,null,null,null,null,"3",null,null,null,null,null,"1"]
[null,null,null,null,null,null,null,null,"1",null,null,null,null,null,"2"]
[null,null,null,null,null,null,null,null,"2",null,null,null,null,null,"3"]
[null,null,null,null,null,null,null,null,"3",null,null,null,null,null,"1"]
[null,null,null,null,null,null,null,null,"1",null,null,null,null,null,"2"]
[null,null,null,null,null,null,null,null,"2",null,null,null,null,null,"3"]
[null,null,null,null,null,null,null,null,"3",null,null,null,null,null,"1"]
[null,null,null,null,null,null,null,null,"1",null,null,null,null,null,"2"]
[null,null,null,null,null,null,null,null,"2",null,null,null,null,null,"3"]
[null,null,null,null,null,null,null,null,"3",null,null,null,null,null,"1"]
[null,null,null,null,null,null,null,null,"1",null,null,null,null,null,"2"]
[null,null,null,null,null,null,null,null,"2",null,null,null,null,null,"3"]
[null,null,null,null,null,null,null,null,"3",null,null,null,null,null,"1"]
[null,null,null,null,null,null,null,null,"1",null,null,null,null,null,"2"]
[null,null,null,null,null,null,null,null,"2",null,null,null,null,null,"3"]
[null,null,null,null,null,null,null,null,"3",null,null,null,null,null,"1"]
[null,null,null,null,null,null,null,null,"1",null,null,null,null,null,"2"]
[null,null,null,null,null,null,null,null,"2",null,null,null,null,null,"3"]
[null,null,null,null,null,null,null,null,"3",null,null,null,null,null,"1"]
[null,{"$f":"$B$1","v":"Běh na 100m s překážkami - Startovní listina"}]
[]
[null,null,{"$f":"$C$3","v":"VC ČR v požárním útoku družstev HZS krajů a HZS podniků"},null,null,null,{"$f":"$G$3","v":"Petrovice 19.9.2019"}]
[]
[null,null,{"$f":"Start!$C$5","v":"MUŽI"},null,"I. pokus",null,null,null,null,null,"II. pokus"]
[null,"st.č.","Jméno","Kolektiv",1,2,3,"Čas","dr.",null,1,2,3,"Čas","dr."]
[null,null,null,null,null,null,null,null,"1",null,null,null,null,null,"2"]
[null,null,null,null,null,null,null,null,"2",null,null,null,null,null,"3"]
[null,null,null,null,null,null,null,null,"3",null,null,null,null,null,"1"]
[null,null,null,null,null,null,null,null,"1",null,null,null,null,null,"2"]
[null,null,null,null,null,null,null,null,"2",null,null,null,null,null,"3"]
[null,null,null,null,null,null,null,null,"3",null,null,null,null,null,"1"]
[null,null,null,null,null,null,null,null,"1",null,null,null,null,null,"2"]
[null,null,null,null,null,null,null,null,"2",null,null,null,null,null,"3"]
[null,null,null,null,null,null,null,null,"3",null,null,null,null,null,"1"]
[null,null,null,null,null,null,null,null,"1",null,null,null,null,null,"2"]
[null,null,null,null,null,null,null,null,"2",null,null,null,null,null,"3"]
[null,null,null,null,null,null,null,null,"3",null,null,null,null,null,"1"]
[null,null,null,null,null,null,null,null,"1",null,null,null,null,null,"2"]
[null,null,null,null,null,null,null,null,"2",null,null,null,null,null,"3"]
[null,null,null,null,null,null,null,null,"3",null,null,null,null,null,"1"]
[null,null,null,null,null,null,null,null,"1",null,null,null,null,null,"2"]
[null,null,null,null,null,null,null,null,"2",null,null,null,null,null,"3"]
[null,null,null,null,null,null,null,null,"3",null,null,null,null,null,"1"]
[null,null,null,null,null,null,null,null,"1",null,null,null,null,null,"2"]
[null,null,null,null,null,null,null,null,"2",null,null,null,null,null,"3"]
[null,null,null,null,null,null,null,null,"3",null,null,null,null,null,"1"]
[null,null,null,null,null,null,null,null,"1",null,null,null,null,null,"2"]
[null,null,null,null,null,null,null,null,"2",null,null,null,null,null,"3"]
[null,null,null,null,null,null,null,null,"3",null,null,null,null,null,"1"]
[null,null,null,null,null,null,null,null,"1",null,null,null,null,null,"2"]
[null,null,null,null,null,null,null,null,"2",null,null,null,null,null,"3"]
[null,null,null,null,null,null,null,null,"3",null,null,null,null,null,"1"]
[null,null,null,null,null,null,null,null,"1",null,null,null,null,null,"2"]
[null,null,null,null,null,null,null,null,"2",null,null,null,null,null,"3"]
[null,null,null,null,null,null,null,null,"3",null,null,null,null,null,"1"]
[null,null,null,null,null,null,null,null,"1",null,null,null,null,null,"2"]
[null,null,null,null,null,null,null,null,"2",null,null,null,null,null,"3"]
[null,null,null,null,null,null,null,null,"3",null,null,null,null,null,"1"]
[null,null,null,null,null,null,null,null,"1",null,null,null,null,null,"2"]
[null,null,null,null,null,null,null,null,"2",null,null,null,null,null,"3"]
[null,null,null,null,null,null,null,null,"3",null,null,null,null,null,"1"]
[null,{"$f":"$B$1","v":"Běh na 100m s překážkami - Startovní listina"}]
[]
[null,null,{"$f":"$C$3","v":"VC ČR v požárním útoku družstev HZS krajů a HZS podniků"},null,null,null,{"$f":"$G$3","v":"Petrovice 19.9.2019"}]
[]
[null,null,{"$f":"Start!$C$5","v":"MUŽI"},null,"I. pokus",null,null,null,null,null,"II. pokus"]
[null,"st.č.","Jméno","Kolektiv",1,2,3,"Čas","dr.",null,1,2,3,"Čas","dr."]
[null,null,null,null,null,null,null,null,"1",null,null,null,null,null,"2"]
[null,null,null,null,null,null,null,null,"2",null,null,null,null,null,"3"]
[null,null,null,null,null,null,null,null,"3",null,null,null,null,null,"1"]
[null,null,null,null,null,null,null,null,"1",null,null,null,null,null,"2"]
[null,null,null,null,null,null,null,null,"2",null,null,null,null,null,"3"]
[null,null,null,null,null,null,null,null,"3",null,null,null,null,null,"1"]
[null,null,null,null,null,null,null,null,"1",null,null,null,null,null,"2"]
[null,null,null,null,null,null,null,null,"2",null,null,null,null,null,"3"]
[null,null,null,null,null,null,null,null,"3",null,null,null,null,null,"1"]
[null,null,null,null,null,null,null,null,"1",null,null,null,null,null,"2"]
[null,null,null,null,null,null,null,null,"2",null,null,null,null,null,"3"]
[null,null,null,null,null,null,null,null,"3",null,null,null,null,null,"1"]
[null,null,null,null,null,null,null,null,"1",null,null,null,null,null,"2"]
[null,null,null,null,null,null,null,null,"2",null,null,null,null,null,"3"]
[null,null,null,null,null,null,null,null,"3",null,null,null,null,null,"1"]
[null,null,null,null,null,null,null,null,"1",null,null,null,null,null,"2"]
[null,null,null,null,null,null,null,null,"2",null,null,null,null,null,"3"]
[null,null,null,null,null,null,null,null,"3",null,null,null,null,null,"1"]
[null,null,null,null,null,null,null,null,"1",null,null,null,null,null,"2"]
[null,null,null,null,null,null,null,null,"2",null,null,null,null,null,"3"]
[null,null,null,null,null,null,null,null,"3",null,null,null,null,null,"1"]
[null,null,null,null,null,null,null,null,"1",null,null,null,null,null,"2"]
[null,null,null,null,null,null,null,null,"2",null,null,null,null,null,"3"]
[null,null,null,null,null,null,null,null,"3",null,null,null,null,null,"1"]
[null,null,null,null,null,null,null,null,"1",null,null,null,null,null,"2"]
[null,null,null,null,null,null,null,null,"2",null,null,null,null,null,"3"]
[null,null,null,null,null,null,null,null,"3",null,null,null,null,null,"1"]
[null,null,null,null,null,null,null,null,"1",null,null,null,null,null,"2"]
[null,null,null,null,null,null,null,null,"2",null,null,null,null,null,"3"]
[null,null,null,null,null,null,null,null,"3",null,null,null,null,null,"1"]
[null,null,null,null,null,null,null,null,"1",null,null,null,null,null,"2"]
[null,null,null,null,null,null,null,null,"2",null,null,null,null,null,"3"]
[null,null,null,null,null,null,null,null,"3",null,null,null,null,null,"1"]
[null,null,null,null,null,null,null,null,"1",null,null,null,null,null,"2"]
[null,null,null,null,null,null,null,null,"2",null,null,null,null,null,"3"]
[null,null,null,null,null,null,null,null,"3",null,null,null,null,null,"1"]
[null,{"$f":"$B$1","v":"Běh na 100m s překážkami - Startovní listina"}]
[]
[null,null,{"$f":"$C$3","v":"VC ČR v požárním útoku družstev HZS krajů a HZS podniků"},null,null,null,{"$f":"$G$3","v":"Petrovice 19.9.2019"}]
[]
[null,null,{"$f":"Start!$C$5","v":"MUŽI"},null,"I. pokus",null,null,null,null,null,"II. pokus"]
[null,"st.č.","Jméno","Kolektiv",1,2,3,"Čas","dr.",null,1,2,3,"Čas","dr."]
[null,null,null,null,null,null,null,null,"1",null,null,null,null,null,"2"]
[null,null,null,null,null,null,null,null,"2",null,null,null,null,null,"3"]
[null,null,null,null,null,null,null,null,"3",null,null,null,null,null,"1"]
[null,null,null,null,null,null,null,null,"1",null,null,null,null,null,"2"]
[null,null,null,null,null,null,null,null,"2",null,null,null,null,null,"3"]
[null,null,null,null,null,null,null,null,"3",null,null,null,null,null,"1"]
[null,null,null,null,null,null,null,null,"1",null,null,null,null,null,"2"]
[null,null,null,null,null,null,null,null,"2",null,null,null,null,null,"3"]
[null,null,null,null,null,null,null,null,"3",null,null,null,null,null,"1"]
[null,null,null,null,null,null,null,null,"1",null,null,null,null,null,"2"]
[null,null,null,null,null,null,null,null,"2",null,null,null,null,null,"3"]
[null,null,null,null,null,null,null,null,"3",null,null,null,null,null,"1"]
[null,null,null,null,null,null,null,null,"1",null,null,null,null,null,"2"]
[null,null,null,null,null,null,null,null,"2",null,null,null,null,null,"3"]
[null,null,null,null,null,null,null,null,"3",null,null,null,null,null,"1"]
[null,null,null,null,null,null,null,null,"1",null,null,null,null,null,"2"]
[null,null,null,null,null,null,null,null,"2",null,null,null,null,null,"3"]
[null,null,null,null,null,null,null,null,"3",null,null,null,null,null,"1"]
[null,null,null,null,null,null,null,null,"1",null,null,null,null,null,"2"]
[null,null,null,null,null,null,null,null,"2",null,null,null,null,null,"3"]
[null,null,null,null,null,null,null,null,"3",null,null,null,null,null,"1"]
[null,null,null,null,null,null,null,null,"1",null,null,null,null,null,"2"]
[null,null,null,null,null,null,null,null,"2",null,null,null,null,null,"3"]
[null,null,null,null,null,null,null,null,"3",null,null,null,null,null,"1"]
[null,null,null,null,null,null,null,null,"1",null,null,null,null,null,"2"]
[null,null,null,null,null,null,null,null,"2",null,null,null,null,null,"3"]
[null,null,null,null,null,null,null,null,"3",null,null,null,null,null,"1"]
[null,null,null,null,null,null,null,null,"1",null,null,null,null,null,"2"]
[null,null,null,null,null,null,null,null,"2",null,null,null,null,null,"3"]
[null,null,null,null,null,null,null,null,"3",null,null,null,null,null,"1"]
[null,null,null,null,null,null,null,null,"1",null,null,null,null,null,"2"]
[null,null,null,null,null,null,null,null,"2",null,null,null,null,null,"3"]
[null,null,null,null,null,null,null,null,"3",null,null,null,null,null,"1"]
[null,null,null,null,null,null,null,null,"1",null,null,null,null,null,"2"]
[null,null,null,null,null,null,null,null,"2",null,null,null,null,null,"3"]
[null,null,null,null,null,null,null,null,"3",null,null,null,null,null,"1"]
[null,{"$f":"$B$1","v":"Běh na 100m s překážkami - Startovní listina"}]
[]
[null,null,{"$f":"$C$3","v":"VC ČR v požárním útoku družstev HZS krajů a HZS podniků"},null,null,null,{"$f":"$G$3","v":"Petrovice 19.9.2019"}]
[]
[null,null,{"$f":"Start!$C$5","v":"MUŽI"},null,"I. pokus",null,null,null,null,null,"II. pokus"]
[null,"st.č.","Jméno","Kolektiv",1,2,3,"Čas","dr.",null,1,2,3,"Čas","dr."]
[null,null,null,null,null,null,null,null,"1",null,null,null,null,null,"2"]
[null,null,null,null,null,null,null,null,"2",null,null,null,null,null,"3"]
[null,null,null,null,null,null,null,null,"3",null,null,null,null,null,"1"]
[null,null,null,null,null,null,null,null,"1",null,null,null,null,null,"2"]
[null,null,null,null,null,null,null,null,"2",null,null,null,null,null,"3"]
[null,null,null,null,null,null,null,null,"3",null,null,null,null,null,"1"]
[null,null,null,null,null,null,null,null,"1",null,null,null,null,null,"2"]
[null,null,null,null,null,null,null,null,"2",null,null,null,null,null,"3"]
[null,null,null,null,null,null,null,null,"3",null,null,null,null,null,"1"]
[null,null,null,null,null,null,null,null,"1",null,null,null,null,null,"2"]
[null,null,null,null,null,null,null,null,"2",null,null,null,null,null,"3"]
[null,null,null,null,null,null,null,null,"3",null,null,null,null,null,"1"]
[null,null,null,null,null,null,null,null,"1",null,null,null,null,null,"2"]
[null,null,null,null,null,null,null,null,"2",null,null,null,null,null,"3"]
[null,null,null,null,null,null,null,null,"3",null,null,null,null,null,"1"]
[null,null,null,null,null,null,null,null,"1",null,null,null,null,null,"2"]
[null,null,null,null,null,null,null,null,"2",null,null,null,null,null,"3"]
[null,null,null,null,null,null,null,null,"3",null,null,null,null,null,"1"]
[null,null,null,null,null,null,null,null,"1",null,null,null,null,null,"2"]
[null,null,null,null,null,null,null,null,"2",null,null,null,null,null,"3"]
[null,null,null,null,null,null,null,null,"3",null,null,null,null,null,"1"]
[null,null,null,null,null,null,null,null,"1",null,null,null,null,null,"2"]
[null,null,null,null,null,null,null,null,"2",null,null,null,null,null,"3"]
[null,null,null,null,null,null,null,null,"3",null,null,null,null,null,"1"]
[null,null,null,null,null,null,null,null,"1",null,null,null,null,null,"2"]
[null,null,null,null,null,null,null,null,"2",null,null,null,null,null,"3"]
[null,null,null,null,null,null,null,null,"3",null,null,null,null,null,"1"]
[null,null,null,null,null,null,null,null,"1",null,null,null,null,null,"2"]
[null,null,null,null,null,null,null,null,"2",null,null,null,null,null,"3"]
[null,null,null,null,null,null,null,null,"3",null,null,null,null,null,"1"]
[null,null,null,null,null,null,null,null,"1",null,null,null,null,null,"2"]
[null,null,null,null,null,null,null,null,"2",null,null,null,null,null,"3"]
[null,null,null,null,null,null,null,null,"3",null,null,null,null,null,"1"]
[null,null,null,null,null,null,null,null,"1",null,null,null,null,null,"2"]
[null,null,null,null,null,null,null,null,"2",null,null,null,null,null,"3"]
[null,null,null,null,null,null,null,null,"3",null,null,null,null,null,"1"]
[null,{"$f":"$B$1","v":"Běh na 100m s překážkami - Startovní listina"}]
[]
[null,null,{"$f":"$C$3","v":"VC ČR v požárním útoku družstev HZS krajů a HZS podniků"},null,null,null,{"$f":"$G$3","v":"Petrovice 19.9.2019"}]
[]
[null,null,{"$f":"Start!$C$5","v":"MUŽI"},null,"I. pokus",null,null,null,null,null,"II. pokus"]
[null,"st.č.","Jméno","Kolektiv",1,2,3,"Čas","dr.",null,1,2,3,"Čas","dr."]
[null,null,null,null,null,null,null,null,"1",null,null,null,null,null,"2"]
[null,null,null,null,null,null,null,null,"2",null,null,null,null,null,"3"]
[null,null,null,null,null,null,null,null,"3",null,null,null,null,null,"1"]
[null,null,null,null,null,null,null,null,"1",null,null,null,null,null,"2"]
[null,null,null,null,null,null,null,null,"2",null,null,null,null,null,"3"]
[null,null,null,null,null,null,null,null,"3",null,null,null,null,null,"1"]
[null,null,null,null,null,null,null,null,"1",null,null,null,null,null,"2"]
[null,null,null,null,null,null,null,null,"2",null,null,null,null,null,"3"]
[null,null,null,null,null,null,null,null,"3",null,null,null,null,null,"1"]
[null,null,null,null,null,null,null,null,"1",null,null,null,null,null,"2"]
[null,null,null,null,null,null,null,null,"2",null,null,null,null,null,"3"]
[null,null,null,null,null,null,null,null,"3",null,null,null,null,null,"1"]
[null,null,null,null,null,null,null,null,"1",null,null,null,null,null,"2"]
[null,null,null,null,null,null,null,null,"2",null,null,null,null,null,"3"]
[null,null,null,null,null,null,null,null,"3",null,null,null,null,null,"1"]
[null,null,null,null,null,null,null,null,"1",null,null,null,null,null,"2"]
[null,null,null,null,null,null,null,null,"2",null,null,null,null,null,"3"]
[null,null,null,null,null,null,null,null,"3",null,null,null,null,null,"1"]
[null,null,null,null,null,null,null,null,"1",null,null,null,null,null,"2"]
[null,null,null,null,null,null,null,null,"2",null,null,null,null,null,"3"]
[null,null,null,null,null,null,null,null,"3",null,null,null,null,null,"1"]
[null,null,null,null,null,null,null,null,"1",null,null,null,null,null,"2"]
[null,null,null,null,null,null,null,null,"2",null,null,null,null,null,"3"]
[null,null,null,null,null,null,null,null,"3",null,null,null,null,null,"1"]
[null,null,null,null,null,null,null,null,"1",null,null,null,null,null,"2"]
[null,null,null,null,null,null,null,null,"2",null,null,null,null,null,"3"]
[null,null,null,null,null,null,null,null,"3",null,null,null,null,null,"1"]
[null,null,null,null,null,null,null,null,"1",null,null,null,null,null,"2"]
[null,null,null,null,null,null,null,null,"2",null,null,null,null,null,"3"]
[null,null,null,null,null,null,null,null,"3",null,null,null,null,null,"1"]
[null,null,null,null,null,null,null,null,"1",null,null,null,null,null,"2"]
[null,null,null,null,null,null,null,null,"2",null,null,null,null,null,"3"]
[null,null,null,null,null,null,null,null,"3",null,null,null,null,null,"1"]
[null,null,null,null,null,null,null,null,"1",null,null,null,null,null,"2"]
[null,null,null,null,null,null,null,null,"2",null,null,null,null,null,"3"]
[null,null,null,null,null,null,null,null,"3",null,null,null,null,null,"1"]
[null,{"$f":"$B$1","v":"Běh na 100m s překážkami - Startovní listina"}]
[]
[null,null,{"$f":"$C$3","v":"VC ČR v požárním útoku družstev HZS krajů a HZS podniků"},null,null,null,{"$f":"$G$3","v":"Petrovice 19.9.2019"}]
[]
[null,null,{"$f":"Start!$C$5","v":"MUŽI"},null,"I. pokus",null,null,null,null,null,"II. pokus"]
[null,"st.č.","Jméno","Kolektiv",1,2,3,"Čas","dr.",null,1,2,3,"Čas","dr."]
[null,null,null,null,null,null,null,null,"1",null,null,null,null,null,"2"]
[null,null,null,null,null,null,null,null,"2",null,null,null,null,null,"3"]
[null,null,null,null,null,null,null,null,"3",null,null,null,null,null,"1"]
[null,null,null,null,null,null,null,null,"1",null,null,null,null,null,"2"]
[null,null,null,null,null,null,null,null,"2",null,null,null,null,null,"3"]
[null,null,null,null,null,null,null,null,"3",null,null,null,null,null,"1"]
[null,null,null,null,null,null,null,null,"1",null,null,null,null,null,"2"]
[null,null,null,null,null,null,null,null,"2",null,null,null,null,null,"3"]
[null,null,null,null,null,null,null,null,"3",null,null,null,null,null,"1"]
[null,null,null,null,null,null,null,null,"1",null,null,null,null,null,"2"]
[null,null,null,null,null,null,null,null,"2",null,null,null,null,null,"3"]
[null,null,null,null,null,null,null,null,"3",null,null,null,null,null,"1"]
[null,null,null,null,null,null,null,null,"1",null,null,null,null,null,"2"]
[null,null,null,null,null,null,null,null,"2",null,null,null,null,null,"3"]
[null,null,null,null,null,null,null,null,"3",null,null,null,null,null,"1"]
[null,null,null,null,null,null,null,null,"1",null,null,null,null,null,"2"]
[null,null,null,null,null,null,null,null,"2",null,null,null,null,null,"3"]
[null,null,null,null,null,null,null,null,"3",null,null,null,null,null,"1"]
[null,null,null,null,null,null,null,null,"1",null,null,null,null,null,"2"]
[null,null,null,null,null,null,null,null,"2",null,null,null,null,null,"3"]
[null,null,null,null,null,null,null,null,"3",null,null,null,null,null,"1"]
[null,null,null,null,null,null,null,null,"1",null,null,null,null,null,"2"]
[null,null,null,null,null,null,null,null,"2",null,null,null,null,null,"3"]
[null,null,null,null,null,null,null,null,"3",null,null,null,null,null,"1"]
[null,null,null,null,null,null,null,null,"1",null,null,null,null,null,"2"]
[null,null,null,null,null,null,null,null,"2",null,null,null,null,null,"3"]
[null,null,null,null,null,null,null,null,"3",null,null,null,null,null,"1"]
[null,null,null,null,null,null,null,null,"1",null,null,null,null,null,"2"]
[null,null,null,null,null,null,null,null,"2",null,null,null,null,null,"3"]
[null,null,null,null,null,null,null,null,"3",null,null,null,null,null,"1"]
[null,null,null,null,null,null,null,null,"1",null,null,null,null,null,"2"]
[null,null,null,null,null,null,null,null,"2",null,null,null,null,null,"3"]
[null,null,null,null,null,null,null,null,"3",null,null,null,null,null,"1"]
[null,null,null,null,null,null,null,null,"1",null,null,null,null,null,"2"]
[null,null,null,null,null,null,null,null,"2",null,null,null,null,null,"3"]
[null,null,null,null,null,null,null,null,"3",null,null,null,null,null,"1"]
[null,{"$f":"$B$1","v":"Běh na 100m s překážkami - Startovní listina"}]
[]
[null,null,{"$f":"$C$3","v":"VC ČR v požárním útoku družstev HZS krajů a HZS podniků"},null,null,null,{"$f":"$G$3","v":"Petrovice 19.9.2019"}]
[]
[null,null,{"$f":"Start!$C$5","v":"MUŽI"},null,"I. pokus",null,null,null,null,null,"II. pokus"]
[null,"st.č.","Jméno","Kolektiv",1,2,3,"Čas","dr.",null,1,2,3,"Čas","dr."]
[null,null,null,null,null,null,null,null,"1",null,null,null,null,null,"2"]
[null,null,null,null,null,null,null,null,"2",null,null,null,null,null,"3"]
[null,null,null,null,null,null,null,null,"3",null,null,null,null,null,"1"]
[null,null,null,null,null,null,null,null,"1",null,null,null,null,null,"2"]
[null,null,null,null,null,null,null,null,"2",null,null,null,null,null,"3"]
[null,null,null,null,null,null,null,null,"3",null,null,null,null,null,"1"]
[null,null,null,null,null,null,null,null,"1",null,null,null,null,null,"2"]
[null,null,null,null,null,null,null,null,"2",null,null,null,null,null,"3"]
[null,null,null,null,null,null,null,null,"3",null,null,null,null,null,"1"]
[null,null,null,null,null,null,null,null,"1",null,null,null,null,null,"2"]
[null,null,null,null,null,null,null,null,"2",null,null,null,null,null,"3"]
[null,null,null,null,null,null,null,null,"3",null,null,null,null,null,"1"]
[null,null,null,null,null,null,null,null,"1",null,null,null,null,null,"2"]
[null,null,null,null,null,null,null,null,"2",null,null,null,null,null,"3"]
[null,null,null,null,null,null,null,null,"3",null,null,null,null,null,"1"]
[null,null,null,null,null,null,null,null,"1",null,null,null,null,null,"2"]
[null,null,null,null,null,null,null,null,"2",null,null,null,null,null,"3"]
[null,null,null,null,null,null,null,null,"3",null,null,null,null,null,"1"]
[null,null,null,null,null,null,null,null,"1",null,null,null,null,null,"2"]
[null,null,null,null,null,null,null,null,"2",null,null,null,null,null,"3"]
[null,null,null,null,null,null,null,null,"3",null,null,null,null,null,"1"]
[null,null,null,null,null,null,null,null,"1",null,null,null,null,null,"2"]
[null,null,null,null,null,null,null,null,"2",null,null,null,null,null,"3"]
[null,null,null,null,null,null,null,null,"3",null,null,null,null,null,"1"]
[null,null,null,null,null,null,null,null,"1",null,null,null,null,null,"2"]
[null,null,null,null,null,null,null,null,"2",null,null,null,null,null,"3"]
[null,null,null,null,null,null,null,null,"3",null,null,null,null,null,"1"]
[null,null,null,null,null,null,null,null,"1",null,null,null,null,null,"2"]
[null,null,null,null,null,null,null,null,"2",null,null,null,null,null,"3"]
[null,null,null,null,null,null,null,null,"3",null,null,null,null,null,"1"]
[null,null,null,null,null,null,null,null,"1",null,null,null,null,null,"2"]
[null,null,null,null,null,null,null,null,"2",null,null,null,null,null,"3"]
[null,null,null,null,null,null,null,null,"3",null,null,null,null,null,"1"]
[null,null,null,null,null,null,null,null,"1",null,null,null,null,null,"2"]
[null,null,null,null,null,null,null,null,"2",null,null,null,null,null,"3"]
[null,null,null,null,null,null,null,null,"3",null,null,null,null,null,"1"]
[null,{"$f":"$B$1","v":"Běh na 100m s překážkami - Startovní listina"}]
[]
[null,null,{"$f":"$C$3","v":"VC ČR v požárním útoku družstev HZS krajů a HZS podniků"},null,null,null,{"$f":"$G$3","v":"Petrovice 19.9.2019"}]
[]
[null,null,{"$f":"Start!$C$5","v":"MUŽI"},null,"I. pokus",null,null,null,null,null,"II. pokus"]
[null,"st.č.","Jméno","Kolektiv",1,2,3,"Čas","dr.",null,1,2,3,"Čas","dr."]
[null,null,null,null,null,null,null,null,"1",null,null,null,null,null,"2"]
[null,null,null,null,null,null,null,null,"2",null,null,null,null,null,"3"]
[null,null,null,null,null,null,null,null,"3",null,null,null,null,null,"1"]
[null,null,null,null,null,null,null,null,"1",null,null,null,null,null,"2"]
[null,null,null,null,null,null,null,null,"2",null,null,null,null,null,"3"]
[null,null,null,null,null,null,null,null,"3",null,null,null,null,null,"1"]
[null,null,null,null,null,null,null,null,"1",null,null,null,null,null,"2"]
[null,null,null,null,null,null,null,null,"2",null,null,null,null,null,"3"]
[null,null,null,null,null,null,null,null,"3",null,null,null,null,null,"1"]
[null,null,null,null,null,null,null,null,"1",null,null,null,null,null,"2"]
[null,null,null,null,null,null,null,null,"2",null,null,null,null,null,"3"]
[null,null,null,null,null,null,null,null,"3",null,null,null,null,null,"1"]
[null,null,null,null,null,null,null,null,"1",null,null,null,null,null,"2"]
[null,null,null,null,null,null,null,null,"2",null,null,null,null,null,"3"]
[null,null,null,null,null,null,null,null,"3",null,null,null,null,null,"1"]
[null,null,null,null,null,null,null,null,"1",null,null,null,null,null,"2"]
[null,null,null,null,null,null,null,null,"2",null,null,null,null,null,"3"]
[null,null,null,null,null,null,null,null,"3",null,null,null,null,null,"1"]
[null,null,null,null,null,null,null,null,"1",null,null,null,null,null,"2"]
[null,null,null,null,null,null,null,null,"2",null,null,null,null,null,"3"]
[null,null,null,null,null,null,null,null,"3",null,null,null,null,null,"1"]
[null,null,null,null,null,null,null,null,"1",null,null,null,null,null,"2"]
[null,null,null,null,null,null,null,null,"2",null,null,null,null,null,"3"]
[null,null,null,null,null,null,null,null,"3",null,null,null,null,null,"1"]
[null,null,null,null,null,null,null,null,"1",null,null,null,null,null,"2"]
[null,null,null,null,null,null,null,null,"2",null,null,null,null,null,"3"]
[null,null,null,null,null,null,null,null,"3",null,null,null,null,null,"1"]
[null,null,null,null,null,null,null,null,"1",null,null,null,null,null,"2"]
[null,null,null,null,null,null,null,null,"2",null,null,null,null,null,"3"]
[null,null,null,null,null,null,null,null,"3",null,null,null,null,null,"1"]
[null,null,null,null,null,null,null,null,"1",null,null,null,null,null,"2"]
[null,null,null,null,null,null,null,null,"2",null,null,null,null,null,"3"]
[null,null,null,null,null,null,null,null,"3",null,null,null,null,null,"1"]
[null,null,null,null,null,null,null,null,"1",null,null,null,null,null,"2"]
[null,null,null,null,null,null,null,null,"2",null,null,null,null,null,"3"]
[null,null,null,null,null,null,null,null,"3",null,null,null,null,null,"1"]
[null,{"$f":"$B$1","v":"Běh na 100m s překážkami - Startovní listina"}]
[]
[null,null,{"$f":"$C$3","v":"VC ČR v požárním útoku družstev HZS krajů a HZS podniků"},null,null,null,{"$f":"$G$3","v":"Petrovice 19.9.2019"}]
[]
[null,null,{"$f":"Start!$C$5","v":"MUŽI"},null,"I. pokus",null,null,null,null,null,"II. pokus"]
[null,"st.č.","Jméno","Kolektiv",1,2,3,"Čas","dr.",null,1,2,3,"Čas","dr."]
[null,null,null,null,null,null,null,null,"1",null,null,null,null,null,"2"]
[null,null,null,null,null,null,null,null,"2",null,null,null,null,null,"3"]
[null,null,null,null,null,null,null,null,"3",null,null,null,null,null,"1"]
[null,null,null,null,null,null,null,null,"4",null,null,null,null,null,"1"]

{"sheet":"PJ-V","index":8,"n_rows":404,"n_cols":21,"rows_kept":404,"cut":false,"hidden":false,"merged":[[2,4,2,7],[2,9,2,12],[0,1,0,14]]}
[null,"Běh na 100m s překážkami - Zadání výsledků"]
[]
[null,null,{"$f":"Start!$C$5","v":"MUŽI"},null,"I.",null,null,null,null,"II."]
[null,"St.č.","Jméno","kolektiv",1,2,3,"Čas",null,1,2,3,"Čas",null,"C.",null,"P.",null,"B.",null,"X."]
[null,{"$f":"IF(J100m!E1=\"\",\"\",J100m!E1)","v":1},{"$f":"IF(AND(J100m!A1=\"\",J100m!B1<>\"\"),\"\",IF(AND(J100m!A1=\"\",J100m!B1=\"\"),\"\",J100m!A1))","v":"Kusalík Miroslav"},{"$f":"IF(C5=\"\",\"\",J100m!B1)","v":"ÚO Hodonín"},null,null,null,{"$f":"IF($C5=\"\",\"\",IF(OR($E5=\"DNF\",$F5=\"DNF\",$G5=\"DNF\",AND($E5=\"\",$F5=\"\",$G5=\"\")),\"DNF\",IF(OR($E5=\"NP\",$F5=\"NP\",$G5=\"NP\"),\"NP\",IF(ISERROR(MEDIAN($E5:$G5)),\"DNF\",IF(OR($E5=\"X\",$F5=\"X\",$G5=\"X\",$E5=\"\",$F5=\"\",$G5=\"\",$E5=\"x\",$F5=\"x\",$G5=\"x\"),MAX($E5:$G5),MEDIAN($E5:$G5))))))","v":"DNF"},null,null,null,null,{"$f":"IF($C5=\"\",\"\",IF(OR($J5=\"DNF\",$K5=\"DNF\",$L5=\"DNF\",AND($J5=\"\",$K5=\"\",$L5=\"\")),\"DNF\",IF(OR($J5=\"NP\",$K5=\"NP\",$L5=\"NP\"),\"NP\",IF(ISERROR(MEDIAN($J5:$L5)),\"DNF\",IF(OR($J5=\"X\",$K5=\"X\",$L5=\"X\",$J5=\"\",$K5=\"\",$L5=\"\",$J5=\"x\",$K5=\"x\",$L5=\"x\"),MAX($J5:$L5),MEDIAN($J5:$L5))))))","v":"DNF"},null,{"$f":"IF(C5=\"\",\"\",IF(OR(AND(H5=\"NP\",M5=\"NP\"),AND(H5=\"DNF\",M5=\"DNF\")),H5,IF(AND(H5=\"NP\",M5=\"DNF\"),H5,IF(AND(H5=\"DNF\",M5=\"NP\"),M5,MIN(H5,M5)))))","v":"DNF"},null,{"$f":"IF(C5=\"\",\"\",IF(OR(O5=\"NP\",O5=\"DNF\"),O5,RANK(O5,O$5:O$404,1)))","v":"DNF"},null,{"$f":"IF(C5=\"\",\"\",IF(O5=\"NP\",MAX(Q$5:Q$404)+1,IF(O5=\"DNF\",MAX(Q$5:Q$404)+COUNTIF(Q$5:Q$404,\"NP\")+1,RANK(O5,O$5:O$404,1))))","v":1},null,{"$f":"IF($C5=\"\",9000,MAX(H5,M5)+(COUNTIF($H5:$H5,\"NP\")*600)+(COUNTIF($M5:$M5,\"NP\")*600)+(COUNTIF($H5:$H5,\"DNF\")*3600)+(COUNTIF($M5:$M5,\"DNF\")*3600))","v":7200}]
[null,{"$f":"IF(J100m!E2=\"\",\"\",J100m!E2)","v":""},{"$f":"IF(AND(J100m!A2=\"\",J100m!B2<>\"\"),\"\",IF(AND(J100m!A2=\"\",J100m!B2=\"\"),\"\",J100m!A2))","v":""},{"$f":"IF(C6=\"\",\"\",J100m!B2)","v":""},null,null,null,{"$f":"IF($C6=\"\",\"\",IF(OR($E6=\"DNF\",$F6=\"DNF\",$G6=\"DNF\",AND($E6=\"\",$F6=\"\",$G6=\"\")),\"DNF\",IF(OR($E6=\"NP\",$F6=\"NP\",$G6=\"NP\"),\"NP\",IF(ISERROR(MEDIAN($E6:$G6)),\"DNF\",IF(OR($E6=\"X\",$F6=\"X\",$G6=\"X\",$E6=\"\",$F6=\"\",$G6=\"\",$E6=\"x\",$F6=\"x\",$G6=\"x\"),MAX($E6:$G6),MEDIAN($E6:$G6))))))","v":""},null,null,null,null,{"$f":"IF($C6=\"\",\"\",IF(OR($J6=\"DNF\",$K6=\"DNF\",$L6=\"DNF\",AND($J6=\"\",$K6=\"\",$L6=\"\")),\"DNF\",IF(OR($J6=\"NP\",$K6=\"NP\",$L6=\"NP\"),\"NP\",IF(ISERROR(MEDIAN($J6:$L6)),\"DNF\",IF(OR($J6=\"X\",$K6=\"X\",$L6=\"X\",$J6=\"\",$K6=\"\",$L6=\"\",$J6=\"x\",$K6=\"x\",$L6=\"x\"),MAX($J6:$L6),MEDIAN($J6:$L6))))))","v":""},null,{"$f":"IF(C6=\"\",\"\",IF(OR(AND(H6=\"NP\",M6=\"NP\"),AND(H6=\"DNF\",M6=\"DNF\")),H6,IF(AND(H6=\"NP\",M6=\"DNF\"),H6,IF(AND(H6=\"DNF\",M6=\"NP\"),M6,MIN(H6,M6)))))","v":""},null,{"$f":"IF(C6=\"\",\"\",IF(OR(O6=\"NP\",O6=\"DNF\"),O6,RANK(O6,O$5:O$404,1)))","v":""},null,{"$f":"IF(C6=\"\",\"\",IF(O6=\"NP\",MAX(Q$5:Q$404)+1,IF(O6=\"DNF\",MAX(Q$5:Q$404)+COUNTIF(Q$5:Q$404,\"NP\")+1,RANK(O6,O$5:O$404,1))))","v":""},null,{"$f":"IF($C6=\"\",9000,MAX(H6,M6)+(COUNTIF($H6:$H6,\"NP\")*600)+(COUNTIF($M6:$M6,\"NP\")*600)+(COUNTIF($H6:$H6,\"DNF\")*3600)+(COUNTIF($M6:$M6,\"DNF\")*3600))","v":9000}]
[null,{"$f":"IF(J100m!E3=\"\",\"\",J100m!E3)","v":21},{"$f":"IF(AND(J100m!A3=\"\",J100m!B3<>\"\"),\"\",IF(AND(J100m!A3=\"\",J100m!B3=\"\"),\"\",J100m!A3))","v":"Hons Lukáš"},{"$f":"IF(C7=\"\",\"\",J100m!B3)","v":"ÚO Třebíč"},null,null,null,"DNF",null,null,null,null,"DNF",null,"DNF",null,"DNF",null,1,null,7200]
[null,{"$f":"IF(J100m!E4=\"\",\"\",J100m!E4)","v":31},{"$f":"IF(AND(J100m!A4=\"\",J100m!B4<>\"\"),\"\",IF(AND(J100m!A4=\"\",J100m!B4=\"\"),\"\",J100m!A4))","v":"Rajchman Jan"},{"$f":"IF(C8=\"\",\"\",J100m!B4)","v":"ÚO Břeclav"},null,null,null,"DNF",null,null,null,null,"DNF",null,"DNF",null,"DNF",null,1,null,7200]
[null,{"$f":"IF(J100m!E5=\"\",\"\",J100m!E5)","v":""},{"$f":"IF(AND(J100m!A5=\"\",J100m!B5<>\"\"),\"\",IF(AND(J100m!A5=\"\",J100m!B5=\"\"),\"\",J100m!A5))","v":""},{"$f":"IF(C9=\"\",\"\",J100m!B5)","v":""},null,null,null,"",null,null,null,null,"",null,"",null,"",null,"",null,9000]
[null,{"$f":"IF(J100m!E6=\"\",\"\",J100m!E6)","v":51},{"$f":"IF(AND(J100m!A6=\"\",J100m!B6<>\"\"),\"\",IF(AND(J100m!A6=\"\",J100m!B6=\"\"),\"\",J100m!A6))","v":"Kubát Pavel"},{"$f":"IF(C10=\"\",\"\",J100m!B6)","v":"ÚO Havlíčkův Brod"},null,null,null,"DNF",null,null,null,null,"DNF",null,"DNF",null,"DNF",null,1,null,7200]
[null,{"$f":"IF(J100m!E7=\"\",\"\",J100m!E7)","v":""},{"$f":"IF(AND(J100m!A7=\"\",J100m!B7<>\"\"),\"\",IF(AND(J100m!A7=\"\",J100m!B7=\"\"),\"\",J100m!A7))","v":""},{"$f":"IF(C11=\"\",\"\",J100m!B7)","v":""},null,null,null,"",null,null,null,null,"",null,"",null,"",null,"",null,9000]
[null,{"$f":"IF(J100m!E8=\"\",\"\",J100m!E8)","v":71},{"$f":"IF(AND(J100m!A8=\"\",J100m!B8<>\"\"),\"\",IF(AND(J100m!A8=\"\",J100m!B8=\"\"),\"\",J100m!A8))","v":"Jocov Jaroslav"},{"$f":"IF(C12=\"\",\"\",J100m!B8)","v":"ÚO Brno - město"},null,null,null,"DNF",null,null,null,null,"DNF",null,"DNF",null,"DNF",null,1,null,7200]
[null,{"$f":"IF(J100m!E9=\"\",\"\",J100m!E9)","v":81},{"$f":"IF(AND(J100m!A9=\"\",J100m!B9<>\"\"),\"\",IF(AND(J100m!A9=\"\",J100m!B9=\"\"),\"\",J100m!A9))","v":"Hofírek Michal"},{"$f":"IF(C13=\"\",\"\",J100m!B9)","v":"ÚO Blansko"},null,null,null,"DNF",null,null,null,null,"DNF",null,"DNF",null,"DNF",null,1,null,7200]
[null,{"$f":"IF(J100m!E10=\"\",\"\",J100m!E10)","v":96},{"$f":"IF(AND(J100m!A10=\"\",J100m!B10<>\"\"),\"\",IF(AND(J100m!A10=\"\",J100m!B10=\"\"),\"\",J100m!A10))","v":"Stach Tomáš"},{"$f":"IF(C14=\"\",\"\",J100m!B10)","v":"ÚO Pelhřimov"},null,null,null,"DNF",null,null,null,null,"DNF",null,"DNF",null,"DNF",null,1,null,7200]
[null,{"$f":"IF(J100m!E11=\"\",\"\",J100m!E11)","v":101},{"$f":"IF(AND(J100m!A11=\"\",J100m!B11<>\"\"),\"\",IF(AND(J100m!A11=\"\",J100m!B11=\"\"),\"\",J100m!A11))","v":"Novotný Pavel"},{"$f":"IF(C15=\"\",\"\",J100m!B11)","v":"ÚO Brno - venkov"},null,null,null,"DNF",null,null,null,null,"DNF",null,"DNF",null,"DNF",null,1,null,7200]
[null,{"$f":"IF(J100m!E12=\"\",\"\",J100m!E12)","v":111},{"$f":"IF(AND(J100m!A12=\"\",J100m!B12<>\"\"),\"\",IF(AND(J100m!A12=\"\",J100m!B12=\"\"),\"\",J100m!A12))","v":"Dvořáček Jan"},{"$f":"IF(C16=\"\",\"\",J100m!B12)","v":"ÚO Vyškov"},null,null,null,"DNF",null,null,null,null,"DNF",null,"DNF",null,"DNF",null,1,null,7200]
[null,{"$f":"IF(J100m!E13=\"\",\"\",J100m!E13)","v":2},{"$f":"IF(AND(J100m!A13=\"\",J100m!B13<>\"\"),\"\",IF(AND(J100m!A13=\"\",J100m!B13=\"\"),\"\",J100m!A13))","v":"Synek Petr"},{"$f":"IF(C17=\"\",\"\",J100m!B13)","v":"ÚO Hodonín"},null,null,null,"DNF",null,null,null,null,"DNF",null,"DNF",null,"DNF",null,1,null,7200]
[null,{"$f":"IF(J100m!E14=\"\",\"\",J100m!E14)","v":12},{"$f":"IF(AND(J100m!A14=\"\",J100m!B14<>\"\"),\"\",IF(AND(J100m!A14=\"\",J100m!B14=\"\"),\"\",J100m!A14))","v":"Kunfürst Michal"},{"$f":"IF(C18=\"\",\"\",J100m!B14)","v":"ÚO Žďár nad Sázavou"},null,null,null,"DNF",null,null,null,null,"DNF",null,"DNF",null,"DNF",null,1,null,7200]
[null,{"$f":"IF(J100m!E15=\"\",\"\",J100m!E15)","v":22},{"$f":"IF(AND(J100m!A15=\"\",J100m!B15<>\"\"),\"\",IF(AND(J100m!A15=\"\",J100m!B15=\"\"),\"\",J100m!A15))","v":"Fila Vojtěch"},{"$f":"IF(C19=\"\",\"\",J100m!B15)","v":"ÚO Třebíč"},null,null,null,"DNF",null,null,null,null,"DNF",null,"DNF",null,"DNF",null,1,null,7200]
[null,{"$f":"IF(J100m!E16=\"\",\"\",J100m!E16)","v":32},{"$f":"IF(AND(J100m!A16=\"\",J100m!B16<>\"\"),\"\",IF(AND(J100m!A16=\"\",J100m!B16=\"\"),\"\",J100m!A16))","v":"Kachyňa Zdeněk"},{"$f":"IF(C20=\"\",\"\",J100m!B16)","v":"ÚO Břeclav"},null,null,null,"DNF",null,null,null,null,"DNF",null,"DNF",null,"DNF",null,1,null,7200]
[null,{"$f":"IF(J100m!E17=\"\",\"\",J100m!E17)","v":45},{"$f":"IF(AND(J100m!A17=\"\",J100m!B17<>\"\"),\"\",IF(AND(J100m!A17=\"\",J100m!B17=\"\"),\"\",J100m!A17))","v":"Štěpanovský Marek"},{"$f":"IF(C21=\"\",\"\",J100m!B17)","v":"ÚO Jihlava"},null,null,null,"DNF",null,null,null,null,"DNF",null,"DNF",null,"DNF",null,1,null,7200]
[null,{"$f":"IF(J100m!E18=\"\",\"\",J100m!E18)","v":52},{"$f":"IF(AND(J100m!A18=\"\",J100m!B18<>\"\"),\"\",IF(AND(J100m!A18=\"\",J100m!B18=\"\"),\"\",J100m!A18))","v":"Hajčman Martin"},{"$f":"IF(C22=\"\",\"\",J100m!B18)","v":"ÚO Havlíčkův Brod"},null,null,null,"DNF",null,null,null,null,"DNF",null,"DNF",null,"DNF",null,1,null,7200]
[null,{"$f":"IF(J100m!E19=\"\",\"\",J100m!E19)","v":62},{"$f":"IF(AND(J100m!A19=\"\",J100m!B19<>\"\"),\"\",IF(AND(J100m!A19=\"\",J100m!B19=\"\"),\"\",J100m!A19))","v":"Kaňa Jindřich"},{"$f":"IF(C23=\"\",\"\",J100m!B19)","v":"ÚO Znojmo"},null,null,null,"DNF",null,null,null,null,"DNF",null,"DNF",null,"DNF",null,1,null,7200]
[null,{"$f":"IF(J100m!E20=\"\",\"\",J100m!E20)","v":72},{"$f":"IF(AND(J100m!A20=\"\",J100m!B20<>\"\"),\"\",IF(AND(J100m!A20=\"\",J100m!B20=\"\"),\"\",J100m!A20))","v":"Medek Martin"},{"$f":"IF(C24=\"\",\"\",J100m!B20)","v":"ÚO Brno - město"},null,null,null,"DNF",null,null,null,null,"DNF",null,"DNF",null,"DNF",null,1,null,7200]
[null,{"$f":"IF(J100m!E21=\"\",\"\",J100m!E21)","v":82},{"$f":"IF(AND(J100m!A21=\"\",J100m!B21<>\"\"),\"\",IF(AND(J100m!A21=\"\",J100m!B21=\"\"),\"\",J100m!A21))","v":"Bauer Jiří"},{"$f":"IF(C25=\"\",\"\",J100m!B21)","v":"ÚO Blansko"},null,null,null,"DNF",null,null,null,null,"DNF",null,"DNF",null,"DNF",null,1,null,7200]
[null,{"$f":"IF(J100m!E22=\"\",\"\",J100m!E22)","v":98},{"$f":"IF(AND(J100m!A22=\"\",J100m!B22<>\"\"),\"\",IF(AND(J100m!A22=\"\",J100m!B22=\"\"),\"\",J100m!A22))","v":"Podhrázský Petr"},{"$f":"IF(C26=\"\",\"\",J100m!B22)","v":"ÚO Pelhřimov"},null,null,null,"DNF",null,null,null,null,"DNF",null,"DNF",null,"DNF",null,1,null,7200]
[null,{"$f":"IF(J100m!E23=\"\",\"\",J100m!E23)","v":102},{"$f":"IF(AND(J100m!A23=\"\",J100m!B23<>\"\"),\"\",IF(AND(J100m!A23=\"\",J100m!B23=\"\"),\"\",J100m!A23))","v":"Šmerek Jakub"},{"$f":"IF(C27=\"\",\"\",J100m!B23)","v":"ÚO Brno - venkov"},null,null,null,"DNF",null,null,null,null,"DNF",null,"DNF",null,"DNF",null,1,null,7200]
[null,{"$f":"IF(J100m!E24=\"\",\"\",J100m!E24)","v":112},{"$f":"IF(AND(J100m!A24=\"\",J100m!B24<>\"\"),\"\",IF(AND(J100m!A24=\"\",J100m!B24=\"\"),\"\",J100m!A24))","v":"Kavečka Marek"},{"$f":"IF(C28=\"\",\"\",J100m!B24)","v":"ÚO Vyškov"},null,null,null,"DNF",null,null,null,null,"DNF",null,"DNF",null,"DNF",null,1,null,7200]
[null,{"$f":"IF(J100m!E25=\"\",\"\",J100m!E25)","v":3},{"$f":"IF(AND(J100m!A25=\"\",J100m!B25<>\"\"),\"\",IF(AND(J100m!A25=\"\",J100m!B25=\"\"),\"\",J100m!A25))","v":"Kadara Josef"},{"$f":"IF(C29=\"\",\"\",J100m!B25)","v":"ÚO Hodonín"},null,null,null,"DNF",null,null,null,null,"DNF",null,"DNF",null,"DNF",null,1,null,7200]
[null,{"$f":"IF(J100m!E26=\"\",\"\",J100m!E26)","v":13},{"$f":"IF(AND(J100m!A26=\"\",J100m!B26<>\"\"),\"\",IF(AND(J100m!A26=\"\",J100m!B26=\"\"),\"\",J100m!A26))","v":"Ptáček Jindřich"},{"$f":"IF(C30=\"\",\"\",J100m!B26)","v":"ÚO Žďár nad Sázavou"},null,null,null,"DNF",null,null,null,null,"DNF",null,"DNF",null,"DNF",null,1,null,7200]
[null,{"$f":"IF(J100m!E27=\"\",\"\",J100m!E27)","v":23},{"$f":"IF(AND(J100m!A27=\"\",J100m!B27<>\"\"),\"\",IF(AND(J100m!A27=\"\",J100m!B27=\"\"),\"\",J100m!A27))","v":"Hnízdil Pavel"},{"$f":"IF(C31=\"\",\"\",J100m!B27)","v":"ÚO Třebíč"},null,null,null,"DNF",null,null,null,null,"DNF",null,"DNF",null,"DNF",null,1,null,7200]
[null,{"$f":"IF(J100m!E28=\"\",\"\",J100m!E28)","v":33},{"$f":"IF(AND(J100m!A28=\"\",J100m!B28<>\"\"),\"\",IF(AND(J100m!A28=\"\",J100m!B28=\"\"),\"\",J100m!A28))","v":"Celta Vojtěch"},{"$f":"IF(C32=\"\",\"\",J100m!B28)","v":"ÚO Břeclav"},null,null,null,"DNF",null,null,null,null,"DNF",null,"DNF",null,"DNF",null,1,null,7200]
[null,{"$f":"IF(J100m!E29=\"\",\"\",J100m!E29)","v":41},{"$f":"IF(AND(J100m!A29=\"\",J100m!B29<>\"\"),\"\",IF(AND(J100m!A29=\"\",J100m!B29=\"\"),\"\",J100m!A29))","v":"Pařil Jiří"},{"$f":"IF(C33=\"\",\"\",J100m!B29)","v":"ÚO Jihlava"},null,null,null,"DNF",null,null,null,null,"DNF",null,"DNF",null,"DNF",null,1,null,7200]
[null,{"$f":"IF(J100m!E30=\"\",\"\",J100m!E30)","v":54},{"$f":"IF(AND(J100m!A30=\"\",J100m!B30<>\"\"),\"\",IF(AND(J100m!A30=\"\",J100m!B30=\"\"),\"\",J100m!A30))","v":"Veselý Petr"},{"$f":"IF(C34=\"\",\"\",J100m!B30)","v":"ÚO Havlíčkův Brod"},null,null,null,"DNF",null,null,null,null,"DNF",null,"DNF",null,"DNF",null,1,null,7200]
[null,{"$f":"IF(J100m!E31=\"\",\"\",J100m!E31)","v":63},{"$f":"IF(AND(J100m!A31=\"\",J100m!B31<>\"\"),\"\",IF(AND(J100m!A31=\"\",J100m!B31=\"\"),\"\",J100m!A31))","v":"Cejpek Zdeněk"},{"$f":"IF(C35=\"\",\"\",J100m!B31)","v":"ÚO Znojmo"},null,null,null,"DNF",null,null,null,null,"DNF",null,"DNF",null,"DNF",null,1,null,7200]
[null,{"$f":"IF(J100m!E32=\"\",\"\",J100m!E32)","v":73},{"$f":"IF(AND(J100m!A32=\"\",J100m!B32<>\"\"),\"\",IF(AND(J100m!A32=\"\",J100m!B32=\"\"),\"\",J100m!A32))","v":"Daněk Lukáš"},{"$f":"IF(C36=\"\",\"\",J100m!B32)","v":"ÚO Brno - město"},null,null,null,"DNF",null,null,null,null,"DNF",null,"DNF",null,"DNF",null,1,null,7200]
[null,{"$f":"IF(J100m!E33=\"\",\"\",J100m!E33)","v":83},{"$f":"IF(AND(J100m!A33=\"\",J100m!B33<>\"\"),\"\",IF(AND(J100m!A33=\"\",J100m!B33=\"\"),\"\",J100m!A33))","v":"Kubík František"},{"$f":"IF(C37=\"\",\"\",J100m!B33)","v":"ÚO Blansko"},null,null,null,"DNF",null,null,null,null,"DNF",null,"DNF",null,"DNF",null,1,null,7200]
[null,{"$f":"IF(J100m!E34=\"\",\"\",J100m!E34)","v":99},{"$f":"IF(AND(J100m!A34=\"\",J100m!B34<>\"\"),\"\",IF(AND(J100m!A34=\"\",J100m!B34=\"\"),\"\",J100m!A34))","v":"Paulík Václav"},{"$f":"IF(C38=\"\",\"\",J100m!B34)","v":"ÚO Pelhřimov"},null,null,null,"DNF",null,null,null,null,"DNF",null,"DNF",null,"DNF",null,1,null,7200]
[null,{"$f":"IF(J100m!E35=\"\",\"\",J100m!E35)","v":103},{"$f":"IF(AND(J100m!A35=\"\",J100m!B35<>\"\"),\"\",IF(AND(J100m!A35=\"\",J100m!B35=\"\"),\"\",J100m!A35))","v":"Tinka Martin"},{"$f":"IF(C39=\"\",\"\",J100m!B35)","v":"ÚO Brno - venkov"},null,null,null,"DNF",null,null,null,null,"DNF",null,"DNF",null,"DNF",null,1,null,7200]
[null,{"$f":"IF(J100m!E36=\"\",\"\",J100m!E36)","v":113},{"$f":"IF(AND(J100m!A36=\"\",J100m!B36<>\"\"),\"\",IF(AND(J100m!A36=\"\",J100m!B36=\"\"),\"\",J100m!A36))","v":"Pospíšil Jan"},{"$f":"IF(C40=\"\",\"\",J100m!B36)","v":"ÚO Vyškov"},null,null,null,"DNF",null,null,null,null,"DNF",null,"DNF",null,"DNF",null,1,null,7200]
[null,{"$f":"IF(J100m!E37=\"\",\"\",J100m!E37)","v":4},{"$f":"IF(AND(J100m!A37=\"\",J100m!B37<>\"\"),\"\",IF(AND(J100m!A37=\"\",J100m!B37=\"\"),\"\",J100m!A37))","v":"Novák Dušan"},{"$f":"IF(C41=\"\",\"\",J100m!B37)","v":"ÚO Hodonín"},null,null,null,"DNF",null,null,null,null,"DNF",null,"DNF",null,"DNF",null,1,null,7200]
[null,{"$f":"IF(J100m!E38=\"\",\"\",J100m!E38)","v":14},{"$f":"IF(AND(J100m!A38=\"\",J100m!B38<>\"\"),\"\",IF(AND(J100m!A38=\"\",J100m!B38=\"\"),\"\",J100m!A38))","v":"Průža Jiří"},{"$f":"IF(C42=\"\",\"\",J100m!B38)","v":"ÚO Žďár nad Sázavou"},null,null,null,"DNF",null,null,null,null,"DNF",null,"DNF",null,"DNF",null,1,null,7200]
[null,{"$f":"IF(J100m!E39=\"\",\"\",J100m!E39)","v":24},{"$f":"IF(AND(J100m!A39=\"\",J100m!B39<>\"\"),\"\",IF(AND(J100m!A39=\"\",J100m!B39=\"\"),\"\",J100m!A39))","v":"Traxler Pavel"},{"$f":"IF(C43=\"\",\"\",J100m!B39)","v":"ÚO Třebíč"},null,null,null,"DNF",null,null,null,null,"DNF",null,"DNF",null,"DNF",null,1,null,7200]
[null,{"$f":"IF(J100m!E40=\"\",\"\",J100m!E40)","v":34},{"$f":"IF(AND(J100m!A40=\"\",J100m!B40<>\"\"),\"\",IF(AND(J100m!A40=\"\",J100m!B40=\"\"),\"\",J100m!A40))","v":"Ondráček Martin"},{"$f":"IF(C44=\"\",\"\",J100m!B40)","v":"ÚO Břeclav"},null,null,null,"DNF",null,null,null,null,"DNF",null,"DNF",null,"DNF",null,1,null,7200]
[null,{"$f":"IF(J100m!E41=\"\",\"\",J100m!E41)","v":46},{"$f":"IF(AND(J100m!A41=\"\",J100m!B41<>\"\"),\"\",IF(AND(J100m!A41=\"\",J100m!B41=\"\"),\"\",J100m!A41))","v":"Skurčák František"},{"$f":"IF(C45=\"\",\"\",J100m!B41)","v":"ÚO Jihlava"},null,null,null,"DNF",null,null,null,null,"DNF",null,"DNF",null,"DNF",null,1,null,7200]
[null,{"$f":"IF(J100m!E42=\"\",\"\",J100m!E42)","v":56},{"$f":"IF(AND(J100m!A42=\"\",J100m!B42<>\"\"),\"\",IF(AND(J100m!A42=\"\",J100m!B42=\"\"),\"\",J100m!A42))","v":"Prokeš Ondřej"},{"$f":"IF(C46=\"\",\"\",J100m!B42)","v":"ÚO Havlíčkův Brod"},null,null,null,"DNF",null,null,null,null,"DNF",null,"DNF",null,"DNF",null,1,null,7200]
[null,{"$f":"IF(J100m!E43=\"\",\"\",J100m!E43)","v":64},{"$f":"IF(AND(J100m!A43=\"\",J100m!B43<>\"\"),\"\",IF(AND(J100m!A43=\"\",J100m!B43=\"\"),\"\",J100m!A43))","v":"Hušek Dominik"},{"$f":"IF(C47=\"\",\"\",J100m!B43)","v":"ÚO Znojmo"},null,null,null,"DNF",null,null,null,null,"DNF",null,"DNF",null,"DNF",null,1,null,7200]
[null,{"$f":"IF(J100m!E44=\"\",\"\",J100m!E44)","v":74},{"$f":"IF(AND(J100m!A44=\"\",J100m!B44<>\"\"),\"\",IF(AND(J100m!A44=\"\",J100m!B44=\"\"),\"\",J100m!A44))","v":"Kalinič Marek"},{"$f":"IF(C48=\"\",\"\",J100m!B44)","v":"ÚO Brno - město"},null,null,null,"DNF",null,null,null,null,"DNF",null,"DNF",null,"DNF",null,1,null,7200]
[null,{"$f":"IF(J100m!E45=\"\",\"\",J100m!E45)","v":84},{"$f":"IF(AND(J100m!A45=\"\",J100m!B45<>\"\"),\"\",IF(AND(J100m!A45=\"\",J100m!B45=\"\"),\"\",J100m!A45))","v":"Bílek Martin"},{"$f":"IF(C49=\"\",\"\",J100m!B45)","v":"ÚO Blansko"},null,null,null,"DNF",null,null,null,null,"DNF",null,"DNF",null,"DNF",null,1,null,7200]
[null,{"$f":"IF(J100m!E46=\"\",\"\",J100m!E46)","v":97},{"$f":"IF(AND(J100m!A46=\"\",J100m!B46<>\"\"),\"\",IF(AND(J100m!A46=\"\",J100m!B46=\"\"),\"\",J100m!A46))","v":"Dvořák Martin"},{"$f":"IF(C50=\"\",\"\",J100m!B46)","v":"ÚO Pelhřimov"},null,null,null,"DNF",null,null,null,null,"DNF",null,"DNF",null,"DNF",null,1,null,7200]
[null,{"$f":"IF(J100m!E47=\"\",\"\",J100m!E47)","v":104},{"$f":"IF(AND(J100m!A47=\"\",J100m!B47<>\"\"),\"\",IF(AND(J100m!A47=\"\",J100m!B47=\"\"),\"\",J100m!A47))","v":"Šindelka Tomáš"},{"$f":"IF(C51=\"\",\"\",J100m!B47)","v":"ÚO Brno - venkov"},null,null,null,"DNF",null,null,null,null,"DNF",null,"DNF",null,"DNF",null,1,null,7200]
[null,{"$f":"IF(J100m!E48=\"\",\"\",J100m!E48)","v":115},{"$f":"IF(AND(J100m!A48=\"\",J100m!B48<>\"\"),\"\",IF(AND(J100m!A48=\"\",J100m!B48=\"\"),\"\",J100m!A48))","v":"Müller Martin"},{"$f":"IF(C52=\"\",\"\",J100m!B48)","v":"ÚO Vyškov"},null,null,null,"DNF",null,null,null,null,"DNF",null,"DNF",null,"DNF",null,1,null,7200]
[null,{"$f":"IF(J100m!E49=\"\",\"\",J100m!E49)","v":5},{"$f":"IF(AND(J100m!A49=\"\",J100m!B49<>\"\"),\"\",IF(AND(J100m!A49=\"\",J100m!B49=\"\"),\"\",J100m!A49))","v":"Svitálek Roman"},{"$f":"IF(C53=\"\",\"\",J100m!B49)","v":"ÚO Hodonín"},null,null,null,"DNF",null,null,null,null,"DNF",null,"DNF",null,"DNF",null,1,null,7200]
[null,{"$f":"IF(J100m!E50=\"\",\"\",J100m!E50)","v":15},{"$f":"IF(AND(J100m!A50=\"\",J100m!B50<>\"\"),\"\",IF(AND(J100m!A50=\"\",J100m!B50=\"\"),\"\",J100m!A50))","v":"Řehoř Radim"},{"$f":"IF(C54=\"\",\"\",J100m!B50)","v":"ÚO Žďár nad Sázavou"},null,null,null,"DNF",null,null,null,null,"DNF",null,"DNF",null,"DNF",null,1,null,7200]
[null,{"$f":"IF(J100m!E51=\"\",\"\",J100m!E51)","v":25},{"$f":"IF(AND(J100m!A51=\"\",J100m!B51<>\"\"),\"\",IF(AND(J100m!A51=\"\",J100m!B51=\"\"),\"\",J100m!A51))","v":"Slatinský Petr"},{"$f":"IF(C55=\"\",\"\",J100m!B51)","v":"ÚO Třebíč"},null,null,null,"DNF",null,null,null,null,"DNF",null,"DNF",null,"DNF",null,1,null,7200]
[null,{"$f":"IF(J100m!E52=\"\",\"\",J100m!E52)","v":39},{"$f":"IF(AND(J100m!A52=\"\",J100m!B52<>\"\"),\"\",IF(AND(J100m!A52=\"\",J100m!B52=\"\"),\"\",J100m!A52))","v":"Kaňa Jakub"},{"$f":"IF(C56=\"\",\"\",J100m!B52)","v":"ÚO Břeclav"},null,null,null,"DNF",null,null,null,null,"DNF",null,"DNF",null,"DNF",null,1,null,7200]
[null,{"$f":"IF(J100m!E53=\"\",\"\",J100m!E53)","v":42},{"$f":"IF(AND(J100m!A53=\"\",J100m!B53<>\"\"),\"\",IF(AND(J100m!A53=\"\",J100m!B53=\"\"),\"\",J100m!A53))","v":"Pařil Milan"},{"$f":"IF(C57=\"\",\"\",J100m!B53)","v":"ÚO Jihlava"},null,null,null,"DNF",null,null,null,null,"DNF",null,"DNF",null,"DNF",null,1,null,7200]
[null,{"$f":"IF(J100m!E54=\"\",\"\",J100m!E54)","v":57},{"$f":"IF(AND(J100m!A54=\"\",J100m!B54<>\"\"),\"\",IF(AND(J100m!A54=\"\",J100m!B54=\"\"),\"\",J100m!A54))","v":"Tvrdý Zdeněk"},{"$f":"IF(C58=\"\",\"\",J100m!B54)","v":"ÚO Havlíčkův Brod"},null,null,null,"DNF",null,null,null,null,"DNF",null,"DNF",null,"DNF",null,1,null,7200]
[null,{"$f":"IF(J100m!E55=\"\",\"\",J100m!E55)","v":65},{"$f":"IF(AND(J100m!A55=\"\",J100m!B55<>\"\"),\"\",IF(AND(J100m!A55=\"\",J100m!B55=\"\"),\"\",J100m!A55))","v":"Jiříkovský David"},{"$f":"IF(C59=\"\",\"\",J100m!B55)","v":"ÚO Znojmo"},null,null,null,"DNF",null,null,null,null,"DNF",null,"DNF",null,"DNF",null,1,null,7200]
[null,{"$f":"IF(J100m!E56=\"\",\"\",J100m!E56)","v":75},{"$f":"IF(AND(J100m!A56=\"\",J100m!B56<>\"\"),\"\",IF(AND(J100m!A56=\"\",J100m!B56=\"\"),\"\",J100m!A56))","v":"Kinc Michal"},{"$f":"IF(C60=\"\",\"\",J100m!B56)","v":"ÚO Brno - město"},null,null,null,"DNF",null,null,null,null,"DNF",null,"DNF",null,"DNF",null,1,null,7200]
[null,{"$f":"IF(J100m!E57=\"\",\"\",J100m!E57)","v":85},{"$f":"IF(AND(J100m!A57=\"\",J100m!B57<>\"\"),\"\",IF(AND(J100m!A57=\"\",J100m!B57=\"\"),\"\",J100m!A57))","v":"Čech Radim"},{"$f":"IF(C61=\"\",\"\",J100m!B57)","v":"ÚO Blansko"},null,null,null,"DNF",null,null,null,null,"DNF",null,"DNF",null,"DNF",null,1,null,7200]
[null,{"$f":"IF(J100m!E58=\"\",\"\",J100m!E58)","v":94},{"$f":"IF(AND(J100m!A58=\"\",J100m!B58<>\"\"),\"\",IF(AND(J100m!A58=\"\",J100m!B58=\"\"),\"\",J100m!A58))","v":"Ryšavý Vilém"},{"$f":"IF(C62=\"\",\"\",J100m!B58)","v":"ÚO Pelhřimov"},null,null,null,"DNF",null,null,null,null,"DNF",null,"DNF",null,"DNF",null,1,null,7200]
[null,{"$f":"IF(J100m!E59=\"\",\"\",J100m!E59)","v":105},{"$f":"IF(AND(J100m!A59=\"\",J100m!B59<>\"\"),\"\",IF(AND(J100m!A59=\"\",J100m!B59=\"\"),\"\",J100m!A59))","v":"Seehofner Jakub"},{"$f":"IF(C63=\"\",\"\",J100m!B59)","v":"ÚO Brno - venkov"},null,null,null,"DNF",null,null,null,null,"DNF",null,"DNF",null,"DNF",null,1,null,7200]
[null,{"$f":"IF(J100m!E60=\"\",\"\",J100m!E60)","v":116},{"$f":"IF(AND(J100m!A60=\"\",J100m!B60<>\"\"),\"\",IF(AND(J100m!A60=\"\",J100m!B60=\"\"),\"\",J100m!A60))","v":"Masař Tomáš"},{"$f":"IF(C64=\"\",\"\",J100m!B60)","v":"ÚO Vyškov"},null,null,null,"DNF",null,null,null,null,"DNF",null,"DNF",null,"DNF",null,1,null,7200]
[null,{"$f":"IF(J100m!E61=\"\",\"\",J100m!E61)","v":""},{"$f":"IF(AND(J100m!A61=\"\",J100m!B61<>\"\"),\"\",IF(AND(J100m!A61=\"\",J100m!B61=\"\"),\"\",J100m!A61))","v":""},{"$f":"IF(C65=\"\",\"\",J100m!B61)","v":""},null,null,null,"",null,null,null,null,"",null,"",null,"",null,"",null,9000]
[null,{"$f":"IF(J100m!E62=\"\",\"\",J100m!E62)","v":16},{"$f":"IF(AND(J100m!A62=\"\",J100m!B62<>\"\"),\"\",IF(AND(J100m!A62=\"\",J100m!B62=\"\"),\"\",J100m!A62))","v":"Sláma Josef"},{"$f":"IF(C66=\"\",\"\",J100m!B62)","v":"ÚO Žďár nad Sázavou"},null,null,null,"DNF",null,null,null,null,"DNF",null,"DNF",null,"DNF",null,1,null,7200]
[null,{"$f":"IF(J100m!E63=\"\",\"\",J100m!E63)","v":26},{"$f":"IF(AND(J100m!A63=\"\",J100m!B63<>\"\"),\"\",IF(AND(J100m!A63=\"\",J100m!B63=\"\"),\"\",J100m!A63))","v":"Stuchlík Martin"},{"$f":"IF(C67=\"\",\"\",J100m!B63)","v":"ÚO Třebíč"},null,null,null,"DNF",null,null,null,null,"DNF",null,"DNF",null,"DNF",null,1,null,7200]
[null,{"$f":"IF(J100m!E64=\"\",\"\",J100m!E64)","v":36},{"$f":"IF(AND(J100m!A64=\"\",J100m!B64<>\"\"),\"\",IF(AND(J100m!A64=\"\",J100m!B64=\"\"),\"\",J100m!A64))","v":"Brveník Jan"},{"$f":"IF(C68=\"\",\"\",J100m!B64)","v":"ÚO Břeclav"},null,null,null,"DNF",null,null,null,null,"DNF",null,"DNF",null,"DNF",null,1,null,7200]
[null,{"$f":"IF(J100m!E65=\"\",\"\",J100m!E65)","v":47},{"$f":"IF(AND(J100m!A65=\"\",J100m!B65<>\"\"),\"\",IF(AND(J100m!A65=\"\",J100m!B65=\"\"),\"\",J100m!A65))","v":"Štumar Michal"},{"$f":"IF(C69=\"\",\"\",J100m!B65)","v":"ÚO Jihlava"},null,null,null,"DNF",null,null,null,null,"DNF",null,"DNF",null,"DNF",null,1,null,7200]
[null,{"$f":"IF(J100m!E66=\"\",\"\",J100m!E66)","v":58},{"$f":"IF(AND(J100m!A66=\"\",J100m!B66<>\"\"),\"\",IF(AND(J100m!A66=\"\",J100m!B66=\"\"),\"\",J100m!A66))","v":"Prchal Jan"},{"$f":"IF(C70=\"\",\"\",J100m!B66)","v":"ÚO Havlíčkův Brod"},null,null,null,{"$f":"IF($C70=\"\",\"\",IF(OR($E70=\"DNF\",$F70=\"DNF\",$G70=\"DNF\",AND($E70=\"\",$F70=\"\",$G70=\"\")),\"DNF\",IF(OR($E70=\"NP\",$F70=\"NP\",$G70=\"NP\"),\"NP\",IF(ISERROR(MEDIAN($E70:$G70)),\"DNF\",IF(OR($E70=\"X\",$F70=\"X\",$G70=\"X\",$E70=\"\",$F70=\"\",$G70=\"\",$E70=\"x\",$F70=\"x\",$G70=\"x\"),MAX($E70:$G70),MEDIAN($E70:$G70))))))","v":"DNF"},null,null,null,null,{"$f":"IF($C70=\"\",\"\",IF(OR($J70=\"DNF\",$K70=\"DNF\",$L70=\"DNF\",AND($J70=\"\",$K70=\"\",$L70=\"\")),\"DNF\",IF(OR($J70=\"NP\",$K70=\"NP\",$L70=\"NP\"),\"NP\",IF(ISERROR(MEDIAN($J70:$L70)),\"DNF\",IF(OR($J70=\"X\",$K70=\"X\",$L70=\"X\",$J70=\"\",$K70=\"\",$L70=\"\",$J70=\"x\",$K70=\"x\",$L70=\"x\"),MAX($J70:$L70),MEDIAN($J70:$L70))))))","v":"DNF"},null,{"$f":"IF(C70=\"\",\"\",IF(OR(AND(H70=\"NP\",M70=\"NP\"),AND(H70=\"DNF\",M70=\"DNF\")),H70,IF(AND(H70=\"NP\",M70=\"DNF\"),H70,IF(AND(H70=\"DNF\",M70=\"NP\"),M70,MIN(H70,M70)))))","v":"DNF"},null,{"$f":"IF(C70=\"\",\"\",IF(OR(O70=\"NP\",O70=\"DNF\"),O70,RANK(O70,O$5:O$404,1)))","v":"DNF"},null,{"$f":"IF(C70=\"\",\"\",IF(O70=\"NP\",MAX(Q$5:Q$404)+1,IF(O70=\"DNF\",MAX(Q$5:Q$404)+COUNTIF(Q$5:Q$404,\"NP\")+1,RANK(O70,O$5:O$404,1))))","v":1},null,{"$f":"IF($C70=\"\",9000,MAX(H70,M70)+(COUNTIF($H70:$H70,\"NP\")*600)+(COUNTIF($M70:$M70,\"NP\")*600)+(COUNTIF($H70:$H70,\"DNF\")*3600)+(COUNTIF($M70:$M70,\"DNF\")*3600))","v":7200}]
[null,{"$f":"IF(J100m!E67=\"\",\"\",J100m!E67)","v":66},{"$f":"IF(AND(J100m!A67=\"\",J100m!B67<>\"\"),\"\",IF(AND(J100m!A67=\"\",J100m!B67=\"\"),\"\",J100m!A67))","v":"Pokorný Martin"},{"$f":"IF(C71=\"\",\"\",J100m!B67)","v":"ÚO Znojmo"},null,null,null,"DNF",null,null,null,null,"DNF",null,"DNF",null,"DNF",null,1,null,7200]
[null,{"$f":"IF(J100m!E68=\"\",\"\",J100m!E68)","v":76},{"$f":"IF(AND(J100m!A68=\"\",J100m!B68<>\"\"),\"\",IF(AND(J100m!A68=\"\",J100m!B68=\"\"),\"\",J100m!A68))","v":"Klíč Miloš"},{"$f":"IF(C72=\"\",\"\",J100m!B68)","v":"ÚO Brno - město"},null,null,null,"DNF",null,null,null,null,"DNF",null,"DNF",null,"DNF",null,1,null,7200]
[null,{"$f":"IF(J100m!E69=\"\",\"\",J100m!E69)","v":86},{"$f":"IF(AND(J100m!A69=\"\",J100m!B69<>\"\"),\"\",IF(AND(J100m!A69=\"\",J100m!B69=\"\"),\"\",J100m!A69))","v":"Škaroupka Jiří"},{"$f":"IF(C73=\"\",\"\",J100m!B69)","v":"ÚO Blansko"},null,null,null,"DNF",null,null,null,null,"DNF",null,"DNF",null,"DNF",null,1,null,7200]
[null,{"$f":"IF(J100m!E70=\"\",\"\",J100m!E70)","v":93},{"$f":"IF(AND(J100m!A70=\"\",J100m!B70<>\"\"),\"\",IF(AND(J100m!A70=\"\",J100m!B70=\"\"),\"\",J100m!A70))","v":"Janko Vladimír"},{"$f":"IF(C74=\"\",\"\",J100m!B70)","v":"ÚO Pelhřimov"},null,null,null,"DNF",null,null,null,null,"DNF",null,"DNF",null,"DNF",null,1,null,7200]
[null,{"$f":"IF(J100m!E71=\"\",\"\",J100m!E71)","v":106},{"$f":"IF(AND(J100m!A71=\"\",J100m!B71<>\"\"),\"\",IF(AND(J100m!A71=\"\",J100m!B71=\"\"),\"\",J100m!A71))","v":"Antl Vladimír"},{"$f":"IF(C75=\"\",\"\",J100m!B71)","v":"ÚO Brno - venkov"},null,null,null,"DNF",null,null,null,null,"DNF",null,"DNF",null,"DNF",null,1,null,7200]
[null,{"$f":"IF(J100m!E72=\"\",\"\",J100m!E72)","v":117},{"$f":"IF(AND(J100m!A72=\"\",J100m!B72<>\"\"),\"\",IF(AND(J100m!A72=\"\",J100m!B72=\"\"),\"\",J100m!A72))","v":"Pupík Jan"},{"$f":"IF(C76=\"\",\"\",J100m!B72)","v":"ÚO Vyškov"},null,null,null,"DNF",null,null,null,null,"DNF",null,"DNF",null,"DNF",null,1,null,7200]
[null,{"$f":"IF(J100m!E73=\"\",\"\",J100m!E73)","v":7},{"$f":"IF(AND(J100m!A73=\"\",J100m!B73<>\"\"),\"\",IF(AND(J100m!A73=\"\",J100m!B73=\"\"),\"\",J100m!A73))","v":"Kudláč Lukáš"},{"$f":"IF(C77=\"\",\"\",J100m!B73)","v":"ÚO Hodonín"},null,null,null,"DNF",null,null,null,null,"DNF",null,"DNF",null,"DNF",null,1,null,7200]
[null,{"$f":"IF(J100m!E74=\"\",\"\",J100m!E74)","v":17},{"$f":"IF(AND(J100m!A74=\"\",J100m!B74<>\"\"),\"\",IF(AND(J100m!A74=\"\",J100m!B74=\"\"),\"\",J100m!A74))","v":"Špaček Marek"},{"$f":"IF(C78=\"\",\"\",J100m!B74)","v":"ÚO Žďár nad Sázavou"},null,null,null,"DNF",null,null,null,null,"DNF",null,"DNF",null,"DNF",null,1,null,7200]
[null,{"$f":"IF(J100m!E75=\"\",\"\",J100m!E75)","v":27},{"$f":"IF(AND(J100m!A75=\"\",J100m!B75<>\"\"),\"\",IF(AND(J100m!A75=\"\",J100m!B75=\"\"),\"\",J100m!A75))","v":"Čurda Aleš"},{"$f":"IF(C79=\"\",\"\",J100m!B75)","v":"ÚO Třebíč"},null,null,null,"DNF",null,null,null,null,"DNF",null,"DNF",null,"DNF",null,1,null,7200]
[null,{"$f":"IF(J100m!E76=\"\",\"\",J100m!E76)","v":37},{"$f":"IF(AND(J100m!A76=\"\",J100m!B76<>\"\"),\"\",IF(AND(J100m!A76=\"\",J100m!B76=\"\"),\"\",J100m!A76))","v":"Barát Michal"},{"$f":"IF(C80=\"\",\"\",J100m!B76)","v":"ÚO Břeclav"},null,null,null,"DNF",null,null,null,null,"DNF",null,"DNF",null,"DNF",null,1,null,7200]
[null,{"$f":"IF(J100m!E77=\"\",\"\",J100m!E77)","v":48},{"$f":"IF(AND(J100m!A77=\"\",J100m!B77<>\"\"),\"\",IF(AND(J100m!A77=\"\",J100m!B77=\"\"),\"\",J100m!A77))","v":"Caha Petr"},{"$f":"IF(C81=\"\",\"\",J100m!B77)","v":"ÚO Jihlava"},null,null,null,"DNF",null,null,null,null,"DNF",null,"DNF",null,"DNF",null,1,null,7200]
[null,{"$f":"IF(J100m!E78=\"\",\"\",J100m!E78)","v":59},{"$f":"IF(AND(J100m!A78=\"\",J100m!B78<>\"\"),\"\",IF(AND(J100m!A78=\"\",J100m!B78=\"\"),\"\",J100m!A78))","v":"Stehlík Ondřej"},{"$f":"IF(C82=\"\",\"\",J100m!B78)","v":"ÚO Havlíčkův Brod"},null,null,null,"DNF",null,null,null,null,"DNF",null,"DNF",null,"DNF",null,1,null,7200]
[null,{"$f":"IF(J100m!E79=\"\",\"\",J100m!E79)","v":67},{"$f":"IF(AND(J100m!A79=\"\",J100m!B79<>\"\"),\"\",IF(AND(J100m!A79=\"\",J100m!B79=\"\"),\"\",J100m!A79))","v":"Sarga Aleš"},{"$f":"IF(C83=\"\",\"\",J100m!B79)","v":"ÚO Znojmo"},null,null,null,"DNF",null,null,null,null,"DNF",null,"DNF",null,"DNF",null,1,null,7200]
[null,{"$f":"IF(J100m!E80=\"\",\"\",J100m!E80)","v":77},{"$f":"IF(AND(J100m!A80=\"\",J100m!B80<>\"\"),\"\",IF(AND(J100m!A80=\"\",J100m!B80=\"\"),\"\",J100m!A80))","v":"Minařík David"},{"$f":"IF(C84=\"\",\"\",J100m!B80)","v":"ÚO Brno - město"},null,null,null,"DNF",null,null,null,null,"DNF",null,"DNF",null,"DNF",null,1,null,7200]
[null,{"$f":"IF(J100m!E81=\"\",\"\",J100m!E81)","v":87},{"$f":"IF(AND(J100m!A81=\"\",J100m!B81<>\"\"),\"\",IF(AND(J100m!A81=\"\",J100m!B81=\"\"),\"\",J100m!A81))","v":"Zhoř Jaroslav"},{"$f":"IF(C85=\"\",\"\",J100m!B81)","v":"ÚO Blansko"},null,null,null,"DNF",null,null,null,null,"DNF",null,"DNF",null,"DNF",null,1,null,7200]
[null,{"$f":"IF(J100m!E82=\"\",\"\",J100m!E82)","v":""},{"$f":"IF(AND(J100m!A82=\"\",J100m!B82<>\"\"),\"\",IF(AND(J100m!A82=\"\",J100m!B82=\"\"),\"\",J100m!A82))","v":""},{"$f":"IF(C86=\"\",\"\",J100m!B82)","v":""},null,null,null,"",null,null,null,null,"",null,"",null,"",null,"",null,9000]
[null,{"$f":"IF(J100m!E83=\"\",\"\",J100m!E83)","v":107},{"$f":"IF(AND(J100m!A83=\"\",J100m!B83<>\"\"),\"\",IF(AND(J100m!A83=\"\",J100m!B83=\"\"),\"\",J100m!A83))","v":"Šlachta Roman"},{"$f":"IF(C87=\"\",\"\",J100m!B83)","v":"ÚO Brno - venkov"},null,null,null,"DNF",null,null,null,null,"DNF",null,"DNF",null,"DNF",null,1,null,7200]
[null,{"$f":"IF(J100m!E84=\"\",\"\",J100m!E84)","v":118},{"$f":"IF(AND(J100m!A84=\"\",J100m!B84<>\"\"),\"\",IF(AND(J100m!A84=\"\",J100m!B84=\"\"),\"\",J100m!A84))","v":"Jeřábek Martin"},{"$f":"IF(C88=\"\",\"\",J100m!B84)","v":"ÚO Vyškov"},null,null,null,"DNF",null,null,null,null,"DNF",null,"DNF",null,"DNF",null,1,null,7200]
[null,{"$f":"IF(J100m!E85=\"\",\"\",J100m!E85)","v":8},{"$f":"IF(AND(J100m!A85=\"\",J100m!B85<>\"\"),\"\",IF(AND(J100m!A85=\"\",J100m!B85=\"\"),\"\",J100m!A85))","v":"Slavík Martin"},{"$f":"IF(C89=\"\",\"\",J100m!B85)","v":"ÚO Hodonín"},null,null,null,"DNF",null,null,null,null,"DNF",null,"DNF",null,"DNF",null,1,null,7200]
[null,{"$f":"IF(J100m!E86=\"\",\"\",J100m!E86)","v":18},{"$f":"IF(AND(J100m!A86=\"\",J100m!B86<>\"\"),\"\",IF(AND(J100m!A86=\"\",J100m!B86=\"\"),\"\",J100m!A86))","v":"Škapa Miroslav"},{"$f":"IF(C90=\"\",\"\",J100m!B86)","v":"ÚO Žďár nad Sázavou"},null,null,null,"DNF",null,null,null,null,"DNF",null,"DNF",null,"DNF",null,1,null,7200]
[null,{"$f":"IF(J100m!E87=\"\",\"\",J100m!E87)","v":28},{"$f":"IF(AND(J100m!A87=\"\",J100m!B87<>\"\"),\"\",IF(AND(J100m!A87=\"\",J100m!B87=\"\"),\"\",J100m!A87))","v":"Urbánek Pavel"},{"$f":"IF(C91=\"\",\"\",J100m!B87)","v":"ÚO Třebíč"},null,null,null,"DNF",null,null,null,null,"DNF",null,"DNF",null,"DNF",null,1,null,7200]
[null,{"$f":"IF(J100m!E88=\"\",\"\",J100m!E88)","v":38},{"$f":"IF(AND(J100m!A88=\"\",J100m!B88<>\"\"),\"\",IF(AND(J100m!A88=\"\",J100m!B88=\"\"),\"\",J100m!A88))","v":"Pospíšil Karel"},{"$f":"IF(C92=\"\",\"\",J100m!B88)","v":"ÚO Břeclav"},null,null,null,"DNF",null,null,null,null,"DNF",null,"DNF",null,"DNF",null,1,null,7200]
[null,{"$f":"IF(J100m!E89=\"\",\"\",J100m!E89)","v":""},{"$f":"IF(AND(J100m!A89=\"\",J100m!B89<>\"\"),\"\",IF(AND(J100m!A89=\"\",J100m!B89=\"\"),\"\",J100m!A89))","v":""},{"$f":"IF(C93=\"\",\"\",J100m!B89)","v":""},null,null,null,"",null,null,null,null,"",null,"",null,"",null,"",null,9000]
[null,{"$f":"IF(J100m!E90=\"\",\"\",J100m!E90)","v":""},{"$f":"IF(AND(J100m!A90=\"\",J100m!B90<>\"\"),\"\",IF(AND(J100m!A90=\"\",J100m!B90=\"\"),\"\",J100m!A90))","v":""},{"$f":"IF(C94=\"\",\"\",J100m!B90)","v":""},null,null,null,"",null,null,null,null,"",null,"",null,"",null,"",null,9000]
[null,{"$f":"IF(J100m!E91=\"\",\"\",J100m!E91)","v":""},{"$f":"IF(AND(J100m!A91=\"\",J100m!B91<>\"\"),\"\",IF(AND(J100m!A91=\"\",J100m!B91=\"\"),\"\",J100m!A91))","v":""},{"$f":"IF(C95=\"\",\"\",J100m!B91)","v":""},null,null,null,"",null,null,null,null,"",null,"",null,"",null,"",null,9000]
[null,{"$f":"IF(J100m!E92=\"\",\"\",J100m!E92)","v":78},{"$f":"IF(AND(J100m!A92=\"\",J100m!B92<>\"\"),\"\",IF(AND(J100m!A92=\"\",J100m!B92=\"\"),\"\",J100m!A92))","v":"Gargula Josef"},{"$f":"IF(C96=\"\",\"\",J100m!B92)","v":"ÚO Brno - město"},null,null,null,"DNF",null,null,null,null,"DNF",null,"DNF",null,"DNF",null,1,null,7200]
[null,{"$f":"IF(J100m!E93=\"\",\"\",J100m!E93)","v":89},{"$f":"IF(AND(J100m!A93=\"\",J100m!B93<>\"\"),\"\",IF(AND(J100m!A93=\"\",J100m!B93=\"\"),\"\",J100m!A93))","v":"Pěnča Josef"},{"$f":"IF(C97=\"\",\"\",J100m!B93)","v":"ÚO Blansko"},null,null,null,"DNF",null,null,null,null,"DNF",null,"DNF",null,"DNF",null,1,null,7200]
[null,{"$f":"IF(J100m!E94=\"\",\"\",J100m!E94)","v":""},{"$f":"IF(AND(J100m!A94=\"\",J100m!B94<>\"\"),\"\",IF(AND(J100m!A94=\"\",J100m!B94=\"\"),\"\",J100m!A94))","v":""},{"$f":"IF(C98=\"\",\"\",J100m!B94)","v":""},null,null,null,"",null,null,null,null,"",null,"",null,"",null,"",null,9000]
[null,{"$f":"IF(J100m!E95=\"\",\"\",J100m!E95)","v":108},{"$f":"IF(AND(J100m!A95=\"\",J100m!B95<>\"\"),\"\",IF(AND(J100m!A95=\"\",J100m!B95=\"\"),\"\",J100m!A95))","v":"Podloučka Pavel"},{"$f":"IF(C99=\"\",\"\",J100m!B95)","v":"ÚO Brno - venkov"},null,null,null,"DNF",null,null,null,null,"DNF",null,"DNF",null,"DNF",null,1,null,7200]
[null,{"$f":"IF(J100m!E96=\"\",\"\",J100m!E96)","v":119},{"$f":"IF(AND(J100m!A96=\"\",J100m!B96<>\"\"),\"\",IF(AND(J100m!A96=\"\",J100m!B96=\"\"),\"\",J100m!A96))","v":"Rajci Miroslav"},{"$f":"IF(C100=\"\",\"\",J100m!B96)","v":"ÚO Vyškov"},null,null,null,"DNF",null,null,null,null,"DNF",null,"DNF",null,"DNF",null,1,null,7200]
[null,{"$f":"IF(J100m!E97=\"\",\"\",J100m!E97)","v":""},{"$f":"IF(AND(J100m!A97=\"\",J100m!B97<>\"\"),\"\",IF(AND(J100m!A97=\"\",J100m!B97=\"\"),\"\",J100m!A97))","v":""},{"$f":"IF(C101=\"\",\"\",J100m!B97)","v":""},null,null,null,"",null,null,null,null,"",null,"",null,"",null,"",null,9000]
[null,{"$f":"IF(J100m!E98=\"\",\"\",J100m!E98)","v":""},{"$f":"IF(AND(J100m!A98=\"\",J100m!B98<>\"\"),\"\",IF(AND(J100m!A98=\"\",J100m!B98=\"\"),\"\",J100m!A98))","v":""},{"$f":"IF(C102=\"\",\"\",J100m!B98)","v":""},null,null,null,"",null,null,null,null,"",null,"",null,"",null,"",null,9000]
[null,{"$f":"IF(J100m!E99=\"\",\"\",J100m!E99)","v":""},{"$f":"IF(AND(J100m!A99=\"\",J100m!B99<>\"\"),\"\",IF(AND(J100m!A99=\"\",J100m!B99=\"\"),\"\",J100m!A99))","v":""},{"$f":"IF(C103=\"\",\"\",J100m!B99)","v":""},null,null,null,"",null,null,null,null,"",null,"",null,"",null,"",null,9000]
[null,{"$f":"IF(J100m!E100=\"\",\"\",J100m!E100)","v":""},{"$f":"IF(AND(J100m!A100=\"\",J100m!B100<>\"\"),\"\",IF(AND(J100m!A100=\"\",J100m!B100=\"\"),\"\",J100m!A100))","v":""},{"$f":"IF(C104=\"\",\"\",J100m!B100)","v":""},null,null,null,"",null,null,null,null,"",null,"",null,"",null,"",null,9000]
[null,{"$f":"IF(J100m!E101=\"\",\"\",J100m!E101)","v":""},{"$f":"IF(AND(J100m!A101=\"\",J100m!B101<>\"\"),\"\",IF(AND(J100m!A101=\"\",J100m!B101=\"\"),\"\",J100m!A101))","v":""},{"$f":"IF(C105=\"\",\"\",J100m!B101)","v":""},null,null,null,"",null,null,null,null,"",null,"",null,"",null,"",null,9000]
[null,{"$f":"IF(J100m!E102=\"\",\"\",J100m!E102)","v":""},{"$f":"IF(AND(J100m!A102=\"\",J100m!B102<>\"\"),\"\",IF(AND(J100m!A102=\"\",J100m!B102=\"\"),\"\",J100m!A102))","v":""},{"$f":"IF(C106=\"\",\"\",J100m!B102)","v":""},null,null,null,"",null,null,null,null,"",null,"",null,"",null,"",null,9000]
[null,{"$f":"IF(J100m!E103=\"\",\"\",J100m!E103)","v":""},{"$f":"IF(AND(J100m!A103=\"\",J100m!B103<>\"\"),\"\",IF(AND(J100m!A103=\"\",J100m!B103=\"\"),\"\",J100m!A103))","v":""},{"$f":"IF(C107=\"\",\"\",J100m!B103)","v":""},null,null,null,"",null,null,null,null,"",null,"",null,"",null,"",null,9000]
[null,{"$f":"IF(J100m!E104=\"\",\"\",J100m!E104)","v":""},{"$f":"IF(AND(J100m!A104=\"\",J100m!B104<>\"\"),\"\",IF(AND(J100m!A104=\"\",J100m!B104=\"\"),\"\",J100m!A104))","v":""},{"$f":"IF(C108=\"\",\"\",J100m!B104)","v":""},null,null,null,"",null,null,null,null,"",null,"",null,"",null,"",null,9000]
[null,{"$f":"IF(J100m!E105=\"\",\"\",J100m!E105)","v":""},{"$f":"IF(AND(J100m!A105=\"\",J100m!B105<>\"\"),\"\",IF(AND(J100m!A105=\"\",J100m!B105=\"\"),\"\",J100m!A105))","v":""},{"$f":"IF(C109=\"\",\"\",J100m!B105)","v":""},null,null,null,"",null,null,null,null,"",null,"",null,"",null,"",null,9000]
[null,{"$f":"IF(J100m!E106=\"\",\"\",J100m!E106)","v":""},{"$f":"IF(AND(J100m!A106=\"\",J100m!B106<>\"\"),\"\",IF(AND(J100m!A106=\"\",J100m!B106=\"\"),\"\",J100m!A106))","v":""},{"$f":"IF(C110=\"\",\"\",J100m!B106)","v":""},null,null,null,"",null,null,null,null,"",null,"",null,"",null,"",null,9000]
[null,{"$f":"IF(J100m!E107=\"\",\"\",J100m!E107)","v":""},{"$f":"IF(AND(J100m!A107=\"\",J100m!B107<>\"\"),\"\",IF(AND(J100m!A107=\"\",J100m!B107=\"\"),\"\",J100m!A107))","v":""},{"$f":"IF(C111=\"\",\"\",J100m!B107)","v":""},null,null,null,"",null,null,null,null,"",null,"",null,"",null,"",null,9000]
[null,{"$f":"IF(J100m!E108=\"\",\"\",J100m!E108)","v":""},{"$f":"IF(AND(J100m!A108=\"\",J100m!B108<>\"\"),\"\",IF(AND(J100m!A108=\"\",J100m!B108=\"\"),\"\",J100m!A108))","v":""},{"$f":"IF(C112=\"\",\"\",J100m!B108)","v":""},null,null,null,"",null,null,null,null,"",null,"",null,"",null,"",null,9000]
[null,{"$f":"IF(J100m!E109=\"\",\"\",J100m!E109)","v":""},{"$f":"IF(AND(J100m!A109=\"\",J100m!B109<>\"\"),\"\",IF(AND(J100m!A109=\"\",J100m!B109=\"\"),\"\",J100m!A109))","v":""},{"$f":"IF(C113=\"\",\"\",J100m!B109)","v":""},null,null,null,"",null,null,null,null,"",null,"",null,"",null,"",null,9000]
[null,{"$f":"IF(J100m!E110=\"\",\"\",J100m!E110)","v":""},{"$f":"IF(AND(J100m!A110=\"\",J100m!B110<>\"\"),\"\",IF(AND(J100m!A110=\"\",J100m!B110=\"\"),\"\",J100m!A110))","v":""},{"$f":"IF(C114=\"\",\"\",J100m!B110)","v":""},null,null,null,"",null,null,null,null,"",null,"",null,"",null,"",null,9000]
[null,{"$f":"IF(J100m!E111=\"\",\"\",J100m!E111)","v":""},{"$f":"IF(AND(J100m!A111=\"\",J100m!B111<>\"\"),\"\",IF(AND(J100m!A111=\"\",J100m!B111=\"\"),\"\",J100m!A111))","v":""},{"$f":"IF(C115=\"\",\"\",J100m!B111)","v":""},null,null,null,"",null,null,null,null,"",null,"",null,"",null,"",null,9000]
[null,{"$f":"IF(J100m!E112=\"\",\"\",J100m!E112)","v":""},{"$f":"IF(AND(J100m!A112=\"\",J100m!B112<>\"\"),\"\",IF(AND(J100m!A112=\"\",J100m!B112=\"\"),\"\",J100m!A112))","v":""},{"$f":"IF(C116=\"\",\"\",J100m!B112)","v":""},null,null,null,"",null,null,null,null,"",null,"",null,"",null,"",null,9000]
[null,{"$f":"IF(J100m!E113=\"\",\"\",J100m!E113)","v":""},{"$f":"IF(AND(J100m!A113=\"\",J100m!B113<>\"\"),\"\",IF(AND(J100m!A113=\"\",J100m!B113=\"\"),\"\",J100m!A113))","v":""},{"$f":"IF(C117=\"\",\"\",J100m!B113)","v":""},null,null,null,"",null,null,null,null,"",null,"",null,"",null,"",null,9000]
[null,{"$f":"IF(J100m!E114=\"\",\"\",J100m!E114)","v":""},{"$f":"IF(AND(J100m!A114=\"\",J100m!B114<>\"\"),\"\",IF(AND(J100m!A114=\"\",J100m!B114=\"\"),\"\",J100m!A114))","v":""},{"$f":"IF(C118=\"\",\"\",J100m!B114)","v":""},null,null,null,"",null,null,null,null,"",null,"",null,"",null,"",null,9000]
[null,{"$f":"IF(J100m!E115=\"\",\"\",J100m!E115)","v":""},{"$f":"IF(AND(J100m!A115=\"\",J100m!B115<>\"\"),\"\",IF(AND(J100m!A115=\"\",J100m!B115=\"\"),\"\",J100m!A115))","v":""},{"$f":"IF(C119=\"\",\"\",J100m!B115)","v":""},null,null,null,"",null,null,null,null,"",null,"",null,"",null,"",null,9000]
[null,{"$f":"IF(J100m!E116=\"\",\"\",J100m!E116)","v":""},{"$f":"IF(AND(J100m!A116=\"\",J100m!B116<>\"\"),\"\",IF(AND(J100m!A116=\"\",J100m!B116=\"\"),\"\",J100m!A116))","v":""},{"$f":"IF(C120=\"\",\"\",J100m!B116)","v":""},null,null,null,"",null,null,null,null,"",null,"",null,"",null,"",null,9000]
[null,{"$f":"IF(J100m!E117=\"\",\"\",J100m!E117)","v":""},{"$f":"IF(AND(J100m!A117=\"\",J100m!B117<>\"\"),\"\",IF(AND(J100m!A117=\"\",J100m!B117=\"\"),\"\",J100m!A117))","v":""},{"$f":"IF(C121=\"\",\"\",J100m!B117)","v":""},null,null,null,"",null,null,null,null,"",null,"",null,"",null,"",null,9000]
[null,{"$f":"IF(J100m!E118=\"\",\"\",J100m!E118)","v":""},{"$f":"IF(AND(J100m!A118=\"\",J100m!B118<>\"\"),\"\",IF(AND(J100m!A118=\"\",J100m!B118=\"\"),\"\",J100m!A118))","v":""},{"$f":"IF(C122=\"\",\"\",J100m!B118)","v":""},null,null,null,"",null,null,null,null,"",null,"",null,"",null,"",null,9000]
[null,{"$f":"IF(J100m!E119=\"\",\"\",J100m!E119)","v":""},{"$f":"IF(AND(J100m!A119=\"\",J100m!B119<>\"\"),\"\",IF(AND(J100m!A119=\"\",J100m!B119=\"\"),\"\",J100m!A119))","v":""},{"$f":"IF(C123=\"\",\"\",J100m!B119)","v":""},null,null,null,"",null,null,null,null,"",null,"",null,"",null,"",null,9000]
[null,{"$f":"IF(J100m!E120=\"\",\"\",J100m!E120)","v":""},{"$f":"IF(AND(J100m!A120=\"\",J100m!B120<>\"\"),\"\",IF(AND(J100m!A120=\"\",J100m!B120=\"\"),\"\",J100m!A120))","v":""},{"$f":"IF(C124=\"\",\"\",J100m!B120)","v":""},null,null,null,"",null,null,null,null,"",null,"",null,"",null,"",null,9000]
[null,{"$f":"IF(J100m!E121=\"\",\"\",J100m!E121)","v":""},{"$f":"IF(AND(J100m!A121=\"\",J100m!B121<>\"\"),\"\",IF(AND(J100m!A121=\"\",J100m!B121=\"\"),\"\",J100m!A121))","v":""},{"$f":"IF(C125=\"\",\"\",J100m!B121)","v":""},null,null,null,"",null,null,null,null,"",null,"",null,"",null,"",null,9000]
[null,{"$f":"IF(J100m!E122=\"\",\"\",J100m!E122)","v":""},{"$f":"IF(AND(J100m!A122=\"\",J100m!B122<>\"\"),\"\",IF(AND(J100m!A122=\"\",J100m!B122=\"\"),\"\",J100m!A122))","v":""},{"$f":"IF(C126=\"\",\"\",J100m!B122)","v":""},null,null,null,"",null,null,null,null,"",null,"",null,"",null,"",null,9000]
[null,{"$f":"IF(J100m!E123=\"\",\"\",J100m!E123)","v":""},{"$f":"IF(AND(J100m!A123=\"\",J100m!B123<>\"\"),\"\",IF(AND(J100m!A123=\"\",J100m!B123=\"\"),\"\",J100m!A123))","v":""},{"$f":"IF(C127=\"\",\"\",J100m!B123)","v":""},null,null,null,"",null,null,null,null,"",null,"",null,"",null,"",null,9000]
[null,{"$f":"IF(J100m!E124=\"\",\"\",J100m!E124)","v":""},{"$f":"IF(AND(J100m!A124=\"\",J100m!B124<>\"\"),\"\",IF(AND(J100m!A124=\"\",J100m!B124=\"\"),\"\",J100m!A124))","v":""},{"$f":"IF(C128=\"\",\"\",J100m!B124)","v":""},null,null,null,"",null,null,null,null,"",null,"",null,"",null,"",null,9000]
[null,{"$f":"IF(J100m!E125=\"\",\"\",J100m!E125)","v":""},{"$f":"IF(AND(J100m!A125=\"\",J100m!B125<>\"\"),\"\",IF(AND(J100m!A125=\"\",J100m!B125=\"\"),\"\",J100m!A125))","v":""},{"$f":"IF(C129=\"\",\"\",J100m!B125)","v":""},null,null,null,"",null,null,null,null,"",null,"",null,"",null,"",null,9000]
[null,{"$f":"IF(J100m!E126=\"\",\"\",J100m!E126)","v":""},{"$f":"IF(AND(J100m!A126=\"\",J100m!B126<>\"\"),\"\",IF(AND(J100m!A126=\"\",J100m!B126=\"\"),\"\",J100m!A126))","v":""},{"$f":"IF(C130=\"\",\"\",J100m!B126)","v":""},null,null,null,"",null,null,null,null,"",null,"",null,"",null,"",null,9000]
[null,{"$f":"IF(J100m!E127=\"\",\"\",J100m!E127)","v":""},{"$f":"IF(AND(J100m!A127=\"\",J100m!B127<>\"\"),\"\",IF(AND(J100m!A127=\"\",J100m!B127=\"\"),\"\",J100m!A127))","v":""},{"$f":"IF(C131=\"\",\"\",J100m!B127)","v":""},null,null,null,"",null,null,null,null,"",null,"",null,"",null,"",null,9000]
[null,{"$f":"IF(J100m!E128=\"\",\"\",J100m!E128)","v":""},{"$f":"IF(AND(J100m!A128=\"\",J100m!B128<>\"\"),\"\",IF(AND(J100m!A128=\"\",J100m!B128=\"\"),\"\",J100m!A128))","v":""},{"$f":"IF(C132=\"\",\"\",J100m!B128)","v":""},null,null,null,"",null,null,null,null,"",null,"",null,"",null,"",null,9000]
[null,{"$f":"IF(J100m!E129=\"\",\"\",J100m!E129)","v":""},{"$f":"IF(AND(J100m!A129=\"\",J100m!B129<>\"\"),\"\",IF(AND(J100m!A129=\"\",J100m!B129=\"\"),\"\",J100m!A129))","v":""},{"$f":"IF(C133=\"\",\"\",J100m!B129)","v":""},null,null,null,"",null,null,null,null,"",null,"",null,"",null,"",null,9000]
[null,{"$f":"IF(J100m!E130=\"\",\"\",J100m!E130)","v":""},{"$f":"IF(AND(J100m!A130=\"\",J100m!B130<>\"\"),\"\",IF(AND(J100m!A130=\"\",J100m!B130=\"\"),\"\",J100m!A130))","v":""},{"$f":"IF(C134=\"\",\"\",J100m!B130)","v":""},null,null,null,{"$f":"IF($C134=\"\",\"\",IF(OR($E134=\"DNF\",$F134=\"DNF\",$G134=\"DNF\",AND($E134=\"\",$F134=\"\",$G134=\"\")),\"DNF\",IF(OR($E134=\"NP\",$F134=\"NP\",$G134=\"NP\"),\"NP\",IF(ISERROR(MEDIAN($E134:$G134)),\"DNF\",IF(OR($E134=\"X\",$F134=\"X\",$G134=\"X\",$E134=\"\",$F134=\"\",$G134=\"\",$E134=\"x\",$F134=\"x\",$G134=\"x\"),MAX($E134:$G134),MEDIAN($E134:$G134))))))","v":""},null,null,null,null,{"$f":"IF($C134=\"\",\"\",IF(OR($J134=\"DNF\",$K134=\"DNF\",$L134=\"DNF\",AND($J134=\"\",$K134=\"\",$L134=\"\")),\"DNF\",IF(OR($J134=\"NP\",$K134=\"NP\",$L134=\"NP\"),\"NP\",IF(ISERROR(MEDIAN($J134:$L134)),\"DNF\",IF(OR($J134=\"X\",$K134=\"X\",$L134=\"X\",$J134=\"\",$K134=\"\",$L134=\"\",$J134=\"x\",$K134=\"x\",$L134=\"x\"),MAX($J134:$L134),MEDIAN($J134:$L134))))))","v":""},null,{"$f":"IF(C134=\"\",\"\",IF(OR(AND(H134=\"NP\",M134=\"NP\"),AND(H134=\"DNF\",M134=\"DNF\")),H134,IF(AND(H134=\"NP\",M134=\"DNF\"),H134,IF(AND(H134=\"DNF\",M134=\"NP\"),M134,MIN(H134,M134)))))","v":""},null,{"$f":"IF(C134=\"\",\"\",IF(OR(O134=\"NP\",O134=\"DNF\"),O134,RANK(O134,O$5:O$404,1)))","v":""},null,{"$f":"IF(C134=\"\",\"\",IF(O134=\"NP\",MAX(Q$5:Q$404)+1,IF(O134=\"DNF\",MAX(Q$5:Q$404)+COUNTIF(Q$5:Q$404,\"NP\")+1,RANK(O134,O$5:O$404,1))))","v":""},null,{"$f":"IF($C134=\"\",9000,MAX(H134,M134)+(COUNTIF($H134:$H134,\"NP\")*600)+(COUNTIF($M134:$M134,\"NP\")*600)+(COUNTIF($H134:$H134,\"DNF\")*3600)+(COUNTIF($M134:$M134,\"DNF\")*3600))","v":9000}]
[null,{"$f":"IF(J100m!E131=\"\",\"\",J100m!E131)","v":""},{"$f":"IF(AND(J100m!A131=\"\",J100m!B131<>\"\"),\"\",IF(AND(J100m!A131=\"\",J100m!B131=\"\"),\"\",J100m!A131))","v":""},{"$f":"IF(C135=\"\",\"\",J100m!B131)","v":""},null,null,null,"",null,null,null,null,"",null,"",null,"",null,"",null,9000]
[null,{"$f":"IF(J100m!E132=\"\",\"\",J100m!E132)","v":""},{"$f":"IF(AND(J100m!A132=\"\",J100m!B132<>\"\"),\"\",IF(AND(J100m!A132=\"\",J100m!B132=\"\"),\"\",J100m!A132))","v":""},{"$f":"IF(C136=\"\",\"\",J100m!B132)","v":""},null,null,null,"",null,null,null,null,"",null,"",null,"",null,"",null,9000]
[null,{"$f":"IF(J100m!E133=\"\",\"\",J100m!E133)","v":""},{"$f":"IF(AND(J100m!A133=\"\",J100m!B133<>\"\"),\"\",IF(AND(J100m!A133=\"\",J100m!B133=\"\"),\"\",J100m!A133))","v":""},{"$f":"IF(C137=\"\",\"\",J100m!B133)","v":""},null,null,null,"",null,null,null,null,"",null,"",null,"",null,"",null,9000]
[null,{"$f":"IF(J100m!E134=\"\",\"\",J100m!E134)","v":""},{"$f":"IF(AND(J100m!A134=\"\",J100m!B134<>\"\"),\"\",IF(AND(J100m!A134=\"\",J100m!B134=\"\"),\"\",J100m!A134))","v":""},{"$f":"IF(C138=\"\",\"\",J100m!B134)","v":""},null,null,null,"",null,null,null,null,"",null,"",null,"",null,"",null,9000]
[null,{"$f":"IF(J100m!E135=\"\",\"\",J100m!E135)","v":""},{"$f":"IF(AND(J100m!A135=\"\",J100m!B135<>\"\"),\"\",IF(AND(J100m!A135=\"\",J100m!B135=\"\"),\"\",J100m!A135))","v":""},{"$f":"IF(C139=\"\",\"\",J100m!B135)","v":""},null,null,null,"",null,null,null,null,"",null,"",null,"",null,"",null,9000]
[null,{"$f":"IF(J100m!E136=\"\",\"\",J100m!E136)","v":""},{"$f":"IF(AND(J100m!A136=\"\",J100m!B136<>\"\"),\"\",IF(AND(J100m!A136=\"\",J100m!B136=\"\"),\"\",J100m!A136))","v":""},{"$f":"IF(C140=\"\",\"\",J100m!B136)","v":""},null,null,null,"",null,null,null,null,"",null,"",null,"",null,"",null,9000]
[null,{"$f":"IF(J100m!E137=\"\",\"\",J100m!E137)","v":""},{"$f":"IF(AND(J100m!A137=\"\",J100m!B137<>\"\"),\"\",IF(AND(J100m!A137=\"\",J100m!B137=\"\"),\"\",J100m!A137))","v":""},{"$f":"IF(C141=\"\",\"\",J100m!B137)","v":""},null,null,null,"",null,null,null,null,"",null,"",null,"",null,"",null,9000]
[null,{"$f":"IF(J100m!E138=\"\",\"\",J100m!E138)","v":""},{"$f":"IF(AND(J100m!A138=\"\",J100m!B138<>\"\"),\"\",IF(AND(J100m!A138=\"\",J100m!B138=\"\"),\"\",J100m!A138))","v":""},{"$f":"IF(C142=\"\",\"\",J100m!B138)","v":""},null,null,null,"",null,null,null,null,"",null,"",null,"",null,"",null,9000]
[null,{"$f":"IF(J100m!E139=\"\",\"\",J100m!E139)","v":""},{"$f":"IF(AND(J100m!A139=\"\",J100m!B139<>\"\"),\"\",IF(AND(J100m!A139=\"\",J100m!B139=\"\"),\"\",J100m!A139))","v":""},{"$f":"IF(C143=\"\",\"\",J100m!B139)","v":""},null,null,null,"",null,null,null,null,"",null,"",null,"",null,"",null,9000]
[null,{"$f":"IF(J100m!E140=\"\",\"\",J100m!E140)","v":""},{"$f":"IF(AND(J100m!A140=\"\",J100m!B140<>\"\"),\"\",IF(AND(J100m!A140=\"\",J100m!B140=\"\"),\"\",J100m!A140))","v":""},{"$f":"IF(C144=\"\",\"\",J100m!B140)","v":""},null,null,null,"",null,null,null,null,"",null,"",null,"",null,"",null,9000]
[null,{"$f":"IF(J100m!E141=\"\",\"\",J100m!E141)","v":""},{"$f":"IF(AND(J100m!A141=\"\",J100m!B141<>\"\"),\"\",IF(AND(J100m!A141=\"\",J100m!B141=\"\"),\"\",J100m!A141))","v":""},{"$f":"IF(C145=\"\",\"\",J100m!B141)","v":""},null,null,null,"",null,null,null,null,"",null,"",null,"",null,"",null,9000]
[null,{"$f":"IF(J100m!E142=\"\",\"\",J100m!E142)","v":""},{"$f":"IF(AND(J100m!A142=\"\",J100m!B142<>\"\"),\"\",IF(AND(J100m!A142=\"\",J100m!B142=\"\"),\"\",J100m!A142))","v":""},{"$f":"IF(C146=\"\",\"\",J100m!B142)","v":""},null,null,null,"",null,null,null,null,"",null,"",null,"",null,"",null,9000]
[null,{"$f":"IF(J100m!E143=\"\",\"\",J100m!E143)","v":""},{"$f":"IF(AND(J100m!A143=\"\",J100m!B143<>\"\"),\"\",IF(AND(J100m!A143=\"\",J100m!B143=\"\"),\"\",J100m!A143))","v":""},{"$f":"IF(C147=\"\",\"\",J100m!B143)","v":""},null,null,null,"",null,null,null,null,"",null,"",null,"",null,"",null,9000]
[null,{"$f":"IF(J100m!E144=\"\",\"\",J100m!E144)","v":""},{"$f":"IF(AND(J100m!A144=\"\",J100m!B144<>\"\"),\"\",IF(AND(J100m!A144=\"\",J100m!B144=\"\"),\"\",J100m!A144))","v":""},{"$f":"IF(C148=\"\",\"\",J100m!B144)","v":""},null,null,null,"",null,null,null,null,"",null,"",null,"",null,"",null,9000]
[null,{"$f":"IF(J100m!E145=\"\",\"\",J100m!E145)","v":""},{"$f":"IF(AND(J100m!A145=\"\",J100m!B145<>\"\"),\"\",IF(AND(J100m!A145=\"\",J100m!B145=\"\"),\"\",J100m!A145))","v":""},{"$f":"IF(C149=\"\",\"\",J100m!B145)","v":""},null,null,null,"",null,null,null,null,"",null,"",null,"",null,"",null,9000]
[null,{"$f":"IF(J100m!E146=\"\",\"\",J100m!E146)","v":""},{"$f":"IF(AND(J100m!A146=\"\",J100m!B146<>\"\"),\"\",IF(AND(J100m!A146=\"\",J100m!B146=\"\"),\"\",J100m!A146))","v":""},{"$f":"IF(C150=\"\",\"\",J100m!B146)","v":""},null,null,null,"",null,null,null,null,"",null,"",null,"",null,"",null,9000]
[null,{"$f":"IF(J100m!E147=\"\",\"\",J100m!E147)","v":""},{"$f":"IF(AND(J100m!A147=\"\",J100m!B147<>\"\"),\"\",IF(AND(J100m!A147=\"\",J100m!B147=\"\"),\"\",J100m!A147))","v":""},{"$f":"IF(C151=\"\",\"\",J100m!B147)","v":""},null,null,null,"",null,null,null,null,"",null,"",null,"",null,"",null,9000]
[null,{"$f":"IF(J100m!E148=\"\",\"\",J100m!E148)","v":""},{"$f":"IF(AND(J100m!A148=\"\",J100m!B148<>\"\"),\"\",IF(AND(J100m!A148=\"\",J100m!B148=\"\"),\"\",J100m!A148))","v":""},{"$f":"IF(C152=\"\",\"\",J100m!B148)","v":""},null,null,null,"",null,null,null,null,"",null,"",null,"",null,"",null,9000]
[null,{"$f":"IF(J100m!E149=\"\",\"\",J100m!E149)","v":""},{"$f":"IF(AND(J100m!A149=\"\",J100m!B149<>\"\"),\"\",IF(AND(J100m!A149=\"\",J100m!B149=\"\"),\"\",J100m!A149))","v":""},{"$f":"IF(C153=\"\",\"\",J100m!B149)","v":""},null,null,null,"",null,null,null,null,"",null,"",null,"",null,"",null,9000]
[null,{"$f":"IF(J100m!E150=\"\",\"\",J100m!E150)","v":""},{"$f":"IF(AND(J100m!A150=\"\",J100m!B150<>\"\"),\"\",IF(AND(J100m!A150=\"\",J100m!B150=\"\"),\"\",J100m!A150))","v":""},{"$f":"IF(C154=\"\",\"\",J100m!B150)","v":""},null,null,null,"",null,null,null,null,"",null,"",null,"",null,"",null,9000]
[null,{"$f":"IF(J100m!E151=\"\",\"\",J100m!E151)","v":""},{"$f":"IF(AND(J100m!A151=\"\",J100m!B151<>\"\"),\"\",IF(AND(J100m!A151=\"\",J100m!B151=\"\"),\"\",J100m!A151))","v":""},{"$f":"IF(C155=\"\",\"\",J100m!B151)","v":""},null,null,null,"",null,null,null,null,"",null,"",null,"",null,"",null,9000]
[null,{"$f":"IF(J100m!E152=\"\",\"\",J100m!E152)","v":""},{"$f":"IF(AND(J100m!A152=\"\",J100m!B152<>\"\"),\"\",IF(AND(J100m!A152=\"\",J100m!B152=\"\"),\"\",J100m!A152))","v":""},{"$f":"IF(C156=\"\",\"\",J100m!B152)","v":""},null,null,null,"",null,null,null,null,"",null,"",null,"",null,"",null,9000]
[null,{"$f":"IF(J100m!E153=\"\",\"\",J100m!E153)","v":""},{"$f":"IF(AND(J100m!A153=\"\",J100m!B153<>\"\"),\"\",IF(AND(J100m!A153=\"\",J100m!B153=\"\"),\"\",J100m!A153))","v":""},{"$f":"IF(C157=\"\",\"\",J100m!B153)","v":""},null,null,null,"",null,null,null,null,"",null,"",null,"",null,"",null,9000]
[null,{"$f":"IF(J100m!E154=\"\",\"\",J100m!E154)","v":""},{"$f":"IF(AND(J100m!A154=\"\",J100m!B154<>\"\"),\"\",IF(AND(J100m!A154=\"\",J100m!B154=\"\"),\"\",J100m!A154))","v":""},{"$f":"IF(C158=\"\",\"\",J100m!B154)","v":""},null,null,null,"",null,null,null,null,"",null,"",null,"",null,"",null,9000]
[null,{"$f":"IF(J100m!E155=\"\",\"\",J100m!E155)","v":""},{"$f":"IF(AND(J100m!A155=\"\",J100m!B155<>\"\"),\"\",IF(AND(J100m!A155=\"\",J100m!B155=\"\"),\"\",J100m!A155))","v":""},{"$f":"IF(C159=\"\",\"\",J100m!B155)","v":""},null,null,null,"",null,null,null,null,"",null,"",null,"",null,"",null,9000]
[null,{"$f":"IF(J100m!E156=\"\",\"\",J100m!E156)","v":""},{"$f":"IF(AND(J100m!A156=\"\",J100m!B156<>\"\"),\"\",IF(AND(J100m!A156=\"\",J100m!B156=\"\"),\"\",J100m!A156))","v":""},{"$f":"IF(C160=\"\",\"\",J100m!B156)","v":""},null,null,null,"",null,null,null,null,"",null,"",null,"",null,"",null,9000]
[null,{"$f":"IF(J100m!E157=\"\",\"\",J100m!E157)","v":""},{"$f":"IF(AND(J100m!A157=\"\",J100m!B157<>\"\"),\"\",IF(AND(J100m!A157=\"\",J100m!B157=\"\"),\"\",J100m!A157))","v":""},{"$f":"IF(C161=\"\",\"\",J100m!B157)","v":""},null,null,null,"",null,null,null,null,"",null,"",null,"",null,"",null,9000]
[null,{"$f":"IF(J100m!E158=\"\",\"\",J100m!E158)","v":""},{"$f":"IF(AND(J100m!A158=\"\",J100m!B158<>\"\"),\"\",IF(AND(J100m!A158=\"\",J100m!B158=\"\"),\"\",J100m!A158))","v":""},{"$f":"IF(C162=\"\",\"\",J100m!B158)","v":""},null,null,null,"",null,null,null,null,"",null,"",null,"",null,"",null,9000]
[null,{"$f":"IF(J100m!E159=\"\",\"\",J100m!E159)","v":""},{"$f":"IF(AND(J100m!A159=\"\",J100m!B159<>\"\"),\"\",IF(AND(J100m!A159=\"\",J100m!B159=\"\"),\"\",J100m!A159))","v":""},{"$f":"IF(C163=\"\",\"\",J100m!B159)","v":""},null,null,null,"",null,null,null,null,"",null,"",null,"",null,"",null,9000]
[null,{"$f":"IF(J100m!E160=\"\",\"\",J100m!E160)","v":""},{"$f":"IF(AND(J100m!A160=\"\",J100m!B160<>\"\"),\"\",IF(AND(J100m!A160=\"\",J100m!B160=\"\"),\"\",J100m!A160))","v":""},{"$f":"IF(C164=\"\",\"\",J100m!B160)","v":""},null,null,null,"",null,null,null,null,"",null,"",null,"",null,"",null,9000]
[null,{"$f":"IF(J100m!E161=\"\",\"\",J100m!E161)","v":""},{"$f":"IF(AND(J100m!A161=\"\",J100m!B161<>\"\"),\"\",IF(AND(J100m!A161=\"\",J100m!B161=\"\"),\"\",J100m!A161))","v":""},{"$f":"IF(C165=\"\",\"\",J100m!B161)","v":""},null,null,null,"",null,null,null,null,"",null,"",null,"",null,"",null,9000]
[null,{"$f":"IF(J100m!E162=\"\",\"\",J100m!E162)","v":""},{"$f":"IF(AND(J100m!A162=\"\",J100m!B162<>\"\"),\"\",IF(AND(J100m!A162=\"\",J100m!B162=\"\"),\"\",J100m!A162))","v":""},{"$f":"IF(C166=\"\",\"\",J100m!B162)","v":""},null,null,null,"",null,null,null,null,"",null,"",null,"",null,"",null,9000]
[null,{"$f":"IF(J100m!E163=\"\",\"\",J100m!E163)","v":""},{"$f":"IF(AND(J100m!A163=\"\",J100m!B163<>\"\"),\"\",IF(AND(J100m!A163=\"\",J100m!B163=\"\"),\"\",J100m!A163))","v":""},{"$f":"IF(C167=\"\",\"\",J100m!B163)","v":""},null,null,null,"",null,null,null,null,"",null,"",null,"",null,"",null,9000]
[null,{"$f":"IF(J100m!E164=\"\",\"\",J100m!E164)","v":""},{"$f":"IF(AND(J100m!A164=\"\",J100m!B164<>\"\"),\"\",IF(AND(J100m!A164=\"\",J100m!B164=\"\"),\"\",J100m!A164))","v":""},{"$f":"IF(C168=\"\",\"\",J100m!B164)","v":""},null,null,null,"",null,null,null,null,"",null,"",null,"",null,"",null,9000]
[null,{"$f":"IF(J100m!E165=\"\",\"\",J100m!E165)","v":""},{"$f":"IF(AND(J100m!A165=\"\",J100m!B165<>\"\"),\"\",IF(AND(J100m!A165=\"\",J100m!B165=\"\"),\"\",J100m!A165))","v":""},{"$f":"IF(C169=\"\",\"\",J100m!B165)","v":""},null,null,null,"",null,null,null,null,"",null,"",null,"",null,"",null,9000]
[null,{"$f":"IF(J100m!E166=\"\",\"\",J100m!E166)","v":""},{"$f":"IF(AND(J100m!A166=\"\",J100m!B166<>\"\"),\"\",IF(AND(J100m!A166=\"\",J100m!B166=\"\"),\"\",J100m!A166))","v":""},{"$f":"IF(C170=\"\",\"\",J100m!B166)","v":""},null,null,null,"",null,null,null,null,"",null,"",null,"",null,"",null,9000]
[null,{"$f":"IF(J100m!E167=\"\",\"\",J100m!E167)","v":""},{"$f":"IF(AND(J100m!A167=\"\",J100m!B167<>\"\"),\"\",IF(AND(J100m!A167=\"\",J100m!B167=\"\"),\"\",J100m!A167))","v":""},{"$f":"IF(C171=\"\",\"\",J100m!B167)","v":""},null,null,null,"",null,null,null,null,"",null,"",null,"",null,"",null,9000]
[null,{"$f":"IF(J100m!E168=\"\",\"\",J100m!E168)","v":""},{"$f":"IF(AND(J100m!A168=\"\",J100m!B168<>\"\"),\"\",IF(AND(J100m!A168=\"\",J100m!B168=\"\"),\"\",J100m!A168))","v":""},{"$f":"IF(C172=\"\",\"\",J100m!B168)","v":""},null,null,null,"",null,null,null,null,"",null,"",null,"",null,"",null,9000]
[null,{"$f":"IF(J100m!E169=\"\",\"\",J100m!E169)","v":""},{"$f":"IF(AND(J100m!A169=\"\",J100m!B169<>\"\"),\"\",IF(AND(J100m!A169=\"\",J100m!B169=\"\"),\"\",J100m!A169))","v":""},{"$f":"IF(C173=\"\",\"\",J100m!B169)","v":""},null,null,null,"",null,null,null,null,"",null,"",null,"",null,"",null,9000]
[null,{"$f":"IF(J100m!E170=\"\",\"\",J100m!E170)","v":""},{"$f":"IF(AND(J100m!A170=\"\",J100m!B170<>\"\"),\"\",IF(AND(J100m!A170=\"\",J100m!B170=\"\"),\"\",J100m!A170))","v":""},{"$f":"IF(C174=\"\",\"\",J100m!B170)","v":""},null,null,null,"",null,null,null,null,"",null,"",null,"",null,"",null,9000]
[null,{"$f":"IF(J100m!E171=\"\",\"\",J100m!E171)","v":""},{"$f":"IF(AND(J100m!A171=\"\",J100m!B171<>\"\"),\"\",IF(AND(J100m!A171=\"\",J100m!B171=\"\"),\"\",J100m!A171))","v":""},{"$f":"IF(C175=\"\",\"\",J100m!B171)","v":""},null,null,null,"",null,null,null,null,"",null,"",null,"",null,"",null,9000]
[null,{"$f":"IF(J100m!E172=\"\",\"\",J100m!E172)","v":""},{"$f":"IF(AND(J100m!A172=\"\",J100m!B172<>\"\"),\"\",IF(AND(J100m!A172=\"\",J100m!B172=\"\"),\"\",J100m!A172))","v":""},{"$f":"IF(C176=\"\",\"\",J100m!B172)","v":""},null,null,null,"",null,null,null,null,"",null,"",null,"",null,"",null,9000]
[null,{"$f":"IF(J100m!E173=\"\",\"\",J100m!E173)","v":""},{"$f":"IF(AND(J100m!A173=\"\",J100m!B173<>\"\"),\"\",IF(AND(J100m!A173=\"\",J100m!B173=\"\"),\"\",J100m!A173))","v":""},{"$f":"IF(C177=\"\",\"\",J100m!B173)","v":""},null,null,null,"",null,null,null,null,"",null,"",null,"",null,"",null,9000]
[null,{"$f":"IF(J100m!E174=\"\",\"\",J100m!E174)","v":""},{"$f":"IF(AND(J100m!A174=\"\",J100m!B174<>\"\"),\"\",IF(AND(J100m!A174=\"\",J100m!B174=\"\"),\"\",J100m!A174))","v":""},{"$f":"IF(C178=\"\",\"\",J100m!B174)","v":""},null,null,null,"",null,null,null,null,"",null,"",null,"",null,"",null,9000]
[null,{"$f":"IF(J100m!E175=\"\",\"\",J100m!E175)","v":""},{"$f":"IF(AND(J100m!A175=\"\",J100m!B175<>\"\"),\"\",IF(AND(J100m!A175=\"\",J100m!B175=\"\"),\"\",J100m!A175))","v":""},{"$f":"IF(C179=\"\",\"\",J100m!B175)","v":""},null,null,null,"",null,null,null,null,"",null,"",null,"",null,"",null,9000]
[null,{"$f":"IF(J100m!E176=\"\",\"\",J100m!E176)","v":""},{"$f":"IF(AND(J100m!A176=\"\",J100m!B176<>\"\"),\"\",IF(AND(J100m!A176=\"\",J100m!B176=\"\"),\"\",J100m!A176))","v":""},{"$f":"IF(C180=\"\",\"\",J100m!B176)","v":""},null,null,null,"",null,null,null,null,"",null,"",null,"",null,"",null,9000]
[null,{"$f":"IF(J100m!E177=\"\",\"\",J100m!E177)","v":""},{"$f":"IF(AND(J100m!A177=\"\",J100m!B177<>\"\"),\"\",IF(AND(J100m!A177=\"\",J100m!B177=\"\"),\"\",J100m!A177))","v":""},{"$f":"IF(C181=\"\",\"\",J100m!B177)","v":""},null,null,null,"",null,null,null,null,"",null,"",null,"",null,"",null,9000]
[null,{"$f":"IF(J100m!E178=\"\",\"\",J100m!E178)","v":""},{"$f":"IF(AND(J100m!A178=\"\",J100m!B178<>\"\"),\"\",IF(AND(J100m!A178=\"\",J100m!B178=\"\"),\"\",J100m!A178))","v":""},{"$f":"IF(C182=\"\",\"\",J100m!B178)","v":""},null,null,null,"",null,null,null,null,"",null,"",null,"",null,"",null,9000]
[null,{"$f":"IF(J100m!E179=\"\",\"\",J100m!E179)","v":""},{"$f":"IF(AND(J100m!A179=\"\",J100m!B179<>\"\"),\"\",IF(AND(J100m!A179=\"\",J100m!B179=\"\"),\"\",J100m!A179))","v":""},{"$f":"IF(C183=\"\",\"\",J100m!B179)","v":""},null,null,null,"",null,null,null,null,"",null,"",null,"",null,"",null,9000]
[null,{"$f":"IF(J100m!E180=\"\",\"\",J100m!E180)","v":""},{"$f":"IF(AND(J100m!A180=\"\",J100m!B180<>\"\"),\"\",IF(AND(J100m!A180=\"\",J100m!B180=\"\"),\"\",J100m!A180))","v":""},{"$f":"IF(C184=\"\",\"\",J100m!B180)","v":""},null,null,null,"",null,null,null,null,"",null,"",null,"",null,"",null,9000]
[null,{"$f":"IF(J100m!E181=\"\",\"\",J100m!E181)","v":""},{"$f":"IF(AND(J100m!A181=\"\",J100m!B181<>\"\"),\"\",IF(AND(J100m!A181=\"\",J100m!B181=\"\"),\"\",J100m!A181))","v":""},{"$f":"IF(C185=\"\",\"\",J100m!B181)","v":""},null,null,null,"",null,null,null,null,"",null,"",null,"",null,"",null,9000]
[null,{"$f":"IF(J100m!E182=\"\",\"\",J100m!E182)","v":""},{"$f":"IF(AND(J100m!A182=\"\",J100m!B182<>\"\"),\"\",IF(AND(J100m!A182=\"\",J100m!B182=\"\"),\"\",J100m!A182))","v":""},{"$f":"IF(C186=\"\",\"\",J100m!B182)","v":""},null,null,null,"",null,null,null,null,"",null,"",null,"",null,"",null,9000]
[null,{"$f":"IF(J100m!E183=\"\",\"\",J100m!E183)","v":""},{"$f":"IF(AND(J100m!A183=\"\",J100m!B183<>\"\"),\"\",IF(AND(J100m!A183=\"\",J100m!B183=\"\"),\"\",J100m!A183))","v":""},{"$f":"IF(C187=\"\",\"\",J100m!B183)","v":""},null,null,null,"",null,null,null,null,"",null,"",null,"",null,"",null,9000]
[null,{"$f":"IF(J100m!E184=\"\",\"\",J100m!E184)","v":""},{"$f":"IF(AND(J100m!A184=\"\",J100m!B184<>\"\"),\"\",IF(AND(J100m!A184=\"\",J100m!B184=\"\"),\"\",J100m!A184))","v":""},{"$f":"IF(C188=\"\",\"\",J100m!B184)","v":""},null,null,null,"",null,null,null,null,"",null,"",null,"",null,"",null,9000]
[null,{"$f":"IF(J100m!E185=\"\",\"\",J100m!E185)","v":""},{"$f":"IF(AND(J100m!A185=\"\",J100m!B185<>\"\"),\"\",IF(AND(J100m!A185=\"\",J100m!B185=\"\"),\"\",J100m!A185))","v":""},{"$f":"IF(C189=\"\",\"\",J100m!B185)","v":""},null,null,null,"",null,null,null,null,"",null,"",null,"",null,"",null,9000]
[null,{"$f":"IF(J100m!E186=\"\",\"\",J100m!E186)","v":""},{"$f":"IF(AND(J100m!A186=\"\",J100m!B186<>\"\"),\"\",IF(AND(J100m!A186=\"\",J100m!B186=\"\"),\"\",J100m!A186))","v":""},{"$f":"IF(C190=\"\",\"\",J100m!B186)","v":""},null,null,null,"",null,null,null,null,"",null,"",null,"",null,"",null,9000]
[null,{"$f":"IF(J100m!E187=\"\",\"\",J100m!E187)","v":""},{"$f":"IF(AND(J100m!A187=\"\",J100m!B187<>\"\"),\"\",IF(AND(J100m!A187=\"\",J100m!B187=\"\"),\"\",J100m!A187))","v":""},{"$f":"IF(C191=\"\",\"\",J100m!B187)","v":""},null,null,null,"",null,null,null,null,"",null,"",null,"",null,"",null,9000]
[null,{"$f":"IF(J100m!E188=\"\",\"\",J100m!E188)","v":""},{"$f":"IF(AND(J100m!A188=\"\",J100m!B188<>\"\"),\"\",IF(AND(J100m!A188=\"\",J100m!B188=\"\"),\"\",J100m!A188))","v":""},{"$f":"IF(C192=\"\",\"\",J100m!B188)","v":""},null,null,null,"",null,null,null,null,"",null,"",null,"",null,"",null,9000]
[null,{"$f":"IF(J100m!E189=\"\",\"\",J100m!E189)","v":""},{"$f":"IF(AND(J100m!A189=\"\",J100m!B189<>\"\"),\"\",IF(AND(J100m!A189=\"\",J100m!B189=\"\"),\"\",J100m!A189))","v":""},{"$f":"IF(C193=\"\",\"\",J100m!B189)","v":""},null,null,null,"",null,null,null,null,"",null,"",null,"",null,"",null,9000]
[null,{"$f":"IF(J100m!E190=\"\",\"\",J100m!E190)","v":""},{"$f":"IF(AND(J100m!A190=\"\",J100m!B190<>\"\"),\"\",IF(AND(J100m!A190=\"\",J100m!B190=\"\"),\"\",J100m!A190))","v":""},{"$f":"IF(C194=\"\",\"\",J100m!B190)","v":""},null,null,null,"",null,null,null,null,"",null,"",null,"",null,"",null,9000]
[null,{"$f":"IF(J100m!E191=\"\",\"\",J100m!E191)","v":""},{"$f":"IF(AND(J100m!A191=\"\",J100m!B191<>\"\"),\"\",IF(AND(J100m!A191=\"\",J100m!B191=\"\"),\"\",J100m!A191))","v":""},{"$f":"IF(C195=\"\",\"\",J100m!B191)","v":""},null,null,null,"",null,null,null,null,"",null,"",null,"",null,"",null,9000]
[null,{"$f":"IF(J100m!E192=\"\",\"\",J100m!E192)","v":""},{"$f":"IF(AND(J100m!A192=\"\",J100m!B192<>\"\"),\"\",IF(AND(J100m!A192=\"\",J100m!B192=\"\"),\"\",J100m!A192))","v":""},{"$f":"IF(C196=\"\",\"\",J100m!B192)","v":""},null,null,null,"",null,null,null,null,"",null,"",null,"",null,"",null,9000]
[null,{"$f":"IF(J100m!E193=\"\",\"\",J100m!E193)","v":""},{"$f":"IF(AND(J100m!A193=\"\",J100m!B193<>\"\"),\"\",IF(AND(J100m!A193=\"\",J100m!B193=\"\"),\"\",J100m!A193))","v":""},{"$f":"IF(C197=\"\",\"\",J100m!B193)","v":""},null,null,null,"",null,null,null,null,"",null,"",null,"",null,"",null,9000]
[null,{"$f":"IF(J100m!E194=\"\",\"\",J100m!E194)","v":""},{"$f":"IF(AND(J100m!A194=\"\",J100m!B194<>\"\"),\"\",IF(AND(J100m!A194=\"\",J100m!B194=\"\"),\"\",J100m!A194))","v":""},{"$f":"IF(C198=\"\",\"\",J100m!B194)","v":""},null,null,null,{"$f":"IF($C198=\"\",\"\",IF(OR($E198=\"DNF\",$F198=\"DNF\",$G198=\"DNF\",AND($E198=\"\",$F198=\"\",$G198=\"\")),\"DNF\",IF(OR($E198=\"NP\",$F198=\"NP\",$G198=\"NP\"),\"NP\",IF(ISERROR(MEDIAN($E198:$G198)),\"DNF\",IF(OR($E198=\"X\",$F198=\"X\",$G198=\"X\",$E198=\"\",$F198=\"\",$G198=\"\",$E198=\"x\",$F198=\"x\",$G198=\"x\"),MAX($E198:$G198),MEDIAN($E198:$G198))))))","v":""},null,null,null,null,{"$f":"IF($C198=\"\",\"\",IF(OR($J198=\"DNF\",$K198=\"DNF\",$L198=\"DNF\",AND($J198=\"\",$K198=\"\",$L198=\"\")),\"DNF\",IF(OR($J198=\"NP\",$K198=\"NP\",$L198=\"NP\"),\"NP\",IF(ISERROR(MEDIAN($J198:$L198)),\"DNF\",IF(OR($J198=\"X\",$K198=\"X\",$L198=\"X\",$J198=\"\",$K198=\"\",$L198=\"\",$J198=\"x\",$K198=\"x\",$L198=\"x\"),MAX($J198:$L198),MEDIAN($J198:$L198))))))","v":""},null,{"$f":"IF(C198=\"\",\"\",IF(OR(AND(H198=\"NP\",M198=\"NP\"),AND(H198=\"DNF\",M198=\"DNF\")),H198,IF(AND(H198=\"NP\",M198=\"DNF\"),H198,IF(AND(H198=\"DNF\",M198=\"NP\"),M198,MIN(H198,M198)))))","v":""},null,{"$f":"IF(C198=\"\",\"\",IF(OR(O198=\"NP\",O198=\"DNF\"),O198,RANK(O198,O$5:O$404,1)))","v":""},null,{"$f":"IF(C198=\"\",\"\",IF(O198=\"NP\",MAX(Q$5:Q$404)+1,IF(O198=\"DNF\",MAX(Q$5:Q$404)+COUNTIF(Q$5:Q$404,\"NP\")+1,RANK(O198,O$5:O$404,1))))","v":""},null,{"$f":"IF($C198=\"\",9000,MAX(H198,M198)+(COUNTIF($H198:$H198,\"NP\")*600)+(COUNTIF($M198:$M198,\"NP\")*600)+(COUNTIF($H198:$H198,\"DNF\")*3600)+(COUNTIF($M198:$M198,\"DNF\")*3600))","v":9000}]
[null,{"$f":"IF(J100m!E195=\"\",\"\",J100m!E195)","v":""},{"$f":"IF(AND(J100m!A195=\"\",J100m!B195<>\"\"),\"\",IF(AND(J100m!A195=\"\",J100m!B195=\"\"),\"\",J100m!A195))","v":""},{"$f":"IF(C199=\"\",\"\",J100m!B195)","v":""},null,null,null,"",null,null,null,null,"",null,"",null,"",null,"",null,9000]
[null,{"$f":"IF(J100m!E196=\"\",\"\",J100m!E196)","v":""},{"$f":"IF(AND(J100m!A196=\"\",J100m!B196<>\"\"),\"\",IF(AND(J100m!A196=\"\",J100m!B196=\"\"),\"\",J100m!A196))","v":""},{"$f":"IF(C200=\"\",\"\",J100m!B196)","v":""},null,null,null,"",null,null,null,null,"",null,"",null,"",null,"",null,9000]
[null,{"$f":"IF(J100m!E197=\"\",\"\",J100m!E197)","v":""},{"$f":"IF(AND(J100m!A197=\"\",J100m!B197<>\"\"),\"\",IF(AND(J100m!A197=\"\",J100m!B197=\"\"),\"\",J100m!A197))","v":""},{"$f":"IF(C201=\"\",\"\",J100m!B197)","v":""},null,null,null,"",null,null,null,null,"",null,"",null,"",null,"",null,9000]
[null,{"$f":"IF(J100m!E198=\"\",\"\",J100m!E198)","v":""},{"$f":"IF(AND(J100m!A198=\"\",J100m!B198<>\"\"),\"\",IF(AND(J100m!A198=\"\",J100m!B198=\"\"),\"\",J100m!A198))","v":""},{"$f":"IF(C202=\"\",\"\",J100m!B198)","v":""},null,null,null,"",null,null,null,null,"",null,"",null,"",null,"",null,9000]
[null,{"$f":"IF(J100m!E199=\"\",\"\",J100m!E199)","v":""},{"$f":"IF(AND(J100m!A199=\"\",J100m!B199<>\"\"),\"\",IF(AND(J100m!A199=\"\",J100m!B199=\"\"),\"\",J100m!A199))","v":""},{"$f":"IF(C203=\"\",\"\",J100m!B199)","v":""},null,null,null,"",null,null,null,null,"",null,"",null,"",null,"",null,9000]
[null,{"$f":"IF(J100m!E200=\"\",\"\",J100m!E200)","v":""},{"$f":"IF(AND(J100m!A200=\"\",J100m!B200<>\"\"),\"\",IF(AND(J100m!A200=\"\",J100m!B200=\"\"),\"\",J100m!A200))","v":""},{"$f":"IF(C204=\"\",\"\",J100m!B200)","v":""},null,null,null,"",null,null,null,null,"",null,"",null,"",null,"",null,9000]
[null,{"$f":"IF(J100m!E201=\"\",\"\",J100m!E201)","v":""},{"$f":"IF(AND(J100m!A201=\"\",J100m!B201<>\"\"),\"\",IF(AND(J100m!A201=\"\",J100m!B201=\"\"),\"\",J100m!A201))","v":""},{"$f":"IF(C205=\"\",\"\",J100m!B201)","v":""},null,null,null,"",null,null,null,null,"",null,"",null,"",null,"",null,9000]
[null,{"$f":"IF(J100m!E202=\"\",\"\",J100m!E202)","v":""},{"$f":"IF(AND(J100m!A202=\"\",J100m!B202<>\"\"),\"\",IF(AND(J100m!A202=\"\",J100m!B202=\"\"),\"\",J100m!A202))","v":""},{"$f":"IF(C206=\"\",\"\",J100m!B202)","v":""},null,null,null,"",null,null,null,null,"",null,"",null,"",null,"",null,9000]
[null,{"$f":"IF(J100m!E203=\"\",\"\",J100m!E203)","v":""},{"$f":"IF(AND(J100m!A203=\"\",J100m!B203<>\"\"),\"\",IF(AND(J100m!A203=\"\",J100m!B203=\"\"),\"\",J100m!A203))","v":""},{"$f":"IF(C207=\"\",\"\",J100m!B203)","v":""},null,null,null,"",null,null,null,null,"",null,"",null,"",null,"",null,9000]
[null,{"$f":"IF(J100m!E204=\"\",\"\",J100m!E204)","v":""},{"$f":"IF(AND(J100m!A204=\"\",J100m!B204<>\"\"),\"\",IF(AND(J100m!A204=\"\",J100m!B204=\"\"),\"\",J100m!A204))","v":""},{"$f":"IF(C208=\"\",\"\",J100m!B204)","v":""},null,null,null,"",null,null,null,null,"",null,"",null,"",null,"",null,9000]
[null,{"$f":"IF(J100m!E205=\"\",\"\",J100m!E205)","v":""},{"$f":"IF(AND(J100m!A205=\"\",J100m!B205<>\"\"),\"\",IF(AND(J100m!A205=\"\",J100m!B205=\"\"),\"\",J100m!A205))","v":""},{"$f":"IF(C209=\"\",\"\",J100m!B205)","v":""},null,null,null,"",null,null,null,null,"",null,"",null,"",null,"",null,9000]
[null,{"$f":"IF(J100m!E206=\"\",\"\",J100m!E206)","v":""},{"$f":"IF(AND(J100m!A206=\"\",J100m!B206<>\"\"),\"\",IF(AND(J100m!A206=\"\",J100m!B206=\"\"),\"\",J100m!A206))","v":""},{"$f":"IF(C210=\"\",\"\",J100m!B206)","v":""},null,null,null,"",null,null,null,null,"",null,"",null,"",null,"",null,9000]
[null,{"$f":"IF(J100m!E207=\"\",\"\",J100m!E207)","v":""},{"$f":"IF(AND(J100m!A207=\"\",J100m!B207<>\"\"),\"\",IF(AND(J100m!A207=\"\",J100m!B207=\"\"),\"\",J100m!A207))","v":""},{"$f":"IF(C211=\"\",\"\",J100m!B207)","v":""},null,null,null,"",null,null,null,null,"",null,"",null,"",null,"",null,9000]
[null,{"$f":"IF(J100m!E208=\"\",\"\",J100m!E208)","v":""},{"$f":"IF(AND(J100m!A208=\"\",J100m!B208<>\"\"),\"\",IF(AND(J100m!A208=\"\",J100m!B208=\"\"),\"\",J100m!A208))","v":""},{"$f":"IF(C212=\"\",\"\",J100m!B208)","v":""},null,null,null,"",null,null,null,null,"",null,"",null,"",null,"",null,9000]
[null,{"$f":"IF(J100m!E209=\"\",\"\",J100m!E209)","v":""},{"$f":"IF(AND(J100m!A209=\"\",J100m!B209<>\"\"),\"\",IF(AND(J100m!A209=\"\",J100m!B209=\"\"),\"\",J100m!A209))","v":""},{"$f":"IF(C213=\"\",\"\",J100m!B209)","v":""},null,null,null,"",null,null,null,null,"",null,"",null,"",null,"",null,9000]
[null,{"$f":"IF(J100m!E210=\"\",\"\",J100m!E210)","v":""},{"$f":"IF(AND(J100m!A210=\"\",J100m!B210<>\"\"),\"\",IF(AND(J100m!A210=\"\",J100m!B210=\"\"),\"\",J100m!A210))","v":""},{"$f":"IF(C214=\"\",\"\",J100m!B210)","v":""},null,null,null,"",null,null,null,null,"",null,"",null,"",null,"",null,9000]
[null,{"$f":"IF(J100m!E211=\"\",\"\",J100m!E211)","v":""},{"$f":"IF(AND(J100m!A211=\"\",J100m!B211<>\"\"),\"\",IF(AND(J100m!A211=\"\",J100m!B211=\"\"),\"\",J100m!A211))","v":""},{"$f":"IF(C215=\"\",\"\",J100m!B211)","v":""},null,null,null,"",null,null,null,null,"",null,"",null,"",null,"",null,9000]
[null,{"$f":"IF(J100m!E212=\"\",\"\",J100m!E212)","v":""},{"$f":"IF(AND(J100m!A212=\"\",J100m!B212<>\"\"),\"\",IF(AND(J100m!A212=\"\",J100m!B212=\"\"),\"\",J100m!A212))","v":""},{"$f":"IF(C216=\"\",\"\",J100m!B212)","v":""},null,null,null,"",null,null,null,null,"",null,"",null,"",null,"",null,9000]
[null,{"$f":"IF(J100m!E213=\"\",\"\",J100m!E213)","v":""},{"$f":"IF(AND(J100m!A213=\"\",J100m!B213<>\"\"),\"\",IF(AND(J100m!A213=\"\",J100m!B213=\"\"),\"\",J100m!A213))","v":""},{"$f":"IF(C217=\"\",\"\",J100m!B213)","v":""},null,null,null,"",null,null,null,null,"",null,"",null,"",null,"",null,9000]
[null,{"$f":"IF(J100m!E214=\"\",\"\",J100m!E214)","v":""},{"$f":"IF(AND(J100m!A214=\"\",J100m!B214<>\"\"),\"\",IF(AND(J100m!A214=\"\",J100m!B214=\"\"),\"\",J100m!A214))","v":""},{"$f":"IF(C218=\"\",\"\",J100m!B214)","v":""},null,null,null,"",null,null,null,null,"",null,"",null,"",null,"",null,9000]
[null,{"$f":"IF(J100m!E215=\"\",\"\",J100m!E215)","v":""},{"$f":"IF(AND(J100m!A215=\"\",J100m!B215<>\"\"),\"\",IF(AND(J100m!A215=\"\",J100m!B215=\"\"),\"\",J100m!A215))","v":""},{"$f":"IF(C219=\"\",\"\",J100m!B215)","v":""},null,null,null,"",null,null,null,null,"",null,"",null,"",null,"",null,9000]
[null,{"$f":"IF(J100m!E216=\"\",\"\",J100m!E216)","v":""},{"$f":"IF(AND(J100m!A216=\"\",J100m!B216<>\"\"),\"\",IF(AND(J100m!A216=\"\",J100m!B216=\"\"),\"\",J100m!A216))","v":""},{"$f":"IF(C220=\"\",\"\",J100m!B216)","v":""},null,null,null,"",null,null,null,null,"",null,"",null,"",null,"",null,9000]
[null,{"$f":"IF(J100m!E217=\"\",\"\",J100m!E217)","v":""},{"$f":"IF(AND(J100m!A217=\"\",J100m!B217<>\"\"),\"\",IF(AND(J100m!A217=\"\",J100m!B217=\"\"),\"\",J100m!A217))","v":""},{"$f":"IF(C221=\"\",\"\",J100m!B217)","v":""},null,null,null,"",null,null,null,null,"",null,"",null,"",null,"",null,9000]
[null,{"$f":"IF(J100m!E218=\"\",\"\",J100m!E218)","v":""},{"$f":"IF(AND(J100m!A218=\"\",J100m!B218<>\"\"),\"\",IF(AND(J100m!A218=\"\",J100m!B218=\"\"),\"\",J100m!A218))","v":""},{"$f":"IF(C222=\"\",\"\",J100m!B218)","v":""},null,null,null,"",null,null,null,null,"",null,"",null,"",null,"",null,9000]
[null,{"$f":"IF(J100m!E219=\"\",\"\",J100m!E219)","v":""},{"$f":"IF(AND(J100m!A219=\"\",J100m!B219<>\"\"),\"\",IF(AND(J100m!A219=\"\",J100m!B219=\"\"),\"\",J100m!A219))","v":""},{"$f":"IF(C223=\"\",\"\",J100m!B219)","v":""},null,null,null,"",null,null,null,null,"",null,"",null,"",null,"",null,9000]
[null,{"$f":"IF(J100m!E220=\"\",\"\",J100m!E220)","v":""},{"$f":"IF(AND(J100m!A220=\"\",J100m!B220<>\"\"),\"\",IF(AND(J100m!A220=\"\",J100m!B220=\"\"),\"\",J100m!A220))","v":""},{"$f":"IF(C224=\"\",\"\",J100m!B220)","v":""},null,null,null,"",null,null,null,null,"",null,"",null,"",null,"",null,9000]
[null,{"$f":"IF(J100m!E221=\"\",\"\",J100m!E221)","v":""},{"$f":"IF(AND(J100m!A221=\"\",J100m!B221<>\"\"),\"\",IF(AND(J100m!A221=\"\",J100m!B221=\"\"),\"\",J100m!A221))","v":""},{"$f":"IF(C225=\"\",\"\",J100m!B221)","v":""},null,null,null,"",null,null,null,null,"",null,"",null,"",null,"",null,9000]
[null,{"$f":"IF(J100m!E222=\"\",\"\",J100m!E222)","v":""},{"$f":"IF(AND(J100m!A222=\"\",J100m!B222<>\"\"),\"\",IF(AND(J100m!A222=\"\",J100m!B222=\"\"),\"\",J100m!A222))","v":""},{"$f":"IF(C226=\"\",\"\",J100m!B222)","v":""},null,null,null,"",null,null,null,null,"",null,"",null,"",null,"",null,9000]
[null,{"$f":"IF(J100m!E223=\"\",\"\",J100m!E223)","v":""},{"$f":"IF(AND(J100m!A223=\"\",J100m!B223<>\"\"),\"\",IF(AND(J100m!A223=\"\",J100m!B223=\"\"),\"\",J100m!A223))","v":""},{"$f":"IF(C227=\"\",\"\",J100m!B223)","v":""},null,null,null,"",null,null,null,null,"",null,"",null,"",null,"",null,9000]
[null,{"$f":"IF(J100m!E224=\"\",\"\",J100m!E224)","v":""},{"$f":"IF(AND(J100m!A224=\"\",J100m!B224<>\"\"),\"\",IF(AND(J100m!A224=\"\",J100m!B224=\"\"),\"\",J100m!A224))","v":""},{"$f":"IF(C228=\"\",\"\",J100m!B224)","v":""},null,null,null,"",null,null,null,null,"",null,"",null,"",null,"",null,9000]
[null,{"$f":"IF(J100m!E225=\"\",\"\",J100m!E225)","v":""},{"$f":"IF(AND(J100m!A225=\"\",J100m!B225<>\"\"),\"\",IF(AND(J100m!A225=\"\",J100m!B225=\"\"),\"\",J100m!A225))","v":""},{"$f":"IF(C229=\"\",\"\",J100m!B225)","v":""},null,null,null,"",null,null,null,null,"",null,"",null,"",null,"",null,9000]
[null,{"$f":"IF(J100m!E226=\"\",\"\",J100m!E226)","v":""},{"$f":"IF(AND(J100m!A226=\"\",J100m!B226<>\"\"),\"\",IF(AND(J100m!A226=\"\",J100m!B226=\"\"),\"\",J100m!A226))","v":""},{"$f":"IF(C230=\"\",\"\",J100m!B226)","v":""},null,null,null,"",null,null,null,null,"",null,"",null,"",null,"",null,9000]
[null,{"$f":"IF(J100m!E227=\"\",\"\",J100m!E227)","v":""},{"$f":"IF(AND(J100m!A227=\"\",J100m!B227<>\"\"),\"\",IF(AND(J100m!A227=\"\",J100m!B227=\"\"),\"\",J100m!A227))","v":""},{"$f":"IF(C231=\"\",\"\",J100m!B227)","v":""},null,null,null,"",null,null,null,null,"",null,"",null,"",null,"",null,9000]
[null,{"$f":"IF(J100m!E228=\"\",\"\",J100m!E228)","v":""},{"$f":"IF(AND(J100m!A228=\"\",J100m!B228<>\"\"),\"\",IF(AND(J100m!A228=\"\",J100m!B228=\"\"),\"\",J100m!A228))","v":""},{"$f":"IF(C232=\"\",\"\",J100m!B228)","v":""},null,null,null,"",null,null,null,null,"",null,"",null,"",null,"",null,9000]
[null,{"$f":"IF(J100m!E229=\"\",\"\",J100m!E229)","v":""},{"$f":"IF(AND(J100m!A229=\"\",J100m!B229<>\"\"),\"\",IF(AND(J100m!A229=\"\",J100m!B229=\"\"),\"\",J100m!A229))","v":""},{"$f":"IF(C233=\"\",\"\",J100m!B229)","v":""},null,null,null,"",null,null,null,null,"",null,"",null,"",null,"",null,9000]
[null,{"$f":"IF(J100m!E230=\"\",\"\",J100m!E230)","v":""},{"$f":"IF(AND(J100m!A230=\"\",J100m!B230<>\"\"),\"\",IF(AND(J100m!A230=\"\",J100m!B230=\"\"),\"\",J100m!A230))","v":""},{"$f":"IF(C234=\"\",\"\",J100m!B230)","v":""},null,null,null,"",null,null,null,null,"",null,"",null,"",null,"",null,9000]
[null,{"$f":"IF(J100m!E231=\"\",\"\",J100m!E231)","v":""},{"$f":"IF(AND(J100m!A231=\"\",J100m!B231<>\"\"),\"\",IF(AND(J100m!A231=\"\",J100m!B231=\"\"),\"\",J100m!A231))","v":""},{"$f":"IF(C235=\"\",\"\",J100m!B231)","v":""},null,null,null,"",null,null,null,null,"",null,"",null,"",null,"",null,9000]
[null,{"$f":"IF(J100m!E232=\"\",\"\",J100m!E232)","v":""},{"$f":"IF(AND(J100m!A232=\"\",J100m!B232<>\"\"),\"\",IF(AND(J100m!A232=\"\",J100m!B232=\"\"),\"\",J100m!A232))","v":""},{"$f":"IF(C236=\"\",\"\",J100m!B232)","v":""},null,null,null,"",null,null,null,null,"",null,"",null,"",null,"",null,9000]
[null,{"$f":"IF(J100m!E233=\"\",\"\",J100m!E233)","v":""},{"$f":"IF(AND(J100m!A233=\"\",J100m!B233<>\"\"),\"\",IF(AND(J100m!A233=\"\",J100m!B233=\"\"),\"\",J100m!A233))","v":""},{"$f":"IF(C237=\"\",\"\",J100m!B233)","v":""},null,null,null,"",null,null,null,null,"",null,"",null,"",null,"",null,9000]
[null,{"$f":"IF(J100m!E234=\"\",\"\",J100m!E234)","v":""},{"$f":"IF(AND(J100m!A234=\"\",J100m!B234<>\"\"),\"\",IF(AND(J100m!A234=\"\",J100m!B234=\"\"),\"\",J100m!A234))","v":""},{"$f":"IF(C238=\"\",\"\",J100m!B234)","v":""},null,null,null,"",null,null,null,null,"",null,"",null,"",null,"",null,9000]
[null,{"$f":"IF(J100m!E235=\"\",\"\",J100m!E235)","v":""},{"$f":"IF(AND(J100m!A235=\"\",J100m!B235<>\"\"),\"\",IF(AND(J100m!A235=\"\",J100m!B235=\"\"),\"\",J100m!A235))","v":""},{"$f":"IF(C239=\"\",\"\",J100m!B235)","v":""},null,null,null,"",null,null,null,null,"",null,"",null,"",null,"",null,9000]
[null,{"$f":"IF(J100m!E236=\"\",\"\",J100m!E236)","v":""},{"$f":"IF(AND(J100m!A236=\"\",J100m!B236<>\"\"),\"\",IF(AND(J100m!A236=\"\",J100m!B236=\"\"),\"\",J100m!A236))","v":""},{"$f":"IF(C240=\"\",\"\",J100m!B236)","v":""},null,null,null,"",null,null,null,null,"",null,"",null,"",null,"",null,9000]
[null,{"$f":"IF(J100m!E237=\"\",\"\",J100m!E237)","v":""},{"$f":"IF(AND(J100m!A237=\"\",J100m!B237<>\"\"),\"\",IF(AND(J100m!A237=\"\",J100m!B237=\"\"),\"\",J100m!A237))","v":""},{"$f":"IF(C241=\"\",\"\",J100m!B237)","v":""},null,null,null,"",null,null,null,null,"",null,"",null,"",null,"",null,9000]
[null,{"$f":"IF(J100m!E238=\"\",\"\",J100m!E238)","v":""},{"$f":"IF(AND(J100m!A238=\"\",J100m!B238<>\"\"),\"\",IF(AND(J100m!A238=\"\",J100m!B238=\"\"),\"\",J100m!A238))","v":""},{"$f":"IF(C242=\"\",\"\",J100m!B238)","v":""},null,null,null,"",null,null,null,null,"",null,"",null,"",null,"",null,9000]
[null,{"$f":"IF(J100m!E239=\"\",\"\",J100m!E239)","v":""},{"$f":"IF(AND(J100m!A239=\"\",J100m!B239<>\"\"),\"\",IF(AND(J100m!A239=\"\",J100m!B239=\"\"),\"\",J100m!A239))","v":""},{"$f":"IF(C243=\"\",\"\",J100m!B239)","v":""},null,null,null,"",null,null,null,null,"",null,"",null,"",null,"",null,9000]
[null,{"$f":"IF(J100m!E240=\"\",\"\",J100m!E240)","v":""},{"$f":"IF(AND(J100m!A240=\"\",J100m!B240<>\"\"),\"\",IF(AND(J100m!A240=\"\",J100m!B240=\"\"),\"\",J100m!A240))","v":""},{"$f":"IF(C244=\"\",\"\",J100m!B240)","v":""},null,null,null,"",null,null,null,null,"",null,"",null,"",null,"",null,9000]
[null,{"$f":"IF(J100m!E241=\"\",\"\",J100m!E241)","v":""},{"$f":"IF(AND(J100m!A241=\"\",J100m!B241<>\"\"),\"\",IF(AND(J100m!A241=\"\",J100m!B241=\"\"),\"\",J100m!A241))","v":""},{"$f":"IF(C245=\"\",\"\",J100m!B241)","v":""},null,null,null,"",null,null,null,null,"",null,"",null,"",null,"",null,9000]
[null,{"$f":"IF(J100m!E242=\"\",\"\",J100m!E242)","v":""},{"$f":"IF(AND(J100m!A242=\"\",J100m!B242<>\"\"),\"\",IF(AND(J100m!A242=\"\",J100m!B242=\"\"),\"\",J100m!A242))","v":""},{"$f":"IF(C246=\"\",\"\",J100m!B242)","v":""},null,null,null,"",null,null,null,null,"",null,"",null,"",null,"",null,9000]
[null,{"$f":"IF(J100m!E243=\"\",\"\",J100m!E243)","v":""},{"$f":"IF(AND(J100m!A243=\"\",J100m!B243<>\"\"),\"\",IF(AND(J100m!A243=\"\",J100m!B243=\"\"),\"\",J100m!A243))","v":""},{"$f":"IF(C247=\"\",\"\",J100m!B243)","v":""},null,null,null,"",null,null,null,null,"",null,"",null,"",null,"",null,9000]
[null,{"$f":"IF(J100m!E244=\"\",\"\",J100m!E244)","v":""},{"$f":"IF(AND(J100m!A244=\"\",J100m!B244<>\"\"),\"\",IF(AND(J100m!A244=\"\",J100m!B244=\"\"),\"\",J100m!A244))","v":""},{"$f":"IF(C248=\"\",\"\",J100m!B244)","v":""},null,null,null,"",null,null,null,null,"",null,"",null,"",null,"",null,9000]
[null,{"$f":"IF(J100m!E245=\"\",\"\",J100m!E245)","v":""},{"$f":"IF(AND(J100m!A245=\"\",J100m!B245<>\"\"),\"\",IF(AND(J100m!A245=\"\",J100m!B245=\"\"),\"\",J100m!A245))","v":""},{"$f":"IF(C249=\"\",\"\",J100m!B245)","v":""},null,null,null,"",null,null,null,null,"",null,"",null,"",null,"",null,9000]
[null,{"$f":"IF(J100m!E246=\"\",\"\",J100m!E246)","v":""},{"$f":"IF(AND(J100m!A246=\"\",J100m!B246<>\"\"),\"\",IF(AND(J100m!A246=\"\",J100m!B246=\"\"),\"\",J100m!A246))","v":""},{"$f":"IF(C250=\"\",\"\",J100m!B246)","v":""},null,null,null,"",null,null,null,null,"",null,"",null,"",null,"",null,9000]
[null,{"$f":"IF(J100m!E247=\"\",\"\",J100m!E247)","v":""},{"$f":"IF(AND(J100m!A247=\"\",J100m!B247<>\"\"),\"\",IF(AND(J100m!A247=\"\",J100m!B247=\"\"),\"\",J100m!A247))","v":""},{"$f":"IF(C251=\"\",\"\",J100m!B247)","v":""},null,null,null,"",null,null,null,null,"",null,"",null,"",null,"",null,9000]
[null,{"$f":"IF(J100m!E248=\"\",\"\",J100m!E248)","v":""},{"$f":"IF(AND(J100m!A248=\"\",J100m!B248<>\"\"),\"\",IF(AND(J100m!A248=\"\",J100m!B248=\"\"),\"\",J100m!A248))","v":""},{"$f":"IF(C252=\"\",\"\",J100m!B248)","v":""},null,null,null,"",null,null,null,null,"",null,"",null,"",null,"",null,9000]
[null,{"$f":"IF(J100m!E249=\"\",\"\",J100m!E249)","v":""},{"$f":"IF(AND(J100m!A249=\"\",J100m!B249<>\"\"),\"\",IF(AND(J100m!A249=\"\",J100m!B249=\"\"),\"\",J100m!A249))","v":""},{"$f":"IF(C253=\"\",\"\",J100m!B249)","v":""},null,null,null,"",null,null,null,null,"",null,"",null,"",null,"",null,9000]
[null,{"$f":"IF(J100m!E250=\"\",\"\",J100m!E250)","v":""},{"$f":"IF(AND(J100m!A250=\"\",J100m!B250<>\"\"),\"\",IF(AND(J100m!A250=\"\",J100m!B250=\"\"),\"\",J100m!A250))","v":""},{"$f":"IF(C254=\"\",\"\",J100m!B250)","v":""},null,null,null,"",null,null,null,null,"",null,"",null,"",null,"",null,9000]
[null,{"$f":"IF(J100m!E251=\"\",\"\",J100m!E251)","v":""},{"$f":"IF(AND(J100m!A251=\"\",J100m!B251<>\"\"),\"\",IF(AND(J100m!A251=\"\",J100m!B251=\"\"),\"\",J100m!A251))","v":""},{"$f":"IF(C255=\"\",\"\",J100m!B251)","v":""},null,null,null,"",null,null,null,null,"",null,"",null,"",null,"",null,9000]
[null,{"$f":"IF(J100m!E252=\"\",\"\",J100m!E252)","v":""},{"$f":"IF(AND(J100m!A252=\"\",J100m!B252<>\"\"),\"\",IF(AND(J100m!A252=\"\",J100m!B252=\"\"),\"\",J100m!A252))","v":""},{"$f":"IF(C256=\"\",\"\",J100m!B252)","v":""},null,null,null,"",null,null,null,null,"",null,"",null,"",null,"",null,9000]
[null,{"$f":"IF(J100m!E253=\"\",\"\",J100m!E253)","v":""},{"$f":"IF(AND(J100m!A253=\"\",J100m!B253<>\"\"),\"\",IF(AND(J100m!A253=\"\",J100m!B253=\"\"),\"\",J100m!A253))","v":""},{"$f":"IF(C257=\"\",\"\",J100m!B253)","v":""},null,null,null,"",null,null,null,null,"",null,"",null,"",null,"",null,9000]
[null,{"$f":"IF(J100m!E254=\"\",\"\",J100m!E254)","v":""},{"$f":"IF(AND(J100m!A254=\"\",J100m!B254<>\"\"),\"\",IF(AND(J100m!A254=\"\",J100m!B254=\"\"),\"\",J100m!A254))","v":""},{"$f":"IF(C258=\"\",\"\",J100m!B254)","v":""},null,null,null,"",null,null,null,null,"",null,"",null,"",null,"",null,9000]
[null,{"$f":"IF(J100m!E255=\"\",\"\",J100m!E255)","v":""},{"$f":"IF(AND(J100m!A255=\"\",J100m!B255<>\"\"),\"\",IF(AND(J100m!A255=\"\",J100m!B255=\"\"),\"\",J100m!A255))","v":""},{"$f":"IF(C259=\"\",\"\",J100m!B255)","v":""},null,null,null,"",null,null,null,null,"",null,"",null,"",null,"",null,9000]
[null,{"$f":"IF(J100m!E256=\"\",\"\",J100m!E256)","v":""},{"$f":"IF(AND(J100m!A256=\"\",J100m!B256<>\"\"),\"\",IF(AND(J100m!A256=\"\",J100m!B256=\"\"),\"\",J100m!A256))","v":""},{"$f":"IF(C260=\"\",\"\",J100m!B256)","v":""},null,null,null,"",null,null,null,null,"",null,"",null,"",null,"",null,9000]
[null,{"$f":"IF(J100m!E257=\"\",\"\",J100m!E257)","v":""},{"$f":"IF(AND(J100m!A257=\"\",J100m!B257<>\"\"),\"\",IF(AND(J100m!A257=\"\",J100m!B257=\"\"),\"\",J100m!A257))","v":""},{"$f":"IF(C261=\"\",\"\",J100m!B257)","v":""},null,null,null,"",null,null,null,null,"",null,"",null,"",null,"",null,9000]
[null,{"$f":"IF(J100m!E258=\"\",\"\",J100m!E258)","v":""},{"$f":"IF(AND(J100m!A258=\"\",J100m!B258<>\"\"),\"\",IF(AND(J100m!A258=\"\",J100m!B258=\"\"),\"\",J100m!A258))","v":""},{"$f":"IF(C262=\"\",\"\",J100m!B258)","v":""},null,null,null,{"$f":"IF($C262=\"\",\"\",IF(OR($E262=\"DNF\",$F262=\"DNF\",$G262=\"DNF\",AND($E262=\"\",$F262=\"\",$G262=\"\")),\"DNF\",IF(OR($E262=\"NP\",$F262=\"NP\",$G262=\"NP\"),\"NP\",IF(ISERROR(MEDIAN($E262:$G262)),\"DNF\",IF(OR($E262=\"X\",$F262=\"X\",$G262=\"X\",$E262=\"\",$F262=\"\",$G262=\"\",$E262=\"x\",$F262=\"x\",$G262=\"x\"),MAX($E262:$G262),MEDIAN($E262:$G262))))))","v":""},null,null,null,null,{"$f":"IF($C262=\"\",\"\",IF(OR($J262=\"DNF\",$K262=\"DNF\",$L262=\"DNF\",AND($J262=\"\",$K262=\"\",$L262=\"\")),\"DNF\",IF(OR($J262=\"NP\",$K262=\"NP\",$L262=\"NP\"),\"NP\",IF(ISERROR(MEDIAN($J262:$L262)),\"DNF\",IF(OR($J262=\"X\",$K262=\"X\",$L262=\"X\",$J262=\"\",$K262=\"\",$L262=\"\",$J262=\"x\",$K262=\"x\",$L262=\"x\"),MAX($J262:$L262),MEDIAN($J262:$L262))))))","v":""},null,{"$f":"IF(C262=\"\",\"\",IF(OR(AND(H262=\"NP\",M262=\"NP\"),AND(H262=\"DNF\",M262=\"DNF\")),H262,IF(AND(H262=\"NP\",M262=\"DNF\"),H262,IF(AND(H262=\"DNF\",M262=\"NP\"),M262,MIN(H262,M262)))))","v":""},null,{"$f":"IF(C262=\"\",\"\",IF(OR(O262=\"NP\",O262=\"DNF\"),O262,RANK(O262,O$5:O$404,1)))","v":""},null,{"$f":"IF(C262=\"\",\"\",IF(O262=\"NP\",MAX(Q$5:Q$404)+1,IF(O262=\"DNF\",MAX(Q$5:Q$404)+COUNTIF(Q$5:Q$404,\"NP\")+1,RANK(O262,O$5:O$404,1))))","v":""},null,{"$f":"IF($C262=\"\",9000,MAX(H262,M262)+(COUNTIF($H262:$H262,\"NP\")*600)+(COUNTIF($M262:$M262,\"NP\")*600)+(COUNTIF($H262:$H262,\"DNF\")*3600)+(COUNTIF($M262:$M262,\"DNF\")*3600))","v":9000}]
[null,{"$f":"IF(J100m!E259=\"\",\"\",J100m!E259)","v":""},{"$f":"IF(AND(J100m!A259=\"\",J100m!B259<>\"\"),\"\",IF(AND(J100m!A259=\"\",J100m!B259=\"\"),\"\",J100m!A259))","v":""},{"$f":"IF(C263=\"\",\"\",J100m!B259)","v":""},null,null,null,"",null,null,null,null,"",null,"",null,"",null,"",null,9000]
[null,{"$f":"IF(J100m!E260=\"\",\"\",J100m!E260)","v":""},{"$f":"IF(AND(J100m!A260=\"\",J100m!B260<>\"\"),\"\",IF(AND(J100m!A260=\"\",J100m!B260=\"\"),\"\",J100m!A260))","v":""},{"$f":"IF(C264=\"\",\"\",J100m!B260)","v":""},null,null,null,"",null,null,null,null,"",null,"",null,"",null,"",null,9000]
[null,{"$f":"IF(J100m!E261=\"\",\"\",J100m!E261)","v":""},{"$f":"IF(AND(J100m!A261=\"\",J100m!B261<>\"\"),\"\",IF(AND(J100m!A261=\"\",J100m!B261=\"\"),\"\",J100m!A261))","v":""},{"$f":"IF(C265=\"\",\"\",J100m!B261)","v":""},null,null,null,"",null,null,null,null,"",null,"",null,"",null,"",null,9000]
[null,{"$f":"IF(J100m!E262=\"\",\"\",J100m!E262)","v":""},{"$f":"IF(AND(J100m!A262=\"\",J100m!B262<>\"\"),\"\",IF(AND(J100m!A262=\"\",J100m!B262=\"\"),\"\",J100m!A262))","v":""},{"$f":"IF(C266=\"\",\"\",J100m!B262)","v":""},null,null,null,"",null,null,null,null,"",null,"",null,"",null,"",null,9000]
[null,{"$f":"IF(J100m!E263=\"\",\"\",J100m!E263)","v":""},{"$f":"IF(AND(J100m!A263=\"\",J100m!B263<>\"\"),\"\",IF(AND(J100m!A263=\"\",J100m!B263=\"\"),\"\",J100m!A263))","v":""},{"$f":"IF(C267=\"\",\"\",J100m!B263)","v":""},null,null,null,"",null,null,null,null,"",null,"",null,"",null,"",null,9000]
[null,{"$f":"IF(J100m!E264=\"\",\"\",J100m!E264)","v":""},{"$f":"IF(AND(J100m!A264=\"\",J100m!B264<>\"\"),\"\",IF(AND(J100m!A264=\"\",J100m!B264=\"\"),\"\",J100m!A264))","v":""},{"$f":"IF(C268=\"\",\"\",J100m!B264)","v":""},null,null,null,"",null,null,null,null,"",null,"",null,"",null,"",null,9000]
[null,{"$f":"IF(J100m!E265=\"\",\"\",J100m!E265)","v":""},{"$f":"IF(AND(J100m!A265=\"\",J100m!B265<>\"\"),\"\",IF(AND(J100m!A265=\"\",J100m!B265=\"\"),\"\",J100m!A265))","v":""},{"$f":"IF(C269=\"\",\"\",J100m!B265)","v":""},null,null,null,"",null,null,null,null,"",null,"",null,"",null,"",null,9000]
[null,{"$f":"IF(J100m!E266=\"\",\"\",J100m!E266)","v":""},{"$f":"IF(AND(J100m!A266=\"\",J100m!B266<>\"\"),\"\",IF(AND(J100m!A266=\"\",J100m!B266=\"\"),\"\",J100m!A266))","v":""},{"$f":"IF(C270=\"\",\"\",J100m!B266)","v":""},null,null,null,"",null,null,null,null,"",null,"",null,"",null,"",null,9000]
[null,{"$f":"IF(J100m!E267=\"\",\"\",J100m!E267)","v":""},{"$f":"IF(AND(J100m!A267=\"\",J100m!B267<>\"\"),\"\",IF(AND(J100m!A267=\"\",J100m!B267=\"\"),\"\",J100m!A267))","v":""},{"$f":"IF(C271=\"\",\"\",J100m!B267)","v":""},null,null,null,"",null,null,null,null,"",null,"",null,"",null,"",null,9000]
[null,{"$f":"IF(J100m!E268=\"\",\"\",J100m!E268)","v":""},{"$f":"IF(AND(J100m!A268=\"\",J100m!B268<>\"\"),\"\",IF(AND(J100m!A268=\"\",J100m!B268=\"\"),\"\",J100m!A268))","v":""},{"$f":"IF(C272=\"\",\"\",J100m!B268)","v":""},null,null,null,"",null,null,null,null,"",null,"",null,"",null,"",null,9000]
[null,{"$f":"IF(J100m!E269=\"\",\"\",J100m!E269)","v":""},{"$f":"IF(AND(J100m!A269=\"\",J100m!B269<>\"\"),\"\",IF(AND(J100m!A269=\"\",J100m!B269=\"\"),\"\",J100m!A269))","v":""},{"$f":"IF(C273=\"\",\"\",J100m!B269)","v":""},null,null,null,"",null,null,null,null,"",null,"",null,"",null,"",null,9000]
[null,{"$f":"IF(J100m!E270=\"\",\"\",J100m!E270)","v":""},{"$f":"IF(AND(J100m!A270=\"\",J100m!B270<>\"\"),\"\",IF(AND(J100m!A270=\"\",J100m!B270=\"\"),\"\",J100m!A270))","v":""},{"$f":"IF(C274=\"\",\"\",J100m!B270)","v":""},null,null,null,"",null,null,null,null,"",null,"",null,"",null,"",null,9000]
[null,{"$f":"IF(J100m!E271=\"\",\"\",J100m!E271)","v":""},{"$f":"IF(AND(J100m!A271=\"\",J100m!B271<>\"\"),\"\",IF(AND(J100m!A271=\"\",J100m!B271=\"\"),\"\",J100m!A271))","v":""},{"$f":"IF(C275=\"\",\"\",J100m!B271)","v":""},null,null,null,"",null,null,null,null,"",null,"",null,"",null,"",null,9000]
[null,{"$f":"IF(J100m!E272=\"\",\"\",J100m!E272)","v":""},{"$f":"IF(AND(J100m!A272=\"\",J100m!B272<>\"\"),\"\",IF(AND(J100m!A272=\"\",J100m!B272=\"\"),\"\",J100m!A272))","v":""},{"$f":"IF(C276=\"\",\"\",J100m!B272)","v":""},null,null,null,"",null,null,null,null,"",null,"",null,"",null,"",null,9000]
[null,{"$f":"IF(J100m!E273=\"\",\"\",J100m!E273)","v":""},{"$f":"IF(AND(J100m!A273=\"\",J100m!B273<>\"\"),\"\",IF(AND(J100m!A273=\"\",J100m!B273=\"\"),\"\",J100m!A273))","v":""},{"$f":"IF(C277=\"\",\"\",J100m!B273)","v":""},null,null,null,"",null,null,null,null,"",null,"",null,"",null,"",null,9000]
[null,{"$f":"IF(J100m!E274=\"\",\"\",J100m!E274)","v":""},{"$f":"IF(AND(J100m!A274=\"\",J100m!B274<>\"\"),\"\",IF(AND(J100m!A274=\"\",J100m!B274=\"\"),\"\",J100m!A274))","v":""},{"$f":"IF(C278=\"\",\"\",J100m!B274)","v":""},null,null,null,"",null,null,null,null,"",null,"",null,"",null,"",null,9000]
[null,{"$f":"IF(J100m!E275=\"\",\"\",J100m!E275)","v":""},{"$f":"IF(AND(J100m!A275=\"\",J100m!B275<>\"\"),\"\",IF(AND(J100m!A275=\"\",J100m!B275=\"\"),\"\",J100m!A275))","v":""},{"$f":"IF(C279=\"\",\"\",J100m!B275)","v":""},null,null,null,"",null,null,null,null,"",null,"",null,"",null,"",null,9000]
[null,{"$f":"IF(J100m!E276=\"\",\"\",J100m!E276)","v":""},{"$f":"IF(AND(J100m!A276=\"\",J100m!B276<>\"\"),\"\",IF(AND(J100m!A276=\"\",J100m!B276=\"\"),\"\",J100m!A276))","v":""},{"$f":"IF(C280=\"\",\"\",J100m!B276)","v":""},null,null,null,"",null,null,null,null,"",null,"",null,"",null,"",null,9000]
[null,{"$f":"IF(J100m!E277=\"\",\"\",J100m!E277)","v":""},{"$f":"IF(AND(J100m!A277=\"\",J100m!B277<>\"\"),\"\",IF(AND(J100m!A277=\"\",J100m!B277=\"\"),\"\",J100m!A277))","v":""},{"$f":"IF(C281=\"\",\"\",J100m!B277)","v":""},null,null,null,"",null,null,null,null,"",null,"",null,"",null,"",null,9000]
[null,{"$f":"IF(J100m!E278=\"\",\"\",J100m!E278)","v":""},{"$f":"IF(AND(J100m!A278=\"\",J100m!B278<>\"\"),\"\",IF(AND(J100m!A278=\"\",J100m!B278=\"\"),\"\",J100m!A278))","v":""},{"$f":"IF(C282=\"\",\"\",J100m!B278)","v":""},null,null,null,"",null,null,null,null,"",null,"",null,"",null,"",null,9000]
[null,{"$f":"IF(J100m!E279=\"\",\"\",J100m!E279)","v":""},{"$f":"IF(AND(J100m!A279=\"\",J100m!B279<>\"\"),\"\",IF(AND(J100m!A279=\"\",J100m!B279=\"\"),\"\",J100m!A279))","v":""},{"$f":"IF(C283=\"\",\"\",J100m!B279)","v":""},null,null,null,"",null,null,null,null,"",null,"",null,"",null,"",null,9000]
[null,{"$f":"IF(J100m!E280=\"\",\"\",J100m!E280)","v":""},{"$f":"IF(AND(J100m!A280=\"\",J100m!B280<>\"\"),\"\",IF(AND(J100m!A280=\"\",J100m!B280=\"\"),\"\",J100m!A280))","v":""},{"$f":"IF(C284=\"\",\"\",J100m!B280)","v":""},null,null,null,"",null,null,null,null,"",null,"",null,"",null,"",null,9000]
[null,{"$f":"IF(J100m!E281=\"\",\"\",J100m!E281)","v":""},{"$f":"IF(AND(J100m!A281=\"\",J100m!B281<>\"\"),\"\",IF(AND(J100m!A281=\"\",J100m!B281=\"\"),\"\",J100m!A281))","v":""},{"$f":"IF(C285=\"\",\"\",J100m!B281)","v":""},null,null,null,"",null,null,null,null,"",null,"",null,"",null,"",null,9000]
[null,{"$f":"IF(J100m!E282=\"\",\"\",J100m!E282)","v":""},{"$f":"IF(AND(J100m!A282=\"\",J100m!B282<>\"\"),\"\",IF(AND(J100m!A282=\"\",J100m!B282=\"\"),\"\",J100m!A282))","v":""},{"$f":"IF(C286=\"\",\"\",J100m!B282)","v":""},null,null,null,"",null,null,null,null,"",null,"",null,"",null,"",null,9000]
[null,{"$f":"IF(J100m!E283=\"\",\"\",J100m!E283)","v":""},{"$f":"IF(AND(J100m!A283=\"\",J100m!B283<>\"\"),\"\",IF(AND(J100m!A283=\"\",J100m!B283=\"\"),\"\",J100m!A283))","v":""},{"$f":"IF(C287=\"\",\"\",J100m!B283)","v":""},null,null,null,"",null,null,null,null,"",null,"",null,"",null,"",null,9000]
[null,{"$f":"IF(J100m!E284=\"\",\"\",J100m!E284)","v":""},{"$f":"IF(AND(J100m!A284=\"\",J100m!B284<>\"\"),\"\",IF(AND(J100m!A284=\"\",J100m!B284=\"\"),\"\",J100m!A284))","v":""},{"$f":"IF(C288=\"\",\"\",J100m!B284)","v":""},null,null,null,"",null,null,null,null,"",null,"",null,"",null,"",null,9000]
[null,{"$f":"IF(J100m!E285=\"\",\"\",J100m!E285)","v":""},{"$f":"IF(AND(J100m!A285=\"\",J100m!B285<>\"\"),\"\",IF(AND(J100m!A285=\"\",J100m!B285=\"\"),\"\",J100m!A285))","v":""},{"$f":"IF(C289=\"\",\"\",J100m!B285)","v":""},null,null,null,"",null,null,null,null,"",null,"",null,"",null,"",null,9000]
[null,{"$f":"IF(J100m!E286=\"\",\"\",J100m!E286)","v":""},{"$f":"IF(AND(J100m!A286=\"\",J100m!B286<>\"\"),\"\",IF(AND(J100m!A286=\"\",J100m!B286=\"\"),\"\",J100m!A286))","v":""},{"$f":"IF(C290=\"\",\"\",J100m!B286)","v":""},null,null,null,"",null,null,null,null,"",null,"",null,"",null,"",null,9000]
[null,{"$f":"IF(J100m!E287=\"\",\"\",J100m!E287)","v":""},{"$f":"IF(AND(J100m!A287=\"\",J100m!B287<>\"\"),\"\",IF(AND(J100m!A287=\"\",J100m!B287=\"\"),\"\",J100m!A287))","v":""},{"$f":"IF(C291=\"\",\"\",J100m!B287)","v":""},null,null,null,"",null,null,null,null,"",null,"",null,"",null,"",null,9000]
[null,{"$f":"IF(J100m!E288=\"\",\"\",J100m!E288)","v":""},{"$f":"IF(AND(J100m!A288=\"\",J100m!B288<>\"\"),\"\",IF(AND(J100m!A288=\"\",J100m!B288=\"\"),\"\",J100m!A288))","v":""},{"$f":"IF(C292=\"\",\"\",J100m!B288)","v":""},null,null,null,"",null,null,null,null,"",null,"",null,"",null,"",null,9000]
[null,{"$f":"IF(J100m!E289=\"\",\"\",J100m!E289)","v":""},{"$f":"IF(AND(J100m!A289=\"\",J100m!B289<>\"\"),\"\",IF(AND(J100m!A289=\"\",J100m!B289=\"\"),\"\",J100m!A289))","v":""},{"$f":"IF(C293=\"\",\"\",J100m!B289)","v":""},null,null,null,"",null,null,null,null,"",null,"",null,"",null,"",null,9000]
[null,{"$f":"IF(J100m!E290=\"\",\"\",J100m!E290)","v":""},{"$f":"IF(AND(J100m!A290=\"\",J100m!B290<>\"\"),\"\",IF(AND(J100m!A290=\"\",J100m!B290=\"\"),\"\",J100m!A290))","v":""},{"$f":"IF(C294=\"\",\"\",J100m!B290)","v":""},null,null,null,"",null,null,null,null,"",null,"",null,"",null,"",null,9000]
[null,{"$f":"IF(J100m!E291=\"\",\"\",J100m!E291)","v":""},{"$f":"IF(AND(J100m!A291=\"\",J100m!B291<>\"\"),\"\",IF(AND(J100m!A291=\"\",J100m!B291=\"\"),\"\",J100m!A291))","v":""},{"$f":"IF(C295=\"\",\"\",J100m!B291)","v":""},null,null,null,"",null,null,null,null,"",null,"",null,"",null,"",null,9000]
[null,{"$f":"IF(J100m!E292=\"\",\"\",J100m!E292)","v":""},{"$f":"IF(AND(J100m!A292=\"\",J100m!B292<>\"\"),\"\",IF(AND(J100m!A292=\"\",J100m!B292=\"\"),\"\",J100m!A292))","v":""},{"$f":"IF(C296=\"\",\"\",J100m!B292)","v":""},null,null,null,"",null,null,null,null,"",null,"",null,"",null,"",null,9000]
[null,{"$f":"IF(J100m!E293=\"\",\"\",J100m!E293)","v":""},{"$f":"IF(AND(J100m!A293=\"\",J100m!B293<>\"\"),\"\",IF(AND(J100m!A293=\"\",J100m!B293=\"\"),\"\",J100m!A293))","v":""},{"$f":"IF(C297=\"\",\"\",J100m!B293)","v":""},null,null,null,"",null,null,null,null,"",null,"",null,"",null,"",null,9000]
[null,{"$f":"IF(J100m!E294=\"\",\"\",J100m!E294)","v":""},{"$f":"IF(AND(J100m!A294=\"\",J100m!B294<>\"\"),\"\",IF(AND(J100m!A294=\"\",J100m!B294=\"\"),\"\",J100m!A294))","v":""},{"$f":"IF(C298=\"\",\"\",J100m!B294)","v":""},null,null,null,"",null,null,null,null,"",null,"",null,"",null,"",null,9000]
[null,{"$f":"IF(J100m!E295=\"\",\"\",J100m!E295)","v":""},{"$f":"IF(AND(J100m!A295=\"\",J100m!B295<>\"\"),\"\",IF(AND(J100m!A295=\"\",J100m!B295=\"\"),\"\",J100m!A295))","v":""},{"$f":"IF(C299=\"\",\"\",J100m!B295)","v":""},null,null,null,"",null,null,null,null,"",null,"",null,"",null,"",null,9000]
[null,{"$f":"IF(J100m!E296=\"\",\"\",J100m!E296)","v":""},{"$f":"IF(AND(J100m!A296=\"\",J100m!B296<>\"\"),\"\",IF(AND(J100m!A296=\"\",J100m!B296=\"\"),\"\",J100m!A296))","v":""},{"$f":"IF(C300=\"\",\"\",J100m!B296)","v":""},null,null,null,"",null,null,null,null,"",null,"",null,"",null,"",null,9000]
[null,{"$f":"IF(J100m!E297=\"\",\"\",J100m!E297)","v":""},{"$f":"IF(AND(J100m!A297=\"\",J100m!B297<>\"\"),\"\",IF(AND(J100m!A297=\"\",J100m!B297=\"\"),\"\",J100m!A297))","v":""},{"$f":"IF(C301=\"\",\"\",J100m!B297)","v":""},null,null,null,"",null,null,null,null,"",null,"",null,"",null,"",null,9000]
[null,{"$f":"IF(J100m!E298=\"\",\"\",J100m!E298)","v":""},{"$f":"IF(AND(J100m!A298=\"\",J100m!B298<>\"\"),\"\",IF(AND(J100m!A298=\"\",J100m!B298=\"\"),\"\",J100m!A298))","v":""},{"$f":"IF(C302=\"\",\"\",J100m!B298)","v":""},null,null,null,"",null,null,null,null,"",null,"",null,"",null,"",null,9000]
[null,{"$f":"IF(J100m!E299=\"\",\"\",J100m!E299)","v":""},{"$f":"IF(AND(J100m!A299=\"\",J100m!B299<>\"\"),\"\",IF(AND(J100m!A299=\"\",J100m!B299=\"\"),\"\",J100m!A299))","v":""},{"$f":"IF(C303=\"\",\"\",J100m!B299)","v":""},null,null,null,"",null,null,null,null,"",null,"",null,"",null,"",null,9000]
[null,{"$f":"IF(J100m!E300=\"\",\"\",J100m!E300)","v":""},{"$f":"IF(AND(J100m!A300=\"\",J100m!B300<>\"\"),\"\",IF(AND(J100m!A300=\"\",J100m!B300=\"\"),\"\",J100m!A300))","v":""},{"$f":"IF(C304=\"\",\"\",J100m!B300)","v":""},null,null,null,"",null,null,null,null,"",null,"",null,"",null,"",null,9000]
[null,{"$f":"IF(J100m!E301=\"\",\"\",J100m!E301)","v":""},{"$f":"IF(AND(J100m!A301=\"\",J100m!B301<>\"\"),\"\",IF(AND(J100m!A301=\"\",J100m!B301=\"\"),\"\",J100m!A301))","v":""},{"$f":"IF(C305=\"\",\"\",J100m!B301)","v":""},null,null,null,"",null,null,null,null,"",null,"",null,"",null,"",null,9000]
[null,{"$f":"IF(J100m!E302=\"\",\"\",J100m!E302)","v":""},{"$f":"IF(AND(J100m!A302=\"\",J100m!B302<>\"\"),\"\",IF(AND(J100m!A302=\"\",J100m!B302=\"\"),\"\",J100m!A302))","v":""},{"$f":"IF(C306=\"\",\"\",J100m!B302)","v":""},null,null,null,"",null,null,null,null,"",null,"",null,"",null,"",null,9000]
[null,{"$f":"IF(J100m!E303=\"\",\"\",J100m!E303)","v":""},{"$f":"IF(AND(J100m!A303=\"\",J100m!B303<>\"\"),\"\",IF(AND(J100m!A303=\"\",J100m!B303=\"\"),\"\",J100m!A303))","v":""},{"$f":"IF(C307=\"\",\"\",J100m!B303)","v":""},null,null,null,"",null,null,null,null,"",null,"",null,"",null,"",null,9000]
[null,{"$f":"IF(J100m!E304=\"\",\"\",J100m!E304)","v":""},{"$f":"IF(AND(J100m!A304=\"\",J100m!B304<>\"\"),\"\",IF(AND(J100m!A304=\"\",J100m!B304=\"\"),\"\",J100m!A304))","v":""},{"$f":"IF(C308=\"\",\"\",J100m!B304)","v":""},null,null,null,"",null,null,null,null,"",null,"",null,"",null,"",null,9000]
[null,{"$f":"IF(J100m!E305=\"\",\"\",J100m!E305)","v":""},{"$f":"IF(AND(J100m!A305=\"\",J100m!B305<>\"\"),\"\",IF(AND(J100m!A305=\"\",J100m!B305=\"\"),\"\",J100m!A305))","v":""},{"$f":"IF(C309=\"\",\"\",J100m!B305)","v":""},null,null,null,"",null,null,null,null,"",null,"",null,"",null,"",null,9000]
[null,{"$f":"IF(J100m!E306=\"\",\"\",J100m!E306)","v":""},{"$f":"IF(AND(J100m!A306=\"\",J100m!B306<>\"\"),\"\",IF(AND(J100m!A306=\"\",J100m!B306=\"\"),\"\",J100m!A306))","v":""},{"$f":"IF(C310=\"\",\"\",J100m!B306)","v":""},null,null,null,"",null,null,null,null,"",null,"",null,"",null,"",null,9000]
[null,{"$f":"IF(J100m!E307=\"\",\"\",J100m!E307)","v":""},{"$f":"IF(AND(J100m!A307=\"\",J100m!B307<>\"\"),\"\",IF(AND(J100m!A307=\"\",J100m!B307=\"\"),\"\",J100m!A307))","v":""},{"$f":"IF(C311=\"\",\"\",J100m!B307)","v":""},null,null,null,"",null,null,null,null,"",null,"",null,"",null,"",null,9000]
[null,{"$f":"IF(J100m!E308=\"\",\"\",J100m!E308)","v":""},{"$f":"IF(AND(J100m!A308=\"\",J100m!B308<>\"\"),\"\",IF(AND(J100m!A308=\"\",J100m!B308=\"\"),\"\",J100m!A308))","v":""},{"$f":"IF(C312=\"\",\"\",J100m!B308)","v":""},null,null,null,"",null,null,null,null,"",null,"",null,"",null,"",null,9000]
[null,{"$f":"IF(J100m!E309=\"\",\"\",J100m!E309)","v":""},{"$f":"IF(AND(J100m!A309=\"\",J100m!B309<>\"\"),\"\",IF(AND(J100m!A309=\"\",J100m!B309=\"\"),\"\",J100m!A309))","v":""},{"$f":"IF(C313=\"\",\"\",J100m!B309)","v":""},null,null,null,"",null,null,null,null,"",null,"",null,"",null,"",null,9000]
[null,{"$f":"IF(J100m!E310=\"\",\"\",J100m!E310)","v":""},{"$f":"IF(AND(J100m!A310=\"\",J100m!B310<>\"\"),\"\",IF(AND(J100m!A310=\"\",J100m!B310=\"\"),\"\",J100m!A310))","v":""},{"$f":"IF(C314=\"\",\"\",J100m!B310)","v":""},null,null,null,"",null,null,null,null,"",null,"",null,"",null,"",null,9000]
[null,{"$f":"IF(J100m!E311=\"\",\"\",J100m!E311)","v":""},{"$f":"IF(AND(J100m!A311=\"\",J100m!B311<>\"\"),\"\",IF(AND(J100m!A311=\"\",J100m!B311=\"\"),\"\",J100m!A311))","v":""},{"$f":"IF(C315=\"\",\"\",J100m!B311)","v":""},null,null,null,"",null,null,null,null,"",null,"",null,"",null,"",null,9000]
[null,{"$f":"IF(J100m!E312=\"\",\"\",J100m!E312)","v":""},{"$f":"IF(AND(J100m!A312=\"\",J100m!B312<>\"\"),\"\",IF(AND(J100m!A312=\"\",J100m!B312=\"\"),\"\",J100m!A312))","v":""},{"$f":"IF(C316=\"\",\"\",J100m!B312)","v":""},null,null,null,"",null,null,null,null,"",null,"",null,"",null,"",null,9000]
[null,{"$f":"IF(J100m!E313=\"\",\"\",J100m!E313)","v":""},{"$f":"IF(AND(J100m!A313=\"\",J100m!B313<>\"\"),\"\",IF(AND(J100m!A313=\"\",J100m!B313=\"\"),\"\",J100m!A313))","v":""},{"$f":"IF(C317=\"\",\"\",J100m!B313)","v":""},null,null,null,"",null,null,null,null,"",null,"",null,"",null,"",null,9000]
[null,{"$f":"IF(J100m!E314=\"\",\"\",J100m!E314)","v":""},{"$f":"IF(AND(J100m!A314=\"\",J100m!B314<>\"\"),\"\",IF(AND(J100m!A314=\"\",J100m!B314=\"\"),\"\",J100m!A314))","v":""},{"$f":"IF(C318=\"\",\"\",J100m!B314)","v":""},null,null,null,"",null,null,null,null,"",null,"",null,"",null,"",null,9000]
[null,{"$f":"IF(J100m!E315=\"\",\"\",J100m!E315)","v":""},{"$f":"IF(AND(J100m!A315=\"\",J100m!B315<>\"\"),\"\",IF(AND(J100m!A315=\"\",J100m!B315=\"\"),\"\",J100m!A315))","v":""},{"$f":"IF(C319=\"\",\"\",J100m!B315)","v":""},null,null,null,"",null,null,null,null,"",null,"",null,"",null,"",null,9000]
[null,{"$f":"IF(J100m!E316=\"\",\"\",J100m!E316)","v":""},{"$f":"IF(AND(J100m!A316=\"\",J100m!B316<>\"\"),\"\",IF(AND(J100m!A316=\"\",J100m!B316=\"\"),\"\",J100m!A316))","v":""},{"$f":"IF(C320=\"\",\"\",J100m!B316)","v":""},null,null,null,"",null,null,null,null,"",null,"",null,"",null,"",null,9000]
[null,{"$f":"IF(J100m!E317=\"\",\"\",J100m!E317)","v":""},{"$f":"IF(AND(J100m!A317=\"\",J100m!B317<>\"\"),\"\",IF(AND(J100m!A317=\"\",J100m!B317=\"\"),\"\",J100m!A317))","v":""},{"$f":"IF(C321=\"\",\"\",J100m!B317)","v":""},null,null,null,"",null,null,null,null,"",null,"",null,"",null,"",null,9000]
[null,{"$f":"IF(J100m!E318=\"\",\"\",J100m!E318)","v":""},{"$f":"IF(AND(J100m!A318=\"\",J100m!B318<>\"\"),\"\",IF(AND(J100m!A318=\"\",J100m!B318=\"\"),\"\",J100m!A318))","v":""},{"$f":"IF(C322=\"\",\"\",J100m!B318)","v":""},null,null,null,"",null,null,null,null,"",null,"",null,"",null,"",null,9000]
[null,{"$f":"IF(J100m!E319=\"\",\"\",J100m!E319)","v":""},{"$f":"IF(AND(J100m!A319=\"\",J100m!B319<>\"\"),\"\",IF(AND(J100m!A319=\"\",J100m!B319=\"\"),\"\",J100m!A319))","v":""},{"$f":"IF(C323=\"\",\"\",J100m!B319)","v":""},null,null,null,"",null,null,null,null,"",null,"",null,"",null,"",null,9000]
[null,{"$f":"IF(J100m!E320=\"\",\"\",J100m!E320)","v":""},{"$f":"IF(AND(J100m!A320=\"\",J100m!B320<>\"\"),\"\",IF(AND(J100m!A320=\"\",J100m!B320=\"\"),\"\",J100m!A320))","v":""},{"$f":"IF(C324=\"\",\"\",J100m!B320)","v":""},null,null,null,"",null,null,null,null,"",null,"",null,"",null,"",null,9000]
[null,{"$f":"IF(J100m!E321=\"\",\"\",J100m!E321)","v":""},{"$f":"IF(AND(J100m!A321=\"\",J100m!B321<>\"\"),\"\",IF(AND(J100m!A321=\"\",J100m!B321=\"\"),\"\",J100m!A321))","v":""},{"$f":"IF(C325=\"\",\"\",J100m!B321)","v":""},null,null,null,"",null,null,null,null,"",null,"",null,"",null,"",null,9000]
[null,{"$f":"IF(J100m!E322=\"\",\"\",J100m!E322)","v":""},{"$f":"IF(AND(J100m!A322=\"\",J100m!B322<>\"\"),\"\",IF(AND(J100m!A322=\"\",J100m!B322=\"\"),\"\",J100m!A322))","v":""},{"$f":"IF(C326=\"\",\"\",J100m!B322)","v":""},null,null,null,{"$f":"IF($C326=\"\",\"\",IF(OR($E326=\"DNF\",$F326=\"DNF\",$G326=\"DNF\",AND($E326=\"\",$F326=\"\",$G326=\"\")),\"DNF\",IF(OR($E326=\"NP\",$F326=\"NP\",$G326=\"NP\"),\"NP\",IF(ISERROR(MEDIAN($E326:$G326)),\"DNF\",IF(OR($E326=\"X\",$F326=\"X\",$G326=\"X\",$E326=\"\",$F326=\"\",$G326=\"\",$E326=\"x\",$F326=\"x\",$G326=\"x\"),MAX($E326:$G326),MEDIAN($E326:$G326))))))","v":""},null,null,null,null,{"$f":"IF($C326=\"\",\"\",IF(OR($J326=\"DNF\",$K326=\"DNF\",$L326=\"DNF\",AND($J326=\"\",$K326=\"\",$L326=\"\")),\"DNF\",IF(OR($J326=\"NP\",$K326=\"NP\",$L326=\"NP\"),\"NP\",IF(ISERROR(MEDIAN($J326:$L326)),\"DNF\",IF(OR($J326=\"X\",$K326=\"X\",$L326=\"X\",$J326=\"\",$K326=\"\",$L326=\"\",$J326=\"x\",$K326=\"x\",$L326=\"x\"),MAX($J326:$L326),MEDIAN($J326:$L326))))))","v":""},null,{"$f":"IF(C326=\"\",\"\",IF(OR(AND(H326=\"NP\",M326=\"NP\"),AND(H326=\"DNF\",M326=\"DNF\")),H326,IF(AND(H326=\"NP\",M326=\"DNF\"),H326,IF(AND(H326=\"DNF\",M326=\"NP\"),M326,MIN(H326,M326)))))","v":""},null,{"$f":"IF(C326=\"\",\"\",IF(OR(O326=\"NP\",O326=\"DNF\"),O326,RANK(O326,O$5:O$404,1)))","v":""},null,{"$f":"IF(C326=\"\",\"\",IF(O326=\"NP\",MAX(Q$5:Q$404)+1,IF(O326=\"DNF\",MAX(Q$5:Q$404)+COUNTIF(Q$5:Q$404,\"NP\")+1,RANK(O326,O$5:O$404,1))))","v":""},null,{"$f":"IF($C326=\"\",9000,MAX(H326,M326)+(COUNTIF($H326:$H326,\"NP\")*600)+(COUNTIF($M326:$M326,\"NP\")*600)+(COUNTIF($H326:$H326,\"DNF\")*3600)+(COUNTIF($M326:$M326,\"DNF\")*3600))","v":9000}]
[null,{"$f":"IF(J100m!E323=\"\",\"\",J100m!E323)","v":""},{"$f":"IF(AND(J100m!A323=\"\",J100m!B323<>\"\"),\"\",IF(AND(J100m!A323=\"\",J100m!B323=\"\"),\"\",J100m!A323))","v":""},{"$f":"IF(C327=\"\",\"\",J100m!B323)","v":""},null,null,null,"",null,null,null,null,"",null,"",null,"",null,"",null,9000]
[null,{"$f":"IF(J100m!E324=\"\",\"\",J100m!E324)","v":""},{"$f":"IF(AND(J100m!A324=\"\",J100m!B324<>\"\"),\"\",IF(AND(J100m!A324=\"\",J100m!B324=\"\"),\"\",J100m!A324))","v":""},{"$f":"IF(C328=\"\",\"\",J100m!B324)","v":""},null,null,null,"",null,null,null,null,"",null,"",null,"",null,"",null,9000]
[null,{"$f":"IF(J100m!E325=\"\",\"\",J100m!E325)","v":""},{"$f":"IF(AND(J100m!A325=\"\",J100m!B325<>\"\"),\"\",IF(AND(J100m!A325=\"\",J100m!B325=\"\"),\"\",J100m!A325))","v":""},{"$f":"IF(C329=\"\",\"\",J100m!B325)","v":""},null,null,null,"",null,null,null,null,"",null,"",null,"",null,"",null,9000]
[null,{"$f":"IF(J100m!E326=\"\",\"\",J100m!E326)","v":""},{"$f":"IF(AND(J100m!A326=\"\",J100m!B326<>\"\"),\"\",IF(AND(J100m!A326=\"\",J100m!B326=\"\"),\"\",J100m!A326))","v":""},{"$f":"IF(C330=\"\",\"\",J100m!B326)","v":""},null,null,null,"",null,null,null,null,"",null,"",null,"",null,"",null,9000]
[null,{"$f":"IF(J100m!E327=\"\",\"\",J100m!E327)","v":""},{"$f":"IF(AND(J100m!A327=\"\",J100m!B327<>\"\"),\"\",IF(AND(J100m!A327=\"\",J100m!B327=\"\"),\"\",J100m!A327))","v":""},{"$f":"IF(C331=\"\",\"\",J100m!B327)","v":""},null,null,null,"",null,null,null,null,"",null,"",null,"",null,"",null,9000]
[null,{"$f":"IF(J100m!E328=\"\",\"\",J100m!E328)","v":""},{"$f":"IF(AND(J100m!A328=\"\",J100m!B328<>\"\"),\"\",IF(AND(J100m!A328=\"\",J100m!B328=\"\"),\"\",J100m!A328))","v":""},{"$f":"IF(C332=\"\",\"\",J100m!B328)","v":""},null,null,null,"",null,null,null,null,"",null,"",null,"",null,"",null,9000]
[null,{"$f":"IF(J100m!E329=\"\",\"\",J100m!E329)","v":""},{"$f":"IF(AND(J100m!A329=\"\",J100m!B329<>\"\"),\"\",IF(AND(J100m!A329=\"\",J100m!B329=\"\"),\"\",J100m!A329))","v":""},{"$f":"IF(C333=\"\",\"\",J100m!B329)","v":""},null,null,null,"",null,null,null,null,"",null,"",null,"",null,"",null,9000]
[null,{"$f":"IF(J100m!E330=\"\",\"\",J100m!E330)","v":""},{"$f":"IF(AND(J100m!A330=\"\",J100m!B330<>\"\"),\"\",IF(AND(J100m!A330=\"\",J100m!B330=\"\"),\"\",J100m!A330))","v":""},{"$f":"IF(C334=\"\",\"\",J100m!B330)","v":""},null,null,null,"",null,null,null,null,"",null,"",null,"",null,"",null,9000]
[null,{"$f":"IF(J100m!E331=\"\",\"\",J100m!E331)","v":""},{"$f":"IF(AND(J100m!A331=\"\",J100m!B331<>\"\"),\"\",IF(AND(J100m!A331=\"\",J100m!B331=\"\"),\"\",J100m!A331))","v":""},{"$f":"IF(C335=\"\",\"\",J100m!B331)","v":""},null,null,null,"",null,null,null,null,"",null,"",null,"",null,"",null,9000]
[null,{"$f":"IF(J100m!E332=\"\",\"\",J100m!E332)","v":""},{"$f":"IF(AND(J100m!A332=\"\",J100m!B332<>\"\"),\"\",IF(AND(J100m!A332=\"\",J100m!B332=\"\"),\"\",J100m!A332))","v":""},{"$f":"IF(C336=\"\",\"\",J100m!B332)","v":""},null,null,null,"",null,null,null,null,"",null,"",null,"",null,"",null,9000]
[null,{"$f":"IF(J100m!E333=\"\",\"\",J100m!E333)","v":""},{"$f":"IF(AND(J100m!A333=\"\",J100m!B333<>\"\"),\"\",IF(AND(J100m!A333=\"\",J100m!B333=\"\"),\"\",J100m!A333))","v":""},{"$f":"IF(C337=\"\",\"\",J100m!B333)","v":""},null,null,null,"",null,null,null,null,"",null,"",null,"",null,"",null,9000]
[null,{"$f":"IF(J100m!E334=\"\",\"\",J100m!E334)","v":""},{"$f":"IF(AND(J100m!A334=\"\",J100m!B334<>\"\"),\"\",IF(AND(J100m!A334=\"\",J100m!B334=\"\"),\"\",J100m!A334))","v":""},{"$f":"IF(C338=\"\",\"\",J100m!B334)","v":""},null,null,null,"",null,null,null,null,"",null,"",null,"",null,"",null,9000]
[null,{"$f":"IF(J100m!E335=\"\",\"\",J100m!E335)","v":""},{"$f":"IF(AND(J100m!A335=\"\",J100m!B335<>\"\"),\"\",IF(AND(J100m!A335=\"\",J100m!B335=\"\"),\"\",J100m!A335))","v":""},{"$f":"IF(C339=\"\",\"\",J100m!B335)","v":""},null,null,null,"",null,null,null,null,"",null,"",null,"",null,"",null,9000]
[null,{"$f":"IF(J100m!E336=\"\",\"\",J100m!E336)","v":""},{"$f":"IF(AND(J100m!A336=\"\",J100m!B336<>\"\"),\"\",IF(AND(J100m!A336=\"\",J100m!B336=\"\"),\"\",J100m!A336))","v":""},{"$f":"IF(C340=\"\",\"\",J100m!B336)","v":""},null,null,null,"",null,null,null,null,"",null,"",null,"",null,"",null,9000]
[null,{"$f":"IF(J100m!E337=\"\",\"\",J100m!E337)","v":""},{"$f":"IF(AND(J100m!A337=\"\",J100m!B337<>\"\"),\"\",IF(AND(J100m!A337=\"\",J100m!B337=\"\"),\"\",J100m!A337))","v":""},{"$f":"IF(C341=\"\",\"\",J100m!B337)","v":""},null,null,null,"",null,null,null,null,"",null,"",null,"",null,"",null,9000]
[null,{"$f":"IF(J100m!E338=\"\",\"\",J100m!E338)","v":""},{"$f":"IF(AND(J100m!A338=\"\",J100m!B338<>\"\"),\"\",IF(AND(J100m!A338=\"\",J100m!B338=\"\"),\"\",J100m!A338))","v":""},{"$f":"IF(C342=\"\",\"\",J100m!B338)","v":""},null,null,null,"",null,null,null,null,"",null,"",null,"",null,"",null,9000]
[null,{"$f":"IF(J100m!E339=\"\",\"\",J100m!E339)","v":""},{"$f":"IF(AND(J100m!A339=\"\",J100m!B339<>\"\"),\"\",IF(AND(J100m!A339=\"\",J100m!B339=\"\"),\"\",J100m!A339))","v":""},{"$f":"IF(C343=\"\",\"\",J100m!B339)","v":""},null,null,null,"",null,null,null,null,"",null,"",null,"",null,"",null,9000]
[null,{"$f":"IF(J100m!E340=\"\",\"\",J100m!E340)","v":""},{"$f":"IF(AND(J100m!A340=\"\",J100m!B340<>\"\"),\"\",IF(AND(J100m!A340=\"\",J100m!B340=\"\"),\"\",J100m!A340))","v":""},{"$f":"IF(C344=\"\",\"\",J100m!B340)","v":""},null,null,null,"",null,null,null,null,"",null,"",null,"",null,"",null,9000]
[null,{"$f":"IF(J100m!E341=\"\",\"\",J100m!E341)","v":""},{"$f":"IF(AND(J100m!A341=\"\",J100m!B341<>\"\"),\"\",IF(AND(J100m!A341=\"\",J100m!B341=\"\"),\"\",J100m!A341))","v":""},{"$f":"IF(C345=\"\",\"\",J100m!B341)","v":""},null,null,null,"",null,null,null,null,"",null,"",null,"",null,"",null,9000]
[null,{"$f":"IF(J100m!E342=\"\",\"\",J100m!E342)","v":""},{"$f":"IF(AND(J100m!A342=\"\",J100m!B342<>\"\"),\"\",IF(AND(J100m!A342=\"\",J100m!B342=\"\"),\"\",J100m!A342))","v":""},{"$f":"IF(C346=\"\",\"\",J100m!B342)","v":""},null,null,null,"",null,null,null,null,"",null,"",null,"",null,"",null,9000]
[null,{"$f":"IF(J100m!E343=\"\",\"\",J100m!E343)","v":""},{"$f":"IF(AND(J100m!A343=\"\",J100m!B343<>\"\"),\"\",IF(AND(J100m!A343=\"\",J100m!B343=\"\"),\"\",J100m!A343))","v":""},{"$f":"IF(C347=\"\",\"\",J100m!B343)","v":""},null,null,null,"",null,null,null,null,"",null,"",null,"",null,"",null,9000]
[null,{"$f":"IF(J100m!E344=\"\",\"\",J100m!E344)","v":""},{"$f":"IF(AND(J100m!A344=\"\",J100m!B344<>\"\"),\"\",IF(AND(J100m!A344=\"\",J100m!B344=\"\"),\"\",J100m!A344))","v":""},{"$f":"IF(C348=\"\",\"\",J100m!B344)","v":""},null,null,null,"",null,null,null,null,"",null,"",null,"",null,"",null,9000]
[null,{"$f":"IF(J100m!E345=\"\",\"\",J100m!E345)","v":""},{"$f":"IF(AND(J100m!A345=\"\",J100m!B345<>\"\"),\"\",IF(AND(J100m!A345=\"\",J100m!B345=\"\"),\"\",J100m!A345))","v":""},{"$f":"IF(C349=\"\",\"\",J100m!B345)","v":""},null,null,null,"",null,null,null,null,"",null,"",null,"",null,"",null,9000]
[null,{"$f":"IF(J100m!E346=\"\",\"\",J100m!E346)","v":""},{"$f":"IF(AND(J100m!A346=\"\",J100m!B346<>\"\"),\"\",IF(AND(J100m!A346=\"\",J100m!B346=\"\"),\"\",J100m!A346))","v":""},{"$f":"IF(C350=\"\",\"\",J100m!B346)","v":""},null,null,null,"",null,null,null,null,"",null,"",null,"",null,"",null,9000]
[null,{"$f":"IF(J100m!E347=\"\",\"\",J100m!E347)","v":""},{"$f":"IF(AND(J100m!A347=\"\",J100m!B347<>\"\"),\"\",IF(AND(J100m!A347=\"\",J100m!B347=\"\"),\"\",J100m!A347))","v":""},{"$f":"IF(C351=\"\",\"\",J100m!B347)","v":""},null,null,null,"",null,null,null,null,"",null,"",null,"",null,"",null,9000]
[null,{"$f":"IF(J100m!E348=\"\",\"\",J100m!E348)","v":""},{"$f":"IF(AND(J100m!A348=\"\",J100m!B348<>\"\"),\"\",IF(AND(J100m!A348=\"\",J100m!B348=\"\"),\"\",J100m!A348))","v":""},{"$f":"IF(C352=\"\",\"\",J100m!B348)","v":""},null,null,null,"",null,null,null,null,"",null,"",null,"",null,"",null,9000]
[null,{"$f":"IF(J100m!E349=\"\",\"\",J100m!E349)","v":""},{"$f":"IF(AND(J100m!A349=\"\",J100m!B349<>\"\"),\"\",IF(AND(J100m!A349=\"\",J100m!B349=\"\"),\"\",J100m!A349))","v":""},{"$f":"IF(C353=\"\",\"\",J100m!B349)","v":""},null,null,null,"",null,null,null,null,"",null,{"$f":"IF(C353=\"\",\"\",IF(OR(AND(H353=\"NP\",M353=\"NP\"),AND(H353=\"DNF\",M353=\"DNF\")),H353,IF(AND(H353=\"NP\",M353=\"DNF\"),H353,IF(AND(H353=\"DNF\",M353=\"NP\"),M353,MIN(H353,M353)))))","v":""},null,"",null,"",null,9000]
[null,{"$f":"IF(J100m!E350=\"\",\"\",J100m!E350)","v":""},{"$f":"IF(AND(J100m!A350=\"\",J100m!B350<>\"\"),\"\",IF(AND(J100m!A350=\"\",J100m!B350=\"\"),\"\",J100m!A350))","v":""},{"$f":"IF(C354=\"\",\"\",J100m!B350)","v":""},null,null,null,"",null,null,null,null,"",null,"",null,"",null,"",null,9000]
[null,{"$f":"IF(J100m!E351=\"\",\"\",J100m!E351)","v":""},{"$f":"IF(AND(J100m!A351=\"\",J100m!B351<>\"\"),\"\",IF(AND(J100m!A351=\"\",J100m!B351=\"\"),\"\",J100m!A351))","v":""},{"$f":"IF(C355=\"\",\"\",J100m!B351)","v":""},null,null,null,"",null,null,null,null,"",null,"",null,"",null,"",null,9000]
[null,{"$f":"IF(J100m!E352=\"\",\"\",J100m!E352)","v":""},{"$f":"IF(AND(J100m!A352=\"\",J100m!B352<>\"\"),\"\",IF(AND(J100m!A352=\"\",J100m!B352=\"\"),\"\",J100m!A352))","v":""},{"$f":"IF(C356=\"\",\"\",J100m!B352)","v":""},null,null,null,"",null,null,null,null,"",null,"",null,"",null,"",null,9000]
[null,{"$f":"IF(J100m!E353=\"\",\"\",J100m!E353)","v":""},{"$f":"IF(AND(J100m!A353=\"\",J100m!B353<>\"\"),\"\",IF(AND(J100m!A353=\"\",J100m!B353=\"\"),\"\",J100m!A353))","v":""},{"$f":"IF(C357=\"\",\"\",J100m!B353)","v":""},null,null,null,"",null,null,null,null,"",null,"",null,"",null,"",null,9000]
[null,{"$f":"IF(J100m!E354=\"\",\"\",J100m!E354)","v":""},{"$f":"IF(AND(J100m!A354=\"\",J100m!B354<>\"\"),\"\",IF(AND(J100m!A354=\"\",J100m!B354=\"\"),\"\",J100m!A354))","v":""},{"$f":"IF(C358=\"\",\"\",J100m!B354)","v":""},null,null,null,"",null,null,null,null,"",null,"",null,"",null,"",null,9000]
[null,{"$f":"IF(J100m!E355=\"\",\"\",J100m!E355)","v":""},{"$f":"IF(AND(J100m!A355=\"\",J100m!B355<>\"\"),\"\",IF(AND(J100m!A355=\"\",J100m!B355=\"\"),\"\",J100m!A355))","v":""},{"$f":"IF(C359=\"\",\"\",J100m!B355)","v":""},null,null,null,"",null,null,null,null,"",null,"",null,"",null,"",null,9000]
[null,{"$f":"IF(J100m!E356=\"\",\"\",J100m!E356)","v":""},{"$f":"IF(AND(J100m!A356=\"\",J100m!B356<>\"\"),\"\",IF(AND(J100m!A356=\"\",J100m!B356=\"\"),\"\",J100m!A356))","v":""},{"$f":"IF(C360=\"\",\"\",J100m!B356)","v":""},null,null,null,"",null,null,null,null,"",null,"",null,"",null,"",null,9000]
[null,{"$f":"IF(J100m!E357=\"\",\"\",J100m!E357)","v":""},{"$f":"IF(AND(J100m!A357=\"\",J100m!B357<>\"\"),\"\",IF(AND(J100m!A357=\"\",J100m!B357=\"\"),\"\",J100m!A357))","v":""},{"$f":"IF(C361=\"\",\"\",J100m!B357)","v":""},null,null,null,"",null,null,null,null,"",null,"",null,"",null,"",null,9000]
[null,{"$f":"IF(J100m!E358=\"\",\"\",J100m!E358)","v":""},{"$f":"IF(AND(J100m!A358=\"\",J100m!B358<>\"\"),\"\",IF(AND(J100m!A358=\"\",J100m!B358=\"\"),\"\",J100m!A358))","v":""},{"$f":"IF(C362=\"\",\"\",J100m!B358)","v":""},null,null,null,"",null,null,null,null,"",null,"",null,"",null,"",null,9000]
[null,{"$f":"IF(J100m!E359=\"\",\"\",J100m!E359)","v":""},{"$f":"IF(AND(J100m!A359=\"\",J100m!B359<>\"\"),\"\",IF(AND(J100m!A359=\"\",J100m!B359=\"\"),\"\",J100m!A359))","v":""},{"$f":"IF(C363=\"\",\"\",J100m!B359)","v":""},null,null,null,"",null,null,null,null,"",null,"",null,"",null,"",null,9000]
[null,{"$f":"IF(J100m!E360=\"\",\"\",J100m!E360)","v":""},{"$f":"IF(AND(J100m!A360=\"\",J100m!B360<>\"\"),\"\",IF(AND(J100m!A360=\"\",J100m!B360=\"\"),\"\",J100m!A360))","v":""},{"$f":"IF(C364=\"\",\"\",J100m!B360)","v":""},null,null,null,"",null,null,null,null,"",null,"",null,"",null,"",null,9000]
[null,{"$f":"IF(J100m!E361=\"\",\"\",J100m!E361)","v":""},{"$f":"IF(AND(J100m!A361=\"\",J100m!B361<>\"\"),\"\",IF(AND(J100m!A361=\"\",J100m!B361=\"\"),\"\",J100m!A361))","v":""},{"$f":"IF(C365=\"\",\"\",J100m!B361)","v":""},null,null,null,"",null,null,null,null,"",null,"",null,"",null,"",null,9000]
[null,{"$f":"IF(J100m!E362=\"\",\"\",J100m!E362)","v":""},{"$f":"IF(AND(J100m!A362=\"\",J100m!B362<>\"\"),\"\",IF(AND(J100m!A362=\"\",J100m!B362=\"\"),\"\",J100m!A362))","v":""},{"$f":"IF(C366=\"\",\"\",J100m!B362)","v":""},null,null,null,"",null,null,null,null,"",null,"",null,"",null,"",null,9000]
[null,{"$f":"IF(J100m!E363=\"\",\"\",J100m!E363)","v":""},{"$f":"IF(AND(J100m!A363=\"\",J100m!B363<>\"\"),\"\",IF(AND(J100m!A363=\"\",J100m!B363=\"\"),\"\",J100m!A363))","v":""},{"$f":"IF(C367=\"\",\"\",J100m!B363)","v":""},null,null,null,"",null,null,null,null,"",null,"",null,"",null,"",null,9000]
[null,{"$f":"IF(J100m!E364=\"\",\"\",J100m!E364)","v":""},{"$f":"IF(AND(J100m!A364=\"\",J100m!B364<>\"\"),\"\",IF(AND(J100m!A364=\"\",J100m!B364=\"\"),\"\",J100m!A364))","v":""},{"$f":"IF(C368=\"\",\"\",J100m!B364)","v":""},null,null,null,"",null,null,null,null,"",null,"",null,"",null,"",null,9000]
[null,{"$f":"IF(J100m!E365=\"\",\"\",J100m!E365)","v":""},{"$f":"IF(AND(J100m!A365=\"\",J100m!B365<>\"\"),\"\",IF(AND(J100m!A365=\"\",J100m!B365=\"\"),\"\",J100m!A365))","v":""},{"$f":"IF(C369=\"\",\"\",J100m!B365)","v":""},null,null,null,"",null,null,null,null,"",null,"",null,"",null,"",null,9000]
[null,{"$f":"IF(J100m!E366=\"\",\"\",J100m!E366)","v":""},{"$f":"IF(AND(J100m!A366=\"\",J100m!B366<>\"\"),\"\",IF(AND(J100m!A366=\"\",J100m!B366=\"\"),\"\",J100m!A366))","v":""},{"$f":"IF(C370=\"\",\"\",J100m!B366)","v":""},null,null,null,"",null,null,null,null,"",null,"",null,"",null,"",null,9000]
[null,{"$f":"IF(J100m!E367=\"\",\"\",J100m!E367)","v":""},{"$f":"IF(AND(J100m!A367=\"\",J100m!B367<>\"\"),\"\",IF(AND(J100m!A367=\"\",J100m!B367=\"\"),\"\",J100m!A367))","v":""},{"$f":"IF(C371=\"\",\"\",J100m!B367)","v":""},null,null,null,"",null,null,null,null,"",null,"",null,"",null,"",null,9000]
[null,{"$f":"IF(J100m!E368=\"\",\"\",J100m!E368)","v":""},{"$f":"IF(AND(J100m!A368=\"\",J100m!B368<>\"\"),\"\",IF(AND(J100m!A368=\"\",J100m!B368=\"\"),\"\",J100m!A368))","v":""},{"$f":"IF(C372=\"\",\"\",J100m!B368)","v":""},null,null,null,"",null,null,null,null,"",null,"",null,"",null,"",null,9000]
[null,{"$f":"IF(J100m!E369=\"\",\"\",J100m!E369)","v":""},{"$f":"IF(AND(J100m!A369=\"\",J100m!B369<>\"\"),\"\",IF(AND(J100m!A369=\"\",J100m!B369=\"\"),\"\",J100m!A369))","v":""},{"$f":"IF(C373=\"\",\"\",J100m!B369)","v":""},null,null,null,"",null,null,null,null,"",null,"",null,"",null,"",null,9000]
[null,{"$f":"IF(J100m!E370=\"\",\"\",J100m!E370)","v":""},{"$f":"IF(AND(J100m!A370=\"\",J100m!B370<>\"\"),\"\",IF(AND(J100m!A370=\"\",J100m!B370=\"\"),\"\",J100m!A370))","v":""},{"$f":"IF(C374=\"\",\"\",J100m!B370)","v":""},null,null,null,"",null,null,null,null,"",null,"",null,"",null,"",null,9000]
[null,{"$f":"IF(J100m!E371=\"\",\"\",J100m!E371)","v":""},{"$f":"IF(AND(J100m!A371=\"\",J100m!B371<>\"\"),\"\",IF(AND(J100m!A371=\"\",J100m!B371=\"\"),\"\",J100m!A371))","v":""},{"$f":"IF(C375=\"\",\"\",J100m!B371)","v":""},null,null,null,"",null,null,null,null,"",null,"",null,"",null,"",null,9000]
[null,{"$f":"IF(J100m!E372=\"\",\"\",J100m!E372)","v":""},{"$f":"IF(AND(J100m!A372=\"\",J100m!B372<>\"\"),\"\",IF(AND(J100m!A372=\"\",J100m!B372=\"\"),\"\",J100m!A372))","v":""},{"$f":"IF(C376=\"\",\"\",J100m!B372)","v":""},null,null,null,"",null,null,null,null,"",null,"",null,"",null,"",null,9000]
[null,{"$f":"IF(J100m!E373=\"\",\"\",J100m!E373)","v":""},{"$f":"IF(AND(J100m!A373=\"\",J100m!B373<>\"\"),\"\",IF(AND(J100m!A373=\"\",J100m!B373=\"\"),\"\",J100m!A373))","v":""},{"$f":"IF(C377=\"\",\"\",J100m!B373)","v":""},null,null,null,"",null,null,null,null,"",null,"",null,"",null,"",null,9000]
[null,{"$f":"IF(J100m!E374=\"\",\"\",J100m!E374)","v":""},{"$f":"IF(AND(J100m!A374=\"\",J100m!B374<>\"\"),\"\",IF(AND(J100m!A374=\"\",J100m!B374=\"\"),\"\",J100m!A374))","v":""},{"$f":"IF(C378=\"\",\"\",J100m!B374)","v":""},null,null,null,"",null,null,null,null,"",null,"",null,"",null,"",null,9000]
[null,{"$f":"IF(J100m!E375=\"\",\"\",J100m!E375)","v":""},{"$f":"IF(AND(J100m!A375=\"\",J100m!B375<>\"\"),\"\",IF(AND(J100m!A375=\"\",J100m!B375=\"\"),\"\",J100m!A375))","v":""},{"$f":"IF(C379=\"\",\"\",J100m!B375)","v":""},null,null,null,"",null,null,null,null,"",null,"",null,"",null,"",null,9000]
[null,{"$f":"IF(J100m!E376=\"\",\"\",J100m!E376)","v":""},{"$f":"IF(AND(J100m!A376=\"\",J100m!B376<>\"\"),\"\",IF(AND(J100m!A376=\"\",J100m!B376=\"\"),\"\",J100m!A376))","v":""},{"$f":"IF(C380=\"\",\"\",J100m!B376)","v":""},null,null,null,"",null,null,null,null,"",null,"",null,"",null,"",null,9000]
[null,{"$f":"IF(J100m!E377=\"\",\"\",J100m!E377)","v":""},{"$f":"IF(AND(J100m!A377=\"\",J100m!B377<>\"\"),\"\",IF(AND(J100m!A377=\"\",J100m!B377=\"\"),\"\",J100m!A377))","v":""},{"$f":"IF(C381=\"\",\"\",J100m!B377)","v":""},null,null,null,"",null,null,null,null,"",null,"",null,"",null,"",null,9000]
[null,{"$f":"IF(J100m!E378=\"\",\"\",J100m!E378)","v":""},{"$f":"IF(AND(J100m!A378=\"\",J100m!B378<>\"\"),\"\",IF(AND(J100m!A378=\"\",J100m!B378=\"\"),\"\",J100m!A378))","v":""},{"$f":"IF(C382=\"\",\"\",J100m!B378)","v":""},null,null,null,"",null,null,null,null,"",null,"",null,"",null,"",null,9000]
[null,{"$f":"IF(J100m!E379=\"\",\"\",J100m!E379)","v":""},{"$f":"IF(AND(J100m!A379=\"\",J100m!B379<>\"\"),\"\",IF(AND(J100m!A379=\"\",J100m!B379=\"\"),\"\",J100m!A379))","v":""},{"$f":"IF(C383=\"\",\"\",J100m!B379)","v":""},null,null,null,"",null,null,null,null,"",null,"",null,"",null,"",null,9000]
[null,{"$f":"IF(J100m!E380=\"\",\"\",J100m!E380)","v":""},{"$f":"IF(AND(J100m!A380=\"\",J100m!B380<>\"\"),\"\",IF(AND(J100m!A380=\"\",J100m!B380=\"\"),\"\",J100m!A380))","v":""},{"$f":"IF(C384=\"\",\"\",J100m!B380)","v":""},null,null,null,"",null,null,null,null,"",null,"",null,"",null,"",null,9000]
[null,{"$f":"IF(J100m!E381=\"\",\"\",J100m!E381)","v":""},{"$f":"IF(AND(J100m!A381=\"\",J100m!B381<>\"\"),\"\",IF(AND(J100m!A381=\"\",J100m!B381=\"\"),\"\",J100m!A381))","v":""},{"$f":"IF(C385=\"\",\"\",J100m!B381)","v":""},null,null,null,"",null,null,null,null,"",null,"",null,"",null,"",null,9000]
[null,{"$f":"IF(J100m!E382=\"\",\"\",J100m!E382)","v":""},{"$f":"IF(AND(J100m!A382=\"\",J100m!B382<>\"\"),\"\",IF(AND(J100m!A382=\"\",J100m!B382=\"\"),\"\",J100m!A382))","v":""},{"$f":"IF(C386=\"\",\"\",J100m!B382)","v":""},null,null,null,"",null,null,null,null,"",null,"",null,"",null,"",null,9000]
[null,{"$f":"IF(J100m!E383=\"\",\"\",J100m!E383)","v":""},{"$f":"IF(AND(J100m!A383=\"\",J100m!B383<>\"\"),\"\",IF(AND(J100m!A383=\"\",J100m!B383=\"\"),\"\",J100m!A383))","v":""},{"$f":"IF(C387=\"\",\"\",J100m!B383)","v":""},null,null,null,"",null,null,null,null,"",null,"",null,"",null,"",null,9000]
[null,{"$f":"IF(J100m!E384=\"\",\"\",J100m!E384)","v":""},{"$f":"IF(AND(J100m!A384=\"\",J100m!B384<>\"\"),\"\",IF(AND(J100m!A384=\"\",J100m!B384=\"\"),\"\",J100m!A384))","v":""},{"$f":"IF(C388=\"\",\"\",J100m!B384)","v":""},null,null,null,"",null,null,null,null,"",null,"",null,"",null,"",null,9000]
[null,{"$f":"IF(J100m!E385=\"\",\"\",J100m!E385)","v":""},{"$f":"IF(AND(J100m!A385=\"\",J100m!B385<>\"\"),\"\",IF(AND(J100m!A385=\"\",J100m!B385=\"\"),\"\",J100m!A385))","v":""},{"$f":"IF(C389=\"\",\"\",J100m!B385)","v":""},null,null,null,"",null,null,null,null,"",null,"",null,"",null,"",null,9000]
[null,{"$f":"IF(J100m!E386=\"\",\"\",J100m!E386)","v":""},{"$f":"IF(AND(J100m!A386=\"\",J100m!B386<>\"\"),\"\",IF(AND(J100m!A386=\"\",J100m!B386=\"\"),\"\",J100m!A386))","v":""},{"$f":"IF(C390=\"\",\"\",J100m!B386)","v":""},null,null,null,"",null,null,null,null,"",null,"",null,{"$f":"IF(C390=\"\",\"\",IF(OR(O390=\"NP\",O390=\"DNF\"),O390,RANK(O390,O$5:O$404,1)))","v":""},null,{"$f":"IF(C390=\"\",\"\",IF(O390=\"NP\",MAX(Q$5:Q$404)+1,IF(O390=\"DNF\",MAX(Q$5:Q$404)+COUNTIF(Q$5:Q$404,\"NP\")+1,RANK(O390,O$5:O$404,1))))","v":""},null,{"$f":"IF($C390=\"\",9000,MAX(H390,M390)+(COUNTIF($H390:$H390,\"NP\")*600)+(COUNTIF($M390:$M390,\"NP\")*600)+(COUNTIF($H390:$H390,\"DNF\")*3600)+(COUNTIF($M390:$M390,\"DNF\")*3600))","v":9000}]
[null,{"$f":"IF(J100m!E387=\"\",\"\",J100m!E387)","v":""},{"$f":"IF(AND(J100m!A387=\"\",J100m!B387<>\"\"),\"\",IF(AND(J100m!A387=\"\",J100m!B387=\"\"),\"\",J100m!A387))","v":""},{"$f":"IF(C391=\"\",\"\",J100m!B387)","v":""},null,null,null,"",null,null,null,null,"",null,"",null,"",null,"",null,9000]
[null,{"$f":"IF(J100m!E388=\"\",\"\",J100m!E388)","v":""},{"$f":"IF(AND(J100m!A388=\"\",J100m!B388<>\"\"),\"\",IF(AND(J100m!A388=\"\",J100m!B388=\"\"),\"\",J100m!A388))","v":""},{"$f":"IF(C392=\"\",\"\",J100m!B388)","v":""},null,null,null,"",null,null,null,null,"",null,"",null,"",null,"",null,9000]
[null,{"$f":"IF(J100m!E389=\"\",\"\",J100m!E389)","v":""},{"$f":"IF(AND(J100m!A389=\"\",J100m!B389<>\"\"),\"\",IF(AND(J100m!A389=\"\",J100m!B389=\"\"),\"\",J100m!A389))","v":""},{"$f":"IF(C393=\"\",\"\",J100m!B389)","v":""},null,null,null,"",null,null,null,null,"",null,{"$f":"IF(C393=\"\",\"\",IF(OR(AND(H393=\"NP\",M393=\"NP\"),AND(H393=\"DNF\",M393=\"DNF\")),H393,IF(AND(H393=\"NP\",M393=\"DNF\"),H393,IF(AND(H393=\"DNF\",M393=\"NP\"),M393,MIN(H393,M393)))))","v":""},null,"",null,"",null,9000]
[null,{"$f":"IF(J100m!E390=\"\",\"\",J100m!E390)","v":""},{"$f":"IF(AND(J100m!A390=\"\",J100m!B390<>\"\"),\"\",IF(AND(J100m!A390=\"\",J100m!B390=\"\"),\"\",J100m!A390))","v":""},{"$f":"IF(C394=\"\",\"\",J100m!B390)","v":""},null,null,null,"",null,null,null,null,"",null,"",null,"",null,"",null,9000]
[null,{"$f":"IF(J100m!E391=\"\",\"\",J100m!E391)","v":""},{"$f":"IF(AND(J100m!A391=\"\",J100m!B391<>\"\"),\"\",IF(AND(J100m!A391=\"\",J100m!B391=\"\"),\"\",J100m!A391))","v":""},{"$f":"IF(C395=\"\",\"\",J100m!B391)","v":""},null,null,null,"",null,null,null,null,"",null,"",null,"",null,"",null,9000]
[null,{"$f":"IF(J100m!E392=\"\",\"\",J100m!E392)","v":""},{"$f":"IF(AND(J100m!A392=\"\",J100m!B392<>\"\"),\"\",IF(AND(J100m!A392=\"\",J100m!B392=\"\"),\"\",J100m!A392))","v":""},{"$f":"IF(C396=\"\",\"\",J100m!B392)","v":""},null,null,null,"",null,null,null,null,"",null,"",null,"",null,"",null,9000]
[null,{"$f":"IF(J100m!E393=\"\",\"\",J100m!E393)","v":""},{"$f":"IF(AND(J100m!A393=\"\",J100m!B393<>\"\"),\"\",IF(AND(J100m!A393=\"\",J100m!B393=\"\"),\"\",J100m!A393))","v":""},{"$f":"IF(C397=\"\",\"\",J100m!B393)","v":""},null,null,null,"",null,null,null,null,"",null,"",null,"",null,"",null,9000]
[null,{"$f":"IF(J100m!E394=\"\",\"\",J100m!E394)","v":""},{"$f":"IF(AND(J100m!A394=\"\",J100m!B394<>\"\"),\"\",IF(AND(J100m!A394=\"\",J100m!B394=\"\"),\"\",J100m!A394))","v":""},{"$f":"IF(C398=\"\",\"\",J100m!B394)","v":""},null,null,null,"",null,null,null,null,"",null,"",null,"",null,"",null,9000]
[null,{"$f":"IF(J100m!E395=\"\",\"\",J100m!E395)","v":""},{"$f":"IF(AND(J100m!A395=\"\",J100m!B395<>\"\"),\"\",IF(AND(J100m!A395=\"\",J100m!B395=\"\"),\"\",J100m!A395))","v":""},{"$f":"IF(C399=\"\",\"\",J100m!B395)","v":""},null,null,null,"",null,null,null,null,"",null,"",null,"",null,"",null,9000]
[null,{"$f":"IF(J100m!E396=\"\",\"\",J100m!E396)","v":""},{"$f":"IF(AND(J100m!A396=\"\",J100m!B396<>\"\"),\"\",IF(AND(J100m!A396=\"\",J100m!B396=\"\"),\"\",J100m!A396))","v":""},{"$f":"IF(C400=\"\",\"\",J100m!B396)","v":""},null,null,null,"",null,null,null,null,"",null,"",null,"",null,"",null,9000]
[null,{"$f":"IF(J100m!E397=\"\",\"\",J100m!E397)","v":""},{"$f":"IF(AND(J100m!A397=\"\",J100m!B397<>\"\"),\"\",IF(AND(J100m!A397=\"\",J100m!B397=\"\"),\"\",J100m!A397))","v":""},{"$f":"IF(C401=\"\",\"\",J100m!B397)","v":""},null,null,null,"",null,null,null,null,"",null,"",null,"",null,"",null,9000]
[null,{"$f":"IF(J100m!E398=\"\",\"\",J100m!E398)","v":""},{"$f":"IF(AND(J100m!A398=\"\",J100m!B398<>\"\"),\"\",IF(AND(J100m!A398=\"\",J100m!B398=\"\"),\"\",J100m!A398))","v":""},{"$f":"IF(C402=\"\",\"\",J100m!B398)","v":""},null,null,null,"",null,null,null,null,"",null,"",null,"",null,"",null,9000]
[null,{"$f":"IF(J100m!E399=\"\",\"\",J100m!E399)","v":""},{"$f":"IF(AND(J100m!A399=\"\",J100m!B399<>\"\"),\"\",IF(AND(J100m!A399=\"\",J100m!B399=\"\"),\"\",J100m!A399))","v":""},{"$f":"IF(C403=\"\",\"\",J100m!B399)","v":""},null,null,null,"",null,null,null,null,"",null,"",null,"",null,"",null,9000]
[null,{"$f":"IF(J100m!E400=\"\",\"\",J100m!E400)","v":""},{"$f":"IF(AND(J100m!A400=\"\",J100m!B400<>\"\"),\"\",IF(AND(J100m!A400=\"\",J100m!B400=\"\"),\"\",J100m!A400))","v":""},{"$f":"IF(C404=\"\",\"\",J100m!B400)","v":""},null,null,null,"",null,null,null,null,"",null,"",null,"",null,"",null,9000]

{"sheet":"PJ-P","index":9,"n_rows":484,"n_cols":9,"rows_kept":484,"cut":false,"hidden":false,"merged":[[477,1,477,2],[478,1,479,1],[478,2,479,2],[478,3,479,3],[478,4,479,4],[478,5,479,5],[478,6,479,6],[478,8,479,8],[435,5,436,5],[435,6,436,6],[435,8,436,8],[473,1,473,8],[435,1,436,1],[435,2,436,2],[435,3,436,3],[435,4,436,4],[475,1,475,3],[475,4,475,8],[430,1,430,8],[432,1,432,3],[432,4,432,8],[434,1,434,2],[389,4,389,8],[391,1,391,2],[392,1,393,1],[392,2,393,2],[392,3,393,3],[392,4,393,4],[392,5,393,5],[392,6,393,6],[392,8,393,8],[346,1,346,3],[346,4,346,8],[348,1,348,2],[349,1,350,1],[349,2,350,2],[349,3,350,3],[349,4,350,4],[349,5,350,5],[349,6,350,6],[349,8,350,8],[306,5,307,5],[306,6,307,6],[306,8,307,8],[344,1,344,8],[306,1,307,1],[306,2,307,2],[306,3,307,3],[306,4,307,4],[301,1,301,8],[303,1,303,3],[303,4,303,8],[305,1,305,2],[260,1,260,3],[260,4,260,8],[262,1,262,2],[263,1,264,1],[263,2,264,2],[220,2,221,2],[220,3,221,3],[220,4,221,4],[215,1,215,8],[217,1,217,3],[217,4,217,8],[219,1,219,2],[263,3,264,3],[263,4,264,4],[263,5,264,5],[263,6,264,6],[263,8,264,8],[220,5,221,5],[220,6,221,6],[220,8,221,8],[258,1,258,8],[220,1,221,1],[174,1,174,3],[174,4,174,8],[176,1,176,2],[177,1,178,1],[177,2,178,2],[177,3,178,3],[177,4,178,4],[177,5,178,5],[177,6,178,6],[177,8,178,8],[91,5,92,5],[91,6,92,6],[91,8,92,8],[134,5,135,5],[134,6,135,6],[134,8,135,8],[172,1,172,8],[134,1,135,1],[134,2,135,2],[134,3,135,3],[134,4,135,4],[0,1,0,8],[2,1,2,3],[2,4,2,8],[4,1,4,2],[48,8,49,8],[88,4,88,8],[48,1,49,1],[48,2,49,2],[48,3,49,3],[48,4,49,4],[48,5,49,5],[48,6,49,6],[387,1,387,8],[389,1,389,3],[5,4,6,4],[47,1,47,2],[86,1,86,8],[88,1,88,3],[5,5,6,5],[5,6,6,6],[5,8,6,8],[5,1,6,1],[5,2,6,2],[5,3,6,3],[43,1,43,8],[45,1,45,3],[45,4,45,8],[90,1,90,2],[91,1,92,1],[91,2,92,2],[91,3,92,3],[129,1,129,8],[131,1,131,3],[131,4,131,8],[133,1,133,2],[91,4,92,4]]}
[null,"Běh na 100m s přek. - Pořadí jednotlivců"]
[]
[null,{"$f":"Start!B2","v":"VC ČR v požárním útoku družstev HZS krajů a HZS podniků"},null,null,{"$f":"Start!B3","v":"Petrovice 19.9.2019"}]
[]
[null,{"$f":"Start!$C$5","v":"MUŽI"}]
[null,"Pořadí","Start. číslo","Jméno","kolektiv","čas             I. pokusu","čas            II. pokusu",null,"Výsledný čas"]
[]
[null,{"$f":"IF(AND('PJ - P'!$C1=\"\",'PJ - P'!$D1=\"\"),\"\",'PJ - P'!V1)","v":1},{"$f":"IF(AND('PJ - P'!$C1=\"\",'PJ - P'!$D1=\"\"),\"\",'PJ - P'!B1)","v":25},{"$f":"IF('PJ - P'!C1=\"\",\"\",'PJ - P'!C1)","v":"Stuchlík Martin"},{"$f":"IF('PJ - P'!D1=\"\",\"\",'PJ - P'!D1)","v":"Re Jihlava"},{"$f":"IF('PJ - P'!H1=\"\",\"\",'PJ - P'!H1)","v":16.91},{"$f":"IF('PJ - P'!M1=\"\",\"\",'PJ - P'!M1)","v":16.59},null,{"$f":"IF('PJ - P'!O1=\"\",\"\",'PJ - P'!O1)","v":16.59}]
[null,{"$f":"IF(AND('PJ - P'!$C2=\"\",'PJ - P'!$D2=\"\"),\"\",'PJ - P'!V2)","v":2},{"$f":"IF(AND('PJ - P'!$C2=\"\",'PJ - P'!$D2=\"\"),\"\",'PJ - P'!B2)","v":52},{"$f":"IF('PJ - P'!C2=\"\",\"\",'PJ - P'!C2)","v":"Čekal Michal"},{"$f":"IF('PJ - P'!D2=\"\",\"\",'PJ - P'!D2)","v":"ÚO Žďár nad Sázavou"},{"$f":"IF('PJ - P'!H2=\"\",\"\",'PJ - P'!H2)","v":17.25},{"$f":"IF('PJ - P'!M2=\"\",\"\",'PJ - P'!M2)","v":"NP"},null,{"$f":"IF('PJ - P'!O2=\"\",\"\",'PJ - P'!O2)","v":17.25}]
[null,{"$f":"IF(AND('PJ - P'!$C3=\"\",'PJ - P'!$D3=\"\"),\"\",'PJ - P'!V3)","v":3},{"$f":"IF(AND('PJ - P'!$C3=\"\",'PJ - P'!$D3=\"\"),\"\",'PJ - P'!B3)","v":33},{"$f":"IF('PJ - P'!C3=\"\",\"\",'PJ - P'!C3)","v":"Navrkal Luboš"},{"$f":"IF('PJ - P'!D3=\"\",\"\",'PJ - P'!D3)","v":"ÚO Třebíč"},{"$f":"IF('PJ - P'!H3=\"\",\"\",'PJ - P'!H3)","v":17.32},{"$f":"IF('PJ - P'!M3=\"\",\"\",'PJ - P'!M3)","v":17.350000000000001},null,{"$f":"IF('PJ - P'!O3=\"\",\"\",'PJ - P'!O3)","v":17.32}]
[null,{"$f":"IF(AND('PJ - P'!$C4=\"\",'PJ - P'!$D4=\"\"),\"\",'PJ - P'!V4)","v":4},{"$f":"IF(AND('PJ - P'!$C4=\"\",'PJ - P'!$D4=\"\"),\"\",'PJ - P'!B4)","v":31},{"$f":"IF('PJ - P'!C4=\"\",\"\",'PJ - P'!C4)","v":"Fila Vojtěch"},{"$f":"IF('PJ - P'!D4=\"\",\"\",'PJ - P'!D4)","v":"ÚO Třebíč"},{"$f":"IF('PJ - P'!H4=\"\",\"\",'PJ - P'!H4)","v":23.07},{"$f":"IF('PJ - P'!M4=\"\",\"\",'PJ - P'!M4)","v":17.53},null,{"$f":"IF('PJ - P'!O4=\"\",\"\",'PJ - P'!O4)","v":17.53}]
[null,{"$f":"IF(AND('PJ - P'!$C5=\"\",'PJ - P'!$D5=\"\"),\"\",'PJ - P'!V5)","v":5},{"$f":"IF(AND('PJ - P'!$C5=\"\",'PJ - P'!$D5=\"\"),\"\",'PJ - P'!B5)","v":6},{"$f":"IF('PJ - P'!C5=\"\",\"\",'PJ - P'!C5)","v":"Ryšavý Vilém"},{"$f":"IF('PJ - P'!D5=\"\",\"\",'PJ - P'!D5)","v":"ÚO Pelhřimov"},{"$f":"IF('PJ - P'!H5=\"\",\"\",'PJ - P'!H5)","v":18.09},{"$f":"IF('PJ - P'!M5=\"\",\"\",'PJ - P'!M5)","v":17.91},null,{"$f":"IF('PJ - P'!O5=\"\",\"\",'PJ - P'!O5)","v":17.91}]
[null,{"$f":"IF(AND('PJ - P'!$C6=\"\",'PJ - P'!$D6=\"\"),\"\",'PJ - P'!V6)","v":6},{"$f":"IF(AND('PJ - P'!$C6=\"\",'PJ - P'!$D6=\"\"),\"\",'PJ - P'!B6)","v":44},{"$f":"IF('PJ - P'!C6=\"\",\"\",'PJ - P'!C6)","v":"Kubát Pavel"},{"$f":"IF('PJ - P'!D6=\"\",\"\",'PJ - P'!D6)","v":"ÚO Havlíčkův Brod"},{"$f":"IF('PJ - P'!H6=\"\",\"\",'PJ - P'!H6)","v":17.940000000000001},{"$f":"IF('PJ - P'!M6=\"\",\"\",'PJ - P'!M6)","v":"NP"},null,{"$f":"IF('PJ - P'!O6=\"\",\"\",'PJ - P'!O6)","v":17.940000000000001}]
[null,{"$f":"IF(AND('PJ - P'!$C7=\"\",'PJ - P'!$D7=\"\"),\"\",'PJ - P'!V7)","v":7},{"$f":"IF(AND('PJ - P'!$C7=\"\",'PJ - P'!$D7=\"\"),\"\",'PJ - P'!B7)","v":32},{"$f":"IF('PJ - P'!C7=\"\",\"\",'PJ - P'!C7)","v":"Hons Lukáš"},{"$f":"IF('PJ - P'!D7=\"\",\"\",'PJ - P'!D7)","v":"ÚO Třebíč"},{"$f":"IF('PJ - P'!H7=\"\",\"\",'PJ - P'!H7)","v":19.89},{"$f":"IF('PJ - P'!M7=\"\",\"\",'PJ - P'!M7)","v":18.12},null,{"$f":"IF('PJ - P'!O7=\"\",\"\",'PJ - P'!O7)","v":18.12}]
[null,{"$f":"IF(AND('PJ - P'!$C8=\"\",'PJ - P'!$D8=\"\"),\"\",'PJ - P'!V8)","v":8},{"$f":"IF(AND('PJ - P'!$C8=\"\",'PJ - P'!$D8=\"\"),\"\",'PJ - P'!B8)","v":54},{"$f":"IF('PJ - P'!C8=\"\",\"\",'PJ - P'!C8)","v":"Kratochvíl Stanislav"},{"$f":"IF('PJ - P'!D8=\"\",\"\",'PJ - P'!D8)","v":"ÚO Žďár nad Sázavou"},{"$f":"IF('PJ - P'!H8=\"\",\"\",'PJ - P'!H8)","v":18.41},{"$f":"IF('PJ - P'!M8=\"\",\"\",'PJ - P'!M8)","v":"NP"},null,{"$f":"IF('PJ - P'!O8=\"\",\"\",'PJ - P'!O8)","v":18.41}]
[null,{"$f":"IF(AND('PJ - P'!$C9=\"\",'PJ - P'!$D9=\"\"),\"\",'PJ - P'!V9)","v":9},{"$f":"IF(AND('PJ - P'!$C9=\"\",'PJ - P'!$D9=\"\"),\"\",'PJ - P'!B9)","v":42},{"$f":"IF('PJ - P'!C9=\"\",\"\",'PJ - P'!C9)","v":"Klimeš Martin"},{"$f":"IF('PJ - P'!D9=\"\",\"\",'PJ - P'!D9)","v":"ÚO Havlíčkův Brod"},{"$f":"IF('PJ - P'!H9=\"\",\"\",'PJ - P'!H9)","v":18.46},{"$f":"IF('PJ - P'!M9=\"\",\"\",'PJ - P'!M9)","v":19.3},null,{"$f":"IF('PJ - P'!O9=\"\",\"\",'PJ - P'!O9)","v":18.46}]
[null,{"$f":"IF(AND('PJ - P'!$C10=\"\",'PJ - P'!$D10=\"\"),\"\",'PJ - P'!V10)","v":10},{"$f":"IF(AND('PJ - P'!$C10=\"\",'PJ - P'!$D10=\"\"),\"\",'PJ - P'!B10)","v":22},{"$f":"IF('PJ - P'!C10=\"\",\"\",'PJ - P'!C10)","v":"Pařil Jiří"},{"$f":"IF('PJ - P'!D10=\"\",\"\",'PJ - P'!D10)","v":"Re Jihlava"},{"$f":"IF('PJ - P'!H10=\"\",\"\",'PJ - P'!H10)","v":19.05},{"$f":"IF('PJ - P'!M10=\"\",\"\",'PJ - P'!M10)","v":18.55},null,{"$f":"IF('PJ - P'!O10=\"\",\"\",'PJ - P'!O10)","v":18.55}]
[null,{"$f":"IF(AND('PJ - P'!$C11=\"\",'PJ - P'!$D11=\"\"),\"\",'PJ - P'!V11)","v":11},{"$f":"IF(AND('PJ - P'!$C11=\"\",'PJ - P'!$D11=\"\"),\"\",'PJ - P'!B11)","v":34},{"$f":"IF('PJ - P'!C11=\"\",\"\",'PJ - P'!C11)","v":"Slatinský Petr"},{"$f":"IF('PJ - P'!D11=\"\",\"\",'PJ - P'!D11)","v":"ÚO Třebíč"},{"$f":"IF('PJ - P'!H11=\"\",\"\",'PJ - P'!H11)","v":18.739999999999998},{"$f":"IF('PJ - P'!M11=\"\",\"\",'PJ - P'!M11)","v":18.72},null,{"$f":"IF('PJ - P'!O11=\"\",\"\",'PJ - P'!O11)","v":18.72}]
[null,{"$f":"IF(AND('PJ - P'!$C12=\"\",'PJ - P'!$D12=\"\"),\"\",'PJ - P'!V12)","v":12},{"$f":"IF(AND('PJ - P'!$C12=\"\",'PJ - P'!$D12=\"\"),\"\",'PJ - P'!B12)","v":35},{"$f":"IF('PJ - P'!C12=\"\",\"\",'PJ - P'!C12)","v":"Šťastný Libor"},{"$f":"IF('PJ - P'!D12=\"\",\"\",'PJ - P'!D12)","v":"ÚO Třebíč"},{"$f":"IF('PJ - P'!H12=\"\",\"\",'PJ - P'!H12)","v":"DNF"},{"$f":"IF('PJ - P'!M12=\"\",\"\",'PJ - P'!M12)","v":19.190000000000001},null,{"$f":"IF('PJ - P'!O12=\"\",\"\",'PJ - P'!O12)","v":19.190000000000001}]
[null,{"$f":"IF(AND('PJ - P'!$C13=\"\",'PJ - P'!$D13=\"\"),\"\",'PJ - P'!V13)","v":13},{"$f":"IF(AND('PJ - P'!$C13=\"\",'PJ - P'!$D13=\"\"),\"\",'PJ - P'!B13)","v":53},{"$f":"IF('PJ - P'!C13=\"\",\"\",'PJ - P'!C13)","v":"Fabík Jan"},{"$f":"IF('PJ - P'!D13=\"\",\"\",'PJ - P'!D13)","v":"ÚO Žďár nad Sázavou"},{"$f":"IF('PJ - P'!H13=\"\",\"\",'PJ - P'!H13)","v":19.41},{"$f":"IF('PJ - P'!M13=\"\",\"\",'PJ - P'!M13)","v":"DNF"},null,{"$f":"IF('PJ - P'!O13=\"\",\"\",'PJ - P'!O13)","v":19.41}]
[null,{"$f":"IF(AND('PJ - P'!$C14=\"\",'PJ - P'!$D14=\"\"),\"\",'PJ - P'!V14)","v":14},{"$f":"IF(AND('PJ - P'!$C14=\"\",'PJ - P'!$D14=\"\"),\"\",'PJ - P'!B14)","v":3},{"$f":"IF('PJ - P'!C14=\"\",\"\",'PJ - P'!C14)","v":"Smetana Petr"},{"$f":"IF('PJ - P'!D14=\"\",\"\",'PJ - P'!D14)","v":"ÚO Pelhřimov"},{"$f":"IF('PJ - P'!H14=\"\",\"\",'PJ - P'!H14)","v":19.45},{"$f":"IF('PJ - P'!M14=\"\",\"\",'PJ - P'!M14)","v":24.03},null,{"$f":"IF('PJ - P'!O14=\"\",\"\",'PJ - P'!O14)","v":19.45}]
[null,{"$f":"IF(AND('PJ - P'!$C15=\"\",'PJ - P'!$D15=\"\"),\"\",'PJ - P'!V15)","v":15},{"$f":"IF(AND('PJ - P'!$C15=\"\",'PJ - P'!$D15=\"\"),\"\",'PJ - P'!B15)","v":46},{"$f":"IF('PJ - P'!C15=\"\",\"\",'PJ - P'!C15)","v":"Lacina Josef"},{"$f":"IF('PJ - P'!D15=\"\",\"\",'PJ - P'!D15)","v":"ÚO Havlíčkův Brod"},{"$f":"IF('PJ - P'!H15=\"\",\"\",'PJ - P'!H15)","v":19.829999999999998},{"$f":"IF('PJ - P'!M15=\"\",\"\",'PJ - P'!M15)","v":19.600000000000001},null,{"$f":"IF('PJ - P'!O15=\"\",\"\",'PJ - P'!O15)","v":19.600000000000001}]
[null,{"$f":"IF(AND('PJ - P'!$C16=\"\",'PJ - P'!$D16=\"\"),\"\",'PJ - P'!V16)","v":16},{"$f":"IF(AND('PJ - P'!$C16=\"\",'PJ - P'!$D16=\"\"),\"\",'PJ - P'!B16)","v":26},{"$f":"IF('PJ - P'!C16=\"\",\"\",'PJ - P'!C16)","v":"Pařil Milan"},{"$f":"IF('PJ - P'!D16=\"\",\"\",'PJ - P'!D16)","v":"Re Jihlava"},{"$f":"IF('PJ - P'!H16=\"\",\"\",'PJ - P'!H16)","v":19.61},{"$f":"IF('PJ - P'!M16=\"\",\"\",'PJ - P'!M16)","v":"NP"},null,{"$f":"IF('PJ - P'!O16=\"\",\"\",'PJ - P'!O16)","v":19.61}]
[null,{"$f":"IF(AND('PJ - P'!$C17=\"\",'PJ - P'!$D17=\"\"),\"\",'PJ - P'!V17)","v":17},{"$f":"IF(AND('PJ - P'!$C17=\"\",'PJ - P'!$D17=\"\"),\"\",'PJ - P'!B17)","v":13},{"$f":"IF('PJ - P'!C17=\"\",\"\",'PJ - P'!C17)","v":"Mrázek Jan"},{"$f":"IF('PJ - P'!D17=\"\",\"\",'PJ - P'!D17)","v":"SŽDC Havlíčkův Brod"},{"$f":"IF('PJ - P'!H17=\"\",\"\",'PJ - P'!H17)","v":20.46},{"$f":"IF('PJ - P'!M17=\"\",\"\",'PJ - P'!M17)","v":20.190000000000001},null,{"$f":"IF('PJ - P'!O17=\"\",\"\",'PJ - P'!O17)","v":20.190000000000001}]
[null,{"$f":"IF(AND('PJ - P'!$C18=\"\",'PJ - P'!$D18=\"\"),\"\",'PJ - P'!V18)","v":18},{"$f":"IF(AND('PJ - P'!$C18=\"\",'PJ - P'!$D18=\"\"),\"\",'PJ - P'!B18)","v":37},{"$f":"IF('PJ - P'!C18=\"\",\"\",'PJ - P'!C18)","v":"Vejvoda Roman"},{"$f":"IF('PJ - P'!D18=\"\",\"\",'PJ - P'!D18)","v":"ÚO Třebíč"},{"$f":"IF('PJ - P'!H18=\"\",\"\",'PJ - P'!H18)","v":22.99},{"$f":"IF('PJ - P'!M18=\"\",\"\",'PJ - P'!M18)","v":20.68},null,{"$f":"IF('PJ - P'!O18=\"\",\"\",'PJ - P'!O18)","v":20.68}]
[null,{"$f":"IF(AND('PJ - P'!$C19=\"\",'PJ - P'!$D19=\"\"),\"\",'PJ - P'!V19)","v":19},{"$f":"IF(AND('PJ - P'!$C19=\"\",'PJ - P'!$D19=\"\"),\"\",'PJ - P'!B19)","v":48},{"$f":"IF('PJ - P'!C19=\"\",\"\",'PJ - P'!C19)","v":"Panský David"},{"$f":"IF('PJ - P'!D19=\"\",\"\",'PJ - P'!D19)","v":"ÚO Havlíčkův Brod"},{"$f":"IF('PJ - P'!H19=\"\",\"\",'PJ - P'!H19)","v":20.97},{"$f":"IF('PJ - P'!M19=\"\",\"\",'PJ - P'!M19)","v":"NP"},null,{"$f":"IF('PJ - P'!O19=\"\",\"\",'PJ - P'!O19)","v":20.97}]
[null,{"$f":"IF(AND('PJ - P'!$C20=\"\",'PJ - P'!$D20=\"\"),\"\",'PJ - P'!V20)","v":20},{"$f":"IF(AND('PJ - P'!$C20=\"\",'PJ - P'!$D20=\"\"),\"\",'PJ - P'!B20)","v":59},{"$f":"IF('PJ - P'!C20=\"\",\"\",'PJ - P'!C20)","v":"Škapa Miroslav"},{"$f":"IF('PJ - P'!D20=\"\",\"\",'PJ - P'!D20)","v":"ÚO Žďár nad Sázavou"},{"$f":"IF('PJ - P'!H20=\"\",\"\",'PJ - P'!H20)","v":21.07},{"$f":"IF('PJ - P'!M20=\"\",\"\",'PJ - P'!M20)","v":21.97},null,{"$f":"IF('PJ - P'!O20=\"\",\"\",'PJ - P'!O20)","v":21.07}]
[null,{"$f":"IF(AND('PJ - P'!$C21=\"\",'PJ - P'!$D21=\"\"),\"\",'PJ - P'!V21)","v":21},{"$f":"IF(AND('PJ - P'!$C21=\"\",'PJ - P'!$D21=\"\"),\"\",'PJ - P'!B21)","v":24},{"$f":"IF('PJ - P'!C21=\"\",\"\",'PJ - P'!C21)","v":"Hájek Petr"},{"$f":"IF('PJ - P'!D21=\"\",\"\",'PJ - P'!D21)","v":"Re Jihlava"},{"$f":"IF('PJ - P'!H21=\"\",\"\",'PJ - P'!H21)","v":21.29},{"$f":"IF('PJ - P'!M21=\"\",\"\",'PJ - P'!M21)","v":21.09},null,{"$f":"IF('PJ - P'!O21=\"\",\"\",'PJ - P'!O21)","v":21.09}]
[null,{"$f":"IF(AND('PJ - P'!$C22=\"\",'PJ - P'!$D22=\"\"),\"\",'PJ - P'!V22)","v":22},{"$f":"IF(AND('PJ - P'!$C22=\"\",'PJ - P'!$D22=\"\"),\"\",'PJ - P'!B22)","v":47},{"$f":"IF('PJ - P'!C22=\"\",\"\",'PJ - P'!C22)","v":"Dolejší Zdenek"},{"$f":"IF('PJ - P'!D22=\"\",\"\",'PJ - P'!D22)","v":"ÚO Havlíčkův Brod"},{"$f":"IF('PJ - P'!H22=\"\",\"\",'PJ - P'!H22)","v":23.64},{"$f":"IF('PJ - P'!M22=\"\",\"\",'PJ - P'!M22)","v":21.23},null,{"$f":"IF('PJ - P'!O22=\"\",\"\",'PJ - P'!O22)","v":21.23}]
[null,{"$f":"IF(AND('PJ - P'!$C23=\"\",'PJ - P'!$D23=\"\"),\"\",'PJ - P'!V23)","v":23},{"$f":"IF(AND('PJ - P'!$C23=\"\",'PJ - P'!$D23=\"\"),\"\",'PJ - P'!B23)","v":57},{"$f":"IF('PJ - P'!C23=\"\",\"\",'PJ - P'!C23)","v":"Urbánek Petr"},{"$f":"IF('PJ - P'!D23=\"\",\"\",'PJ - P'!D23)","v":"ÚO Žďár nad Sázavou"},{"$f":"IF('PJ - P'!H23=\"\",\"\",'PJ - P'!H23)","v":21.47},{"$f":"IF('PJ - P'!M23=\"\",\"\",'PJ - P'!M23)","v":"DNF"},null,{"$f":"IF('PJ - P'!O23=\"\",\"\",'PJ - P'!O23)","v":21.47}]
[null,{"$f":"IF(AND('PJ - P'!$C24=\"\",'PJ - P'!$D24=\"\"),\"\",'PJ - P'!V24)","v":24},{"$f":"IF(AND('PJ - P'!$C24=\"\",'PJ - P'!$D24=\"\"),\"\",'PJ - P'!B24)","v":23},{"$f":"IF('PJ - P'!C24=\"\",\"\",'PJ - P'!C24)","v":"Šimáček Pavel"},{"$f":"IF('PJ - P'!D24=\"\",\"\",'PJ - P'!D24)","v":"Re Jihlava"},{"$f":"IF('PJ - P'!H24=\"\",\"\",'PJ - P'!H24)","v":22.15},{"$f":"IF('PJ - P'!M24=\"\",\"\",'PJ - P'!M24)","v":21.52},null,{"$f":"IF('PJ - P'!O24=\"\",\"\",'PJ - P'!O24)","v":21.52}]
[null,{"$f":"IF(AND('PJ - P'!$C25=\"\",'PJ - P'!$D25=\"\"),\"\",'PJ - P'!V25)","v":25},{"$f":"IF(AND('PJ - P'!$C25=\"\",'PJ - P'!$D25=\"\"),\"\",'PJ - P'!B25)","v":27},{"$f":"IF('PJ - P'!C25=\"\",\"\",'PJ - P'!C25)","v":"Novotný Hynek"},{"$f":"IF('PJ - P'!D25=\"\",\"\",'PJ - P'!D25)","v":"Re Jihlava"},{"$f":"IF('PJ - P'!H25=\"\",\"\",'PJ - P'!H25)","v":21.66},{"$f":"IF('PJ - P'!M25=\"\",\"\",'PJ - P'!M25)","v":21.8},null,{"$f":"IF('PJ - P'!O25=\"\",\"\",'PJ - P'!O25)","v":21.66}]
[null,{"$f":"IF(AND('PJ - P'!$C26=\"\",'PJ - P'!$D26=\"\"),\"\",'PJ - P'!V26)","v":26},{"$f":"IF(AND('PJ - P'!$C26=\"\",'PJ - P'!$D26=\"\"),\"\",'PJ - P'!B26)","v":43},{"$f":"IF('PJ - P'!C26=\"\",\"\",'PJ - P'!C26)","v":"Kubát Jaroslav"},{"$f":"IF('PJ - P'!D26=\"\",\"\",'PJ - P'!D26)","v":"ÚO Havlíčkův Brod"},{"$f":"IF('PJ - P'!H26=\"\",\"\",'PJ - P'!H26)","v":22.2},{"$f":"IF('PJ - P'!M26=\"\",\"\",'PJ - P'!M26)","v":21.89},null,{"$f":"IF('PJ - P'!O26=\"\",\"\",'PJ - P'!O26)","v":21.89}]
[null,{"$f":"IF(AND('PJ - P'!$C27=\"\",'PJ - P'!$D27=\"\"),\"\",'PJ - P'!V27)","v":27},{"$f":"IF(AND('PJ - P'!$C27=\"\",'PJ - P'!$D27=\"\"),\"\",'PJ - P'!B27)","v":8},{"$f":"IF('PJ - P'!C27=\"\",\"\",'PJ - P'!C27)","v":"Janko Vladimír"},{"$f":"IF('PJ - P'!D27=\"\",\"\",'PJ - P'!D27)","v":"ÚO Pelhřimov"},{"$f":"IF('PJ - P'!H27=\"\",\"\",'PJ - P'!H27)","v":22.31},{"$f":"IF('PJ - P'!M27=\"\",\"\",'PJ - P'!M27)","v":"NP"},null,{"$f":"IF('PJ - P'!O27=\"\",\"\",'PJ - P'!O27)","v":22.31}]
[null,{"$f":"IF(AND('PJ - P'!$C28=\"\",'PJ - P'!$D28=\"\"),\"\",'PJ - P'!V28)","v":28},{"$f":"IF(AND('PJ - P'!$C28=\"\",'PJ - P'!$D28=\"\"),\"\",'PJ - P'!B28)","v":55},{"$f":"IF('PJ - P'!C28=\"\",\"\",'PJ - P'!C28)","v":"Mičánek Lukáš"},{"$f":"IF('PJ - P'!D28=\"\",\"\",'PJ - P'!D28)","v":"ÚO Žďár nad Sázavou"},{"$f":"IF('PJ - P'!H28=\"\",\"\",'PJ - P'!H28)","v":23},{"$f":"IF('PJ - P'!M28=\"\",\"\",'PJ - P'!M28)","v":22.35},null,{"$f":"IF('PJ - P'!O28=\"\",\"\",'PJ - P'!O28)","v":22.35}]
[null,{"$f":"IF(AND('PJ - P'!$C29=\"\",'PJ - P'!$D29=\"\"),\"\",'PJ - P'!V29)","v":29},{"$f":"IF(AND('PJ - P'!$C29=\"\",'PJ - P'!$D29=\"\"),\"\",'PJ - P'!B29)","v":58},{"$f":"IF('PJ - P'!C29=\"\",\"\",'PJ - P'!C29)","v":"Pelikán Jan"},{"$f":"IF('PJ - P'!D29=\"\",\"\",'PJ - P'!D29)","v":"ÚO Žďár nad Sázavou"},{"$f":"IF('PJ - P'!H29=\"\",\"\",'PJ - P'!H29)","v":22.58},{"$f":"IF('PJ - P'!M29=\"\",\"\",'PJ - P'!M29)","v":23.07},null,{"$f":"IF('PJ - P'!O29=\"\",\"\",'PJ - P'!O29)","v":22.58}]
[null,{"$f":"IF(AND('PJ - P'!$C30=\"\",'PJ - P'!$D30=\"\"),\"\",'PJ - P'!V30)","v":30},{"$f":"IF(AND('PJ - P'!$C30=\"\",'PJ - P'!$D30=\"\"),\"\",'PJ - P'!B30)","v":14},{"$f":"IF('PJ - P'!C30=\"\",\"\",'PJ - P'!C30)","v":"Pátek Tomáš"},{"$f":"IF('PJ - P'!D30=\"\",\"\",'PJ - P'!D30)","v":"SŽDC Havlíčkův Brod"},{"$f":"IF('PJ - P'!H30=\"\",\"\",'PJ - P'!H30)","v":27.37},{"$f":"IF('PJ - P'!M30=\"\",\"\",'PJ - P'!M30)","v":23.06},null,{"$f":"IF('PJ - P'!O30=\"\",\"\",'PJ - P'!O30)","v":23.06}]
[null,{"$f":"IF(AND('PJ - P'!$C31=\"\",'PJ - P'!$D31=\"\"),\"\",'PJ - P'!V31)","v":31},{"$f":"IF(AND('PJ - P'!$C31=\"\",'PJ - P'!$D31=\"\"),\"\",'PJ - P'!B31)","v":15},{"$f":"IF('PJ - P'!C31=\"\",\"\",'PJ - P'!C31)","v":"Zadina Dominik"},{"$f":"IF('PJ - P'!D31=\"\",\"\",'PJ - P'!D31)","v":"SŽDC Havlíčkův Brod"},{"$f":"IF('PJ - P'!H31=\"\",\"\",'PJ - P'!H31)","v":23.46},{"$f":"IF('PJ - P'!M31=\"\",\"\",'PJ - P'!M31)","v":23.09},null,{"$f":"IF('PJ - P'!O31=\"\",\"\",'PJ - P'!O31)","v":23.09}]
[null,{"$f":"IF(AND('PJ - P'!$C32=\"\",'PJ - P'!$D32=\"\"),\"\",'PJ - P'!V32)","v":32},{"$f":"IF(AND('PJ - P'!$C32=\"\",'PJ - P'!$D32=\"\"),\"\",'PJ - P'!B32)","v":17},{"$f":"IF('PJ - P'!C32=\"\",\"\",'PJ - P'!C32)","v":"Patočka Petr"},{"$f":"IF('PJ - P'!D32=\"\",\"\",'PJ - P'!D32)","v":"SŽDC Havlíčkův Brod"},{"$f":"IF('PJ - P'!H32=\"\",\"\",'PJ - P'!H32)","v":"NP"},{"$f":"IF('PJ - P'!M32=\"\",\"\",'PJ - P'!M32)","v":23.2},null,{"$f":"IF('PJ - P'!O32=\"\",\"\",'PJ - P'!O32)","v":23.2}]
[null,{"$f":"IF(AND('PJ - P'!$C33=\"\",'PJ - P'!$D33=\"\"),\"\",'PJ - P'!V33)","v":33},{"$f":"IF(AND('PJ - P'!$C33=\"\",'PJ - P'!$D33=\"\"),\"\",'PJ - P'!B33)","v":4},{"$f":"IF('PJ - P'!C33=\"\",\"\",'PJ - P'!C33)","v":"Blažek Jiří"},{"$f":"IF('PJ - P'!D33=\"\",\"\",'PJ - P'!D33)","v":"ÚO Pelhřimov"},{"$f":"IF('PJ - P'!H33=\"\",\"\",'PJ - P'!H33)","v":27.25},{"$f":"IF('PJ - P'!M33=\"\",\"\",'PJ - P'!M33)","v":23.56},null,{"$f":"IF('PJ - P'!O33=\"\",\"\",'PJ - P'!O33)","v":23.56}]
[null,{"$f":"IF(AND('PJ - P'!$C34=\"\",'PJ - P'!$D34=\"\"),\"\",'PJ - P'!V34)","v":34},{"$f":"IF(AND('PJ - P'!$C34=\"\",'PJ - P'!$D34=\"\"),\"\",'PJ - P'!B34)","v":51},{"$f":"IF('PJ - P'!C34=\"\",\"\",'PJ - P'!C34)","v":"Špaček Marek"},{"$f":"IF('PJ - P'!D34=\"\",\"\",'PJ - P'!D34)","v":"ÚO Žďár nad Sázavou"},{"$f":"IF('PJ - P'!H34=\"\",\"\",'PJ - P'!H34)","v":25.89},{"$f":"IF('PJ - P'!M34=\"\",\"\",'PJ - P'!M34)","v":23.64},null,{"$f":"IF('PJ - P'!O34=\"\",\"\",'PJ - P'!O34)","v":23.64}]
[null,{"$f":"IF(AND('PJ - P'!$C35=\"\",'PJ - P'!$D35=\"\"),\"\",'PJ - P'!V35)","v":35},{"$f":"IF(AND('PJ - P'!$C35=\"\",'PJ - P'!$D35=\"\"),\"\",'PJ - P'!B35)","v":36},{"$f":"IF('PJ - P'!C35=\"\",\"\",'PJ - P'!C35)","v":"Hnízdil Pavel"},{"$f":"IF('PJ - P'!D35=\"\",\"\",'PJ - P'!D35)","v":"ÚO Třebíč"},{"$f":"IF('PJ - P'!H35=\"\",\"\",'PJ - P'!H35)","v":23.79},{"$f":"IF('PJ - P'!M35=\"\",\"\",'PJ - P'!M35)","v":"DNF"},null,{"$f":"IF('PJ - P'!O35=\"\",\"\",'PJ - P'!O35)","v":23.79}]
[null,{"$f":"IF(AND('PJ - P'!$C36=\"\",'PJ - P'!$D36=\"\"),\"\",'PJ - P'!V36)","v":36},{"$f":"IF(AND('PJ - P'!$C36=\"\",'PJ - P'!$D36=\"\"),\"\",'PJ - P'!B36)","v":41},{"$f":"IF('PJ - P'!C36=\"\",\"\",'PJ - P'!C36)","v":"Zadina Martin"},{"$f":"IF('PJ - P'!D36=\"\",\"\",'PJ - P'!D36)","v":"ÚO Havlíčkův Brod"},{"$f":"IF('PJ - P'!H36=\"\",\"\",'PJ - P'!H36)","v":24.07},{"$f":"IF('PJ - P'!M36=\"\",\"\",'PJ - P'!M36)","v":"NP"},null,{"$f":"IF('PJ - P'!O36=\"\",\"\",'PJ - P'!O36)","v":24.07}]
[null,{"$f":"B$1","v":"Běh na 100m s přek. - Pořadí jednotlivců"}]
[]
[null,{"$f":"B$3","v":"VC ČR v požárním útoku družstev HZS krajů a HZS podniků"},null,null,{"$f":"E$3","v":"Petrovice 19.9.2019"}]
[]
[null,{"$f":"Start!$C$5","v":"MUŽI"}]
[null,"Pořadí","Start. číslo","Jméno","kolektiv","čas             I. pokusu","čas            II. pokusu",null,"Výsledný čas"]
[]
[null,{"$f":"IF(AND('PJ - P'!$C37=\"\",'PJ - P'!$D37=\"\"),\"\",'PJ - P'!V37)","v":37},{"$f":"IF(AND('PJ - P'!$C37=\"\",'PJ - P'!$D37=\"\"),\"\",'PJ - P'!B37)","v":1},{"$f":"IF('PJ - P'!C37=\"\",\"\",'PJ - P'!C37)","v":"Kryzan Martin"},{"$f":"IF('PJ - P'!D37=\"\",\"\",'PJ - P'!D37)","v":"ÚO Pelhřimov"},{"$f":"IF('PJ - P'!H37=\"\",\"\",'PJ - P'!H37)","v":24.29},{"$f":"IF('PJ - P'!M37=\"\",\"\",'PJ - P'!M37)","v":"NP"},null,{"$f":"IF('PJ - P'!O37=\"\",\"\",'PJ - P'!O37)","v":24.29}]
[null,{"$f":"IF(AND('PJ - P'!$C38=\"\",'PJ - P'!$D38=\"\"),\"\",'PJ - P'!V38)","v":38},{"$f":"IF(AND('PJ - P'!$C38=\"\",'PJ - P'!$D38=\"\"),\"\",'PJ - P'!B38)","v":7},{"$f":"IF('PJ - P'!C38=\"\",\"\",'PJ - P'!C38)","v":"Hašek Vladislav"},{"$f":"IF('PJ - P'!D38=\"\",\"\",'PJ - P'!D38)","v":"ÚO Pelhřimov"},{"$f":"IF('PJ - P'!H38=\"\",\"\",'PJ - P'!H38)","v":24.34},{"$f":"IF('PJ - P'!M38=\"\",\"\",'PJ - P'!M38)","v":"NP"},null,{"$f":"IF('PJ - P'!O38=\"\",\"\",'PJ - P'!O38)","v":24.34}]
[null,{"$f":"IF(AND('PJ - P'!$C39=\"\",'PJ - P'!$D39=\"\"),\"\",'PJ - P'!V39)","v":39},{"$f":"IF(AND('PJ - P'!$C39=\"\",'PJ - P'!$D39=\"\"),\"\",'PJ - P'!B39)","v":12},{"$f":"IF('PJ - P'!C39=\"\",\"\",'PJ - P'!C39)","v":"Gemsa Martin"},{"$f":"IF('PJ - P'!D39=\"\",\"\",'PJ - P'!D39)","v":"SŽDC Havlíčkův Brod"},{"$f":"IF('PJ - P'!H39=\"\",\"\",'PJ - P'!H39)","v":25.24},{"$f":"IF('PJ - P'!M39=\"\",\"\",'PJ - P'!M39)","v":24.82},null,{"$f":"IF('PJ - P'!O39=\"\",\"\",'PJ - P'!O39)","v":24.82}]
[null,{"$f":"IF(AND('PJ - P'!$C40=\"\",'PJ - P'!$D40=\"\"),\"\",'PJ - P'!V40)","v":40},{"$f":"IF(AND('PJ - P'!$C40=\"\",'PJ - P'!$D40=\"\"),\"\",'PJ - P'!B40)","v":45},{"$f":"IF('PJ - P'!C40=\"\",\"\",'PJ - P'!C40)","v":"Flídr Luboš"},{"$f":"IF('PJ - P'!D40=\"\",\"\",'PJ - P'!D40)","v":"ÚO Havlíčkův Brod"},{"$f":"IF('PJ - P'!H40=\"\",\"\",'PJ - P'!H40)","v":25.58},{"$f":"IF('PJ - P'!M40=\"\",\"\",'PJ - P'!M40)","v":25.2},null,{"$f":"IF('PJ - P'!O40=\"\",\"\",'PJ - P'!O40)","v":25.2}]
[null,{"$f":"IF(AND('PJ - P'!$C41=\"\",'PJ - P'!$D41=\"\"),\"\",'PJ - P'!V41)","v":41},{"$f":"IF(AND('PJ - P'!$C41=\"\",'PJ - P'!$D41=\"\"),\"\",'PJ - P'!B41)","v":5},{"$f":"IF('PJ - P'!C41=\"\",\"\",'PJ - P'!C41)","v":"Vlk Martin"},{"$f":"IF('PJ - P'!D41=\"\",\"\",'PJ - P'!D41)","v":"ÚO Pelhřimov"},{"$f":"IF('PJ - P'!H41=\"\",\"\",'PJ - P'!H41)","v":29.31},{"$f":"IF('PJ - P'!M41=\"\",\"\",'PJ - P'!M41)","v":26.37},null,{"$f":"IF('PJ - P'!O41=\"\",\"\",'PJ - P'!O41)","v":26.37}]
[null,{"$f":"IF(AND('PJ - P'!$C42=\"\",'PJ - P'!$D42=\"\"),\"\",'PJ - P'!V42)","v":42},{"$f":"IF(AND('PJ - P'!$C42=\"\",'PJ - P'!$D42=\"\"),\"\",'PJ - P'!B42)","v":16},{"$f":"IF('PJ - P'!C42=\"\",\"\",'PJ - P'!C42)","v":"Prchal Jan"},{"$f":"IF('PJ - P'!D42=\"\",\"\",'PJ - P'!D42)","v":"SŽDC Havlíčkův Brod"},{"$f":"IF('PJ - P'!H42=\"\",\"\",'PJ - P'!H42)","v":26.78},{"$f":"IF('PJ - P'!M42=\"\",\"\",'PJ - P'!M42)","v":26.82},null,{"$f":"IF('PJ - P'!O42=\"\",\"\",'PJ - P'!O42)","v":26.78}]
[null,{"$f":"IF(AND('PJ - P'!$C43=\"\",'PJ - P'!$D43=\"\"),\"\",'PJ - P'!V43)","v":""},{"$f":"IF(AND('PJ - P'!$C43=\"\",'PJ - P'!$D43=\"\"),\"\",'PJ - P'!B43)","v":""},{"$f":"IF('PJ - P'!C43=\"\",\"\",'PJ - P'!C43)","v":""},{"$f":"IF('PJ - P'!D43=\"\",\"\",'PJ - P'!D43)","v":""},{"$f":"IF('PJ - P'!H43=\"\",\"\",'PJ - P'!H43)","v":""},{"$f":"IF('PJ - P'!M43=\"\",\"\",'PJ - P'!M43)","v":""},null,{"$f":"IF('PJ - P'!O43=\"\",\"\",'PJ - P'!O43)","v":""}]
[null,{"$f":"IF(AND('PJ - P'!$C44=\"\",'PJ - P'!$D44=\"\"),\"\",'PJ - P'!V44)","v":""},{"$f":"IF(AND('PJ - P'!$C44=\"\",'PJ - P'!$D44=\"\"),\"\",'PJ - P'!B44)","v":""},{"$f":"IF('PJ - P'!C44=\"\",\"\",'PJ - P'!C44)","v":""},{"$f":"IF('PJ - P'!D44=\"\",\"\",'PJ - P'!D44)","v":""},{"$f":"IF('PJ - P'!H44=\"\",\"\",'PJ - P'!H44)","v":""},{"$f":"IF('PJ - P'!M44=\"\",\"\",'PJ - P'!M44)","v":""},null,{"$f":"IF('PJ - P'!O44=\"\",\"\",'PJ - P'!O44)","v":""}]
[null,{"$f":"IF(AND('PJ - P'!$C45=\"\",'PJ - P'!$D45=\"\"),\"\",'PJ - P'!V45)","v":""},{"$f":"IF(AND('PJ - P'!$C45=\"\",'PJ - P'!$D45=\"\"),\"\",'PJ - P'!B45)","v":""},{"$f":"IF('PJ - P'!C45=\"\",\"\",'PJ - P'!C45)","v":""},{"$f":"IF('PJ - P'!D45=\"\",\"\",'PJ - P'!D45)","v":""},{"$f":"IF('PJ - P'!H45=\"\",\"\",'PJ - P'!H45)","v":""},{"$f":"IF('PJ - P'!M45=\"\",\"\",'PJ - P'!M45)","v":""},null,{"$f":"IF('PJ - P'!O45=\"\",\"\",'PJ - P'!O45)","v":""}]
[null,{"$f":"IF(AND('PJ - P'!$C46=\"\",'PJ - P'!$D46=\"\"),\"\",'PJ - P'!V46)","v":""},{"$f":"IF(AND('PJ - P'!$C46=\"\",'PJ - P'!$D46=\"\"),\"\",'PJ - P'!B46)","v":""},{"$f":"IF('PJ - P'!C46=\"\",\"\",'PJ - P'!C46)","v":""},{"$f":"IF('PJ - P'!D46=\"\",\"\",'PJ - P'!D46)","v":""},{"$f":"IF('PJ - P'!H46=\"\",\"\",'PJ - P'!H46)","v":""},{"$f":"IF('PJ - P'!M46=\"\",\"\",'PJ - P'!M46)","v":""},null,{"$f":"IF('PJ - P'!O46=\"\",\"\",'PJ - P'!O46)","v":""}]
[null,{"$f":"IF(AND('PJ - P'!$C47=\"\",'PJ - P'!$D47=\"\"),\"\",'PJ - P'!V47)","v":""},{"$f":"IF(AND('PJ - P'!$C47=\"\",'PJ - P'!$D47=\"\"),\"\",'PJ - P'!B47)","v":""},{"$f":"IF('PJ - P'!C47=\"\",\"\",'PJ - P'!C47)","v":""},{"$f":"IF('PJ - P'!D47=\"\",\"\",'PJ - P'!D47)","v":""},{"$f":"IF('PJ - P'!H47=\"\",\"\",'PJ - P'!H47)","v":""},{"$f":"IF('PJ - P'!M47=\"\",\"\",'PJ - P'!M47)","v":""},null,{"$f":"IF('PJ - P'!O47=\"\",\"\",'PJ - P'!O47)","v":""}]
[null,{"$f":"IF(AND('PJ - P'!$C48=\"\",'PJ - P'!$D48=\"\"),\"\",'PJ - P'!V48)","v":""},{"$f":"IF(AND('PJ - P'!$C48=\"\",'PJ - P'!$D48=\"\"),\"\",'PJ - P'!B48)","v":""},{"$f":"IF('PJ - P'!C48=\"\",\"\",'PJ - P'!C48)","v":""},{"$f":"IF('PJ - P'!D48=\"\",\"\",'PJ - P'!D48)","v":""},{"$f":"IF('PJ - P'!H48=\"\",\"\",'PJ - P'!H48)","v":""},{"$f":"IF('PJ - P'!M48=\"\",\"\",'PJ - P'!M48)","v":""},null,{"$f":"IF('PJ - P'!O48=\"\",\"\",'PJ - P'!O48)","v":""}]
[null,{"$f":"IF(AND('PJ - P'!$C49=\"\",'PJ - P'!$D49=\"\"),\"\",'PJ - P'!V49)","v":""},{"$f":"IF(AND('PJ - P'!$C49=\"\",'PJ - P'!$D49=\"\"),\"\",'PJ - P'!B49)","v":""},{"$f":"IF('PJ - P'!C49=\"\",\"\",'PJ - P'!C49)","v":""},{"$f":"IF('PJ - P'!D49=\"\",\"\",'PJ - P'!D49)","v":""},{"$f":"IF('PJ - P'!H49=\"\",\"\",'PJ - P'!H49)","v":""},{"$f":"IF('PJ - P'!M49=\"\",\"\",'PJ - P'!M49)","v":""},null,{"$f":"IF('PJ - P'!O49=\"\",\"\",'PJ - P'!O49)","v":""}]
[null,{"$f":"IF(AND('PJ - P'!$C50=\"\",'PJ - P'!$D50=\"\"),\"\",'PJ - P'!V50)","v":""},{"$f":"IF(AND('PJ - P'!$C50=\"\",'PJ - P'!$D50=\"\"),\"\",'PJ - P'!B50)","v":""},{"$f":"IF('PJ - P'!C50=\"\",\"\",'PJ - P'!C50)","v":""},{"$f":"IF('PJ - P'!D50=\"\",\"\",'PJ - P'!D50)","v":""},{"$f":"IF('PJ - P'!H50=\"\",\"\",'PJ - P'!H50)","v":""},{"$f":"IF('PJ - P'!M50=\"\",\"\",'PJ - P'!M50)","v":""},null,{"$f":"IF('PJ - P'!O50=\"\",\"\",'PJ - P'!O50)","v":""}]
[null,{"$f":"IF(AND('PJ - P'!$C51=\"\",'PJ - P'!$D51=\"\"),\"\",'PJ - P'!V51)","v":""},{"$f":"IF(AND('PJ - P'!$C51=\"\",'PJ - P'!$D51=\"\"),\"\",'PJ - P'!B51)","v":""},{"$f":"IF('PJ - P'!C51=\"\",\"\",'PJ - P'!C51)","v":""},{"$f":"IF('PJ - P'!D51=\"\",\"\",'PJ - P'!D51)","v":""},{"$f":"IF('PJ - P'!H51=\"\",\"\",'PJ - P'!H51)","v":""},{"$f":"IF('PJ - P'!M51=\"\",\"\",'PJ - P'!M51)","v":""},null,{"$f":"IF('PJ - P'!O51=\"\",\"\",'PJ - P'!O51)","v":""}]
[null,{"$f":"IF(AND('PJ - P'!$C52=\"\",'PJ - P'!$D52=\"\"),\"\",'PJ - P'!V52)","v":""},{"$f":"IF(AND('PJ - P'!$C52=\"\",'PJ - P'!$D52=\"\"),\"\",'PJ - P'!B52)","v":""},{"$f":"IF('PJ - P'!C52=\"\",\"\",'PJ - P'!C52)","v":""},{"$f":"IF('PJ - P'!D52=\"\",\"\",'PJ - P'!D52)","v":""},{"$f":"IF('PJ - P'!H52=\"\",\"\",'PJ - P'!H52)","v":""},{"$f":"IF('PJ - P'!M52=\"\",\"\",'PJ - P'!M52)","v":""},null,{"$f":"IF('PJ - P'!O52=\"\",\"\",'PJ - P'!O52)","v":""}]
[null,{"$f":"IF(AND('PJ - P'!$C53=\"\",'PJ - P'!$D53=\"\"),\"\",'PJ - P'!V53)","v":""},{"$f":"IF(AND('PJ - P'!$C53=\"\",'PJ - P'!$D53=\"\"),\"\",'PJ - P'!B53)","v":""},{"$f":"IF('PJ - P'!C53=\"\",\"\",'PJ - P'!C53)","v":""},{"$f":"IF('PJ - P'!D53=\"\",\"\",'PJ - P'!D53)","v":""},{"$f":"IF('PJ - P'!H53=\"\",\"\",'PJ - P'!H53)","v":""},{"$f":"IF('PJ - P'!M53=\"\",\"\",'PJ - P'!M53)","v":""},null,{"$f":"IF('PJ - P'!O53=\"\",\"\",'PJ - P'!O53)","v":""}]
[null,{"$f":"IF(AND('PJ - P'!$C54=\"\",'PJ - P'!$D54=\"\"),\"\",'PJ - P'!V54)","v":""},{"$f":"IF(AND('PJ - P'!$C54=\"\",'PJ - P'!$D54=\"\"),\"\",'PJ - P'!B54)","v":""},{"$f":"IF('PJ - P'!C54=\"\",\"\",'PJ - P'!C54)","v":""},{"$f":"IF('PJ - P'!D54=\"\",\"\",'PJ - P'!D54)","v":""},{"$f":"IF('PJ - P'!H54=\"\",\"\",'PJ - P'!H54)","v":""},{"$f":"IF('PJ - P'!M54=\"\",\"\",'PJ - P'!M54)","v":""},null,{"$f":"IF('PJ - P'!O54=\"\",\"\",'PJ - P'!O54)","v":""}]
[null,{"$f":"IF(AND('PJ - P'!$C55=\"\",'PJ - P'!$D55=\"\"),\"\",'PJ - P'!V55)","v":""},{"$f":"IF(AND('PJ - P'!$C55=\"\",'PJ - P'!$D55=\"\"),\"\",'PJ - P'!B55)","v":""},{"$f":"IF('PJ - P'!C55=\"\",\"\",'PJ - P'!C55)","v":""},{"$f":"IF('PJ - P'!D55=\"\",\"\",'PJ - P'!D55)","v":""},{"$f":"IF('PJ - P'!H55=\"\",\"\",'PJ - P'!H55)","v":""},{"$f":"IF('PJ - P'!M55=\"\",\"\",'PJ - P'!M55)","v":""},null,{"$f":"IF('PJ - P'!O55=\"\",\"\",'PJ - P'!O55)","v":""}]
[null,{"$f":"IF(AND('PJ - P'!$C56=\"\",'PJ - P'!$D56=\"\"),\"\",'PJ - P'!V56)","v":""},{"$f":"IF(AND('PJ - P'!$C56=\"\",'PJ - P'!$D56=\"\"),\"\",'PJ - P'!B56)","v":""},{"$f":"IF('PJ - P'!C56=\"\",\"\",'PJ - P'!C56)","v":""},{"$f":"IF('PJ - P'!D56=\"\",\"\",'PJ - P'!D56)","v":""},{"$f":"IF('PJ - P'!H56=\"\",\"\",'PJ - P'!H56)","v":""},{"$f":"IF('PJ - P'!M56=\"\",\"\",'PJ - P'!M56)","v":""},null,{"$f":"IF('PJ - P'!O56=\"\",\"\",'PJ - P'!O56)","v":""}]
[null,{"$f":"IF(AND('PJ - P'!$C57=\"\",'PJ - P'!$D57=\"\"),\"\",'PJ - P'!V57)","v":""},{"$f":"IF(AND('PJ - P'!$C57=\"\",'PJ - P'!$D57=\"\"),\"\",'PJ - P'!B57)","v":""},{"$f":"IF('PJ - P'!C57=\"\",\"\",'PJ - P'!C57)","v":""},{"$f":"IF('PJ - P'!D57=\"\",\"\",'PJ - P'!D57)","v":""},{"$f":"IF('PJ - P'!H57=\"\",\"\",'PJ - P'!H57)","v":""},{"$f":"IF('PJ - P'!M57=\"\",\"\",'PJ - P'!M57)","v":""},null,{"$f":"IF('PJ - P'!O57=\"\",\"\",'PJ - P'!O57)","v":""}]
[null,{"$f":"IF(AND('PJ - P'!$C58=\"\",'PJ - P'!$D58=\"\"),\"\",'PJ - P'!V58)","v":""},{"$f":"IF(AND('PJ - P'!$C58=\"\",'PJ - P'!$D58=\"\"),\"\",'PJ - P'!B58)","v":""},{"$f":"IF('PJ - P'!C58=\"\",\"\",'PJ - P'!C58)","v":""},{"$f":"IF('PJ - P'!D58=\"\",\"\",'PJ - P'!D58)","v":""},{"$f":"IF('PJ - P'!H58=\"\",\"\",'PJ - P'!H58)","v":""},{"$f":"IF('PJ - P'!M58=\"\",\"\",'PJ - P'!M58)","v":""},null,{"$f":"IF('PJ - P'!O58=\"\",\"\",'PJ - P'!O58)","v":""}]
[null,{"$f":"IF(AND('PJ - P'!$C59=\"\",'PJ - P'!$D59=\"\"),\"\",'PJ - P'!V59)","v":""},{"$f":"IF(AND('PJ - P'!$C59=\"\",'PJ - P'!$D59=\"\"),\"\",'PJ - P'!B59)","v":""},{"$f":"IF('PJ - P'!C59=\"\",\"\",'PJ - P'!C59)","v":""},{"$f":"IF('PJ - P'!D59=\"\",\"\",'PJ - P'!D59)","v":""},{"$f":"IF('PJ - P'!H59=\"\",\"\",'PJ - P'!H59)","v":""},{"$f":"IF('PJ - P'!M59=\"\",\"\",'PJ - P'!M59)","v":""},null,{"$f":"IF('PJ - P'!O59=\"\",\"\",'PJ - P'!O59)","v":""}]
[null,{"$f":"IF(AND('PJ - P'!$C60=\"\",'PJ - P'!$D60=\"\"),\"\",'PJ - P'!V60)","v":""},{"$f":"IF(AND('PJ - P'!$C60=\"\",'PJ - P'!$D60=\"\"),\"\",'PJ - P'!B60)","v":""},{"$f":"IF('PJ - P'!C60=\"\",\"\",'PJ - P'!C60)","v":""},{"$f":"IF('PJ - P'!D60=\"\",\"\",'PJ - P'!D60)","v":""},{"$f":"IF('PJ - P'!H60=\"\",\"\",'PJ - P'!H60)","v":""},{"$f":"IF('PJ - P'!M60=\"\",\"\",'PJ - P'!M60)","v":""},null,{"$f":"IF('PJ - P'!O60=\"\",\"\",'PJ - P'!O60)","v":""}]
[null,{"$f":"IF(AND('PJ - P'!$C61=\"\",'PJ - P'!$D61=\"\"),\"\",'PJ - P'!V61)","v":""},{"$f":"IF(AND('PJ - P'!$C61=\"\",'PJ - P'!$D61=\"\"),\"\",'PJ - P'!B61)","v":""},{"$f":"IF('PJ - P'!C61=\"\",\"\",'PJ - P'!C61)","v":""},{"$f":"IF('PJ - P'!D61=\"\",\"\",'PJ - P'!D61)","v":""},{"$f":"IF('PJ - P'!H61=\"\",\"\",'PJ - P'!H61)","v":""},{"$f":"IF('PJ - P'!M61=\"\",\"\",'PJ - P'!M61)","v":""},null,{"$f":"IF('PJ - P'!O61=\"\",\"\",'PJ - P'!O61)","v":""}]
[null,{"$f":"IF(AND('PJ - P'!$C62=\"\",'PJ - P'!$D62=\"\"),\"\",'PJ - P'!V62)","v":""},{"$f":"IF(AND('PJ - P'!$C62=\"\",'PJ - P'!$D62=\"\"),\"\",'PJ - P'!B62)","v":""},{"$f":"IF('PJ - P'!C62=\"\",\"\",'PJ - P'!C62)","v":""},{"$f":"IF('PJ - P'!D62=\"\",\"\",'PJ - P'!D62)","v":""},{"$f":"IF('PJ - P'!H62=\"\",\"\",'PJ - P'!H62)","v":""},{"$f":"IF('PJ - P'!M62=\"\",\"\",'PJ - P'!M62)","v":""},null,{"$f":"IF('PJ - P'!O62=\"\",\"\",'PJ - P'!O62)","v":""}]
[null,{"$f":"IF(AND('PJ - P'!$C63=\"\",'PJ - P'!$D63=\"\"),\"\",'PJ - P'!V63)","v":""},{"$f":"IF(AND('PJ - P'!$C63=\"\",'PJ - P'!$D63=\"\"),\"\",'PJ - P'!B63)","v":""},{"$f":"IF('PJ - P'!C63=\"\",\"\",'PJ - P'!C63)","v":""},{"$f":"IF('PJ - P'!D63=\"\",\"\",'PJ - P'!D63)","v":""},{"$f":"IF('PJ - P'!H63=\"\",\"\",'PJ - P'!H63)","v":""},{"$f":"IF('PJ - P'!M63=\"\",\"\",'PJ - P'!M63)","v":""},null,{"$f":"IF('PJ - P'!O63=\"\",\"\",'PJ - P'!O63)","v":""}]
[null,{"$f":"IF(AND('PJ - P'!$C64=\"\",'PJ - P'!$D64=\"\"),\"\",'PJ - P'!V64)","v":""},{"$f":"IF(AND('PJ - P'!$C64=\"\",'PJ - P'!$D64=\"\"),\"\",'PJ - P'!B64)","v":""},{"$f":"IF('PJ - P'!C64=\"\",\"\",'PJ - P'!C64)","v":""},{"$f":"IF('PJ - P'!D64=\"\",\"\",'PJ - P'!D64)","v":""},{"$f":"IF('PJ - P'!H64=\"\",\"\",'PJ - P'!H64)","v":""},{"$f":"IF('PJ - P'!M64=\"\",\"\",'PJ - P'!M64)","v":""},null,{"$f":"IF('PJ - P'!O64=\"\",\"\",'PJ - P'!O64)","v":""}]
[null,{"$f":"IF(AND('PJ - P'!$C65=\"\",'PJ - P'!$D65=\"\"),\"\",'PJ - P'!V65)","v":""},{"$f":"IF(AND('PJ - P'!$C65=\"\",'PJ - P'!$D65=\"\"),\"\",'PJ - P'!B65)","v":""},{"$f":"IF('PJ - P'!C65=\"\",\"\",'PJ - P'!C65)","v":""},{"$f":"IF('PJ - P'!D65=\"\",\"\",'PJ - P'!D65)","v":""},{"$f":"IF('PJ - P'!H65=\"\",\"\",'PJ - P'!H65)","v":""},{"$f":"IF('PJ - P'!M65=\"\",\"\",'PJ - P'!M65)","v":""},null,{"$f":"IF('PJ - P'!O65=\"\",\"\",'PJ - P'!O65)","v":""}]
[null,{"$f":"IF(AND('PJ - P'!$C66=\"\",'PJ - P'!$D66=\"\"),\"\",'PJ - P'!V66)","v":""},{"$f":"IF(AND('PJ - P'!$C66=\"\",'PJ - P'!$D66=\"\"),\"\",'PJ - P'!B66)","v":""},{"$f":"IF('PJ - P'!C66=\"\",\"\",'PJ - P'!C66)","v":""},{"$f":"IF('PJ - P'!D66=\"\",\"\",'PJ - P'!D66)","v":""},{"$f":"IF('PJ - P'!H66=\"\",\"\",'PJ - P'!H66)","v":""},{"$f":"IF('PJ - P'!M66=\"\",\"\",'PJ - P'!M66)","v":""},null,{"$f":"IF('PJ - P'!O66=\"\",\"\",'PJ - P'!O66)","v":""}]
[null,{"$f":"IF(AND('PJ - P'!$C67=\"\",'PJ - P'!$D67=\"\"),\"\",'PJ - P'!V67)","v":""},{"$f":"IF(AND('PJ - P'!$C67=\"\",'PJ - P'!$D67=\"\"),\"\",'PJ - P'!B67)","v":""},{"$f":"IF('PJ - P'!C67=\"\",\"\",'PJ - P'!C67)","v":""},{"$f":"IF('PJ - P'!D67=\"\",\"\",'PJ - P'!D67)","v":""},{"$f":"IF('PJ - P'!H67=\"\",\"\",'PJ - P'!H67)","v":""},{"$f":"IF('PJ - P'!M67=\"\",\"\",'PJ - P'!M67)","v":""},null,{"$f":"IF('PJ - P'!O67=\"\",\"\",'PJ - P'!O67)","v":""}]
[null,{"$f":"IF(AND('PJ - P'!$C68=\"\",'PJ - P'!$D68=\"\"),\"\",'PJ - P'!V68)","v":""},{"$f":"IF(AND('PJ - P'!$C68=\"\",'PJ - P'!$D68=\"\"),\"\",'PJ - P'!B68)","v":""},{"$f":"IF('PJ - P'!C68=\"\",\"\",'PJ - P'!C68)","v":""},{"$f":"IF('PJ - P'!D68=\"\",\"\",'PJ - P'!D68)","v":""},{"$f":"IF('PJ - P'!H68=\"\",\"\",'PJ - P'!H68)","v":""},{"$f":"IF('PJ - P'!M68=\"\",\"\",'PJ - P'!M68)","v":""},null,{"$f":"IF('PJ - P'!O68=\"\",\"\",'PJ - P'!O68)","v":""}]
[null,{"$f":"IF(AND('PJ - P'!$C69=\"\",'PJ - P'!$D69=\"\"),\"\",'PJ - P'!V69)","v":""},{"$f":"IF(AND('PJ - P'!$C69=\"\",'PJ - P'!$D69=\"\"),\"\",'PJ - P'!B69)","v":""},{"$f":"IF('PJ - P'!C69=\"\",\"\",'PJ - P'!C69)","v":""},{"$f":"IF('PJ - P'!D69=\"\",\"\",'PJ - P'!D69)","v":""},{"$f":"IF('PJ - P'!H69=\"\",\"\",'PJ - P'!H69)","v":""},{"$f":"IF('PJ - P'!M69=\"\",\"\",'PJ - P'!M69)","v":""},null,{"$f":"IF('PJ - P'!O69=\"\",\"\",'PJ - P'!O69)","v":""}]
[null,{"$f":"IF(AND('PJ - P'!$C70=\"\",'PJ - P'!$D70=\"\"),\"\",'PJ - P'!V70)","v":""},{"$f":"IF(AND('PJ - P'!$C70=\"\",'PJ - P'!$D70=\"\"),\"\",'PJ - P'!B70)","v":""},{"$f":"IF('PJ - P'!C70=\"\",\"\",'PJ - P'!C70)","v":""},{"$f":"IF('PJ - P'!D70=\"\",\"\",'PJ - P'!D70)","v":""},{"$f":"IF('PJ - P'!H70=\"\",\"\",'PJ - P'!H70)","v":""},{"$f":"IF('PJ - P'!M70=\"\",\"\",'PJ - P'!M70)","v":""},null,{"$f":"IF('PJ - P'!O70=\"\",\"\",'PJ - P'!O70)","v":""}]
[null,{"$f":"IF(AND('PJ - P'!$C71=\"\",'PJ - P'!$D71=\"\"),\"\",'PJ - P'!V71)","v":""},{"$f":"IF(AND('PJ - P'!$C71=\"\",'PJ - P'!$D71=\"\"),\"\",'PJ - P'!B71)","v":""},{"$f":"IF('PJ - P'!C71=\"\",\"\",'PJ - P'!C71)","v":""},{"$f":"IF('PJ - P'!D71=\"\",\"\",'PJ - P'!D71)","v":""},{"$f":"IF('PJ - P'!H71=\"\",\"\",'PJ - P'!H71)","v":""},{"$f":"IF('PJ - P'!M71=\"\",\"\",'PJ - P'!M71)","v":""},null,{"$f":"IF('PJ - P'!O71=\"\",\"\",'PJ - P'!O71)","v":""}]
[null,{"$f":"IF(AND('PJ - P'!$C72=\"\",'PJ - P'!$D72=\"\"),\"\",'PJ - P'!V72)","v":""},{"$f":"IF(AND('PJ - P'!$C72=\"\",'PJ - P'!$D72=\"\"),\"\",'PJ - P'!B72)","v":""},{"$f":"IF('PJ - P'!C72=\"\",\"\",'PJ - P'!C72)","v":""},{"$f":"IF('PJ - P'!D72=\"\",\"\",'PJ - P'!D72)","v":""},{"$f":"IF('PJ - P'!H72=\"\",\"\",'PJ - P'!H72)","v":""},{"$f":"IF('PJ - P'!M72=\"\",\"\",'PJ - P'!M72)","v":""},null,{"$f":"IF('PJ - P'!O72=\"\",\"\",'PJ - P'!O72)","v":""}]
[null,{"$f":"B$1","v":"Běh na 100m s přek. - Pořadí jednotlivců"}]
[]
[null,{"$f":"B$3","v":"VC ČR v požárním útoku družstev HZS krajů a HZS podniků"},null,null,{"$f":"E$3","v":"Petrovice 19.9.2019"}]
[]
[null,{"$f":"Start!$C$5","v":"MUŽI"}]
[null,"Pořadí","Start. číslo","Jméno","kolektiv","čas             I. pokusu","čas            II. pokusu",null,"Výsledný čas"]
[]
[null,{"$f":"IF(AND('PJ - P'!$C73=\"\",'PJ - P'!$D73=\"\"),\"\",'PJ - P'!V73)","v":""},{"$f":"IF(AND('PJ - P'!$C73=\"\",'PJ - P'!$D73=\"\"),\"\",'PJ - P'!B73)","v":""},{"$f":"IF('PJ - P'!C73=\"\",\"\",'PJ - P'!C73)","v":""},{"$f":"IF('PJ - P'!D73=\"\",\"\",'PJ - P'!D73)","v":""},{"$f":"IF('PJ - P'!H73=\"\",\"\",'PJ - P'!H73)","v":""},{"$f":"IF('PJ - P'!M73=\"\",\"\",'PJ - P'!M73)","v":""},null,{"$f":"IF('PJ - P'!O73=\"\",\"\",'PJ - P'!O73)","v":""}]
[null,{"$f":"IF(AND('PJ - P'!$C74=\"\",'PJ - P'!$D74=\"\"),\"\",'PJ - P'!V74)","v":""},{"$f":"IF(AND('PJ - P'!$C74=\"\",'PJ - P'!$D74=\"\"),\"\",'PJ - P'!B74)","v":""},{"$f":"IF('PJ - P'!C74=\"\",\"\",'PJ - P'!C74)","v":""},{"$f":"IF('PJ - P'!D74=\"\",\"\",'PJ - P'!D74)","v":""},{"$f":"IF('PJ - P'!H74=\"\",\"\",'PJ - P'!H74)","v":""},{"$f":"IF('PJ - P'!M74=\"\",\"\",'PJ - P'!M74)","v":""},null,{"$f":"IF('PJ - P'!O74=\"\",\"\",'PJ - P'!O74)","v":""}]
[null,{"$f":"IF(AND('PJ - P'!$C75=\"\",'PJ - P'!$D75=\"\"),\"\",'PJ - P'!V75)","v":""},{"$f":"IF(AND('PJ - P'!$C75=\"\",'PJ - P'!$D75=\"\"),\"\",'PJ - P'!B75)","v":""},{"$f":"IF('PJ - P'!C75=\"\",\"\",'PJ - P'!C75)","v":""},{"$f":"IF('PJ - P'!D75=\"\",\"\",'PJ - P'!D75)","v":""},{"$f":"IF('PJ - P'!H75=\"\",\"\",'PJ - P'!H75)","v":""},{"$f":"IF('PJ - P'!M75=\"\",\"\",'PJ - P'!M75)","v":""},null,{"$f":"IF('PJ - P'!O75=\"\",\"\",'PJ - P'!O75)","v":""}]
[null,{"$f":"IF(AND('PJ - P'!$C76=\"\",'PJ - P'!$D76=\"\"),\"\",'PJ - P'!V76)","v":""},{"$f":"IF(AND('PJ - P'!$C76=\"\",'PJ - P'!$D76=\"\"),\"\",'PJ - P'!B76)","v":""},{"$f":"IF('PJ - P'!C76=\"\",\"\",'PJ - P'!C76)","v":""},{"$f":"IF('PJ - P'!D76=\"\",\"\",'PJ - P'!D76)","v":""},{"$f":"IF('PJ - P'!H76=\"\",\"\",'PJ - P'!H76)","v":""},{"$f":"IF('PJ - P'!M76=\"\",\"\",'PJ - P'!M76)","v":""},null,{"$f":"IF('PJ - P'!O76=\"\",\"\",'PJ - P'!O76)","v":""}]
[null,{"$f":"IF(AND('PJ - P'!$C77=\"\",'PJ - P'!$D77=\"\"),\"\",'PJ - P'!V77)","v":""},{"$f":"IF(AND('PJ - P'!$C77=\"\",'PJ - P'!$D77=\"\"),\"\",'PJ - P'!B77)","v":""},{"$f":"IF('PJ - P'!C77=\"\",\"\",'PJ - P'!C77)","v":""},{"$f":"IF('PJ - P'!D77=\"\",\"\",'PJ - P'!D77)","v":""},{"$f":"IF('PJ - P'!H77=\"\",\"\",'PJ - P'!H77)","v":""},{"$f":"IF('PJ - P'!M77=\"\",\"\",'PJ - P'!M77)","v":""},null,{"$f":"IF('PJ - P'!O77=\"\",\"\",'PJ - P'!O77)","v":""}]
[null,{"$f":"IF(AND('PJ - P'!$C78=\"\",'PJ - P'!$D78=\"\"),\"\",'PJ - P'!V78)","v":""},{"$f":"IF(AND('PJ - P'!$C78=\"\",'PJ - P'!$D78=\"\"),\"\",'PJ - P'!B78)","v":""},{"$f":"IF('PJ - P'!C78=\"\",\"\",'PJ - P'!C78)","v":""},{"$f":"IF('PJ - P'!D78=\"\",\"\",'PJ - P'!D78)","v":""},{"$f":"IF('PJ - P'!H78=\"\",\"\",'PJ - P'!H78)","v":""},{"$f":"IF('PJ - P'!M78=\"\",\"\",'PJ - P'!M78)","v":""},null,{"$f":"IF('PJ - P'!O78=\"\",\"\",'PJ - P'!O78)","v":""}]
[null,{"$f":"IF(AND('PJ - P'!$C79=\"\",'PJ - P'!$D79=\"\"),\"\",'PJ - P'!V79)","v":""},{"$f":"IF(AND('PJ - P'!$C79=\"\",'PJ - P'!$D79=\"\"),\"\",'PJ - P'!B79)","v":""},{"$f":"IF('PJ - P'!C79=\"\",\"\",'PJ - P'!C79)","v":""},{"$f":"IF('PJ - P'!D79=\"\",\"\",'PJ - P'!D79)","v":""},{"$f":"IF('PJ - P'!H79=\"\",\"\",'PJ - P'!H79)","v":""},{"$f":"IF('PJ - P'!M79=\"\",\"\",'PJ - P'!M79)","v":""},null,{"$f":"IF('PJ - P'!O79=\"\",\"\",'PJ - P'!O79)","v":""}]
[null,{"$f":"IF(AND('PJ - P'!$C80=\"\",'PJ - P'!$D80=\"\"),\"\",'PJ - P'!V80)","v":""},{"$f":"IF(AND('PJ - P'!$C80=\"\",'PJ - P'!$D80=\"\"),\"\",'PJ - P'!B80)","v":""},{"$f":"IF('PJ - P'!C80=\"\",\"\",'PJ - P'!C80)","v":""},{"$f":"IF('PJ - P'!D80=\"\",\"\",'PJ - P'!D80)","v":""},{"$f":"IF('PJ - P'!H80=\"\",\"\",'PJ - P'!H80)","v":""},{"$f":"IF('PJ - P'!M80=\"\",\"\",'PJ - P'!M80)","v":""},null,{"$f":"IF('PJ - P'!O80=\"\",\"\",'PJ - P'!O80)","v":""}]
[null,{"$f":"IF(AND('PJ - P'!$C81=\"\",'PJ - P'!$D81=\"\"),\"\",'PJ - P'!V81)","v":""},{"$f":"IF(AND('PJ - P'!$C81=\"\",'PJ - P'!$D81=\"\"),\"\",'PJ - P'!B81)","v":""},{"$f":"IF('PJ - P'!C81=\"\",\"\",'PJ - P'!C81)","v":""},{"$f":"IF('PJ - P'!D81=\"\",\"\",'PJ - P'!D81)","v":""},{"$f":"IF('PJ - P'!H81=\"\",\"\",'PJ - P'!H81)","v":""},{"$f":"IF('PJ - P'!M81=\"\",\"\",'PJ - P'!M81)","v":""},null,{"$f":"IF('PJ - P'!O81=\"\",\"\",'PJ - P'!O81)","v":""}]
[null,{"$f":"IF(AND('PJ - P'!$C82=\"\",'PJ - P'!$D82=\"\"),\"\",'PJ - P'!V82)","v":""},{"$f":"IF(AND('PJ - P'!$C82=\"\",'PJ - P'!$D82=\"\"),\"\",'PJ - P'!B82)","v":""},{"$f":"IF('PJ - P'!C82=\"\",\"\",'PJ - P'!C82)","v":""},{"$f":"IF('PJ - P'!D82=\"\",\"\",'PJ - P'!D82)","v":""},{"$f":"IF('PJ - P'!H82=\"\",\"\",'PJ - P'!H82)","v":""},{"$f":"IF('PJ - P'!M82=\"\",\"\",'PJ - P'!M82)","v":""},null,{"$f":"IF('PJ - P'!O82=\"\",\"\",'PJ - P'!O82)","v":""}]
[null,{"$f":"IF(AND('PJ - P'!$C83=\"\",'PJ - P'!$D83=\"\"),\"\",'PJ - P'!V83)","v":""},{"$f":"IF(AND('PJ - P'!$C83=\"\",'PJ - P'!$D83=\"\"),\"\",'PJ - P'!B83)","v":""},{"$f":"IF('PJ - P'!C83=\"\",\"\",'PJ - P'!C83)","v":""},{"$f":"IF('PJ - P'!D83=\"\",\"\",'PJ - P'!D83)","v":""},{"$f":"IF('PJ - P'!H83=\"\",\"\",'PJ - P'!H83)","v":""},{"$f":"IF('PJ - P'!M83=\"\",\"\",'PJ - P'!M83)","v":""},null,{"$f":"IF('PJ - P'!O83=\"\",\"\",'PJ - P'!O83)","v":""}]
[null,{"$f":"IF(AND('PJ - P'!$C84=\"\",'PJ - P'!$D84=\"\"),\"\",'PJ - P'!V84)","v":""},{"$f":"IF(AND('PJ - P'!$C84=\"\",'PJ - P'!$D84=\"\"),\"\",'PJ - P'!B84)","v":""},{"$f":"IF('PJ - P'!C84=\"\",\"\",'PJ - P'!C84)","v":""},{"$f":"IF('PJ - P'!D84=\"\",\"\",'PJ - P'!D84)","v":""},{"$f":"IF('PJ - P'!H84=\"\",\"\",'PJ - P'!H84)","v":""},{"$f":"IF('PJ - P'!M84=\"\",\"\",'PJ - P'!M84)","v":""},null,{"$f":"IF('PJ - P'!O84=\"\",\"\",'PJ - P'!O84)","v":""}]
[null,{"$f":"IF(AND('PJ - P'!$C85=\"\",'PJ - P'!$D85=\"\"),\"\",'PJ - P'!V85)","v":""},{"$f":"IF(AND('PJ - P'!$C85=\"\",'PJ - P'!$D85=\"\"),\"\",'PJ - P'!B85)","v":""},{"$f":"IF('PJ - P'!C85=\"\",\"\",'PJ - P'!C85)","v":""},{"$f":"IF('PJ - P'!D85=\"\",\"\",'PJ - P'!D85)","v":""},{"$f":"IF('PJ - P'!H85=\"\",\"\",'PJ - P'!H85)","v":""},{"$f":"IF('PJ - P'!M85=\"\",\"\",'PJ - P'!M85)","v":""},null,{"$f":"IF('PJ - P'!O85=\"\",\"\",'PJ - P'!O85)","v":""}]
[null,{"$f":"IF(AND('PJ - P'!$C86=\"\",'PJ - P'!$D86=\"\"),\"\",'PJ - P'!V86)","v":""},{"$f":"IF(AND('PJ - P'!$C86=\"\",'PJ - P'!$D86=\"\"),\"\",'PJ - P'!B86)","v":""},{"$f":"IF('PJ - P'!C86=\"\",\"\",'PJ - P'!C86)","v":""},{"$f":"IF('PJ - P'!D86=\"\",\"\",'PJ - P'!D86)","v":""},{"$f":"IF('PJ - P'!H86=\"\",\"\",'PJ - P'!H86)","v":""},{"$f":"IF('PJ - P'!M86=\"\",\"\",'PJ - P'!M86)","v":""},null,{"$f":"IF('PJ - P'!O86=\"\",\"\",'PJ - P'!O86)","v":""}]
[null,{"$f":"IF(AND('PJ - P'!$C87=\"\",'PJ - P'!$D87=\"\"),\"\",'PJ - P'!V87)","v":""},{"$f":"IF(AND('PJ - P'!$C87=\"\",'PJ - P'!$D87=\"\"),\"\",'PJ - P'!B87)","v":""},{"$f":"IF('PJ - P'!C87=\"\",\"\",'PJ - P'!C87)","v":""},{"$f":"IF('PJ - P'!D87=\"\",\"\",'PJ - P'!D87)","v":""},{"$f":"IF('PJ - P'!H87=\"\",\"\",'PJ - P'!H87)","v":""},{"$f":"IF('PJ - P'!M87=\"\",\"\",'PJ - P'!M87)","v":""},null,{"$f":"IF('PJ - P'!O87=\"\",\"\",'PJ - P'!O87)","v":""}]
[null,{"$f":"IF(AND('PJ - P'!$C88=\"\",'PJ - P'!$D88=\"\"),\"\",'PJ - P'!V88)","v":""},{"$f":"IF(AND('PJ - P'!$C88=\"\",'PJ - P'!$D88=\"\"),\"\",'PJ - P'!B88)","v":""},{"$f":"IF('PJ - P'!C88=\"\",\"\",'PJ - P'!C88)","v":""},{"$f":"IF('PJ - P'!D88=\"\",\"\",'PJ - P'!D88)","v":""},{"$f":"IF('PJ - P'!H88=\"\",\"\",'PJ - P'!H88)","v":""},{"$f":"IF('PJ - P'!M88=\"\",\"\",'PJ - P'!M88)","v":""},null,{"$f":"IF('PJ - P'!O88=\"\",\"\",'PJ - P'!O88)","v":""}]
[null,{"$f":"IF(AND('PJ - P'!$C89=\"\",'PJ - P'!$D89=\"\"),\"\",'PJ - P'!V89)","v":""},{"$f":"IF(AND('PJ - P'!$C89=\"\",'PJ - P'!$D89=\"\"),\"\",'PJ - P'!B89)","v":""},{"$f":"IF('PJ - P'!C89=\"\",\"\",'PJ - P'!C89)","v":""},{"$f":"IF('PJ - P'!D89=\"\",\"\",'PJ - P'!D89)","v":""},{"$f":"IF('PJ - P'!H89=\"\",\"\",'PJ - P'!H89)","v":""},{"$f":"IF('PJ - P'!M89=\"\",\"\",'PJ - P'!M89)","v":""},null,{"$f":"IF('PJ - P'!O89=\"\",\"\",'PJ - P'!O89)","v":""}]
[null,{"$f":"IF(AND('PJ - P'!$C90=\"\",'PJ - P'!$D90=\"\"),\"\",'PJ - P'!V90)","v":""},{"$f":"IF(AND('PJ - P'!$C90=\"\",'PJ - P'!$D90=\"\"),\"\",'PJ - P'!B90)","v":""},{"$f":"IF('PJ - P'!C90=\"\",\"\",'PJ - P'!C90)","v":""},{"$f":"IF('PJ - P'!D90=\"\",\"\",'PJ - P'!D90)","v":""},{"$f":"IF('PJ - P'!H90=\"\",\"\",'PJ - P'!H90)","v":""},{"$f":"IF('PJ - P'!M90=\"\",\"\",'PJ - P'!M90)","v":""},null,{"$f":"IF('PJ - P'!O90=\"\",\"\",'PJ - P'!O90)","v":""}]
[null,{"$f":"IF(AND('PJ - P'!$C91=\"\",'PJ - P'!$D91=\"\"),\"\",'PJ - P'!V91)","v":""},{"$f":"IF(AND('PJ - P'!$C91=\"\",'PJ - P'!$D91=\"\"),\"\",'PJ - P'!B91)","v":""},{"$f":"IF('PJ - P'!C91=\"\",\"\",'PJ - P'!C91)","v":""},{"$f":"IF('PJ - P'!D91=\"\",\"\",'PJ - P'!D91)","v":""},{"$f":"IF('PJ - P'!H91=\"\",\"\",'PJ - P'!H91)","v":""},{"$f":"IF('PJ - P'!M91=\"\",\"\",'PJ - P'!M91)","v":""},null,{"$f":"IF('PJ - P'!O91=\"\",\"\",'PJ - P'!O91)","v":""}]
[null,{"$f":"IF(AND('PJ - P'!$C92=\"\",'PJ - P'!$D92=\"\"),\"\",'PJ - P'!V92)","v":""},{"$f":"IF(AND('PJ - P'!$C92=\"\",'PJ - P'!$D92=\"\"),\"\",'PJ - P'!B92)","v":""},{"$f":"IF('PJ - P'!C92=\"\",\"\",'PJ - P'!C92)","v":""},{"$f":"IF('PJ - P'!D92=\"\",\"\",'PJ - P'!D92)","v":""},{"$f":"IF('PJ - P'!H92=\"\",\"\",'PJ - P'!H92)","v":""},{"$f":"IF('PJ - P'!M92=\"\",\"\",'PJ - P'!M92)","v":""},null,{"$f":"IF('PJ - P'!O92=\"\",\"\",'PJ - P'!O92)","v":""}]
[null,{"$f":"IF(AND('PJ - P'!$C93=\"\",'PJ - P'!$D93=\"\"),\"\",'PJ - P'!V93)","v":""},{"$f":"IF(AND('PJ - P'!$C93=\"\",'PJ - P'!$D93=\"\"),\"\",'PJ - P'!B93)","v":""},{"$f":"IF('PJ - P'!C93=\"\",\"\",'PJ - P'!C93)","v":""},{"$f":"IF('PJ - P'!D93=\"\",\"\",'PJ - P'!D93)","v":""},{"$f":"IF('PJ - P'!H93=\"\",\"\",'PJ - P'!H93)","v":""},{"$f":"IF('PJ - P'!M93=\"\",\"\",'PJ - P'!M93)","v":""},null,{"$f":"IF('PJ - P'!O93=\"\",\"\",'PJ - P'!O93)","v":""}]
[null,{"$f":"IF(AND('PJ - P'!$C94=\"\",'PJ - P'!$D94=\"\"),\"\",'PJ - P'!V94)","v":""},{"$f":"IF(AND('PJ - P'!$C94=\"\",'PJ - P'!$D94=\"\"),\"\",'PJ - P'!B94)","v":""},{"$f":"IF('PJ - P'!C94=\"\",\"\",'PJ - P'!C94)","v":""},{"$f":"IF('PJ - P'!D94=\"\",\"\",'PJ - P'!D94)","v":""},{"$f":"IF('PJ - P'!H94=\"\",\"\",'PJ - P'!H94)","v":""},{"$f":"IF('PJ - P'!M94=\"\",\"\",'PJ - P'!M94)","v":""},null,{"$f":"IF('PJ - P'!O94=\"\",\"\",'PJ - P'!O94)","v":""}]
[null,{"$f":"IF(AND('PJ - P'!$C95=\"\",'PJ - P'!$D95=\"\"),\"\",'PJ - P'!V95)","v":""},{"$f":"IF(AND('PJ - P'!$C95=\"\",'PJ - P'!$D95=\"\"),\"\",'PJ - P'!B95)","v":""},{"$f":"IF('PJ - P'!C95=\"\",\"\",'PJ - P'!C95)","v":""},{"$f":"IF('PJ - P'!D95=\"\",\"\",'PJ - P'!D95)","v":""},{"$f":"IF('PJ - P'!H95=\"\",\"\",'PJ - P'!H95)","v":""},{"$f":"IF('PJ - P'!M95=\"\",\"\",'PJ - P'!M95)","v":""},null,{"$f":"IF('PJ - P'!O95=\"\",\"\",'PJ - P'!O95)","v":""}]
[null,{"$f":"IF(AND('PJ - P'!$C96=\"\",'PJ - P'!$D96=\"\"),\"\",'PJ - P'!V96)","v":""},{"$f":"IF(AND('PJ - P'!$C96=\"\",'PJ - P'!$D96=\"\"),\"\",'PJ - P'!B96)","v":""},{"$f":"IF('PJ - P'!C96=\"\",\"\",'PJ - P'!C96)","v":""},{"$f":"IF('PJ - P'!D96=\"\",\"\",'PJ - P'!D96)","v":""},{"$f":"IF('PJ - P'!H96=\"\",\"\",'PJ - P'!H96)","v":""},{"$f":"IF('PJ - P'!M96=\"\",\"\",'PJ - P'!M96)","v":""},null,{"$f":"IF('PJ - P'!O96=\"\",\"\",'PJ - P'!O96)","v":""}]
[null,{"$f":"IF(AND('PJ - P'!$C97=\"\",'PJ - P'!$D97=\"\"),\"\",'PJ - P'!V97)","v":""},{"$f":"IF(AND('PJ - P'!$C97=\"\",'PJ - P'!$D97=\"\"),\"\",'PJ - P'!B97)","v":""},{"$f":"IF('PJ - P'!C97=\"\",\"\",'PJ - P'!C97)","v":""},{"$f":"IF('PJ - P'!D97=\"\",\"\",'PJ - P'!D97)","v":""},{"$f":"IF('PJ - P'!H97=\"\",\"\",'PJ - P'!H97)","v":""},{"$f":"IF('PJ - P'!M97=\"\",\"\",'PJ - P'!M97)","v":""},null,{"$f":"IF('PJ - P'!O97=\"\",\"\",'PJ - P'!O97)","v":""}]
[null,{"$f":"IF(AND('PJ - P'!$C98=\"\",'PJ - P'!$D98=\"\"),\"\",'PJ - P'!V98)","v":""},{"$f":"IF(AND('PJ - P'!$C98=\"\",'PJ - P'!$D98=\"\"),\"\",'PJ - P'!B98)","v":""},{"$f":"IF('PJ - P'!C98=\"\",\"\",'PJ - P'!C98)","v":""},{"$f":"IF('PJ - P'!D98=\"\",\"\",'PJ - P'!D98)","v":""},{"$f":"IF('PJ - P'!H98=\"\",\"\",'PJ - P'!H98)","v":""},{"$f":"IF('PJ - P'!M98=\"\",\"\",'PJ - P'!M98)","v":""},null,{"$f":"IF('PJ - P'!O98=\"\",\"\",'PJ - P'!O98)","v":""}]
[null,{"$f":"IF(AND('PJ - P'!$C99=\"\",'PJ - P'!$D99=\"\"),\"\",'PJ - P'!V99)","v":""},{"$f":"IF(AND('PJ - P'!$C99=\"\",'PJ - P'!$D99=\"\"),\"\",'PJ - P'!B99)","v":""},{"$f":"IF('PJ - P'!C99=\"\",\"\",'PJ - P'!C99)","v":""},{"$f":"IF('PJ - P'!D99=\"\",\"\",'PJ - P'!D99)","v":""},{"$f":"IF('PJ - P'!H99=\"\",\"\",'PJ - P'!H99)","v":""},{"$f":"IF('PJ - P'!M99=\"\",\"\",'PJ - P'!M99)","v":""},null,{"$f":"IF('PJ - P'!O99=\"\",\"\",'PJ - P'!O99)","v":""}]
[null,{"$f":"IF(AND('PJ - P'!$C100=\"\",'PJ - P'!$D100=\"\"),\"\",'PJ - P'!V100)","v":""},{"$f":"IF(AND('PJ - P'!$C100=\"\",'PJ - P'!$D100=\"\"),\"\",'PJ - P'!B100)","v":""},{"$f":"IF('PJ - P'!C100=\"\",\"\",'PJ - P'!C100)","v":""},{"$f":"IF('PJ - P'!D100=\"\",\"\",'PJ - P'!D100)","v":""},{"$f":"IF('PJ - P'!H100=\"\",\"\",'PJ - P'!H100)","v":""},{"$f":"IF('PJ - P'!M100=\"\",\"\",'PJ - P'!M100)","v":""},null,{"$f":"IF('PJ - P'!O100=\"\",\"\",'PJ - P'!O100)","v":""}]
[null,{"$f":"IF(AND('PJ - P'!$C101=\"\",'PJ - P'!$D101=\"\"),\"\",'PJ - P'!V101)","v":""},{"$f":"IF(AND('PJ - P'!$C101=\"\",'PJ - P'!$D101=\"\"),\"\",'PJ - P'!B101)","v":""},{"$f":"IF('PJ - P'!C101=\"\",\"\",'PJ - P'!C101)","v":""},{"$f":"IF('PJ - P'!D101=\"\",\"\",'PJ - P'!D101)","v":""},{"$f":"IF('PJ - P'!H101=\"\",\"\",'PJ - P'!H101)","v":""},{"$f":"IF('PJ - P'!M101=\"\",\"\",'PJ - P'!M101)","v":""},null,{"$f":"IF('PJ - P'!O101=\"\",\"\",'PJ - P'!O101)","v":""}]
[null,{"$f":"IF(AND('PJ - P'!$C102=\"\",'PJ - P'!$D102=\"\"),\"\",'PJ - P'!V102)","v":""},{"$f":"IF(AND('PJ - P'!$C102=\"\",'PJ - P'!$D102=\"\"),\"\",'PJ - P'!B102)","v":""},{"$f":"IF('PJ - P'!C102=\"\",\"\",'PJ - P'!C102)","v":""},{"$f":"IF('PJ - P'!D102=\"\",\"\",'PJ - P'!D102)","v":""},{"$f":"IF('PJ - P'!H102=\"\",\"\",'PJ - P'!H102)","v":""},{"$f":"IF('PJ - P'!M102=\"\",\"\",'PJ - P'!M102)","v":""},null,{"$f":"IF('PJ - P'!O102=\"\",\"\",'PJ - P'!O102)","v":""}]
[null,{"$f":"IF(AND('PJ - P'!$C103=\"\",'PJ - P'!$D103=\"\"),\"\",'PJ - P'!V103)","v":""},{"$f":"IF(AND('PJ - P'!$C103=\"\",'PJ - P'!$D103=\"\"),\"\",'PJ - P'!B103)","v":""},{"$f":"IF('PJ - P'!C103=\"\",\"\",'PJ - P'!C103)","v":""},{"$f":"IF('PJ - P'!D103=\"\",\"\",'PJ - P'!D103)","v":""},{"$f":"IF('PJ - P'!H103=\"\",\"\",'PJ - P'!H103)","v":""},{"$f":"IF('PJ - P'!M103=\"\",\"\",'PJ - P'!M103)","v":""},null,{"$f":"IF('PJ - P'!O103=\"\",\"\",'PJ - P'!O103)","v":""}]
[null,{"$f":"IF(AND('PJ - P'!$C104=\"\",'PJ - P'!$D104=\"\"),\"\",'PJ - P'!V104)","v":""},{"$f":"IF(AND('PJ - P'!$C104=\"\",'PJ - P'!$D104=\"\"),\"\",'PJ - P'!B104)","v":""},{"$f":"IF('PJ - P'!C104=\"\",\"\",'PJ - P'!C104)","v":""},{"$f":"IF('PJ - P'!D104=\"\",\"\",'PJ - P'!D104)","v":""},{"$f":"IF('PJ - P'!H104=\"\",\"\",'PJ - P'!H104)","v":""},{"$f":"IF('PJ - P'!M104=\"\",\"\",'PJ - P'!M104)","v":""},null,{"$f":"IF('PJ - P'!O104=\"\",\"\",'PJ - P'!O104)","v":""}]
[null,{"$f":"IF(AND('PJ - P'!$C105=\"\",'PJ - P'!$D105=\"\"),\"\",'PJ - P'!V105)","v":""},{"$f":"IF(AND('PJ - P'!$C105=\"\",'PJ - P'!$D105=\"\"),\"\",'PJ - P'!B105)","v":""},{"$f":"IF('PJ - P'!C105=\"\",\"\",'PJ - P'!C105)","v":""},{"$f":"IF('PJ - P'!D105=\"\",\"\",'PJ - P'!D105)","v":""},{"$f":"IF('PJ - P'!H105=\"\",\"\",'PJ - P'!H105)","v":""},{"$f":"IF('PJ - P'!M105=\"\",\"\",'PJ - P'!M105)","v":""},null,{"$f":"IF('PJ - P'!O105=\"\",\"\",'PJ - P'!O105)","v":""}]
[null,{"$f":"IF(AND('PJ - P'!$C106=\"\",'PJ - P'!$D106=\"\"),\"\",'PJ - P'!V106)","v":""},{"$f":"IF(AND('PJ - P'!$C106=\"\",'PJ - P'!$D106=\"\"),\"\",'PJ - P'!B106)","v":""},{"$f":"IF('PJ - P'!C106=\"\",\"\",'PJ - P'!C106)","v":""},{"$f":"IF('PJ - P'!D106=\"\",\"\",'PJ - P'!D106)","v":""},{"$f":"IF('PJ - P'!H106=\"\",\"\",'PJ - P'!H106)","v":""},{"$f":"IF('PJ - P'!M106=\"\",\"\",'PJ - P'!M106)","v":""},null,{"$f":"IF('PJ - P'!O106=\"\",\"\",'PJ - P'!O106)","v":""}]
[null,{"$f":"IF(AND('PJ - P'!$C107=\"\",'PJ - P'!$D107=\"\"),\"\",'PJ - P'!V107)","v":""},{"$f":"IF(AND('PJ - P'!$C107=\"\",'PJ - P'!$D107=\"\"),\"\",'PJ - P'!B107)","v":""},{"$f":"IF('PJ - P'!C107=\"\",\"\",'PJ - P'!C107)","v":""},{"$f":"IF('PJ - P'!D107=\"\",\"\",'PJ - P'!D107)","v":""},{"$f":"IF('PJ - P'!H107=\"\",\"\",'PJ - P'!H107)","v":""},{"$f":"IF('PJ - P'!M107=\"\",\"\",'PJ - P'!M107)","v":""},null,{"$f":"IF('PJ - P'!O107=\"\",\"\",'PJ - P'!O107)","v":""}]
[null,{"$f":"IF(AND('PJ - P'!$C108=\"\",'PJ - P'!$D108=\"\"),\"\",'PJ - P'!V108)","v":""},{"$f":"IF(AND('PJ - P'!$C108=\"\",'PJ - P'!$D108=\"\"),\"\",'PJ - P'!B108)","v":""},{"$f":"IF('PJ - P'!C108=\"\",\"\",'PJ - P'!C108)","v":""},{"$f":"IF('PJ - P'!D108=\"\",\"\",'PJ - P'!D108)","v":""},{"$f":"IF('PJ - P'!H108=\"\",\"\",'PJ - P'!H108)","v":""},{"$f":"IF('PJ - P'!M108=\"\",\"\",'PJ - P'!M108)","v":""},null,{"$f":"IF('PJ - P'!O108=\"\",\"\",'PJ - P'!O108)","v":""}]
[null,{"$f":"B$1","v":"Běh na 100m s přek. - Pořadí jednotlivců"}]
[]
[null,{"$f":"B$3","v":"VC ČR v požárním útoku družstev HZS krajů a HZS podniků"},null,null,{"$f":"E$3","v":"Petrovice 19.9.2019"}]
[]
[null,{"$f":"Start!$C$5","v":"MUŽI"}]
[null,"Pořadí","Start. číslo","Jméno","kolektiv","čas             I. pokusu","čas            II. pokusu",null,"Výsledný čas"]
[]
[null,{"$f":"IF(AND('PJ - P'!$C109=\"\",'PJ - P'!$D109=\"\"),\"\",'PJ - P'!V109)","v":""},{"$f":"IF(AND('PJ - P'!$C109=\"\",'PJ - P'!$D109=\"\"),\"\",'PJ - P'!B109)","v":""},{"$f":"IF('PJ - P'!C109=\"\",\"\",'PJ - P'!C109)","v":""},{"$f":"IF('PJ - P'!D109=\"\",\"\",'PJ - P'!D109)","v":""},{"$f":"IF('PJ - P'!H109=\"\",\"\",'PJ - P'!H109)","v":""},{"$f":"IF('PJ - P'!M109=\"\",\"\",'PJ - P'!M109)","v":""},null,{"$f":"IF('PJ - P'!O109=\"\",\"\",'PJ - P'!O109)","v":""}]
[null,{"$f":"IF(AND('PJ - P'!$C110=\"\",'PJ - P'!$D110=\"\"),\"\",'PJ - P'!V110)","v":""},{"$f":"IF(AND('PJ - P'!$C110=\"\",'PJ - P'!$D110=\"\"),\"\",'PJ - P'!B110)","v":""},{"$f":"IF('PJ - P'!C110=\"\",\"\",'PJ - P'!C110)","v":""},{"$f":"IF('PJ - P'!D110=\"\",\"\",'PJ - P'!D110)","v":""},{"$f":"IF('PJ - P'!H110=\"\",\"\",'PJ - P'!H110)","v":""},{"$f":"IF('PJ - P'!M110=\"\",\"\",'PJ - P'!M110)","v":""},null,{"$f":"IF('PJ - P'!O110=\"\",\"\",'PJ - P'!O110)","v":""}]
[null,{"$f":"IF(AND('PJ - P'!$C111=\"\",'PJ - P'!$D111=\"\"),\"\",'PJ - P'!V111)","v":""},{"$f":"IF(AND('PJ - P'!$C111=\"\",'PJ - P'!$D111=\"\"),\"\",'PJ - P'!B111)","v":""},{"$f":"IF('PJ - P'!C111=\"\",\"\",'PJ - P'!C111)","v":""},{"$f":"IF('PJ - P'!D111=\"\",\"\",'PJ - P'!D111)","v":""},{"$f":"IF('PJ - P'!H111=\"\",\"\",'PJ - P'!H111)","v":""},{"$f":"IF('PJ - P'!M111=\"\",\"\",'PJ - P'!M111)","v":""},null,{"$f":"IF('PJ - P'!O111=\"\",\"\",'PJ - P'!O111)","v":""}]
[null,{"$f":"IF(AND('PJ - P'!$C112=\"\",'PJ - P'!$D112=\"\"),\"\",'PJ - P'!V112)","v":""},{"$f":"IF(AND('PJ - P'!$C112=\"\",'PJ - P'!$D112=\"\"),\"\",'PJ - P'!B112)","v":""},{"$f":"IF('PJ - P'!C112=\"\",\"\",'PJ - P'!C112)","v":""},{"$f":"IF('PJ - P'!D112=\"\",\"\",'PJ - P'!D112)","v":""},{"$f":"IF('PJ - P'!H112=\"\",\"\",'PJ - P'!H112)","v":""},{"$f":"IF('PJ - P'!M112=\"\",\"\",'PJ - P'!M112)","v":""},null,{"$f":"IF('PJ - P'!O112=\"\",\"\",'PJ - P'!O112)","v":""}]
[null,{"$f":"IF(AND('PJ - P'!$C113=\"\",'PJ - P'!$D113=\"\"),\"\",'PJ - P'!V113)","v":""},{"$f":"IF(AND('PJ - P'!$C113=\"\",'PJ - P'!$D113=\"\"),\"\",'PJ - P'!B113)","v":""},{"$f":"IF('PJ - P'!C113=\"\",\"\",'PJ - P'!C113)","v":""},{"$f":"IF('PJ - P'!D113=\"\",\"\",'PJ - P'!D113)","v":""},{"$f":"IF('PJ - P'!H113=\"\",\"\",'PJ - P'!H113)","v":""},{"$f":"IF('PJ - P'!M113=\"\",\"\",'PJ - P'!M113)","v":""},null,{"$f":"IF('PJ - P'!O113=\"\",\"\",'PJ - P'!O113)","v":""}]
[null,{"$f":"IF(AND('PJ - P'!$C114=\"\",'PJ - P'!$D114=\"\"),\"\",'PJ - P'!V114)","v":""},{"$f":"IF(AND('PJ - P'!$C114=\"\",'PJ - P'!$D114=\"\"),\"\",'PJ - P'!B114)","v":""},{"$f":"IF('PJ - P'!C114=\"\",\"\",'PJ - P'!C114)","v":""},{"$f":"IF('PJ - P'!D114=\"\",\"\",'PJ - P'!D114)","v":""},{"$f":"IF('PJ - P'!H114=\"\",\"\",'PJ - P'!H114)","v":""},{"$f":"IF('PJ - P'!M114=\"\",\"\",'PJ - P'!M114)","v":""},null,{"$f":"IF('PJ - P'!O114=\"\",\"\",'PJ - P'!O114)","v":""}]
[null,{"$f":"IF(AND('PJ - P'!$C115=\"\",'PJ - P'!$D115=\"\"),\"\",'PJ - P'!V115)","v":""},{"$f":"IF(AND('PJ - P'!$C115=\"\",'PJ - P'!$D115=\"\"),\"\",'PJ - P'!B115)","v":""},{"$f":"IF('PJ - P'!C115=\"\",\"\",'PJ - P'!C115)","v":""},{"$f":"IF('PJ - P'!D115=\"\",\"\",'PJ - P'!D115)","v":""},{"$f":"IF('PJ - P'!H115=\"\",\"\",'PJ - P'!H115)","v":""},{"$f":"IF('PJ - P'!M115=\"\",\"\",'PJ - P'!M115)","v":""},null,{"$f":"IF('PJ - P'!O115=\"\",\"\",'PJ - P'!O115)","v":""}]
[null,{"$f":"IF(AND('PJ - P'!$C116=\"\",'PJ - P'!$D116=\"\"),\"\",'PJ - P'!V116)","v":""},{"$f":"IF(AND('PJ - P'!$C116=\"\",'PJ - P'!$D116=\"\"),\"\",'PJ - P'!B116)","v":""},{"$f":"IF('PJ - P'!C116=\"\",\"\",'PJ - P'!C116)","v":""},{"$f":"IF('PJ - P'!D116=\"\",\"\",'PJ - P'!D116)","v":""},{"$f":"IF('PJ - P'!H116=\"\",\"\",'PJ - P'!H116)","v":""},{"$f":"IF('PJ - P'!M116=\"\",\"\",'PJ - P'!M116)","v":""},null,{"$f":"IF('PJ - P'!O116=\"\",\"\",'PJ - P'!O116)","v":""}]
[null,{"$f":"IF(AND('PJ - P'!$C117=\"\",'PJ - P'!$D117=\"\"),\"\",'PJ - P'!V117)","v":""},{"$f":"IF(AND('PJ - P'!$C117=\"\",'PJ - P'!$D117=\"\"),\"\",'PJ - P'!B117)","v":""},{"$f":"IF('PJ - P'!C117=\"\",\"\",'PJ - P'!C117)","v":""},{"$f":"IF('PJ - P'!D117=\"\",\"\",'PJ - P'!D117)","v":""},{"$f":"IF('PJ - P'!H117=\"\",\"\",'PJ - P'!H117)","v":""},{"$f":"IF('PJ - P'!M117=\"\",\"\",'PJ - P'!M117)","v":""},null,{"$f":"IF('PJ - P'!O117=\"\",\"\",'PJ - P'!O117)","v":""}]
[null,{"$f":"IF(AND('PJ - P'!$C118=\"\",'PJ - P'!$D118=\"\"),\"\",'PJ - P'!V118)","v":""},{"$f":"IF(AND('PJ - P'!$C118=\"\",'PJ - P'!$D118=\"\"),\"\",'PJ - P'!B118)","v":""},{"$f":"IF('PJ - P'!C118=\"\",\"\",'PJ - P'!C118)","v":""},{"$f":"IF('PJ - P'!D118=\"\",\"\",'PJ - P'!D118)","v":""},{"$f":"IF('PJ - P'!H118=\"\",\"\",'PJ - P'!H118)","v":""},{"$f":"IF('PJ - P'!M118=\"\",\"\",'PJ - P'!M118)","v":""},null,{"$f":"IF('PJ - P'!O118=\"\",\"\",'PJ - P'!O118)","v":""}]
[null,{"$f":"IF(AND('PJ - P'!$C119=\"\",'PJ - P'!$D119=\"\"),\"\",'PJ - P'!V119)","v":""},{"$f":"IF(AND('PJ - P'!$C119=\"\",'PJ - P'!$D119=\"\"),\"\",'PJ - P'!B119)","v":""},{"$f":"IF('PJ - P'!C119=\"\",\"\",'PJ - P'!C119)","v":""},{"$f":"IF('PJ - P'!D119=\"\",\"\",'PJ - P'!D119)","v":""},{"$f":"IF('PJ - P'!H119=\"\",\"\",'PJ - P'!H119)","v":""},{"$f":"IF('PJ - P'!M119=\"\",\"\",'PJ - P'!M119)","v":""},null,{"$f":"IF('PJ - P'!O119=\"\",\"\",'PJ - P'!O119)","v":""}]
[null,{"$f":"IF(AND('PJ - P'!$C120=\"\",'PJ - P'!$D120=\"\"),\"\",'PJ - P'!V120)","v":""},{"$f":"IF(AND('PJ - P'!$C120=\"\",'PJ - P'!$D120=\"\"),\"\",'PJ - P'!B120)","v":""},{"$f":"IF('PJ - P'!C120=\"\",\"\",'PJ - P'!C120)","v":""},{"$f":"IF('PJ - P'!D120=\"\",\"\",'PJ - P'!D120)","v":""},{"$f":"IF('PJ - P'!H120=\"\",\"\",'PJ - P'!H120)","v":""},{"$f":"IF('PJ - P'!M120=\"\",\"\",'PJ - P'!M120)","v":""},null,{"$f":"IF('PJ - P'!O120=\"\",\"\",'PJ - P'!O120)","v":""}]
[null,{"$f":"IF(AND('PJ - P'!$C121=\"\",'PJ - P'!$D121=\"\"),\"\",'PJ - P'!V121)","v":""},{"$f":"IF(AND('PJ - P'!$C121=\"\",'PJ - P'!$D121=\"\"),\"\",'PJ - P'!B121)","v":""},{"$f":"IF('PJ - P'!C121=\"\",\"\",'PJ - P'!C121)","v":""},{"$f":"IF('PJ - P'!D121=\"\",\"\",'PJ - P'!D121)","v":""},{"$f":"IF('PJ - P'!H121=\"\",\"\",'PJ - P'!H121)","v":""},{"$f":"IF('PJ - P'!M121=\"\",\"\",'PJ - P'!M121)","v":""},null,{"$f":"IF('PJ - P'!O121=\"\",\"\",'PJ - P'!O121)","v":""}]
[null,{"$f":"IF(AND('PJ - P'!$C122=\"\",'PJ - P'!$D122=\"\"),\"\",'PJ - P'!V122)","v":""},{"$f":"IF(AND('PJ - P'!$C122=\"\",'PJ - P'!$D122=\"\"),\"\",'PJ - P'!B122)","v":""},{"$f":"IF('PJ - P'!C122=\"\",\"\",'PJ - P'!C122)","v":""},{"$f":"IF('PJ - P'!D122=\"\",\"\",'PJ - P'!D122)","v":""},{"$f":"IF('PJ - P'!H122=\"\",\"\",'PJ - P'!H122)","v":""},{"$f":"IF('PJ - P'!M122=\"\",\"\",'PJ - P'!M122)","v":""},null,{"$f":"IF('PJ - P'!O122=\"\",\"\",'PJ - P'!O122)","v":""}]
[null,{"$f":"IF(AND('PJ - P'!$C123=\"\",'PJ - P'!$D123=\"\"),\"\",'PJ - P'!V123)","v":""},{"$f":"IF(AND('PJ - P'!$C123=\"\",'PJ - P'!$D123=\"\"),\"\",'PJ - P'!B123)","v":""},{"$f":"IF('PJ - P'!C123=\"\",\"\",'PJ - P'!C123)","v":""},{"$f":"IF('PJ - P'!D123=\"\",\"\",'PJ - P'!D123)","v":""},{"$f":"IF('PJ - P'!H123=\"\",\"\",'PJ - P'!H123)","v":""},{"$f":"IF('PJ - P'!M123=\"\",\"\",'PJ - P'!M123)","v":""},null,{"$f":"IF('PJ - P'!O123=\"\",\"\",'PJ - P'!O123)","v":""}]
[null,{"$f":"IF(AND('PJ - P'!$C124=\"\",'PJ - P'!$D124=\"\"),\"\",'PJ - P'!V124)","v":""},{"$f":"IF(AND('PJ - P'!$C124=\"\",'PJ - P'!$D124=\"\"),\"\",'PJ - P'!B124)","v":""},{"$f":"IF('PJ - P'!C124=\"\",\"\",'PJ - P'!C124)","v":""},{"$f":"IF('PJ - P'!D124=\"\",\"\",'PJ - P'!D124)","v":""},{"$f":"IF('PJ - P'!H124=\"\",\"\",'PJ - P'!H124)","v":""},{"$f":"IF('PJ - P'!M124=\"\",\"\",'PJ - P'!M124)","v":""},null,{"$f":"IF('PJ - P'!O124=\"\",\"\",'PJ - P'!O124)","v":""}]
[null,{"$f":"IF(AND('PJ - P'!$C125=\"\",'PJ - P'!$D125=\"\"),\"\",'PJ - P'!V125)","v":""},{"$f":"IF(AND('PJ - P'!$C125=\"\",'PJ - P'!$D125=\"\"),\"\",'PJ - P'!B125)","v":""},{"$f":"IF('PJ - P'!C125=\"\",\"\",'PJ - P'!C125)","v":""},{"$f":"IF('PJ - P'!D125=\"\",\"\",'PJ - P'!D125)","v":""},{"$f":"IF('PJ - P'!H125=\"\",\"\",'PJ - P'!H125)","v":""},{"$f":"IF('PJ - P'!M125=\"\",\"\",'PJ - P'!M125)","v":""},null,{"$f":"IF('PJ - P'!O125=\"\",\"\",'PJ - P'!O125)","v":""}]
[null,{"$f":"IF(AND('PJ - P'!$C126=\"\",'PJ - P'!$D126=\"\"),\"\",'PJ - P'!V126)","v":""},{"$f":"IF(AND('PJ - P'!$C126=\"\",'PJ - P'!$D126=\"\"),\"\",'PJ - P'!B126)","v":""},{"$f":"IF('PJ - P'!C126=\"\",\"\",'PJ - P'!C126)","v":""},{"$f":"IF('PJ - P'!D126=\"\",\"\",'PJ - P'!D126)","v":""},{"$f":"IF('PJ - P'!H126=\"\",\"\",'PJ - P'!H126)","v":""},{"$f":"IF('PJ - P'!M126=\"\",\"\",'PJ - P'!M126)","v":""},null,{"$f":"IF('PJ - P'!O126=\"\",\"\",'PJ - P'!O126)","v":""}]
[null,{"$f":"IF(AND('PJ - P'!$C127=\"\",'PJ - P'!$D127=\"\"),\"\",'PJ - P'!V127)","v":""},{"$f":"IF(AND('PJ - P'!$C127=\"\",'PJ - P'!$D127=\"\"),\"\",'PJ - P'!B127)","v":""},{"$f":"IF('PJ - P'!C127=\"\",\"\",'PJ - P'!C127)","v":""},{"$f":"IF('PJ - P'!D127=\"\",\"\",'PJ - P'!D127)","v":""},{"$f":"IF('PJ - P'!H127=\"\",\"\",'PJ - P'!H127)","v":""},{"$f":"IF('PJ - P'!M127=\"\",\"\",'PJ - P'!M127)","v":""},null,{"$f":"IF('PJ - P'!O127=\"\",\"\",'PJ - P'!O127)","v":""}]
[null,{"$f":"IF(AND('PJ - P'!$C128=\"\",'PJ - P'!$D128=\"\"),\"\",'PJ - P'!V128)","v":""},{"$f":"IF(AND('PJ - P'!$C128=\"\",'PJ - P'!$D128=\"\"),\"\",'PJ - P'!B128)","v":""},{"$f":"IF('PJ - P'!C128=\"\",\"\",'PJ - P'!C128)","v":""},{"$f":"IF('PJ - P'!D128=\"\",\"\",'PJ - P'!D128)","v":""},{"$f":"IF('PJ - P'!H128=\"\",\"\",'PJ - P'!H128)","v":""},{"$f":"IF('PJ - P'!M128=\"\",\"\",'PJ - P'!M128)","v":""},null,{"$f":"IF('PJ - P'!O128=\"\",\"\",'PJ - P'!O128)","v":""}]
[null,{"$f":"IF(AND('PJ - P'!$C129=\"\",'PJ - P'!$D129=\"\"),\"\",'PJ - P'!V129)","v":""},{"$f":"IF(AND('PJ - P'!$C129=\"\",'PJ - P'!$D129=\"\"),\"\",'PJ - P'!B129)","v":""},{"$f":"IF('PJ - P'!C129=\"\",\"\",'PJ - P'!C129)","v":""},{"$f":"IF('PJ - P'!D129=\"\",\"\",'PJ - P'!D129)","v":""},{"$f":"IF('PJ - P'!H129=\"\",\"\",'PJ - P'!H129)","v":""},{"$f":"IF('PJ - P'!M129=\"\",\"\",'PJ - P'!M129)","v":""},null,{"$f":"IF('PJ - P'!O129=\"\",\"\",'PJ - P'!O129)","v":""}]
[null,{"$f":"IF(AND('PJ - P'!$C130=\"\",'PJ - P'!$D130=\"\"),\"\",'PJ - P'!V130)","v":""},{"$f":"IF(AND('PJ - P'!$C130=\"\",'PJ - P'!$D130=\"\"),\"\",'PJ - P'!B130)","v":""},{"$f":"IF('PJ - P'!C130=\"\",\"\",'PJ - P'!C130)","v":""},{"$f":"IF('PJ - P'!D130=\"\",\"\",'PJ - P'!D130)","v":""},{"$f":"IF('PJ - P'!H130=\"\",\"\",'PJ - P'!H130)","v":""},{"$f":"IF('PJ - P'!M130=\"\",\"\",'PJ - P'!M130)","v":""},null,{"$f":"IF('PJ - P'!O130=\"\",\"\",'PJ - P'!O130)","v":""}]
[null,{"$f":"IF(AND('PJ - P'!$C131=\"\",'PJ - P'!$D131=\"\"),\"\",'PJ - P'!V131)","v":""},{"$f":"IF(AND('PJ - P'!$C131=\"\",'PJ - P'!$D131=\"\"),\"\",'PJ - P'!B131)","v":""},{"$f":"IF('PJ - P'!C131=\"\",\"\",'PJ - P'!C131)","v":""},{"$f":"IF('PJ - P'!D131=\"\",\"\",'PJ - P'!D131)","v":""},{"$f":"IF('PJ - P'!H131=\"\",\"\",'PJ - P'!H131)","v":""},{"$f":"IF('PJ - P'!M131=\"\",\"\",'PJ - P'!M131)","v":""},null,{"$f":"IF('PJ - P'!O131=\"\",\"\",'PJ - P'!O131)","v":""}]
[null,{"$f":"IF(AND('PJ - P'!$C132=\"\",'PJ - P'!$D132=\"\"),\"\",'PJ - P'!V132)","v":""},{"$f":"IF(AND('PJ - P'!$C132=\"\",'PJ - P'!$D132=\"\"),\"\",'PJ - P'!B132)","v":""},{"$f":"IF('PJ - P'!C132=\"\",\"\",'PJ - P'!C132)","v":""},{"$f":"IF('PJ - P'!D132=\"\",\"\",'PJ - P'!D132)","v":""},{"$f":"IF('PJ - P'!H132=\"\",\"\",'PJ - P'!H132)","v":""},{"$f":"IF('PJ - P'!M132=\"\",\"\",'PJ - P'!M132)","v":""},null,{"$f":"IF('PJ - P'!O132=\"\",\"\",'PJ - P'!O132)","v":""}]
[null,{"$f":"IF(AND('PJ - P'!$C133=\"\",'PJ - P'!$D133=\"\"),\"\",'PJ - P'!V133)","v":""},{"$f":"IF(AND('PJ - P'!$C133=\"\",'PJ - P'!$D133=\"\"),\"\",'PJ - P'!B133)","v":""},{"$f":"IF('PJ - P'!C133=\"\",\"\",'PJ - P'!C133)","v":""},{"$f":"IF('PJ - P'!D133=\"\",\"\",'PJ - P'!D133)","v":""},{"$f":"IF('PJ - P'!H133=\"\",\"\",'PJ - P'!H133)","v":""},{"$f":"IF('PJ - P'!M133=\"\",\"\",'PJ - P'!M133)","v":""},null,{"$f":"IF('PJ - P'!O133=\"\",\"\",'PJ - P'!O133)","v":""}]
[null,{"$f":"IF(AND('PJ - P'!$C134=\"\",'PJ - P'!$D134=\"\"),\"\",'PJ - P'!V134)","v":""},{"$f":"IF(AND('PJ - P'!$C134=\"\",'PJ - P'!$D134=\"\"),\"\",'PJ - P'!B134)","v":""},{"$f":"IF('PJ - P'!C134=\"\",\"\",'PJ - P'!C134)","v":""},{"$f":"IF('PJ - P'!D134=\"\",\"\",'PJ - P'!D134)","v":""},{"$f":"IF('PJ - P'!H134=\"\",\"\",'PJ - P'!H134)","v":""},{"$f":"IF('PJ - P'!M134=\"\",\"\",'PJ - P'!M134)","v":""},null,{"$f":"IF('PJ - P'!O134=\"\",\"\",'PJ - P'!O134)","v":""}]
[null,{"$f":"IF(AND('PJ - P'!$C135=\"\",'PJ - P'!$D135=\"\"),\"\",'PJ - P'!V135)","v":""},{"$f":"IF(AND('PJ - P'!$C135=\"\",'PJ - P'!$D135=\"\"),\"\",'PJ - P'!B135)","v":""},{"$f":"IF('PJ - P'!C135=\"\",\"\",'PJ - P'!C135)","v":""},{"$f":"IF('PJ - P'!D135=\"\",\"\",'PJ - P'!D135)","v":""},{"$f":"IF('PJ - P'!H135=\"\",\"\",'PJ - P'!H135)","v":""},{"$f":"IF('PJ - P'!M135=\"\",\"\",'PJ - P'!M135)","v":""},null,{"$f":"IF('PJ - P'!O135=\"\",\"\",'PJ - P'!O135)","v":""}]
[null,{"$f":"IF(AND('PJ - P'!$C136=\"\",'PJ - P'!$D136=\"\"),\"\",'PJ - P'!V136)","v":""},{"$f":"IF(AND('PJ - P'!$C136=\"\",'PJ - P'!$D136=\"\"),\"\",'PJ - P'!B136)","v":""},{"$f":"IF('PJ - P'!C136=\"\",\"\",'PJ - P'!C136)","v":""},{"$f":"IF('PJ - P'!D136=\"\",\"\",'PJ - P'!D136)","v":""},{"$f":"IF('PJ - P'!H136=\"\",\"\",'PJ - P'!H136)","v":""},{"$f":"IF('PJ - P'!M136=\"\",\"\",'PJ - P'!M136)","v":""},null,{"$f":"IF('PJ - P'!O136=\"\",\"\",'PJ - P'!O136)","v":""}]
[null,{"$f":"IF(AND('PJ - P'!$C137=\"\",'PJ - P'!$D137=\"\"),\"\",'PJ - P'!V137)","v":""},{"$f":"IF(AND('PJ - P'!$C137=\"\",'PJ - P'!$D137=\"\"),\"\",'PJ - P'!B137)","v":""},{"$f":"IF('PJ - P'!C137=\"\",\"\",'PJ - P'!C137)","v":""},{"$f":"IF('PJ - P'!D137=\"\",\"\",'PJ - P'!D137)","v":""},{"$f":"IF('PJ - P'!H137=\"\",\"\",'PJ - P'!H137)","v":""},{"$f":"IF('PJ - P'!M137=\"\",\"\",'PJ - P'!M137)","v":""},null,{"$f":"IF('PJ - P'!O137=\"\",\"\",'PJ - P'!O137)","v":""}]
[null,{"$f":"IF(AND('PJ - P'!$C138=\"\",'PJ - P'!$D138=\"\"),\"\",'PJ - P'!V138)","v":""},{"$f":"IF(AND('PJ - P'!$C138=\"\",'PJ - P'!$D138=\"\"),\"\",'PJ - P'!B138)","v":""},{"$f":"IF('PJ - P'!C138=\"\",\"\",'PJ - P'!C138)","v":""},{"$f":"IF('PJ - P'!D138=\"\",\"\",'PJ - P'!D138)","v":""},{"$f":"IF('PJ - P'!H138=\"\",\"\",'PJ - P'!H138)","v":""},{"$f":"IF('PJ - P'!M138=\"\",\"\",'PJ - P'!M138)","v":""},null,{"$f":"IF('PJ - P'!O138=\"\",\"\",'PJ - P'!O138)","v":""}]
[null,{"$f":"IF(AND('PJ - P'!$C139=\"\",'PJ - P'!$D139=\"\"),\"\",'PJ - P'!V139)","v":""},{"$f":"IF(AND('PJ - P'!$C139=\"\",'PJ - P'!$D139=\"\"),\"\",'PJ - P'!B139)","v":""},{"$f":"IF('PJ - P'!C139=\"\",\"\",'PJ - P'!C139)","v":""},{"$f":"IF('PJ - P'!D139=\"\",\"\",'PJ - P'!D139)","v":""},{"$f":"IF('PJ - P'!H139=\"\",\"\",'PJ - P'!H139)","v":""},{"$f":"IF('PJ - P'!M139=\"\",\"\",'PJ - P'!M139)","v":""},null,{"$f":"IF('PJ - P'!O139=\"\",\"\",'PJ - P'!O139)","v":""}]
[null,{"$f":"IF(AND('PJ - P'!$C140=\"\",'PJ - P'!$D140=\"\"),\"\",'PJ - P'!V140)","v":""},{"$f":"IF(AND('PJ - P'!$C140=\"\",'PJ - P'!$D140=\"\"),\"\",'PJ - P'!B140)","v":""},{"$f":"IF('PJ - P'!C140=\"\",\"\",'PJ - P'!C140)","v":""},{"$f":"IF('PJ - P'!D140=\"\",\"\",'PJ - P'!D140)","v":""},{"$f":"IF('PJ - P'!H140=\"\",\"\",'PJ - P'!H140)","v":""},{"$f":"IF('PJ - P'!M140=\"\",\"\",'PJ - P'!M140)","v":""},null,{"$f":"IF('PJ - P'!O140=\"\",\"\",'PJ - P'!O140)","v":""}]
[null,{"$f":"IF(AND('PJ - P'!$C141=\"\",'PJ - P'!$D141=\"\"),\"\",'PJ - P'!V141)","v":""},{"$f":"IF(AND('PJ - P'!$C141=\"\",'PJ - P'!$D141=\"\"),\"\",'PJ - P'!B141)","v":""},{"$f":"IF('PJ - P'!C141=\"\",\"\",'PJ - P'!C141)","v":""},{"$f":"IF('PJ - P'!D141=\"\",\"\",'PJ - P'!D141)","v":""},{"$f":"IF('PJ - P'!H141=\"\",\"\",'PJ - P'!H141)","v":""},{"$f":"IF('PJ - P'!M141=\"\",\"\",'PJ - P'!M141)","v":""},null,{"$f":"IF('PJ - P'!O141=\"\",\"\",'PJ - P'!O141)","v":""}]
[null,{"$f":"IF(AND('PJ - P'!$C142=\"\",'PJ - P'!$D142=\"\"),\"\",'PJ - P'!V142)","v":""},{"$f":"IF(AND('PJ - P'!$C142=\"\",'PJ - P'!$D142=\"\"),\"\",'PJ - P'!B142)","v":""},{"$f":"IF('PJ - P'!C142=\"\",\"\",'PJ - P'!C142)","v":""},{"$f":"IF('PJ - P'!D142=\"\",\"\",'PJ - P'!D142)","v":""},{"$f":"IF('PJ - P'!H142=\"\",\"\",'PJ - P'!H142)","v":""},{"$f":"IF('PJ - P'!M142=\"\",\"\",'PJ - P'!M142)","v":""},null,{"$f":"IF('PJ - P'!O142=\"\",\"\",'PJ - P'!O142)","v":""}]
[null,{"$f":"IF(AND('PJ - P'!$C143=\"\",'PJ - P'!$D143=\"\"),\"\",'PJ - P'!V143)","v":""},{"$f":"IF(AND('PJ - P'!$C143=\"\",'PJ - P'!$D143=\"\"),\"\",'PJ - P'!B143)","v":""},{"$f":"IF('PJ - P'!C143=\"\",\"\",'PJ - P'!C143)","v":""},{"$f":"IF('PJ - P'!D143=\"\",\"\",'PJ - P'!D143)","v":""},{"$f":"IF('PJ - P'!H143=\"\",\"\",'PJ - P'!H143)","v":""},{"$f":"IF('PJ - P'!M143=\"\",\"\",'PJ - P'!M143)","v":""},null,{"$f":"IF('PJ - P'!O143=\"\",\"\",'PJ - P'!O143)","v":""}]
[null,{"$f":"IF(AND('PJ - P'!$C144=\"\",'PJ - P'!$D144=\"\"),\"\",'PJ - P'!V144)","v":""},{"$f":"IF(AND('PJ - P'!$C144=\"\",'PJ - P'!$D144=\"\"),\"\",'PJ - P'!B144)","v":""},{"$f":"IF('PJ - P'!C144=\"\",\"\",'PJ - P'!C144)","v":""},{"$f":"IF('PJ - P'!D144=\"\",\"\",'PJ - P'!D144)","v":""},{"$f":"IF('PJ - P'!H144=\"\",\"\",'PJ - P'!H144)","v":""},{"$f":"IF('PJ - P'!M144=\"\",\"\",'PJ - P'!M144)","v":""},null,{"$f":"IF('PJ - P'!O144=\"\",\"\",'PJ - P'!O144)","v":""}]
[null,{"$f":"B$1","v":"Běh na 100m s přek. - Pořadí jednotlivců"}]
[]
[null,{"$f":"B$3","v":"VC ČR v požárním útoku družstev HZS krajů a HZS podniků"},null,null,{"$f":"E$3","v":"Petrovice 19.9.2019"}]
[]
[null,{"$f":"Start!$C$5","v":"MUŽI"}]
[null,"Pořadí","Start. číslo","Jméno","kolektiv","čas             I. pokusu","čas            II. pokusu",null,"Výsledný čas"]
[]
[null,{"$f":"IF(AND('PJ - P'!$C145=\"\",'PJ - P'!$D145=\"\"),\"\",'PJ - P'!V145)","v":""},{"$f":"IF(AND('PJ - P'!$C145=\"\",'PJ - P'!$D145=\"\"),\"\",'PJ - P'!B145)","v":""},{"$f":"IF('PJ - P'!C145=\"\",\"\",'PJ - P'!C145)","v":""},{"$f":"IF('PJ - P'!D145=\"\",\"\",'PJ - P'!D145)","v":""},{"$f":"IF('PJ - P'!H145=\"\",\"\",'PJ - P'!H145)","v":""},{"$f":"IF('PJ - P'!M145=\"\",\"\",'PJ - P'!M145)","v":""},null,{"$f":"IF('PJ - P'!O145=\"\",\"\",'PJ - P'!O145)","v":""}]
[null,{"$f":"IF(AND('PJ - P'!$C146=\"\",'PJ - P'!$D146=\"\"),\"\",'PJ - P'!V146)","v":""},{"$f":"IF(AND('PJ - P'!$C146=\"\",'PJ - P'!$D146=\"\"),\"\",'PJ - P'!B146)","v":""},{"$f":"IF('PJ - P'!C146=\"\",\"\",'PJ - P'!C146)","v":""},{"$f":"IF('PJ - P'!D146=\"\",\"\",'PJ - P'!D146)","v":""},{"$f":"IF('PJ - P'!H146=\"\",\"\",'PJ - P'!H146)","v":""},{"$f":"IF('PJ - P'!M146=\"\",\"\",'PJ - P'!M146)","v":""},null,{"$f":"IF('PJ - P'!O146=\"\",\"\",'PJ - P'!O146)","v":""}]
[null,{"$f":"IF(AND('PJ - P'!$C147=\"\",'PJ - P'!$D147=\"\"),\"\",'PJ - P'!V147)","v":""},{"$f":"IF(AND('PJ - P'!$C147=\"\",'PJ - P'!$D147=\"\"),\"\",'PJ - P'!B147)","v":""},{"$f":"IF('PJ - P'!C147=\"\",\"\",'PJ - P'!C147)","v":""},{"$f":"IF('PJ - P'!D147=\"\",\"\",'PJ - P'!D147)","v":""},{"$f":"IF('PJ - P'!H147=\"\",\"\",'PJ - P'!H147)","v":""},{"$f":"IF('PJ - P'!M147=\"\",\"\",'PJ - P'!M147)","v":""},null,{"$f":"IF('PJ - P'!O147=\"\",\"\",'PJ - P'!O147)","v":""}]
[null,{"$f":"IF(AND('PJ - P'!$C148=\"\",'PJ - P'!$D148=\"\"),\"\",'PJ - P'!V148)","v":""},{"$f":"IF(AND('PJ - P'!$C148=\"\",'PJ - P'!$D148=\"\"),\"\",'PJ - P'!B148)","v":""},{"$f":"IF('PJ - P'!C148=\"\",\"\",'PJ - P'!C148)","v":""},{"$f":"IF('PJ - P'!D148=\"\",\"\",'PJ - P'!D148)","v":""},{"$f":"IF('PJ - P'!H148=\"\",\"\",'PJ - P'!H148)","v":""},{"$f":"IF('PJ - P'!M148=\"\",\"\",'PJ - P'!M148)","v":""},null,{"$f":"IF('PJ - P'!O148=\"\",\"\",'PJ - P'!O148)","v":""}]
[null,{"$f":"IF(AND('PJ - P'!$C149=\"\",'PJ - P'!$D149=\"\"),\"\",'PJ - P'!V149)","v":""},{"$f":"IF(AND('PJ - P'!$C149=\"\",'PJ - P'!$D149=\"\"),\"\",'PJ - P'!B149)","v":""},{"$f":"IF('PJ - P'!C149=\"\",\"\",'PJ - P'!C149)","v":""},{"$f":"IF('PJ - P'!D149=\"\",\"\",'PJ - P'!D149)","v":""},{"$f":"IF('PJ - P'!H149=\"\",\"\",'PJ - P'!H149)","v":""},{"$f":"IF('PJ - P'!M149=\"\",\"\",'PJ - P'!M149)","v":""},null,{"$f":"IF('PJ - P'!O149=\"\",\"\",'PJ - P'!O149)","v":""}]
[null,{"$f":"IF(AND('PJ - P'!$C150=\"\",'PJ - P'!$D150=\"\"),\"\",'PJ - P'!V150)","v":""},{"$f":"IF(AND('PJ - P'!$C150=\"\",'PJ - P'!$D150=\"\"),\"\",'PJ - P'!B150)","v":""},{"$f":"IF('PJ - P'!C150=\"\",\"\",'PJ - P'!C150)","v":""},{"$f":"IF('PJ - P'!D150=\"\",\"\",'PJ - P'!D150)","v":""},{"$f":"IF('PJ - P'!H150=\"\",\"\",'PJ - P'!H150)","v":""},{"$f":"IF('PJ - P'!M150=\"\",\"\",'PJ - P'!M150)","v":""},null,{"$f":"IF('PJ - P'!O150=\"\",\"\",'PJ - P'!O150)","v":""}]
[null,{"$f":"IF(AND('PJ - P'!$C151=\"\",'PJ - P'!$D151=\"\"),\"\",'PJ - P'!V151)","v":""},{"$f":"IF(AND('PJ - P'!$C151=\"\",'PJ - P'!$D151=\"\"),\"\",'PJ - P'!B151)","v":""},{"$f":"IF('PJ - P'!C151=\"\",\"\",'PJ - P'!C151)","v":""},{"$f":"IF('PJ - P'!D151=\"\",\"\",'PJ - P'!D151)","v":""},{"$f":"IF('PJ - P'!H151=\"\",\"\",'PJ - P'!H151)","v":""},{"$f":"IF('PJ - P'!M151=\"\",\"\",'PJ - P'!M151)","v":""},null,{"$f":"IF('PJ - P'!O151=\"\",\"\",'PJ - P'!O151)","v":""}]
[null,{"$f":"IF(AND('PJ - P'!$C152=\"\",'PJ - P'!$D152=\"\"),\"\",'PJ - P'!V152)","v":""},{"$f":"IF(AND('PJ - P'!$C152=\"\",'PJ - P'!$D152=\"\"),\"\",'PJ - P'!B152)","v":""},{"$f":"IF('PJ - P'!C152=\"\",\"\",'PJ - P'!C152)","v":""},{"$f":"IF('PJ - P'!D152=\"\",\"\",'PJ - P'!D152)","v":""},{"$f":"IF('PJ - P'!H152=\"\",\"\",'PJ - P'!H152)","v":""},{"$f":"IF('PJ - P'!M152=\"\",\"\",'PJ - P'!M152)","v":""},null,{"$f":"IF('PJ - P'!O152=\"\",\"\",'PJ - P'!O152)","v":""}]
[null,{"$f":"IF(AND('PJ - P'!$C153=\"\",'PJ - P'!$D153=\"\"),\"\",'PJ - P'!V153)","v":""},{"$f":"IF(AND('PJ - P'!$C153=\"\",'PJ - P'!$D153=\"\"),\"\",'PJ - P'!B153)","v":""},{"$f":"IF('PJ - P'!C153=\"\",\"\",'PJ - P'!C153)","v":""},{"$f":"IF('PJ - P'!D153=\"\",\"\",'PJ - P'!D153)","v":""},{"$f":"IF('PJ - P'!H153=\"\",\"\",'PJ - P'!H153)","v":""},{"$f":"IF('PJ - P'!M153=\"\",\"\",'PJ - P'!M153)","v":""},null,{"$f":"IF('PJ - P'!O153=\"\",\"\",'PJ - P'!O153)","v":""}]
[null,{"$f":"IF(AND('PJ - P'!$C154=\"\",'PJ - P'!$D154=\"\"),\"\",'PJ - P'!V154)","v":""},{"$f":"IF(AND('PJ - P'!$C154=\"\",'PJ - P'!$D154=\"\"),\"\",'PJ - P'!B154)","v":""},{"$f":"IF('PJ - P'!C154=\"\",\"\",'PJ - P'!C154)","v":""},{"$f":"IF('PJ - P'!D154=\"\",\"\",'PJ - P'!D154)","v":""},{"$f":"IF('PJ - P'!H154=\"\",\"\",'PJ - P'!H154)","v":""},{"$f":"IF('PJ - P'!M154=\"\",\"\",'PJ - P'!M154)","v":""},null,{"$f":"IF('PJ - P'!O154=\"\",\"\",'PJ - P'!O154)","v":""}]
[null,{"$f":"IF(AND('PJ - P'!$C155=\"\",'PJ - P'!$D155=\"\"),\"\",'PJ - P'!V155)","v":""},{"$f":"IF(AND('PJ - P'!$C155=\"\",'PJ - P'!$D155=\"\"),\"\",'PJ - P'!B155)","v":""},{"$f":"IF('PJ - P'!C155=\"\",\"\",'PJ - P'!C155)","v":""},{"$f":"IF('PJ - P'!D155=\"\",\"\",'PJ - P'!D155)","v":""},{"$f":"IF('PJ - P'!H155=\"\",\"\",'PJ - P'!H155)","v":""},{"$f":"IF('PJ - P'!M155=\"\",\"\",'PJ - P'!M155)","v":""},null,{"$f":"IF('PJ - P'!O155=\"\",\"\",'PJ - P'!O155)","v":""}]
[null,{"$f":"IF(AND('PJ - P'!$C156=\"\",'PJ - P'!$D156=\"\"),\"\",'PJ - P'!V156)","v":""},{"$f":"IF(AND('PJ - P'!$C156=\"\",'PJ - P'!$D156=\"\"),\"\",'PJ - P'!B156)","v":""},{"$f":"IF('PJ - P'!C156=\"\",\"\",'PJ - P'!C156)","v":""},{"$f":"IF('PJ - P'!D156=\"\",\"\",'PJ - P'!D156)","v":""},{"$f":"IF('PJ - P'!H156=\"\",\"\",'PJ - P'!H156)","v":""},{"$f":"IF('PJ - P'!M156=\"\",\"\",'PJ - P'!M156)","v":""},null,{"$f":"IF('PJ - P'!O156=\"\",\"\",'PJ - P'!O156)","v":""}]
[null,{"$f":"IF(AND('PJ - P'!$C157=\"\",'PJ - P'!$D157=\"\"),\"\",'PJ - P'!V157)","v":""},{"$f":"IF(AND('PJ - P'!$C157=\"\",'PJ - P'!$D157=\"\"),\"\",'PJ - P'!B157)","v":""},{"$f":"IF('PJ - P'!C157=\"\",\"\",'PJ - P'!C157)","v":""},{"$f":"IF('PJ - P'!D157=\"\",\"\",'PJ - P'!D157)","v":""},{"$f":"IF('PJ - P'!H157=\"\",\"\",'PJ - P'!H157)","v":""},{"$f":"IF('PJ - P'!M157=\"\",\"\",'PJ - P'!M157)","v":""},null,{"$f":"IF('PJ - P'!O157=\"\",\"\",'PJ - P'!O157)","v":""}]
[null,{"$f":"IF(AND('PJ - P'!$C158=\"\",'PJ - P'!$D158=\"\"),\"\",'PJ - P'!V158)","v":""},{"$f":"IF(AND('PJ - P'!$C158=\"\",'PJ - P'!$D158=\"\"),\"\",'PJ - P'!B158)","v":""},{"$f":"IF('PJ - P'!C158=\"\",\"\",'PJ - P'!C158)","v":""},{"$f":"IF('PJ - P'!D158=\"\",\"\",'PJ - P'!D158)","v":""},{"$f":"IF('PJ - P'!H158=\"\",\"\",'PJ - P'!H158)","v":""},{"$f":"IF('PJ - P'!M158=\"\",\"\",'PJ - P'!M158)","v":""},null,{"$f":"IF('PJ - P'!O158=\"\",\"\",'PJ - P'!O158)","v":""}]
[null,{"$f":"IF(AND('PJ - P'!$C159=\"\",'PJ - P'!$D159=\"\"),\"\",'PJ - P'!V159)","v":""},{"$f":"IF(AND('PJ - P'!$C159=\"\",'PJ - P'!$D159=\"\"),\"\",'PJ - P'!B159)","v":""},{"$f":"IF('PJ - P'!C159=\"\",\"\",'PJ - P'!C159)","v":""},{"$f":"IF('PJ - P'!D159=\"\",\"\",'PJ - P'!D159)","v":""},{"$f":"IF('PJ - P'!H159=\"\",\"\",'PJ - P'!H159)","v":""},{"$f":"IF('PJ - P'!M159=\"\",\"\",'PJ - P'!M159)","v":""},null,{"$f":"IF('PJ - P'!O159=\"\",\"\",'PJ - P'!O159)","v":""}]
[null,{"$f":"IF(AND('PJ - P'!$C160=\"\",'PJ - P'!$D160=\"\"),\"\",'PJ - P'!V160)","v":""},{"$f":"IF(AND('PJ - P'!$C160=\"\",'PJ - P'!$D160=\"\"),\"\",'PJ - P'!B160)","v":""},{"$f":"IF('PJ - P'!C160=\"\",\"\",'PJ - P'!C160)","v":""},{"$f":"IF('PJ - P'!D160=\"\",\"\",'PJ - P'!D160)","v":""},{"$f":"IF('PJ - P'!H160=\"\",\"\",'PJ - P'!H160)","v":""},{"$f":"IF('PJ - P'!M160=\"\",\"\",'PJ - P'!M160)","v":""},null,{"$f":"IF('PJ - P'!O160=\"\",\"\",'PJ - P'!O160)","v":""}]
[null,{"$f":"IF(AND('PJ - P'!$C161=\"\",'PJ - P'!$D161=\"\"),\"\",'PJ - P'!V161)","v":""},{"$f":"IF(AND('PJ - P'!$C161=\"\",'PJ - P'!$D161=\"\"),\"\",'PJ - P'!B161)","v":""},{"$f":"IF('PJ - P'!C161=\"\",\"\",'PJ - P'!C161)","v":""},{"$f":"IF('PJ - P'!D161=\"\",\"\",'PJ - P'!D161)","v":""},{"$f":"IF('PJ - P'!H161=\"\",\"\",'PJ - P'!H161)","v":""},{"$f":"IF('PJ - P'!M161=\"\",\"\",'PJ - P'!M161)","v":""},null,{"$f":"IF('PJ - P'!O161=\"\",\"\",'PJ - P'!O161)","v":""}]
[null,{"$f":"IF(AND('PJ - P'!$C162=\"\",'PJ - P'!$D162=\"\"),\"\",'PJ - P'!V162)","v":""},{"$f":"IF(AND('PJ - P'!$C162=\"\",'PJ - P'!$D162=\"\"),\"\",'PJ - P'!B162)","v":""},{"$f":"IF('PJ - P'!C162=\"\",\"\",'PJ - P'!C162)","v":""},{"$f":"IF('PJ - P'!D162=\"\",\"\",'PJ - P'!D162)","v":""},{"$f":"IF('PJ - P'!H162=\"\",\"\",'PJ - P'!H162)","v":""},{"$f":"IF('PJ - P'!M162=\"\",\"\",'PJ - P'!M162)","v":""},null,{"$f":"IF('PJ - P'!O162=\"\",\"\",'PJ - P'!O162)","v":""}]
[null,{"$f":"IF(AND('PJ - P'!$C163=\"\",'PJ - P'!$D163=\"\"),\"\",'PJ - P'!V163)","v":""},{"$f":"IF(AND('PJ - P'!$C163=\"\",'PJ - P'!$D163=\"\"),\"\",'PJ - P'!B163)","v":""},{"$f":"IF('PJ - P'!C163=\"\",\"\",'PJ - P'!C163)","v":""},{"$f":"IF('PJ - P'!D163=\"\",\"\",'PJ - P'!D163)","v":""},{"$f":"IF('PJ - P'!H163=\"\",\"\",'PJ - P'!H163)","v":""},{"$f":"IF('PJ - P'!M163=\"\",\"\",'PJ - P'!M163)","v":""},null,{"$f":"IF('PJ - P'!O163=\"\",\"\",'PJ - P'!O163)","v":""}]
[null,{"$f":"IF(AND('PJ - P'!$C164=\"\",'PJ - P'!$D164=\"\"),\"\",'PJ - P'!V164)","v":""},{"$f":"IF(AND('PJ - P'!$C164=\"\",'PJ - P'!$D164=\"\"),\"\",'PJ - P'!B164)","v":""},{"$f":"IF('PJ - P'!C164=\"\",\"\",'PJ - P'!C164)","v":""},{"$f":"IF('PJ - P'!D164=\"\",\"\",'PJ - P'!D164)","v":""},{"$f":"IF('PJ - P'!H164=\"\",\"\",'PJ - P'!H164)","v":""},{"$f":"IF('PJ - P'!M164=\"\",\"\",'PJ - P'!M164)","v":""},null,{"$f":"IF('PJ - P'!O164=\"\",\"\",'PJ - P'!O164)","v":""}]
[null,{"$f":"IF(AND('PJ - P'!$C165=\"\",'PJ - P'!$D165=\"\"),\"\",'PJ - P'!V165)","v":""},{"$f":"IF(AND('PJ - P'!$C165=\"\",'PJ - P'!$D165=\"\"),\"\",'PJ - P'!B165)","v":""},{"$f":"IF('PJ - P'!C165=\"\",\"\",'PJ - P'!C165)","v":""},{"$f":"IF('PJ - P'!D165=\"\",\"\",'PJ - P'!D165)","v":""},{"$f":"IF('PJ - P'!H165=\"\",\"\",'PJ - P'!H165)","v":""},{"$f":"IF('PJ - P'!M165=\"\",\"\",'PJ - P'!M165)","v":""},null,{"$f":"IF('PJ - P'!O165=\"\",\"\",'PJ - P'!O165)","v":""}]
[null,{"$f":"IF(AND('PJ - P'!$C166=\"\",'PJ - P'!$D166=\"\"),\"\",'PJ - P'!V166)","v":""},{"$f":"IF(AND('PJ - P'!$C166=\"\",'PJ - P'!$D166=\"\"),\"\",'PJ - P'!B166)","v":""},{"$f":"IF('PJ - P'!C166=\"\",\"\",'PJ - P'!C166)","v":""},{"$f":"IF('PJ - P'!D166=\"\",\"\",'PJ - P'!D166)","v":""},{"$f":"IF('PJ - P'!H166=\"\",\"\",'PJ - P'!H166)","v":""},{"$f":"IF('PJ - P'!M166=\"\",\"\",'PJ - P'!M166)","v":""},null,{"$f":"IF('PJ - P'!O166=\"\",\"\",'PJ - P'!O166)","v":""}]
[null,{"$f":"IF(AND('PJ - P'!$C167=\"\",'PJ - P'!$D167=\"\"),\"\",'PJ - P'!V167)","v":""},{"$f":"IF(AND('PJ - P'!$C167=\"\",'PJ - P'!$D167=\"\"),\"\",'PJ - P'!B167)","v":""},{"$f":"IF('PJ - P'!C167=\"\",\"\",'PJ - P'!C167)","v":""},{"$f":"IF('PJ - P'!D167=\"\",\"\",'PJ - P'!D167)","v":""},{"$f":"IF('PJ - P'!H167=\"\",\"\",'PJ - P'!H167)","v":""},{"$f":"IF('PJ - P'!M167=\"\",\"\",'PJ - P'!M167)","v":""},null,{"$f":"IF('PJ - P'!O167=\"\",\"\",'PJ - P'!O167)","v":""}]
[null,{"$f":"IF(AND('PJ - P'!$C168=\"\",'PJ - P'!$D168=\"\"),\"\",'PJ - P'!V168)","v":""},{"$f":"IF(AND('PJ - P'!$C168=\"\",'PJ - P'!$D168=\"\"),\"\",'PJ - P'!B168)","v":""},{"$f":"IF('PJ - P'!C168=\"\",\"\",'PJ - P'!C168)","v":""},{"$f":"IF('PJ - P'!D168=\"\",\"\",'PJ - P'!D168)","v":""},{"$f":"IF('PJ - P'!H168=\"\",\"\",'PJ - P'!H168)","v":""},{"$f":"IF('PJ - P'!M168=\"\",\"\",'PJ - P'!M168)","v":""},null,{"$f":"IF('PJ - P'!O168=\"\",\"\",'PJ - P'!O168)","v":""}]
[null,{"$f":"IF(AND('PJ - P'!$C169=\"\",'PJ - P'!$D169=\"\"),\"\",'PJ - P'!V169)","v":""},{"$f":"IF(AND('PJ - P'!$C169=\"\",'PJ - P'!$D169=\"\"),\"\",'PJ - P'!B169)","v":""},{"$f":"IF('PJ - P'!C169=\"\",\"\",'PJ - P'!C169)","v":""},{"$f":"IF('PJ - P'!D169=\"\",\"\",'PJ - P'!D169)","v":""},{"$f":"IF('PJ - P'!H169=\"\",\"\",'PJ - P'!H169)","v":""},{"$f":"IF('PJ - P'!M169=\"\",\"\",'PJ - P'!M169)","v":""},null,{"$f":"IF('PJ - P'!O169=\"\",\"\",'PJ - P'!O169)","v":""}]
[null,{"$f":"IF(AND('PJ - P'!$C170=\"\",'PJ - P'!$D170=\"\"),\"\",'PJ - P'!V170)","v":""},{"$f":"IF(AND('PJ - P'!$C170=\"\",'PJ - P'!$D170=\"\"),\"\",'PJ - P'!B170)","v":""},{"$f":"IF('PJ - P'!C170=\"\",\"\",'PJ - P'!C170)","v":""},{"$f":"IF('PJ - P'!D170=\"\",\"\",'PJ - P'!D170)","v":""},{"$f":"IF('PJ - P'!H170=\"\",\"\",'PJ - P'!H170)","v":""},{"$f":"IF('PJ - P'!M170=\"\",\"\",'PJ - P'!M170)","v":""},null,{"$f":"IF('PJ - P'!O170=\"\",\"\",'PJ - P'!O170)","v":""}]
[null,{"$f":"IF(AND('PJ - P'!$C171=\"\",'PJ - P'!$D171=\"\"),\"\",'PJ - P'!V171)","v":""},{"$f":"IF(AND('PJ - P'!$C171=\"\",'PJ - P'!$D171=\"\"),\"\",'PJ - P'!B171)","v":""},{"$f":"IF('PJ - P'!C171=\"\",\"\",'PJ - P'!C171)","v":""},{"$f":"IF('PJ - P'!D171=\"\",\"\",'PJ - P'!D171)","v":""},{"$f":"IF('PJ - P'!H171=\"\",\"\",'PJ - P'!H171)","v":""},{"$f":"IF('PJ - P'!M171=\"\",\"\",'PJ - P'!M171)","v":""},null,{"$f":"IF('PJ - P'!O171=\"\",\"\",'PJ - P'!O171)","v":""}]
[null,{"$f":"IF(AND('PJ - P'!$C172=\"\",'PJ - P'!$D172=\"\"),\"\",'PJ - P'!V172)","v":""},{"$f":"IF(AND('PJ - P'!$C172=\"\",'PJ - P'!$D172=\"\"),\"\",'PJ - P'!B172)","v":""},{"$f":"IF('PJ - P'!C172=\"\",\"\",'PJ - P'!C172)","v":""},{"$f":"IF('PJ - P'!D172=\"\",\"\",'PJ - P'!D172)","v":""},{"$f":"IF('PJ - P'!H172=\"\",\"\",'PJ - P'!H172)","v":""},{"$f":"IF('PJ - P'!M172=\"\",\"\",'PJ - P'!M172)","v":""},null,{"$f":"IF('PJ - P'!O172=\"\",\"\",'PJ - P'!O172)","v":""}]
[null,{"$f":"IF(AND('PJ - P'!$C173=\"\",'PJ - P'!$D173=\"\"),\"\",'PJ - P'!V173)","v":""},{"$f":"IF(AND('PJ - P'!$C173=\"\",'PJ - P'!$D173=\"\"),\"\",'PJ - P'!B173)","v":""},{"$f":"IF('PJ - P'!C173=\"\",\"\",'PJ - P'!C173)","v":""},{"$f":"IF('PJ - P'!D173=\"\",\"\",'PJ - P'!D173)","v":""},{"$f":"IF('PJ - P'!H173=\"\",\"\",'PJ - P'!H173)","v":""},{"$f":"IF('PJ - P'!M173=\"\",\"\",'PJ - P'!M173)","v":""},null,{"$f":"IF('PJ - P'!O173=\"\",\"\",'PJ - P'!O173)","v":""}]
[null,{"$f":"IF(AND('PJ - P'!$C174=\"\",'PJ - P'!$D174=\"\"),\"\",'PJ - P'!V174)","v":""},{"$f":"IF(AND('PJ - P'!$C174=\"\",'PJ - P'!$D174=\"\"),\"\",'PJ - P'!B174)","v":""},{"$f":"IF('PJ - P'!C174=\"\",\"\",'PJ - P'!C174)","v":""},{"$f":"IF('PJ - P'!D174=\"\",\"\",'PJ - P'!D174)","v":""},{"$f":"IF('PJ - P'!H174=\"\",\"\",'PJ - P'!H174)","v":""},{"$f":"IF('PJ - P'!M174=\"\",\"\",'PJ - P'!M174)","v":""},null,{"$f":"IF('PJ - P'!O174=\"\",\"\",'PJ - P'!O174)","v":""}]
[null,{"$f":"IF(AND('PJ - P'!$C175=\"\",'PJ - P'!$D175=\"\"),\"\",'PJ - P'!V175)","v":""},{"$f":"IF(AND('PJ - P'!$C175=\"\",'PJ - P'!$D175=\"\"),\"\",'PJ - P'!B175)","v":""},{"$f":"IF('PJ - P'!C175=\"\",\"\",'PJ - P'!C175)","v":""},{"$f":"IF('PJ - P'!D175=\"\",\"\",'PJ - P'!D175)","v":""},{"$f":"IF('PJ - P'!H175=\"\",\"\",'PJ - P'!H175)","v":""},{"$f":"IF('PJ - P'!M175=\"\",\"\",'PJ - P'!M175)","v":""},null,{"$f":"IF('PJ - P'!O175=\"\",\"\",'PJ - P'!O175)","v":""}]
[null,{"$f":"IF(AND('PJ - P'!$C176=\"\",'PJ - P'!$D176=\"\"),\"\",'PJ - P'!V176)","v":""},{"$f":"IF(AND('PJ - P'!$C176=\"\",'PJ - P'!$D176=\"\"),\"\",'PJ - P'!B176)","v":""},{"$f":"IF('PJ - P'!C176=\"\",\"\",'PJ - P'!C176)","v":""},{"$f":"IF('PJ - P'!D176=\"\",\"\",'PJ - P'!D176)","v":""},{"$f":"IF('PJ - P'!H176=\"\",\"\",'PJ - P'!H176)","v":""},{"$f":"IF('PJ - P'!M176=\"\",\"\",'PJ - P'!M176)","v":""},null,{"$f":"IF('PJ - P'!O176=\"\",\"\",'PJ - P'!O176)","v":""}]
[null,{"$f":"IF(AND('PJ - P'!$C177=\"\",'PJ - P'!$D177=\"\"),\"\",'PJ - P'!V177)","v":""},{"$f":"IF(AND('PJ - P'!$C177=\"\",'PJ - P'!$D177=\"\"),\"\",'PJ - P'!B177)","v":""},{"$f":"IF('PJ - P'!C177=\"\",\"\",'PJ - P'!C177)","v":""},{"$f":"IF('PJ - P'!D177=\"\",\"\",'PJ - P'!D177)","v":""},{"$f":"IF('PJ - P'!H177=\"\",\"\",'PJ - P'!H177)","v":""},{"$f":"IF('PJ - P'!M177=\"\",\"\",'PJ - P'!M177)","v":""},null,{"$f":"IF('PJ - P'!O177=\"\",\"\",'PJ - P'!O177)","v":""}]
[null,{"$f":"IF(AND('PJ - P'!$C178=\"\",'PJ - P'!$D178=\"\"),\"\",'PJ - P'!V178)","v":""},{"$f":"IF(AND('PJ - P'!$C178=\"\",'PJ - P'!$D178=\"\"),\"\",'PJ - P'!B178)","v":""},{"$f":"IF('PJ - P'!C178=\"\",\"\",'PJ - P'!C178)","v":""},{"$f":"IF('PJ - P'!D178=\"\",\"\",'PJ - P'!D178)","v":""},{"$f":"IF('PJ - P'!H178=\"\",\"\",'PJ - P'!H178)","v":""},{"$f":"IF('PJ - P'!M178=\"\",\"\",'PJ - P'!M178)","v":""},null,{"$f":"IF('PJ - P'!O178=\"\",\"\",'PJ - P'!O178)","v":""}]
[null,{"$f":"IF(AND('PJ - P'!$C179=\"\",'PJ - P'!$D179=\"\"),\"\",'PJ - P'!V179)","v":""},{"$f":"IF(AND('PJ - P'!$C179=\"\",'PJ - P'!$D179=\"\"),\"\",'PJ - P'!B179)","v":""},{"$f":"IF('PJ - P'!C179=\"\",\"\",'PJ - P'!C179)","v":""},{"$f":"IF('PJ - P'!D179=\"\",\"\",'PJ - P'!D179)","v":""},{"$f":"IF('PJ - P'!H179=\"\",\"\",'PJ - P'!H179)","v":""},{"$f":"IF('PJ - P'!M179=\"\",\"\",'PJ - P'!M179)","v":""},null,{"$f":"IF('PJ - P'!O179=\"\",\"\",'PJ - P'!O179)","v":""}]
[null,{"$f":"IF(AND('PJ - P'!$C180=\"\",'PJ - P'!$D180=\"\"),\"\",'PJ - P'!V180)","v":""},{"$f":"IF(AND('PJ - P'!$C180=\"\",'PJ - P'!$D180=\"\"),\"\",'PJ - P'!B180)","v":""},{"$f":"IF('PJ - P'!C180=\"\",\"\",'PJ - P'!C180)","v":""},{"$f":"IF('PJ - P'!D180=\"\",\"\",'PJ - P'!D180)","v":""},{"$f":"IF('PJ - P'!H180=\"\",\"\",'PJ - P'!H180)","v":""},{"$f":"IF('PJ - P'!M180=\"\",\"\",'PJ - P'!M180)","v":""},null,{"$f":"IF('PJ - P'!O180=\"\",\"\",'PJ - P'!O180)","v":""}]
[null,{"$f":"B$1","v":"Běh na 100m s přek. - Pořadí jednotlivců"}]
[]
[null,{"$f":"B$3","v":"VC ČR v požárním útoku družstev HZS krajů a HZS podniků"},null,null,{"$f":"E$3","v":"Petrovice 19.9.2019"}]
[]
[null,{"$f":"Start!$C$5","v":"MUŽI"}]
[null,"Pořadí","Start. číslo","Jméno","kolektiv","čas             I. pokusu","čas            II. pokusu",null,"Výsledný čas"]
[]
[null,{"$f":"IF(AND('PJ - P'!$C181=\"\",'PJ - P'!$D181=\"\"),\"\",'PJ - P'!V181)","v":""},{"$f":"IF(AND('PJ - P'!$C181=\"\",'PJ - P'!$D181=\"\"),\"\",'PJ - P'!B181)","v":""},{"$f":"IF('PJ - P'!C181=\"\",\"\",'PJ - P'!C181)","v":""},{"$f":"IF('PJ - P'!D181=\"\",\"\",'PJ - P'!D181)","v":""},{"$f":"IF('PJ - P'!H181=\"\",\"\",'PJ - P'!H181)","v":""},{"$f":"IF('PJ - P'!M181=\"\",\"\",'PJ - P'!M181)","v":""},null,{"$f":"IF('PJ - P'!O181=\"\",\"\",'PJ - P'!O181)","v":""}]
[null,{"$f":"IF(AND('PJ - P'!$C182=\"\",'PJ - P'!$D182=\"\"),\"\",'PJ - P'!V182)","v":""},{"$f":"IF(AND('PJ - P'!$C182=\"\",'PJ - P'!$D182=\"\"),\"\",'PJ - P'!B182)","v":""},{"$f":"IF('PJ - P'!C182=\"\",\"\",'PJ - P'!C182)","v":""},{"$f":"IF('PJ - P'!D182=\"\",\"\",'PJ - P'!D182)","v":""},{"$f":"IF('PJ - P'!H182=\"\",\"\",'PJ - P'!H182)","v":""},{"$f":"IF('PJ - P'!M182=\"\",\"\",'PJ - P'!M182)","v":""},null,{"$f":"IF('PJ - P'!O182=\"\",\"\",'PJ - P'!O182)","v":""}]
[null,{"$f":"IF(AND('PJ - P'!$C183=\"\",'PJ - P'!$D183=\"\"),\"\",'PJ - P'!V183)","v":""},{"$f":"IF(AND('PJ - P'!$C183=\"\",'PJ - P'!$D183=\"\"),\"\",'PJ - P'!B183)","v":""},{"$f":"IF('PJ - P'!C183=\"\",\"\",'PJ - P'!C183)","v":""},{"$f":"IF('PJ - P'!D183=\"\",\"\",'PJ - P'!D183)","v":""},{"$f":"IF('PJ - P'!H183=\"\",\"\",'PJ - P'!H183)","v":""},{"$f":"IF('PJ - P'!M183=\"\",\"\",'PJ - P'!M183)","v":""},null,{"$f":"IF('PJ - P'!O183=\"\",\"\",'PJ - P'!O183)","v":""}]
[null,{"$f":"IF(AND('PJ - P'!$C184=\"\",'PJ - P'!$D184=\"\"),\"\",'PJ - P'!V184)","v":""},{"$f":"IF(AND('PJ - P'!$C184=\"\",'PJ - P'!$D184=\"\"),\"\",'PJ - P'!B184)","v":""},{"$f":"IF('PJ - P'!C184=\"\",\"\",'PJ - P'!C184)","v":""},{"$f":"IF('PJ - P'!D184=\"\",\"\",'PJ - P'!D184)","v":""},{"$f":"IF('PJ - P'!H184=\"\",\"\",'PJ - P'!H184)","v":""},{"$f":"IF('PJ - P'!M184=\"\",\"\",'PJ - P'!M184)","v":""},null,{"$f":"IF('PJ - P'!O184=\"\",\"\",'PJ - P'!O184)","v":""}]
[null,{"$f":"IF(AND('PJ - P'!$C185=\"\",'PJ - P'!$D185=\"\"),\"\",'PJ - P'!V185)","v":""},{"$f":"IF(AND('PJ - P'!$C185=\"\",'PJ - P'!$D185=\"\"),\"\",'PJ - P'!B185)","v":""},{"$f":"IF('PJ - P'!C185=\"\",\"\",'PJ - P'!C185)","v":""},{"$f":"IF('PJ - P'!D185=\"\",\"\",'PJ - P'!D185)","v":""},{"$f":"IF('PJ - P'!H185=\"\",\"\",'PJ - P'!H185)","v":""},{"$f":"IF('PJ - P'!M185=\"\",\"\",'PJ - P'!M185)","v":""},null,{"$f":"IF('PJ - P'!O185=\"\",\"\",'PJ - P'!O185)","v":""}]
[null,{"$f":"IF(AND('PJ - P'!$C186=\"\",'PJ - P'!$D186=\"\"),\"\",'PJ - P'!V186)","v":""},{"$f":"IF(AND('PJ - P'!$C186=\"\",'PJ - P'!$D186=\"\"),\"\",'PJ - P'!B186)","v":""},{"$f":"IF('PJ - P'!C186=\"\",\"\",'PJ - P'!C186)","v":""},{"$f":"IF('PJ - P'!D186=\"\",\"\",'PJ - P'!D186)","v":""},{"$f":"IF('PJ - P'!H186=\"\",\"\",'PJ - P'!H186)","v":""},{"$f":"IF('PJ - P'!M186=\"\",\"\",'PJ - P'!M186)","v":""},null,{"$f":"IF('PJ - P'!O186=\"\",\"\",'PJ - P'!O186)","v":""}]
[null,{"$f":"IF(AND('PJ - P'!$C187=\"\",'PJ - P'!$D187=\"\"),\"\",'PJ - P'!V187)","v":""},{"$f":"IF(AND('PJ - P'!$C187=\"\",'PJ - P'!$D187=\"\"),\"\",'PJ - P'!B187)","v":""},{"$f":"IF('PJ - P'!C187=\"\",\"\",'PJ - P'!C187)","v":""},{"$f":"IF('PJ - P'!D187=\"\",\"\",'PJ - P'!D187)","v":""},{"$f":"IF('PJ - P'!H187=\"\",\"\",'PJ - P'!H187)","v":""},{"$f":"IF('PJ - P'!M187=\"\",\"\",'PJ - P'!M187)","v":""},null,{"$f":"IF('PJ - P'!O187=\"\",\"\",'PJ - P'!O187)","v":""}]
[null,{"$f":"IF(AND('PJ - P'!$C188=\"\",'PJ - P'!$D188=\"\"),\"\",'PJ - P'!V188)","v":""},{"$f":"IF(AND('PJ - P'!$C188=\"\",'PJ - P'!$D188=\"\"),\"\",'PJ - P'!B188)","v":""},{"$f":"IF('PJ - P'!C188=\"\",\"\",'PJ - P'!C188)","v":""},{"$f":"IF('PJ - P'!D188=\"\",\"\",'PJ - P'!D188)","v":""},{"$f":"IF('PJ - P'!H188=\"\",\"\",'PJ - P'!H188)","v":""},{"$f":"IF('PJ - P'!M188=\"\",\"\",'PJ - P'!M188)","v":""},null,{"$f":"IF('PJ - P'!O188=\"\",\"\",'PJ - P'!O188)","v":""}]
[null,{"$f":"IF(AND('PJ - P'!$C189=\"\",'PJ - P'!$D189=\"\"),\"\",'PJ - P'!V189)","v":""},{"$f":"IF(AND('PJ - P'!$C189=\"\",'PJ - P'!$D189=\"\"),\"\",'PJ - P'!B189)","v":""},{"$f":"IF('PJ - P'!C189=\"\",\"\",'PJ - P'!C189)","v":""},{"$f":"IF('PJ - P'!D189=\"\",\"\",'PJ - P'!D189)","v":""},{"$f":"IF('PJ - P'!H189=\"\",\"\",'PJ - P'!H189)","v":""},{"$f":"IF('PJ - P'!M189=\"\",\"\",'PJ - P'!M189)","v":""},null,{"$f":"IF('PJ - P'!O189=\"\",\"\",'PJ - P'!O189)","v":""}]
[null,{"$f":"IF(AND('PJ - P'!$C190=\"\",'PJ - P'!$D190=\"\"),\"\",'PJ - P'!V190)","v":""},{"$f":"IF(AND('PJ - P'!$C190=\"\",'PJ - P'!$D190=\"\"),\"\",'PJ - P'!B190)","v":""},{"$f":"IF('PJ - P'!C190=\"\",\"\",'PJ - P'!C190)","v":""},{"$f":"IF('PJ - P'!D190=\"\",\"\",'PJ - P'!D190)","v":""},{"$f":"IF('PJ - P'!H190=\"\",\"\",'PJ - P'!H190)","v":""},{"$f":"IF('PJ - P'!M190=\"\",\"\",'PJ - P'!M190)","v":""},null,{"$f":"IF('PJ - P'!O190=\"\",\"\",'PJ - P'!O190)","v":""}]
[null,{"$f":"IF(AND('PJ - P'!$C191=\"\",'PJ - P'!$D191=\"\"),\"\",'PJ - P'!V191)","v":""},{"$f":"IF(AND('PJ - P'!$C191=\"\",'PJ - P'!$D191=\"\"),\"\",'PJ - P'!B191)","v":""},{"$f":"IF('PJ - P'!C191=\"\",\"\",'PJ - P'!C191)","v":""},{"$f":"IF('PJ - P'!D191=\"\",\"\",'PJ - P'!D191)","v":""},{"$f":"IF('PJ - P'!H191=\"\",\"\",'PJ - P'!H191)","v":""},{"$f":"IF('PJ - P'!M191=\"\",\"\",'PJ - P'!M191)","v":""},null,{"$f":"IF('PJ - P'!O191=\"\",\"\",'PJ - P'!O191)","v":""}]
[null,{"$f":"IF(AND('PJ - P'!$C192=\"\",'PJ - P'!$D192=\"\"),\"\",'PJ - P'!V192)","v":""},{"$f":"IF(AND('PJ - P'!$C192=\"\",'PJ - P'!$D192=\"\"),\"\",'PJ - P'!B192)","v":""},{"$f":"IF('PJ - P'!C192=\"\",\"\",'PJ - P'!C192)","v":""},{"$f":"IF('PJ - P'!D192=\"\",\"\",'PJ - P'!D192)","v":""},{"$f":"IF('PJ - P'!H192=\"\",\"\",'PJ - P'!H192)","v":""},{"$f":"IF('PJ - P'!M192=\"\",\"\",'PJ - P'!M192)","v":""},null,{"$f":"IF('PJ - P'!O192=\"\",\"\",'PJ - P'!O192)","v":""}]
[null,{"$f":"IF(AND('PJ - P'!$C193=\"\",'PJ - P'!$D193=\"\"),\"\",'PJ - P'!V193)","v":""},{"$f":"IF(AND('PJ - P'!$C193=\"\",'PJ - P'!$D193=\"\"),\"\",'PJ - P'!B193)","v":""},{"$f":"IF('PJ - P'!C193=\"\",\"\",'PJ - P'!C193)","v":""},{"$f":"IF('PJ - P'!D193=\"\",\"\",'PJ - P'!D193)","v":""},{"$f":"IF('PJ - P'!H193=\"\",\"\",'PJ - P'!H193)","v":""},{"$f":"IF('PJ - P'!M193=\"\",\"\",'PJ - P'!M193)","v":""},null,{"$f":"IF('PJ - P'!O193=\"\",\"\",'PJ - P'!O193)","v":""}]
[null,{"$f":"IF(AND('PJ - P'!$C194=\"\",'PJ - P'!$D194=\"\"),\"\",'PJ - P'!V194)","v":""},{"$f":"IF(AND('PJ - P'!$C194=\"\",'PJ - P'!$D194=\"\"),\"\",'PJ - P'!B194)","v":""},{"$f":"IF('PJ - P'!C194=\"\",\"\",'PJ - P'!C194)","v":""},{"$f":"IF('PJ - P'!D194=\"\",\"\",'PJ - P'!D194)","v":""},{"$f":"IF('PJ - P'!H194=\"\",\"\",'PJ - P'!H194)","v":""},{"$f":"IF('PJ - P'!M194=\"\",\"\",'PJ - P'!M194)","v":""},null,{"$f":"IF('PJ - P'!O194=\"\",\"\",'PJ - P'!O194)","v":""}]
[null,{"$f":"IF(AND('PJ - P'!$C195=\"\",'PJ - P'!$D195=\"\"),\"\",'PJ - P'!V195)","v":""},{"$f":"IF(AND('PJ - P'!$C195=\"\",'PJ - P'!$D195=\"\"),\"\",'PJ - P'!B195)","v":""},{"$f":"IF('PJ - P'!C195=\"\",\"\",'PJ - P'!C195)","v":""},{"$f":"IF('PJ - P'!D195=\"\",\"\",'PJ - P'!D195)","v":""},{"$f":"IF('PJ - P'!H195=\"\",\"\",'PJ - P'!H195)","v":""},{"$f":"IF('PJ - P'!M195=\"\",\"\",'PJ - P'!M195)","v":""},null,{"$f":"IF('PJ - P'!O195=\"\",\"\",'PJ - P'!O195)","v":""}]
[null,{"$f":"IF(AND('PJ - P'!$C196=\"\",'PJ - P'!$D196=\"\"),\"\",'PJ - P'!V196)","v":""},{"$f":"IF(AND('PJ - P'!$C196=\"\",'PJ - P'!$D196=\"\"),\"\",'PJ - P'!B196)","v":""},{"$f":"IF('PJ - P'!C196=\"\",\"\",'PJ - P'!C196)","v":""},{"$f":"IF('PJ - P'!D196=\"\",\"\",'PJ - P'!D196)","v":""},{"$f":"IF('PJ - P'!H196=\"\",\"\",'PJ - P'!H196)","v":""},{"$f":"IF('PJ - P'!M196=\"\",\"\",'PJ - P'!M196)","v":""},null,{"$f":"IF('PJ - P'!O196=\"\",\"\",'PJ - P'!O196)","v":""}]
[null,{"$f":"IF(AND('PJ - P'!$C197=\"\",'PJ - P'!$D197=\"\"),\"\",'PJ - P'!V197)","v":""},{"$f":"IF(AND('PJ - P'!$C197=\"\",'PJ - P'!$D197=\"\"),\"\",'PJ - P'!B197)","v":""},{"$f":"IF('PJ - P'!C197=\"\",\"\",'PJ - P'!C197)","v":""},{"$f":"IF('PJ - P'!D197=\"\",\"\",'PJ - P'!D197)","v":""},{"$f":"IF('PJ - P'!H197=\"\",\"\",'PJ - P'!H197)","v":""},{"$f":"IF('PJ - P'!M197=\"\",\"\",'PJ - P'!M197)","v":""},null,{"$f":"IF('PJ - P'!O197=\"\",\"\",'PJ - P'!O197)","v":""}]
[null,{"$f":"IF(AND('PJ - P'!$C198=\"\",'PJ - P'!$D198=\"\"),\"\",'PJ - P'!V198)","v":""},{"$f":"IF(AND('PJ - P'!$C198=\"\",'PJ - P'!$D198=\"\"),\"\",'PJ - P'!B198)","v":""},{"$f":"IF('PJ - P'!C198=\"\",\"\",'PJ - P'!C198)","v":""},{"$f":"IF('PJ - P'!D198=\"\",\"\",'PJ - P'!D198)","v":""},{"$f":"IF('PJ - P'!H198=\"\",\"\",'PJ - P'!H198)","v":""},{"$f":"IF('PJ - P'!M198=\"\",\"\",'PJ - P'!M198)","v":""},null,{"$f":"IF('PJ - P'!O198=\"\",\"\",'PJ - P'!O198)","v":""}]
[null,{"$f":"IF(AND('PJ - P'!$C199=\"\",'PJ - P'!$D199=\"\"),\"\",'PJ - P'!V199)","v":""},{"$f":"IF(AND('PJ - P'!$C199=\"\",'PJ - P'!$D199=\"\"),\"\",'PJ - P'!B199)","v":""},{"$f":"IF('PJ - P'!C199=\"\",\"\",'PJ - P'!C199)","v":""},{"$f":"IF('PJ - P'!D199=\"\",\"\",'PJ - P'!D199)","v":""},{"$f":"IF('PJ - P'!H199=\"\",\"\",'PJ - P'!H199)","v":""},{"$f":"IF('PJ - P'!M199=\"\",\"\",'PJ - P'!M199)","v":""},null,{"$f":"IF('PJ - P'!O199=\"\",\"\",'PJ - P'!O199)","v":""}]
[null,{"$f":"IF(AND('PJ - P'!$C200=\"\",'PJ - P'!$D200=\"\"),\"\",'PJ - P'!V200)","v":""},{"$f":"IF(AND('PJ - P'!$C200=\"\",'PJ - P'!$D200=\"\"),\"\",'PJ - P'!B200)","v":""},{"$f":"IF('PJ - P'!C200=\"\",\"\",'PJ - P'!C200)","v":""},{"$f":"IF('PJ - P'!D200=\"\",\"\",'PJ - P'!D200)","v":""},{"$f":"IF('PJ - P'!H200=\"\",\"\",'PJ - P'!H200)","v":""},{"$f":"IF('PJ - P'!M200=\"\",\"\",'PJ - P'!M200)","v":""},null,{"$f":"IF('PJ - P'!O200=\"\",\"\",'PJ - P'!O200)","v":""}]
[null,{"$f":"IF(AND('PJ - P'!$C201=\"\",'PJ - P'!$D201=\"\"),\"\",'PJ - P'!V201)","v":""},{"$f":"IF(AND('PJ - P'!$C201=\"\",'PJ - P'!$D201=\"\"),\"\",'PJ - P'!B201)","v":""},{"$f":"IF('PJ - P'!C201=\"\",\"\",'PJ - P'!C201)","v":""},{"$f":"IF('PJ - P'!D201=\"\",\"\",'PJ - P'!D201)","v":""},{"$f":"IF('PJ - P'!H201=\"\",\"\",'PJ - P'!H201)","v":""},{"$f":"IF('PJ - P'!M201=\"\",\"\",'PJ - P'!M201)","v":""},null,{"$f":"IF('PJ - P'!O201=\"\",\"\",'PJ - P'!O201)","v":""}]
[null,{"$f":"IF(AND('PJ - P'!$C202=\"\",'PJ - P'!$D202=\"\"),\"\",'PJ - P'!V202)","v":""},{"$f":"IF(AND('PJ - P'!$C202=\"\",'PJ - P'!$D202=\"\"),\"\",'PJ - P'!B202)","v":""},{"$f":"IF('PJ - P'!C202=\"\",\"\",'PJ - P'!C202)","v":""},{"$f":"IF('PJ - P'!D202=\"\",\"\",'PJ - P'!D202)","v":""},{"$f":"IF('PJ - P'!H202=\"\",\"\",'PJ - P'!H202)","v":""},{"$f":"IF('PJ - P'!M202=\"\",\"\",'PJ - P'!M202)","v":""},null,{"$f":"IF('PJ - P'!O202=\"\",\"\",'PJ - P'!O202)","v":""}]
[null,{"$f":"IF(AND('PJ - P'!$C203=\"\",'PJ - P'!$D203=\"\"),\"\",'PJ - P'!V203)","v":""},{"$f":"IF(AND('PJ - P'!$C203=\"\",'PJ - P'!$D203=\"\"),\"\",'PJ - P'!B203)","v":""},{"$f":"IF('PJ - P'!C203=\"\",\"\",'PJ - P'!C203)","v":""},{"$f":"IF('PJ - P'!D203=\"\",\"\",'PJ - P'!D203)","v":""},{"$f":"IF('PJ - P'!H203=\"\",\"\",'PJ - P'!H203)","v":""},{"$f":"IF('PJ - P'!M203=\"\",\"\",'PJ - P'!M203)","v":""},null,{"$f":"IF('PJ - P'!O203=\"\",\"\",'PJ - P'!O203)","v":""}]
[null,{"$f":"IF(AND('PJ - P'!$C204=\"\",'PJ - P'!$D204=\"\"),\"\",'PJ - P'!V204)","v":""},{"$f":"IF(AND('PJ - P'!$C204=\"\",'PJ - P'!$D204=\"\"),\"\",'PJ - P'!B204)","v":""},{"$f":"IF('PJ - P'!C204=\"\",\"\",'PJ - P'!C204)","v":""},{"$f":"IF('PJ - P'!D204=\"\",\"\",'PJ - P'!D204)","v":""},{"$f":"IF('PJ - P'!H204=\"\",\"\",'PJ - P'!H204)","v":""},{"$f":"IF('PJ - P'!M204=\"\",\"\",'PJ - P'!M204)","v":""},null,{"$f":"IF('PJ - P'!O204=\"\",\"\",'PJ - P'!O204)","v":""}]
[null,{"$f":"IF(AND('PJ - P'!$C205=\"\",'PJ - P'!$D205=\"\"),\"\",'PJ - P'!V205)","v":""},{"$f":"IF(AND('PJ - P'!$C205=\"\",'PJ - P'!$D205=\"\"),\"\",'PJ - P'!B205)","v":""},{"$f":"IF('PJ - P'!C205=\"\",\"\",'PJ - P'!C205)","v":""},{"$f":"IF('PJ - P'!D205=\"\",\"\",'PJ - P'!D205)","v":""},{"$f":"IF('PJ - P'!H205=\"\",\"\",'PJ - P'!H205)","v":""},{"$f":"IF('PJ - P'!M205=\"\",\"\",'PJ - P'!M205)","v":""},null,{"$f":"IF('PJ - P'!O205=\"\",\"\",'PJ - P'!O205)","v":""}]
[null,{"$f":"IF(AND('PJ - P'!$C206=\"\",'PJ - P'!$D206=\"\"),\"\",'PJ - P'!V206)","v":""},{"$f":"IF(AND('PJ - P'!$C206=\"\",'PJ - P'!$D206=\"\"),\"\",'PJ - P'!B206)","v":""},{"$f":"IF('PJ - P'!C206=\"\",\"\",'PJ - P'!C206)","v":""},{"$f":"IF('PJ - P'!D206=\"\",\"\",'PJ - P'!D206)","v":""},{"$f":"IF('PJ - P'!H206=\"\",\"\",'PJ - P'!H206)","v":""},{"$f":"IF('PJ - P'!M206=\"\",\"\",'PJ - P'!M206)","v":""},null,{"$f":"IF('PJ - P'!O206=\"\",\"\",'PJ - P'!O206)","v":""}]
[null,{"$f":"IF(AND('PJ - P'!$C207=\"\",'PJ - P'!$D207=\"\"),\"\",'PJ - P'!V207)","v":""},{"$f":"IF(AND('PJ - P'!$C207=\"\",'PJ - P'!$D207=\"\"),\"\",'PJ - P'!B207)","v":""},{"$f":"IF('PJ - P'!C207=\"\",\"\",'PJ - P'!C207)","v":""},{"$f":"IF('PJ - P'!D207=\"\",\"\",'PJ - P'!D207)","v":""},{"$f":"IF('PJ - P'!H207=\"\",\"\",'PJ - P'!H207)","v":""},{"$f":"IF('PJ - P'!M207=\"\",\"\",'PJ - P'!M207)","v":""},null,{"$f":"IF('PJ - P'!O207=\"\",\"\",'PJ - P'!O207)","v":""}]
[null,{"$f":"IF(AND('PJ - P'!$C208=\"\",'PJ - P'!$D208=\"\"),\"\",'PJ - P'!V208)","v":""},{"$f":"IF(AND('PJ - P'!$C208=\"\",'PJ - P'!$D208=\"\"),\"\",'PJ - P'!B208)","v":""},{"$f":"IF('PJ - P'!C208=\"\",\"\",'PJ - P'!C208)","v":""},{"$f":"IF('PJ - P'!D208=\"\",\"\",'PJ - P'!D208)","v":""},{"$f":"IF('PJ - P'!H208=\"\",\"\",'PJ - P'!H208)","v":""},{"$f":"IF('PJ - P'!M208=\"\",\"\",'PJ - P'!M208)","v":""},null,{"$f":"IF('PJ - P'!O208=\"\",\"\",'PJ - P'!O208)","v":""}]
[null,{"$f":"IF(AND('PJ - P'!$C209=\"\",'PJ - P'!$D209=\"\"),\"\",'PJ - P'!V209)","v":""},{"$f":"IF(AND('PJ - P'!$C209=\"\",'PJ - P'!$D209=\"\"),\"\",'PJ - P'!B209)","v":""},{"$f":"IF('PJ - P'!C209=\"\",\"\",'PJ - P'!C209)","v":""},{"$f":"IF('PJ - P'!D209=\"\",\"\",'PJ - P'!D209)","v":""},{"$f":"IF('PJ - P'!H209=\"\",\"\",'PJ - P'!H209)","v":""},{"$f":"IF('PJ - P'!M209=\"\",\"\",'PJ - P'!M209)","v":""},null,{"$f":"IF('PJ - P'!O209=\"\",\"\",'PJ - P'!O209)","v":""}]
[null,{"$f":"IF(AND('PJ - P'!$C210=\"\",'PJ - P'!$D210=\"\"),\"\",'PJ - P'!V210)","v":""},{"$f":"IF(AND('PJ - P'!$C210=\"\",'PJ - P'!$D210=\"\"),\"\",'PJ - P'!B210)","v":""},{"$f":"IF('PJ - P'!C210=\"\",\"\",'PJ - P'!C210)","v":""},{"$f":"IF('PJ - P'!D210=\"\",\"\",'PJ - P'!D210)","v":""},{"$f":"IF('PJ - P'!H210=\"\",\"\",'PJ - P'!H210)","v":""},{"$f":"IF('PJ - P'!M210=\"\",\"\",'PJ - P'!M210)","v":""},null,{"$f":"IF('PJ - P'!O210=\"\",\"\",'PJ - P'!O210)","v":""}]
[null,{"$f":"IF(AND('PJ - P'!$C211=\"\",'PJ - P'!$D211=\"\"),\"\",'PJ - P'!V211)","v":""},{"$f":"IF(AND('PJ - P'!$C211=\"\",'PJ - P'!$D211=\"\"),\"\",'PJ - P'!B211)","v":""},{"$f":"IF('PJ - P'!C211=\"\",\"\",'PJ - P'!C211)","v":""},{"$f":"IF('PJ - P'!D211=\"\",\"\",'PJ - P'!D211)","v":""},{"$f":"IF('PJ - P'!H211=\"\",\"\",'PJ - P'!H211)","v":""},{"$f":"IF('PJ - P'!M211=\"\",\"\",'PJ - P'!M211)","v":""},null,{"$f":"IF('PJ - P'!O211=\"\",\"\",'PJ - P'!O211)","v":""}]
[null,{"$f":"IF(AND('PJ - P'!$C212=\"\",'PJ - P'!$D212=\"\"),\"\",'PJ - P'!V212)","v":""},{"$f":"IF(AND('PJ - P'!$C212=\"\",'PJ - P'!$D212=\"\"),\"\",'PJ - P'!B212)","v":""},{"$f":"IF('PJ - P'!C212=\"\",\"\",'PJ - P'!C212)","v":""},{"$f":"IF('PJ - P'!D212=\"\",\"\",'PJ - P'!D212)","v":""},{"$f":"IF('PJ - P'!H212=\"\",\"\",'PJ - P'!H212)","v":""},{"$f":"IF('PJ - P'!M212=\"\",\"\",'PJ - P'!M212)","v":""},null,{"$f":"IF('PJ - P'!O212=\"\",\"\",'PJ - P'!O212)","v":""}]
[null,{"$f":"IF(AND('PJ - P'!$C213=\"\",'PJ - P'!$D213=\"\"),\"\",'PJ - P'!V213)","v":""},{"$f":"IF(AND('PJ - P'!$C213=\"\",'PJ - P'!$D213=\"\"),\"\",'PJ - P'!B213)","v":""},{"$f":"IF('PJ - P'!C213=\"\",\"\",'PJ - P'!C213)","v":""},{"$f":"IF('PJ - P'!D213=\"\",\"\",'PJ - P'!D213)","v":""},{"$f":"IF('PJ - P'!H213=\"\",\"\",'PJ - P'!H213)","v":""},{"$f":"IF('PJ - P'!M213=\"\",\"\",'PJ - P'!M213)","v":""},null,{"$f":"IF('PJ - P'!O213=\"\",\"\",'PJ - P'!O213)","v":""}]
[null,{"$f":"IF(AND('PJ - P'!$C214=\"\",'PJ - P'!$D214=\"\"),\"\",'PJ - P'!V214)","v":""},{"$f":"IF(AND('PJ - P'!$C214=\"\",'PJ - P'!$D214=\"\"),\"\",'PJ - P'!B214)","v":""},{"$f":"IF('PJ - P'!C214=\"\",\"\",'PJ - P'!C214)","v":""},{"$f":"IF('PJ - P'!D214=\"\",\"\",'PJ - P'!D214)","v":""},{"$f":"IF('PJ - P'!H214=\"\",\"\",'PJ - P'!H214)","v":""},{"$f":"IF('PJ - P'!M214=\"\",\"\",'PJ - P'!M214)","v":""},null,{"$f":"IF('PJ - P'!O214=\"\",\"\",'PJ - P'!O214)","v":""}]
[null,{"$f":"IF(AND('PJ - P'!$C215=\"\",'PJ - P'!$D215=\"\"),\"\",'PJ - P'!V215)","v":""},{"$f":"IF(AND('PJ - P'!$C215=\"\",'PJ - P'!$D215=\"\"),\"\",'PJ - P'!B215)","v":""},{"$f":"IF('PJ - P'!C215=\"\",\"\",'PJ - P'!C215)","v":""},{"$f":"IF('PJ - P'!D215=\"\",\"\",'PJ - P'!D215)","v":""},{"$f":"IF('PJ - P'!H215=\"\",\"\",'PJ - P'!H215)","v":""},{"$f":"IF('PJ - P'!M215=\"\",\"\",'PJ - P'!M215)","v":""},null,{"$f":"IF('PJ - P'!O215=\"\",\"\",'PJ - P'!O215)","v":""}]
[null,{"$f":"IF(AND('PJ - P'!$C216=\"\",'PJ - P'!$D216=\"\"),\"\",'PJ - P'!V216)","v":""},{"$f":"IF(AND('PJ - P'!$C216=\"\",'PJ - P'!$D216=\"\"),\"\",'PJ - P'!B216)","v":""},{"$f":"IF('PJ - P'!C216=\"\",\"\",'PJ - P'!C216)","v":""},{"$f":"IF('PJ - P'!D216=\"\",\"\",'PJ - P'!D216)","v":""},{"$f":"IF('PJ - P'!H216=\"\",\"\",'PJ - P'!H216)","v":""},{"$f":"IF('PJ - P'!M216=\"\",\"\",'PJ - P'!M216)","v":""},null,{"$f":"IF('PJ - P'!O216=\"\",\"\",'PJ - P'!O216)","v":""}]
[null,{"$f":"B$1","v":"Běh na 100m s přek. - Pořadí jednotlivců"}]
[]
[null,{"$f":"B$3","v":"VC ČR v požárním útoku družstev HZS krajů a HZS podniků"},null,null,{"$f":"E$3","v":"Petrovice 19.9.2019"}]
[]
[null,{"$f":"Start!$C$5","v":"MUŽI"}]
[null,"Pořadí","Start. číslo","Jméno","kolektiv","čas             I. pokusu","čas            II. pokusu",null,"Výsledný čas"]
[]
[null,{"$f":"IF(AND('PJ - P'!$C217=\"\",'PJ - P'!$D217=\"\"),\"\",'PJ - P'!V217)","v":""},{"$f":"IF(AND('PJ - P'!$C217=\"\",'PJ - P'!$D217=\"\"),\"\",'PJ - P'!B217)","v":""},{"$f":"IF('PJ - P'!C217=\"\",\"\",'PJ - P'!C217)","v":""},{"$f":"IF('PJ - P'!D217=\"\",\"\",'PJ - P'!D217)","v":""},{"$f":"IF('PJ - P'!H217=\"\",\"\",'PJ - P'!H217)","v":""},{"$f":"IF('PJ - P'!M217=\"\",\"\",'PJ - P'!M217)","v":""},null,{"$f":"IF('PJ - P'!O217=\"\",\"\",'PJ - P'!O217)","v":""}]
[null,{"$f":"IF(AND('PJ - P'!$C218=\"\",'PJ - P'!$D218=\"\"),\"\",'PJ - P'!V218)","v":""},{"$f":"IF(AND('PJ - P'!$C218=\"\",'PJ - P'!$D218=\"\"),\"\",'PJ - P'!B218)","v":""},{"$f":"IF('PJ - P'!C218=\"\",\"\",'PJ - P'!C218)","v":""},{"$f":"IF('PJ - P'!D218=\"\",\"\",'PJ - P'!D218)","v":""},{"$f":"IF('PJ - P'!H218=\"\",\"\",'PJ - P'!H218)","v":""},{"$f":"IF('PJ - P'!M218=\"\",\"\",'PJ - P'!M218)","v":""},null,{"$f":"IF('PJ - P'!O218=\"\",\"\",'PJ - P'!O218)","v":""}]
[null,{"$f":"IF(AND('PJ - P'!$C219=\"\",'PJ - P'!$D219=\"\"),\"\",'PJ - P'!V219)","v":""},{"$f":"IF(AND('PJ - P'!$C219=\"\",'PJ - P'!$D219=\"\"),\"\",'PJ - P'!B219)","v":""},{"$f":"IF('PJ - P'!C219=\"\",\"\",'PJ - P'!C219)","v":""},{"$f":"IF('PJ - P'!D219=\"\",\"\",'PJ - P'!D219)","v":""},{"$f":"IF('PJ - P'!H219=\"\",\"\",'PJ - P'!H219)","v":""},{"$f":"IF('PJ - P'!M219=\"\",\"\",'PJ - P'!M219)","v":""},null,{"$f":"IF('PJ - P'!O219=\"\",\"\",'PJ - P'!O219)","v":""}]
[null,{"$f":"IF(AND('PJ - P'!$C220=\"\",'PJ - P'!$D220=\"\"),\"\",'PJ - P'!V220)","v":""},{"$f":"IF(AND('PJ - P'!$C220=\"\",'PJ - P'!$D220=\"\"),\"\",'PJ - P'!B220)","v":""},{"$f":"IF('PJ - P'!C220=\"\",\"\",'PJ - P'!C220)","v":""},{"$f":"IF('PJ - P'!D220=\"\",\"\",'PJ - P'!D220)","v":""},{"$f":"IF('PJ - P'!H220=\"\",\"\",'PJ - P'!H220)","v":""},{"$f":"IF('PJ - P'!M220=\"\",\"\",'PJ - P'!M220)","v":""},null,{"$f":"IF('PJ - P'!O220=\"\",\"\",'PJ - P'!O220)","v":""}]
[null,{"$f":"IF(AND('PJ - P'!$C221=\"\",'PJ - P'!$D221=\"\"),\"\",'PJ - P'!V221)","v":""},{"$f":"IF(AND('PJ - P'!$C221=\"\",'PJ - P'!$D221=\"\"),\"\",'PJ - P'!B221)","v":""},{"$f":"IF('PJ - P'!C221=\"\",\"\",'PJ - P'!C221)","v":""},{"$f":"IF('PJ - P'!D221=\"\",\"\",'PJ - P'!D221)","v":""},{"$f":"IF('PJ - P'!H221=\"\",\"\",'PJ - P'!H221)","v":""},{"$f":"IF('PJ - P'!M221=\"\",\"\",'PJ - P'!M221)","v":""},null,{"$f":"IF('PJ - P'!O221=\"\",\"\",'PJ - P'!O221)","v":""}]
[null,{"$f":"IF(AND('PJ - P'!$C222=\"\",'PJ - P'!$D222=\"\"),\"\",'PJ - P'!V222)","v":""},{"$f":"IF(AND('PJ - P'!$C222=\"\",'PJ - P'!$D222=\"\"),\"\",'PJ - P'!B222)","v":""},{"$f":"IF('PJ - P'!C222=\"\",\"\",'PJ - P'!C222)","v":""},{"$f":"IF('PJ - P'!D222=\"\",\"\",'PJ - P'!D222)","v":""},{"$f":"IF('PJ - P'!H222=\"\",\"\",'PJ - P'!H222)","v":""},{"$f":"IF('PJ - P'!M222=\"\",\"\",'PJ - P'!M222)","v":""},null,{"$f":"IF('PJ - P'!O222=\"\",\"\",'PJ - P'!O222)","v":""}]
[null,{"$f":"IF(AND('PJ - P'!$C223=\"\",'PJ - P'!$D223=\"\"),\"\",'PJ - P'!V223)","v":""},{"$f":"IF(AND('PJ - P'!$C223=\"\",'PJ - P'!$D223=\"\"),\"\",'PJ - P'!B223)","v":""},{"$f":"IF('PJ - P'!C223=\"\",\"\",'PJ - P'!C223)","v":""},{"$f":"IF('PJ - P'!D223=\"\",\"\",'PJ - P'!D223)","v":""},{"$f":"IF('PJ - P'!H223=\"\",\"\",'PJ - P'!H223)","v":""},{"$f":"IF('PJ - P'!M223=\"\",\"\",'PJ - P'!M223)","v":""},null,{"$f":"IF('PJ - P'!O223=\"\",\"\",'PJ - P'!O223)","v":""}]
[null,{"$f":"IF(AND('PJ - P'!$C224=\"\",'PJ - P'!$D224=\"\"),\"\",'PJ - P'!V224)","v":""},{"$f":"IF(AND('PJ - P'!$C224=\"\",'PJ - P'!$D224=\"\"),\"\",'PJ - P'!B224)","v":""},{"$f":"IF('PJ - P'!C224=\"\",\"\",'PJ - P'!C224)","v":""},{"$f":"IF('PJ - P'!D224=\"\",\"\",'PJ - P'!D224)","v":""},{"$f":"IF('PJ - P'!H224=\"\",\"\",'PJ - P'!H224)","v":""},{"$f":"IF('PJ - P'!M224=\"\",\"\",'PJ - P'!M224)","v":""},null,{"$f":"IF('PJ - P'!O224=\"\",\"\",'PJ - P'!O224)","v":""}]
[null,{"$f":"IF(AND('PJ - P'!$C225=\"\",'PJ - P'!$D225=\"\"),\"\",'PJ - P'!V225)","v":""},{"$f":"IF(AND('PJ - P'!$C225=\"\",'PJ - P'!$D225=\"\"),\"\",'PJ - P'!B225)","v":""},{"$f":"IF('PJ - P'!C225=\"\",\"\",'PJ - P'!C225)","v":""},{"$f":"IF('PJ - P'!D225=\"\",\"\",'PJ - P'!D225)","v":""},{"$f":"IF('PJ - P'!H225=\"\",\"\",'PJ - P'!H225)","v":""},{"$f":"IF('PJ - P'!M225=\"\",\"\",'PJ - P'!M225)","v":""},null,{"$f":"IF('PJ - P'!O225=\"\",\"\",'PJ - P'!O225)","v":""}]
[null,{"$f":"IF(AND('PJ - P'!$C226=\"\",'PJ - P'!$D226=\"\"),\"\",'PJ - P'!V226)","v":""},{"$f":"IF(AND('PJ - P'!$C226=\"\",'PJ - P'!$D226=\"\"),\"\",'PJ - P'!B226)","v":""},{"$f":"IF('PJ - P'!C226=\"\",\"\",'PJ - P'!C226)","v":""},{"$f":"IF('PJ - P'!D226=\"\",\"\",'PJ - P'!D226)","v":""},{"$f":"IF('PJ - P'!H226=\"\",\"\",'PJ - P'!H226)","v":""},{"$f":"IF('PJ - P'!M226=\"\",\"\",'PJ - P'!M226)","v":""},null,{"$f":"IF('PJ - P'!O226=\"\",\"\",'PJ - P'!O226)","v":""}]
[null,{"$f":"IF(AND('PJ - P'!$C227=\"\",'PJ - P'!$D227=\"\"),\"\",'PJ - P'!V227)","v":""},{"$f":"IF(AND('PJ - P'!$C227=\"\",'PJ - P'!$D227=\"\"),\"\",'PJ - P'!B227)","v":""},{"$f":"IF('PJ - P'!C227=\"\",\"\",'PJ - P'!C227)","v":""},{"$f":"IF('PJ - P'!D227=\"\",\"\",'PJ - P'!D227)","v":""},{"$f":"IF('PJ - P'!H227=\"\",\"\",'PJ - P'!H227)","v":""},{"$f":"IF('PJ - P'!M227=\"\",\"\",'PJ - P'!M227)","v":""},null,{"$f":"IF('PJ - P'!O227=\"\",\"\",'PJ - P'!O227)","v":""}]
[null,{"$f":"IF(AND('PJ - P'!$C228=\"\",'PJ - P'!$D228=\"\"),\"\",'PJ - P'!V228)","v":""},{"$f":"IF(AND('PJ - P'!$C228=\"\",'PJ - P'!$D228=\"\"),\"\",'PJ - P'!B228)","v":""},{"$f":"IF('PJ - P'!C228=\"\",\"\",'PJ - P'!C228)","v":""},{"$f":"IF('PJ - P'!D228=\"\",\"\",'PJ - P'!D228)","v":""},{"$f":"IF('PJ - P'!H228=\"\",\"\",'PJ - P'!H228)","v":""},{"$f":"IF('PJ - P'!M228=\"\",\"\",'PJ - P'!M228)","v":""},null,{"$f":"IF('PJ - P'!O228=\"\",\"\",'PJ - P'!O228)","v":""}]
[null,{"$f":"IF(AND('PJ - P'!$C229=\"\",'PJ - P'!$D229=\"\"),\"\",'PJ - P'!V229)","v":""},{"$f":"IF(AND('PJ - P'!$C229=\"\",'PJ - P'!$D229=\"\"),\"\",'PJ - P'!B229)","v":""},{"$f":"IF('PJ - P'!C229=\"\",\"\",'PJ - P'!C229)","v":""},{"$f":"IF('PJ - P'!D229=\"\",\"\",'PJ - P'!D229)","v":""},{"$f":"IF('PJ - P'!H229=\"\",\"\",'PJ - P'!H229)","v":""},{"$f":"IF('PJ - P'!M229=\"\",\"\",'PJ - P'!M229)","v":""},null,{"$f":"IF('PJ - P'!O229=\"\",\"\",'PJ - P'!O229)","v":""}]
[null,{"$f":"IF(AND('PJ - P'!$C230=\"\",'PJ - P'!$D230=\"\"),\"\",'PJ - P'!V230)","v":""},{"$f":"IF(AND('PJ - P'!$C230=\"\",'PJ - P'!$D230=\"\"),\"\",'PJ - P'!B230)","v":""},{"$f":"IF('PJ - P'!C230=\"\",\"\",'PJ - P'!C230)","v":""},{"$f":"IF('PJ - P'!D230=\"\",\"\",'PJ - P'!D230)","v":""},{"$f":"IF('PJ - P'!H230=\"\",\"\",'PJ - P'!H230)","v":""},{"$f":"IF('PJ - P'!M230=\"\",\"\",'PJ - P'!M230)","v":""},null,{"$f":"IF('PJ - P'!O230=\"\",\"\",'PJ - P'!O230)","v":""}]
[null,{"$f":"IF(AND('PJ - P'!$C231=\"\",'PJ - P'!$D231=\"\"),\"\",'PJ - P'!V231)","v":""},{"$f":"IF(AND('PJ - P'!$C231=\"\",'PJ - P'!$D231=\"\"),\"\",'PJ - P'!B231)","v":""},{"$f":"IF('PJ - P'!C231=\"\",\"\",'PJ - P'!C231)","v":""},{"$f":"IF('PJ - P'!D231=\"\",\"\",'PJ - P'!D231)","v":""},{"$f":"IF('PJ - P'!H231=\"\",\"\",'PJ - P'!H231)","v":""},{"$f":"IF('PJ - P'!M231=\"\",\"\",'PJ - P'!M231)","v":""},null,{"$f":"IF('PJ - P'!O231=\"\",\"\",'PJ - P'!O231)","v":""}]
[null,{"$f":"IF(AND('PJ - P'!$C232=\"\",'PJ - P'!$D232=\"\"),\"\",'PJ - P'!V232)","v":""},{"$f":"IF(AND('PJ - P'!$C232=\"\",'PJ - P'!$D232=\"\"),\"\",'PJ - P'!B232)","v":""},{"$f":"IF('PJ - P'!C232=\"\",\"\",'PJ - P'!C232)","v":""},{"$f":"IF('PJ - P'!D232=\"\",\"\",'PJ - P'!D232)","v":""},{"$f":"IF('PJ - P'!H232=\"\",\"\",'PJ - P'!H232)","v":""},{"$f":"IF('PJ - P'!M232=\"\",\"\",'PJ - P'!M232)","v":""},null,{"$f":"IF('PJ - P'!O232=\"\",\"\",'PJ - P'!O232)","v":""}]
[null,{"$f":"IF(AND('PJ - P'!$C233=\"\",'PJ - P'!$D233=\"\"),\"\",'PJ - P'!V233)","v":""},{"$f":"IF(AND('PJ - P'!$C233=\"\",'PJ - P'!$D233=\"\"),\"\",'PJ - P'!B233)","v":""},{"$f":"IF('PJ - P'!C233=\"\",\"\",'PJ - P'!C233)","v":""},{"$f":"IF('PJ - P'!D233=\"\",\"\",'PJ - P'!D233)","v":""},{"$f":"IF('PJ - P'!H233=\"\",\"\",'PJ - P'!H233)","v":""},{"$f":"IF('PJ - P'!M233=\"\",\"\",'PJ - P'!M233)","v":""},null,{"$f":"IF('PJ - P'!O233=\"\",\"\",'PJ - P'!O233)","v":""}]
[null,{"$f":"IF(AND('PJ - P'!$C234=\"\",'PJ - P'!$D234=\"\"),\"\",'PJ - P'!V234)","v":""},{"$f":"IF(AND('PJ - P'!$C234=\"\",'PJ - P'!$D234=\"\"),\"\",'PJ - P'!B234)","v":""},{"$f":"IF('PJ - P'!C234=\"\",\"\",'PJ - P'!C234)","v":""},{"$f":"IF('PJ - P'!D234=\"\",\"\",'PJ - P'!D234)","v":""},{"$f":"IF('PJ - P'!H234=\"\",\"\",'PJ - P'!H234)","v":""},{"$f":"IF('PJ - P'!M234=\"\",\"\",'PJ - P'!M234)","v":""},null,{"$f":"IF('PJ - P'!O234=\"\",\"\",'PJ - P'!O234)","v":""}]
[null,{"$f":"IF(AND('PJ - P'!$C235=\"\",'PJ - P'!$D235=\"\"),\"\",'PJ - P'!V235)","v":""},{"$f":"IF(AND('PJ - P'!$C235=\"\",'PJ - P'!$D235=\"\"),\"\",'PJ - P'!B235)","v":""},{"$f":"IF('PJ - P'!C235=\"\",\"\",'PJ - P'!C235)","v":""},{"$f":"IF('PJ - P'!D235=\"\",\"\",'PJ - P'!D235)","v":""},{"$f":"IF('PJ - P'!H235=\"\",\"\",'PJ - P'!H235)","v":""},{"$f":"IF('PJ - P'!M235=\"\",\"\",'PJ - P'!M235)","v":""},null,{"$f":"IF('PJ - P'!O235=\"\",\"\",'PJ - P'!O235)","v":""}]
[null,{"$f":"IF(AND('PJ - P'!$C236=\"\",'PJ - P'!$D236=\"\"),\"\",'PJ - P'!V236)","v":""},{"$f":"IF(AND('PJ - P'!$C236=\"\",'PJ - P'!$D236=\"\"),\"\",'PJ - P'!B236)","v":""},{"$f":"IF('PJ - P'!C236=\"\",\"\",'PJ - P'!C236)","v":""},{"$f":"IF('PJ - P'!D236=\"\",\"\",'PJ - P'!D236)","v":""},{"$f":"IF('PJ - P'!H236=\"\",\"\",'PJ - P'!H236)","v":""},{"$f":"IF('PJ - P'!M236=\"\",\"\",'PJ - P'!M236)","v":""},null,{"$f":"IF('PJ - P'!O236=\"\",\"\",'PJ - P'!O236)","v":""}]
[null,{"$f":"IF(AND('PJ - P'!$C237=\"\",'PJ - P'!$D237=\"\"),\"\",'PJ - P'!V237)","v":""},{"$f":"IF(AND('PJ - P'!$C237=\"\",'PJ - P'!$D237=\"\"),\"\",'PJ - P'!B237)","v":""},{"$f":"IF('PJ - P'!C237=\"\",\"\",'PJ - P'!C237)","v":""},{"$f":"IF('PJ - P'!D237=\"\",\"\",'PJ - P'!D237)","v":""},{"$f":"IF('PJ - P'!H237=\"\",\"\",'PJ - P'!H237)","v":""},{"$f":"IF('PJ - P'!M237=\"\",\"\",'PJ - P'!M237)","v":""},null,{"$f":"IF('PJ - P'!O237=\"\",\"\",'PJ - P'!O237)","v":""}]
[null,{"$f":"IF(AND('PJ - P'!$C238=\"\",'PJ - P'!$D238=\"\"),\"\",'PJ - P'!V238)","v":""},{"$f":"IF(AND('PJ - P'!$C238=\"\",'PJ - P'!$D238=\"\"),\"\",'PJ - P'!B238)","v":""},{"$f":"IF('PJ - P'!C238=\"\",\"\",'PJ - P'!C238)","v":""},{"$f":"IF('PJ - P'!D238=\"\",\"\",'PJ - P'!D238)","v":""},{"$f":"IF('PJ - P'!H238=\"\",\"\",'PJ - P'!H238)","v":""},{"$f":"IF('PJ - P'!M238=\"\",\"\",'PJ - P'!M238)","v":""},null,{"$f":"IF('PJ - P'!O238=\"\",\"\",'PJ - P'!O238)","v":""}]
[null,{"$f":"IF(AND('PJ - P'!$C239=\"\",'PJ - P'!$D239=\"\"),\"\",'PJ - P'!V239)","v":""},{"$f":"IF(AND('PJ - P'!$C239=\"\",'PJ - P'!$D239=\"\"),\"\",'PJ - P'!B239)","v":""},{"$f":"IF('PJ - P'!C239=\"\",\"\",'PJ - P'!C239)","v":""},{"$f":"IF('PJ - P'!D239=\"\",\"\",'PJ - P'!D239)","v":""},{"$f":"IF('PJ - P'!H239=\"\",\"\",'PJ - P'!H239)","v":""},{"$f":"IF('PJ - P'!M239=\"\",\"\",'PJ - P'!M239)","v":""},null,{"$f":"IF('PJ - P'!O239=\"\",\"\",'PJ - P'!O239)","v":""}]
[null,{"$f":"IF(AND('PJ - P'!$C240=\"\",'PJ - P'!$D240=\"\"),\"\",'PJ - P'!V240)","v":""},{"$f":"IF(AND('PJ - P'!$C240=\"\",'PJ - P'!$D240=\"\"),\"\",'PJ - P'!B240)","v":""},{"$f":"IF('PJ - P'!C240=\"\",\"\",'PJ - P'!C240)","v":""},{"$f":"IF('PJ - P'!D240=\"\",\"\",'PJ - P'!D240)","v":""},{"$f":"IF('PJ - P'!H240=\"\",\"\",'PJ - P'!H240)","v":""},{"$f":"IF('PJ - P'!M240=\"\",\"\",'PJ - P'!M240)","v":""},null,{"$f":"IF('PJ - P'!O240=\"\",\"\",'PJ - P'!O240)","v":""}]
[null,{"$f":"IF(AND('PJ - P'!$C241=\"\",'PJ - P'!$D241=\"\"),\"\",'PJ - P'!V241)","v":""},{"$f":"IF(AND('PJ - P'!$C241=\"\",'PJ - P'!$D241=\"\"),\"\",'PJ - P'!B241)","v":""},{"$f":"IF('PJ - P'!C241=\"\",\"\",'PJ - P'!C241)","v":""},{"$f":"IF('PJ - P'!D241=\"\",\"\",'PJ - P'!D241)","v":""},{"$f":"IF('PJ - P'!H241=\"\",\"\",'PJ - P'!H241)","v":""},{"$f":"IF('PJ - P'!M241=\"\",\"\",'PJ - P'!M241)","v":""},null,{"$f":"IF('PJ - P'!O241=\"\",\"\",'PJ - P'!O241)","v":""}]
[null,{"$f":"IF(AND('PJ - P'!$C242=\"\",'PJ - P'!$D242=\"\"),\"\",'PJ - P'!V242)","v":""},{"$f":"IF(AND('PJ - P'!$C242=\"\",'PJ - P'!$D242=\"\"),\"\",'PJ - P'!B242)","v":""},{"$f":"IF('PJ - P'!C242=\"\",\"\",'PJ - P'!C242)","v":""},{"$f":"IF('PJ - P'!D242=\"\",\"\",'PJ - P'!D242)","v":""},{"$f":"IF('PJ - P'!H242=\"\",\"\",'PJ - P'!H242)","v":""},{"$f":"IF('PJ - P'!M242=\"\",\"\",'PJ - P'!M242)","v":""},null,{"$f":"IF('PJ - P'!O242=\"\",\"\",'PJ - P'!O242)","v":""}]
[null,{"$f":"IF(AND('PJ - P'!$C243=\"\",'PJ - P'!$D243=\"\"),\"\",'PJ - P'!V243)","v":""},{"$f":"IF(AND('PJ - P'!$C243=\"\",'PJ - P'!$D243=\"\"),\"\",'PJ - P'!B243)","v":""},{"$f":"IF('PJ - P'!C243=\"\",\"\",'PJ - P'!C243)","v":""},{"$f":"IF('PJ - P'!D243=\"\",\"\",'PJ - P'!D243)","v":""},{"$f":"IF('PJ - P'!H243=\"\",\"\",'PJ - P'!H243)","v":""},{"$f":"IF('PJ - P'!M243=\"\",\"\",'PJ - P'!M243)","v":""},null,{"$f":"IF('PJ - P'!O243=\"\",\"\",'PJ - P'!O243)","v":""}]
[null,{"$f":"IF(AND('PJ - P'!$C244=\"\",'PJ - P'!$D244=\"\"),\"\",'PJ - P'!V244)","v":""},{"$f":"IF(AND('PJ - P'!$C244=\"\",'PJ - P'!$D244=\"\"),\"\",'PJ - P'!B244)","v":""},{"$f":"IF('PJ - P'!C244=\"\",\"\",'PJ - P'!C244)","v":""},{"$f":"IF('PJ - P'!D244=\"\",\"\",'PJ - P'!D244)","v":""},{"$f":"IF('PJ - P'!H244=\"\",\"\",'PJ - P'!H244)","v":""},{"$f":"IF('PJ - P'!M244=\"\",\"\",'PJ - P'!M244)","v":""},null,{"$f":"IF('PJ - P'!O244=\"\",\"\",'PJ - P'!O244)","v":""}]
[null,{"$f":"IF(AND('PJ - P'!$C245=\"\",'PJ - P'!$D245=\"\"),\"\",'PJ - P'!V245)","v":""},{"$f":"IF(AND('PJ - P'!$C245=\"\",'PJ - P'!$D245=\"\"),\"\",'PJ - P'!B245)","v":""},{"$f":"IF('PJ - P'!C245=\"\",\"\",'PJ - P'!C245)","v":""},{"$f":"IF('PJ - P'!D245=\"\",\"\",'PJ - P'!D245)","v":""},{"$f":"IF('PJ - P'!H245=\"\",\"\",'PJ - P'!H245)","v":""},{"$f":"IF('PJ - P'!M245=\"\",\"\",'PJ - P'!M245)","v":""},null,{"$f":"IF('PJ - P'!O245=\"\",\"\",'PJ - P'!O245)","v":""}]
[null,{"$f":"IF(AND('PJ - P'!$C246=\"\",'PJ - P'!$D246=\"\"),\"\",'PJ - P'!V246)","v":""},{"$f":"IF(AND('PJ - P'!$C246=\"\",'PJ - P'!$D246=\"\"),\"\",'PJ - P'!B246)","v":""},{"$f":"IF('PJ - P'!C246=\"\",\"\",'PJ - P'!C246)","v":""},{"$f":"IF('PJ - P'!D246=\"\",\"\",'PJ - P'!D246)","v":""},{"$f":"IF('PJ - P'!H246=\"\",\"\",'PJ - P'!H246)","v":""},{"$f":"IF('PJ - P'!M246=\"\",\"\",'PJ - P'!M246)","v":""},null,{"$f":"IF('PJ - P'!O246=\"\",\"\",'PJ - P'!O246)","v":""}]
[null,{"$f":"IF(AND('PJ - P'!$C247=\"\",'PJ - P'!$D247=\"\"),\"\",'PJ - P'!V247)","v":""},{"$f":"IF(AND('PJ - P'!$C247=\"\",'PJ - P'!$D247=\"\"),\"\",'PJ - P'!B247)","v":""},{"$f":"IF('PJ - P'!C247=\"\",\"\",'PJ - P'!C247)","v":""},{"$f":"IF('PJ - P'!D247=\"\",\"\",'PJ - P'!D247)","v":""},{"$f":"IF('PJ - P'!H247=\"\",\"\",'PJ - P'!H247)","v":""},{"$f":"IF('PJ - P'!M247=\"\",\"\",'PJ - P'!M247)","v":""},null,{"$f":"IF('PJ - P'!O247=\"\",\"\",'PJ - P'!O247)","v":""}]
[null,{"$f":"IF(AND('PJ - P'!$C248=\"\",'PJ - P'!$D248=\"\"),\"\",'PJ - P'!V248)","v":""},{"$f":"IF(AND('PJ - P'!$C248=\"\",'PJ - P'!$D248=\"\"),\"\",'PJ - P'!B248)","v":""},{"$f":"IF('PJ - P'!C248=\"\",\"\",'PJ - P'!C248)","v":""},{"$f":"IF('PJ - P'!D248=\"\",\"\",'PJ - P'!D248)","v":""},{"$f":"IF('PJ - P'!H248=\"\",\"\",'PJ - P'!H248)","v":""},{"$f":"IF('PJ - P'!M248=\"\",\"\",'PJ - P'!M248)","v":""},null,{"$f":"IF('PJ - P'!O248=\"\",\"\",'PJ - P'!O248)","v":""}]
[null,{"$f":"IF(AND('PJ - P'!$C249=\"\",'PJ - P'!$D249=\"\"),\"\",'PJ - P'!V249)","v":""},{"$f":"IF(AND('PJ - P'!$C249=\"\",'PJ - P'!$D249=\"\"),\"\",'PJ - P'!B249)","v":""},{"$f":"IF('PJ - P'!C249=\"\",\"\",'PJ - P'!C249)","v":""},{"$f":"IF('PJ - P'!D249=\"\",\"\",'PJ - P'!D249)","v":""},{"$f":"IF('PJ - P'!H249=\"\",\"\",'PJ - P'!H249)","v":""},{"$f":"IF('PJ - P'!M249=\"\",\"\",'PJ - P'!M249)","v":""},null,{"$f":"IF('PJ - P'!O249=\"\",\"\",'PJ - P'!O249)","v":""}]
[null,{"$f":"IF(AND('PJ - P'!$C250=\"\",'PJ - P'!$D250=\"\"),\"\",'PJ - P'!V250)","v":""},{"$f":"IF(AND('PJ - P'!$C250=\"\",'PJ - P'!$D250=\"\"),\"\",'PJ - P'!B250)","v":""},{"$f":"IF('PJ - P'!C250=\"\",\"\",'PJ - P'!C250)","v":""},{"$f":"IF('PJ - P'!D250=\"\",\"\",'PJ - P'!D250)","v":""},{"$f":"IF('PJ - P'!H250=\"\",\"\",'PJ - P'!H250)","v":""},{"$f":"IF('PJ - P'!M250=\"\",\"\",'PJ - P'!M250)","v":""},null,{"$f":"IF('PJ - P'!O250=\"\",\"\",'PJ - P'!O250)","v":""}]
[null,{"$f":"IF(AND('PJ - P'!$C251=\"\",'PJ - P'!$D251=\"\"),\"\",'PJ - P'!V251)","v":""},{"$f":"IF(AND('PJ - P'!$C251=\"\",'PJ - P'!$D251=\"\"),\"\",'PJ - P'!B251)","v":""},{"$f":"IF('PJ - P'!C251=\"\",\"\",'PJ - P'!C251)","v":""},{"$f":"IF('PJ - P'!D251=\"\",\"\",'PJ - P'!D251)","v":""},{"$f":"IF('PJ - P'!H251=\"\",\"\",'PJ - P'!H251)","v":""},{"$f":"IF('PJ - P'!M251=\"\",\"\",'PJ - P'!M251)","v":""},null,{"$f":"IF('PJ - P'!O251=\"\",\"\",'PJ - P'!O251)","v":""}]
[null,{"$f":"IF(AND('PJ - P'!$C252=\"\",'PJ - P'!$D252=\"\"),\"\",'PJ - P'!V252)","v":""},{"$f":"IF(AND('PJ - P'!$C252=\"\",'PJ - P'!$D252=\"\"),\"\",'PJ - P'!B252)","v":""},{"$f":"IF('PJ - P'!C252=\"\",\"\",'PJ - P'!C252)","v":""},{"$f":"IF('PJ - P'!D252=\"\",\"\",'PJ - P'!D252)","v":""},{"$f":"IF('PJ - P'!H252=\"\",\"\",'PJ - P'!H252)","v":""},{"$f":"IF('PJ - P'!M252=\"\",\"\",'PJ - P'!M252)","v":""},null,{"$f":"IF('PJ - P'!O252=\"\",\"\",'PJ - P'!O252)","v":""}]
[null,{"$f":"B$1","v":"Běh na 100m s přek. - Pořadí jednotlivců"}]
[]
[null,{"$f":"B$3","v":"VC ČR v požárním útoku družstev HZS krajů a HZS podniků"},null,null,{"$f":"E$3","v":"Petrovice 19.9.2019"}]
[]
[null,{"$f":"Start!$C$5","v":"MUŽI"}]
[null,"Pořadí","Start. číslo","Jméno","kolektiv","čas             I. pokusu","čas            II. pokusu",null,"Výsledný čas"]
[]
[null,{"$f":"IF(AND('PJ - P'!$C253=\"\",'PJ - P'!$D253=\"\"),\"\",'PJ - P'!V253)","v":""},{"$f":"IF(AND('PJ - P'!$C253=\"\",'PJ - P'!$D253=\"\"),\"\",'PJ - P'!B253)","v":""},{"$f":"IF('PJ - P'!C253=\"\",\"\",'PJ - P'!C253)","v":""},{"$f":"IF('PJ - P'!D253=\"\",\"\",'PJ - P'!D253)","v":""},{"$f":"IF('PJ - P'!H253=\"\",\"\",'PJ - P'!H253)","v":""},{"$f":"IF('PJ - P'!M253=\"\",\"\",'PJ - P'!M253)","v":""},null,{"$f":"IF('PJ - P'!O253=\"\",\"\",'PJ - P'!O253)","v":""}]
[null,{"$f":"IF(AND('PJ - P'!$C254=\"\",'PJ - P'!$D254=\"\"),\"\",'PJ - P'!V254)","v":""},{"$f":"IF(AND('PJ - P'!$C254=\"\",'PJ - P'!$D254=\"\"),\"\",'PJ - P'!B254)","v":""},{"$f":"IF('PJ - P'!C254=\"\",\"\",'PJ - P'!C254)","v":""},{"$f":"IF('PJ - P'!D254=\"\",\"\",'PJ - P'!D254)","v":""},{"$f":"IF('PJ - P'!H254=\"\",\"\",'PJ - P'!H254)","v":""},{"$f":"IF('PJ - P'!M254=\"\",\"\",'PJ - P'!M254)","v":""},null,{"$f":"IF('PJ - P'!O254=\"\",\"\",'PJ - P'!O254)","v":""}]
[null,{"$f":"IF(AND('PJ - P'!$C255=\"\",'PJ - P'!$D255=\"\"),\"\",'PJ - P'!V255)","v":""},{"$f":"IF(AND('PJ - P'!$C255=\"\",'PJ - P'!$D255=\"\"),\"\",'PJ - P'!B255)","v":""},{"$f":"IF('PJ - P'!C255=\"\",\"\",'PJ - P'!C255)","v":""},{"$f":"IF('PJ - P'!D255=\"\",\"\",'PJ - P'!D255)","v":""},{"$f":"IF('PJ - P'!H255=\"\",\"\",'PJ - P'!H255)","v":""},{"$f":"IF('PJ - P'!M255=\"\",\"\",'PJ - P'!M255)","v":""},null,{"$f":"IF('PJ - P'!O255=\"\",\"\",'PJ - P'!O255)","v":""}]
[null,{"$f":"IF(AND('PJ - P'!$C256=\"\",'PJ - P'!$D256=\"\"),\"\",'PJ - P'!V256)","v":""},{"$f":"IF(AND('PJ - P'!$C256=\"\",'PJ - P'!$D256=\"\"),\"\",'PJ - P'!B256)","v":""},{"$f":"IF('PJ - P'!C256=\"\",\"\",'PJ - P'!C256)","v":""},{"$f":"IF('PJ - P'!D256=\"\",\"\",'PJ - P'!D256)","v":""},{"$f":"IF('PJ - P'!H256=\"\",\"\",'PJ - P'!H256)","v":""},{"$f":"IF('PJ - P'!M256=\"\",\"\",'PJ - P'!M256)","v":""},null,{"$f":"IF('PJ - P'!O256=\"\",\"\",'PJ - P'!O256)","v":""}]
[null,{"$f":"IF(AND('PJ - P'!$C257=\"\",'PJ - P'!$D257=\"\"),\"\",'PJ - P'!V257)","v":""},{"$f":"IF(AND('PJ - P'!$C257=\"\",'PJ - P'!$D257=\"\"),\"\",'PJ - P'!B257)","v":""},{"$f":"IF('PJ - P'!C257=\"\",\"\",'PJ - P'!C257)","v":""},{"$f":"IF('PJ - P'!D257=\"\",\"\",'PJ - P'!D257)","v":""},{"$f":"IF('PJ - P'!H257=\"\",\"\",'PJ - P'!H257)","v":""},{"$f":"IF('PJ - P'!M257=\"\",\"\",'PJ - P'!M257)","v":""},null,{"$f":"IF('PJ - P'!O257=\"\",\"\",'PJ - P'!O257)","v":""}]
[null,{"$f":"IF(AND('PJ - P'!$C258=\"\",'PJ - P'!$D258=\"\"),\"\",'PJ - P'!V258)","v":""},{"$f":"IF(AND('PJ - P'!$C258=\"\",'PJ - P'!$D258=\"\"),\"\",'PJ - P'!B258)","v":""},{"$f":"IF('PJ - P'!C258=\"\",\"\",'PJ - P'!C258)","v":""},{"$f":"IF('PJ - P'!D258=\"\",\"\",'PJ - P'!D258)","v":""},{"$f":"IF('PJ - P'!H258=\"\",\"\",'PJ - P'!H258)","v":""},{"$f":"IF('PJ - P'!M258=\"\",\"\",'PJ - P'!M258)","v":""},null,{"$f":"IF('PJ - P'!O258=\"\",\"\",'PJ - P'!O258)","v":""}]
[null,{"$f":"IF(AND('PJ - P'!$C259=\"\",'PJ - P'!$D259=\"\"),\"\",'PJ - P'!V259)","v":""},{"$f":"IF(AND('PJ - P'!$C259=\"\",'PJ - P'!$D259=\"\"),\"\",'PJ - P'!B259)","v":""},{"$f":"IF('PJ - P'!C259=\"\",\"\",'PJ - P'!C259)","v":""},{"$f":"IF('PJ - P'!D259=\"\",\"\",'PJ - P'!D259)","v":""},{"$f":"IF('PJ - P'!H259=\"\",\"\",'PJ - P'!H259)","v":""},{"$f":"IF('PJ - P'!M259=\"\",\"\",'PJ - P'!M259)","v":""},null,{"$f":"IF('PJ - P'!O259=\"\",\"\",'PJ - P'!O259)","v":""}]
[null,{"$f":"IF(AND('PJ - P'!$C260=\"\",'PJ - P'!$D260=\"\"),\"\",'PJ - P'!V260)","v":""},{"$f":"IF(AND('PJ - P'!$C260=\"\",'PJ - P'!$D260=\"\"),\"\",'PJ - P'!B260)","v":""},{"$f":"IF('PJ - P'!C260=\"\",\"\",'PJ - P'!C260)","v":""},{"$f":"IF('PJ - P'!D260=\"\",\"\",'PJ - P'!D260)","v":""},{"$f":"IF('PJ - P'!H260=\"\",\"\",'PJ - P'!H260)","v":""},{"$f":"IF('PJ - P'!M260=\"\",\"\",'PJ - P'!M260)","v":""},null,{"$f":"IF('PJ - P'!O260=\"\",\"\",'PJ - P'!O260)","v":""}]
[null,{"$f":"IF(AND('PJ - P'!$C261=\"\",'PJ - P'!$D261=\"\"),\"\",'PJ - P'!V261)","v":""},{"$f":"IF(AND('PJ - P'!$C261=\"\",'PJ - P'!$D261=\"\"),\"\",'PJ - P'!B261)","v":""},{"$f":"IF('PJ - P'!C261=\"\",\"\",'PJ - P'!C261)","v":""},{"$f":"IF('PJ - P'!D261=\"\",\"\",'PJ - P'!D261)","v":""},{"$f":"IF('PJ - P'!H261=\"\",\"\",'PJ - P'!H261)","v":""},{"$f":"IF('PJ - P'!M261=\"\",\"\",'PJ - P'!M261)","v":""},null,{"$f":"IF('PJ - P'!O261=\"\",\"\",'PJ - P'!O261)","v":""}]
[null,{"$f":"IF(AND('PJ - P'!$C262=\"\",'PJ - P'!$D262=\"\"),\"\",'PJ - P'!V262)","v":""},{"$f":"IF(AND('PJ - P'!$C262=\"\",'PJ - P'!$D262=\"\"),\"\",'PJ - P'!B262)","v":""},{"$f":"IF('PJ - P'!C262=\"\",\"\",'PJ - P'!C262)","v":""},{"$f":"IF('PJ - P'!D262=\"\",\"\",'PJ - P'!D262)","v":""},{"$f":"IF('PJ - P'!H262=\"\",\"\",'PJ - P'!H262)","v":""},{"$f":"IF('PJ - P'!M262=\"\",\"\",'PJ - P'!M262)","v":""},null,{"$f":"IF('PJ - P'!O262=\"\",\"\",'PJ - P'!O262)","v":""}]
[null,{"$f":"IF(AND('PJ - P'!$C263=\"\",'PJ - P'!$D263=\"\"),\"\",'PJ - P'!V263)","v":""},{"$f":"IF(AND('PJ - P'!$C263=\"\",'PJ - P'!$D263=\"\"),\"\",'PJ - P'!B263)","v":""},{"$f":"IF('PJ - P'!C263=\"\",\"\",'PJ - P'!C263)","v":""},{"$f":"IF('PJ - P'!D263=\"\",\"\",'PJ - P'!D263)","v":""},{"$f":"IF('PJ - P'!H263=\"\",\"\",'PJ - P'!H263)","v":""},{"$f":"IF('PJ - P'!M263=\"\",\"\",'PJ - P'!M263)","v":""},null,{"$f":"IF('PJ - P'!O263=\"\",\"\",'PJ - P'!O263)","v":""}]
[null,{"$f":"IF(AND('PJ - P'!$C264=\"\",'PJ - P'!$D264=\"\"),\"\",'PJ - P'!V264)","v":""},{"$f":"IF(AND('PJ - P'!$C264=\"\",'PJ - P'!$D264=\"\"),\"\",'PJ - P'!B264)","v":""},{"$f":"IF('PJ - P'!C264=\"\",\"\",'PJ - P'!C264)","v":""},{"$f":"IF('PJ - P'!D264=\"\",\"\",'PJ - P'!D264)","v":""},{"$f":"IF('PJ - P'!H264=\"\",\"\",'PJ - P'!H264)","v":""},{"$f":"IF('PJ - P'!M264=\"\",\"\",'PJ - P'!M264)","v":""},null,{"$f":"IF('PJ - P'!O264=\"\",\"\",'PJ - P'!O264)","v":""}]
[null,{"$f":"IF(AND('PJ - P'!$C265=\"\",'PJ - P'!$D265=\"\"),\"\",'PJ - P'!V265)","v":""},{"$f":"IF(AND('PJ - P'!$C265=\"\",'PJ - P'!$D265=\"\"),\"\",'PJ - P'!B265)","v":""},{"$f":"IF('PJ - P'!C265=\"\",\"\",'PJ - P'!C265)","v":""},{"$f":"IF('PJ - P'!D265=\"\",\"\",'PJ - P'!D265)","v":""},{"$f":"IF('PJ - P'!H265=\"\",\"\",'PJ - P'!H265)","v":""},{"$f":"IF('PJ - P'!M265=\"\",\"\",'PJ - P'!M265)","v":""},null,{"$f":"IF('PJ - P'!O265=\"\",\"\",'PJ - P'!O265)","v":""}]
[null,{"$f":"IF(AND('PJ - P'!$C266=\"\",'PJ - P'!$D266=\"\"),\"\",'PJ - P'!V266)","v":""},{"$f":"IF(AND('PJ - P'!$C266=\"\",'PJ - P'!$D266=\"\"),\"\",'PJ - P'!B266)","v":""},{"$f":"IF('PJ - P'!C266=\"\",\"\",'PJ - P'!C266)","v":""},{"$f":"IF('PJ - P'!D266=\"\",\"\",'PJ - P'!D266)","v":""},{"$f":"IF('PJ - P'!H266=\"\",\"\",'PJ - P'!H266)","v":""},{"$f":"IF('PJ - P'!M266=\"\",\"\",'PJ - P'!M266)","v":""},null,{"$f":"IF('PJ - P'!O266=\"\",\"\",'PJ - P'!O266)","v":""}]
[null,{"$f":"IF(AND('PJ - P'!$C267=\"\",'PJ - P'!$D267=\"\"),\"\",'PJ - P'!V267)","v":""},{"$f":"IF(AND('PJ - P'!$C267=\"\",'PJ - P'!$D267=\"\"),\"\",'PJ - P'!B267)","v":""},{"$f":"IF('PJ - P'!C267=\"\",\"\",'PJ - P'!C267)","v":""},{"$f":"IF('PJ - P'!D267=\"\",\"\",'PJ - P'!D267)","v":""},{"$f":"IF('PJ - P'!H267=\"\",\"\",'PJ - P'!H267)","v":""},{"$f":"IF('PJ - P'!M267=\"\",\"\",'PJ - P'!M267)","v":""},null,{"$f":"IF('PJ - P'!O267=\"\",\"\",'PJ - P'!O267)","v":""}]
[null,{"$f":"IF(AND('PJ - P'!$C268=\"\",'PJ - P'!$D268=\"\"),\"\",'PJ - P'!V268)","v":""},{"$f":"IF(AND('PJ - P'!$C268=\"\",'PJ - P'!$D268=\"\"),\"\",'PJ - P'!B268)","v":""},{"$f":"IF('PJ - P'!C268=\"\",\"\",'PJ - P'!C268)","v":""},{"$f":"IF('PJ - P'!D268=\"\",\"\",'PJ - P'!D268)","v":""},{"$f":"IF('PJ - P'!H268=\"\",\"\",'PJ - P'!H268)","v":""},{"$f":"IF('PJ - P'!M268=\"\",\"\",'PJ - P'!M268)","v":""},null,{"$f":"IF('PJ - P'!O268=\"\",\"\",'PJ - P'!O268)","v":""}]
[null,{"$f":"IF(AND('PJ - P'!$C269=\"\",'PJ - P'!$D269=\"\"),\"\",'PJ - P'!V269)","v":""},{"$f":"IF(AND('PJ - P'!$C269=\"\",'PJ - P'!$D269=\"\"),\"\",'PJ - P'!B269)","v":""},{"$f":"IF('PJ - P'!C269=\"\",\"\",'PJ - P'!C269)","v":""},{"$f":"IF('PJ - P'!D269=\"\",\"\",'PJ - P'!D269)","v":""},{"$f":"IF('PJ - P'!H269=\"\",\"\",'PJ - P'!H269)","v":""},{"$f":"IF('PJ - P'!M269=\"\",\"\",'PJ - P'!M269)","v":""},null,{"$f":"IF('PJ - P'!O269=\"\",\"\",'PJ - P'!O269)","v":""}]
[null,{"$f":"IF(AND('PJ - P'!$C270=\"\",'PJ - P'!$D270=\"\"),\"\",'PJ - P'!V270)","v":""},{"$f":"IF(AND('PJ - P'!$C270=\"\",'PJ - P'!$D270=\"\"),\"\",'PJ - P'!B270)","v":""},{"$f":"IF('PJ - P'!C270=\"\",\"\",'PJ - P'!C270)","v":""},{"$f":"IF('PJ - P'!D270=\"\",\"\",'PJ - P'!D270)","v":""},{"$f":"IF('PJ - P'!H270=\"\",\"\",'PJ - P'!H270)","v":""},{"$f":"IF('PJ - P'!M270=\"\",\"\",'PJ - P'!M270)","v":""},null,{"$f":"IF('PJ - P'!O270=\"\",\"\",'PJ - P'!O270)","v":""}]
[null,{"$f":"IF(AND('PJ - P'!$C271=\"\",'PJ - P'!$D271=\"\"),\"\",'PJ - P'!V271)","v":""},{"$f":"IF(AND('PJ - P'!$C271=\"\",'PJ - P'!$D271=\"\"),\"\",'PJ - P'!B271)","v":""},{"$f":"IF('PJ - P'!C271=\"\",\"\",'PJ - P'!C271)","v":""},{"$f":"IF('PJ - P'!D271=\"\",\"\",'PJ - P'!D271)","v":""},{"$f":"IF('PJ - P'!H271=\"\",\"\",'PJ - P'!H271)","v":""},{"$f":"IF('PJ - P'!M271=\"\",\"\",'PJ - P'!M271)","v":""},null,{"$f":"IF('PJ - P'!O271=\"\",\"\",'PJ - P'!O271)","v":""}]
[null,{"$f":"IF(AND('PJ - P'!$C272=\"\",'PJ - P'!$D272=\"\"),\"\",'PJ - P'!V272)","v":""},{"$f":"IF(AND('PJ - P'!$C272=\"\",'PJ - P'!$D272=\"\"),\"\",'PJ - P'!B272)","v":""},{"$f":"IF('PJ - P'!C272=\"\",\"\",'PJ - P'!C272)","v":""},{"$f":"IF('PJ - P'!D272=\"\",\"\",'PJ - P'!D272)","v":""},{"$f":"IF('PJ - P'!H272=\"\",\"\",'PJ - P'!H272)","v":""},{"$f":"IF('PJ - P'!M272=\"\",\"\",'PJ - P'!M272)","v":""},null,{"$f":"IF('PJ - P'!O272=\"\",\"\",'PJ - P'!O272)","v":""}]
[null,{"$f":"IF(AND('PJ - P'!$C273=\"\",'PJ - P'!$D273=\"\"),\"\",'PJ - P'!V273)","v":""},{"$f":"IF(AND('PJ - P'!$C273=\"\",'PJ - P'!$D273=\"\"),\"\",'PJ - P'!B273)","v":""},{"$f":"IF('PJ - P'!C273=\"\",\"\",'PJ - P'!C273)","v":""},{"$f":"IF('PJ - P'!D273=\"\",\"\",'PJ - P'!D273)","v":""},{"$f":"IF('PJ - P'!H273=\"\",\"\",'PJ - P'!H273)","v":""},{"$f":"IF('PJ - P'!M273=\"\",\"\",'PJ - P'!M273)","v":""},null,{"$f":"IF('PJ - P'!O273=\"\",\"\",'PJ - P'!O273)","v":""}]
[null,{"$f":"IF(AND('PJ - P'!$C274=\"\",'PJ - P'!$D274=\"\"),\"\",'PJ - P'!V274)","v":""},{"$f":"IF(AND('PJ - P'!$C274=\"\",'PJ - P'!$D274=\"\"),\"\",'PJ - P'!B274)","v":""},{"$f":"IF('PJ - P'!C274=\"\",\"\",'PJ - P'!C274)","v":""},{"$f":"IF('PJ - P'!D274=\"\",\"\",'PJ - P'!D274)","v":""},{"$f":"IF('PJ - P'!H274=\"\",\"\",'PJ - P'!H274)","v":""},{"$f":"IF('PJ - P'!M274=\"\",\"\",'PJ - P'!M274)","v":""},null,{"$f":"IF('PJ - P'!O274=\"\",\"\",'PJ - P'!O274)","v":""}]
[null,{"$f":"IF(AND('PJ - P'!$C275=\"\",'PJ - P'!$D275=\"\"),\"\",'PJ - P'!V275)","v":""},{"$f":"IF(AND('PJ - P'!$C275=\"\",'PJ - P'!$D275=\"\"),\"\",'PJ - P'!B275)","v":""},{"$f":"IF('PJ - P'!C275=\"\",\"\",'PJ - P'!C275)","v":""},{"$f":"IF('PJ - P'!D275=\"\",\"\",'PJ - P'!D275)","v":""},{"$f":"IF('PJ - P'!H275=\"\",\"\",'PJ - P'!H275)","v":""},{"$f":"IF('PJ - P'!M275=\"\",\"\",'PJ - P'!M275)","v":""},null,{"$f":"IF('PJ - P'!O275=\"\",\"\",'PJ - P'!O275)","v":""}]
[null,{"$f":"IF(AND('PJ - P'!$C276=\"\",'PJ - P'!$D276=\"\"),\"\",'PJ - P'!V276)","v":""},{"$f":"IF(AND('PJ - P'!$C276=\"\",'PJ - P'!$D276=\"\"),\"\",'PJ - P'!B276)","v":""},{"$f":"IF('PJ - P'!C276=\"\",\"\",'PJ - P'!C276)","v":""},{"$f":"IF('PJ - P'!D276=\"\",\"\",'PJ - P'!D276)","v":""},{"$f":"IF('PJ - P'!H276=\"\",\"\",'PJ - P'!H276)","v":""},{"$f":"IF('PJ - P'!M276=\"\",\"\",'PJ - P'!M276)","v":""},null,{"$f":"IF('PJ - P'!O276=\"\",\"\",'PJ - P'!O276)","v":""}]
[null,{"$f":"IF(AND('PJ - P'!$C277=\"\",'PJ - P'!$D277=\"\"),\"\",'PJ - P'!V277)","v":""},{"$f":"IF(AND('PJ - P'!$C277=\"\",'PJ - P'!$D277=\"\"),\"\",'PJ - P'!B277)","v":""},{"$f":"IF('PJ - P'!C277=\"\",\"\",'PJ - P'!C277)","v":""},{"$f":"IF('PJ - P'!D277=\"\",\"\",'PJ - P'!D277)","v":""},{"$f":"IF('PJ - P'!H277=\"\",\"\",'PJ - P'!H277)","v":""},{"$f":"IF('PJ - P'!M277=\"\",\"\",'PJ - P'!M277)","v":""},null,{"$f":"IF('PJ - P'!O277=\"\",\"\",'PJ - P'!O277)","v":""}]
[null,{"$f":"IF(AND('PJ - P'!$C278=\"\",'PJ - P'!$D278=\"\"),\"\",'PJ - P'!V278)","v":""},{"$f":"IF(AND('PJ - P'!$C278=\"\",'PJ - P'!$D278=\"\"),\"\",'PJ - P'!B278)","v":""},{"$f":"IF('PJ - P'!C278=\"\",\"\",'PJ - P'!C278)","v":""},{"$f":"IF('PJ - P'!D278=\"\",\"\",'PJ - P'!D278)","v":""},{"$f":"IF('PJ - P'!H278=\"\",\"\",'PJ - P'!H278)","v":""},{"$f":"IF('PJ - P'!M278=\"\",\"\",'PJ - P'!M278)","v":""},null,{"$f":"IF('PJ - P'!O278=\"\",\"\",'PJ - P'!O278)","v":""}]
[null,{"$f":"IF(AND('PJ - P'!$C279=\"\",'PJ - P'!$D279=\"\"),\"\",'PJ - P'!V279)","v":""},{"$f":"IF(AND('PJ - P'!$C279=\"\",'PJ - P'!$D279=\"\"),\"\",'PJ - P'!B279)","v":""},{"$f":"IF('PJ - P'!C279=\"\",\"\",'PJ - P'!C279)","v":""},{"$f":"IF('PJ - P'!D279=\"\",\"\",'PJ - P'!D279)","v":""},{"$f":"IF('PJ - P'!H279=\"\",\"\",'PJ - P'!H279)","v":""},{"$f":"IF('PJ - P'!M279=\"\",\"\",'PJ - P'!M279)","v":""},null,{"$f":"IF('PJ - P'!O279=\"\",\"\",'PJ - P'!O279)","v":""}]
[null,{"$f":"IF(AND('PJ - P'!$C280=\"\",'PJ - P'!$D280=\"\"),\"\",'PJ - P'!V280)","v":""},{"$f":"IF(AND('PJ - P'!$C280=\"\",'PJ - P'!$D280=\"\"),\"\",'PJ - P'!B280)","v":""},{"$f":"IF('PJ - P'!C280=\"\",\"\",'PJ - P'!C280)","v":""},{"$f":"IF('PJ - P'!D280=\"\",\"\",'PJ - P'!D280)","v":""},{"$f":"IF('PJ - P'!H280=\"\",\"\",'PJ - P'!H280)","v":""},{"$f":"IF('PJ - P'!M280=\"\",\"\",'PJ - P'!M280)","v":""},null,{"$f":"IF('PJ - P'!O280=\"\",\"\",'PJ - P'!O280)","v":""}]
[null,{"$f":"IF(AND('PJ - P'!$C281=\"\",'PJ - P'!$D281=\"\"),\"\",'PJ - P'!V281)","v":""},{"$f":"IF(AND('PJ - P'!$C281=\"\",'PJ - P'!$D281=\"\"),\"\",'PJ - P'!B281)","v":""},{"$f":"IF('PJ - P'!C281=\"\",\"\",'PJ - P'!C281)","v":""},{"$f":"IF('PJ - P'!D281=\"\",\"\",'PJ - P'!D281)","v":""},{"$f":"IF('PJ - P'!H281=\"\",\"\",'PJ - P'!H281)","v":""},{"$f":"IF('PJ - P'!M281=\"\",\"\",'PJ - P'!M281)","v":""},null,{"$f":"IF('PJ - P'!O281=\"\",\"\",'PJ - P'!O281)","v":""}]
[null,{"$f":"IF(AND('PJ - P'!$C282=\"\",'PJ - P'!$D282=\"\"),\"\",'PJ - P'!V282)","v":""},{"$f":"IF(AND('PJ - P'!$C282=\"\",'PJ - P'!$D282=\"\"),\"\",'PJ - P'!B282)","v":""},{"$f":"IF('PJ - P'!C282=\"\",\"\",'PJ - P'!C282)","v":""},{"$f":"IF('PJ - P'!D282=\"\",\"\",'PJ - P'!D282)","v":""},{"$f":"IF('PJ - P'!H282=\"\",\"\",'PJ - P'!H282)","v":""},{"$f":"IF('PJ - P'!M282=\"\",\"\",'PJ - P'!M282)","v":""},null,{"$f":"IF('PJ - P'!O282=\"\",\"\",'PJ - P'!O282)","v":""}]
[null,{"$f":"IF(AND('PJ - P'!$C283=\"\",'PJ - P'!$D283=\"\"),\"\",'PJ - P'!V283)","v":""},{"$f":"IF(AND('PJ - P'!$C283=\"\",'PJ - P'!$D283=\"\"),\"\",'PJ - P'!B283)","v":""},{"$f":"IF('PJ - P'!C283=\"\",\"\",'PJ - P'!C283)","v":""},{"$f":"IF('PJ - P'!D283=\"\",\"\",'PJ - P'!D283)","v":""},{"$f":"IF('PJ - P'!H283=\"\",\"\",'PJ - P'!H283)","v":""},{"$f":"IF('PJ - P'!M283=\"\",\"\",'PJ - P'!M283)","v":""},null,{"$f":"IF('PJ - P'!O283=\"\",\"\",'PJ - P'!O283)","v":""}]
[null,{"$f":"IF(AND('PJ - P'!$C284=\"\",'PJ - P'!$D284=\"\"),\"\",'PJ - P'!V284)","v":""},{"$f":"IF(AND('PJ - P'!$C284=\"\",'PJ - P'!$D284=\"\"),\"\",'PJ - P'!B284)","v":""},{"$f":"IF('PJ - P'!C284=\"\",\"\",'PJ - P'!C284)","v":""},{"$f":"IF('PJ - P'!D284=\"\",\"\",'PJ - P'!D284)","v":""},{"$f":"IF('PJ - P'!H284=\"\",\"\",'PJ - P'!H284)","v":""},{"$f":"IF('PJ - P'!M284=\"\",\"\",'PJ - P'!M284)","v":""},null,{"$f":"IF('PJ - P'!O284=\"\",\"\",'PJ - P'!O284)","v":""}]
[null,{"$f":"IF(AND('PJ - P'!$C285=\"\",'PJ - P'!$D285=\"\"),\"\",'PJ - P'!V285)","v":""},{"$f":"IF(AND('PJ - P'!$C285=\"\",'PJ - P'!$D285=\"\"),\"\",'PJ - P'!B285)","v":""},{"$f":"IF('PJ - P'!C285=\"\",\"\",'PJ - P'!C285)","v":""},{"$f":"IF('PJ - P'!D285=\"\",\"\",'PJ - P'!D285)","v":""},{"$f":"IF('PJ - P'!H285=\"\",\"\",'PJ - P'!H285)","v":""},{"$f":"IF('PJ - P'!M285=\"\",\"\",'PJ - P'!M285)","v":""},null,{"$f":"IF('PJ - P'!O285=\"\",\"\",'PJ - P'!O285)","v":""}]
[null,{"$f":"IF(AND('PJ - P'!$C286=\"\",'PJ - P'!$D286=\"\"),\"\",'PJ - P'!V286)","v":""},{"$f":"IF(AND('PJ - P'!$C286=\"\",'PJ - P'!$D286=\"\"),\"\",'PJ - P'!B286)","v":""},{"$f":"IF('PJ - P'!C286=\"\",\"\",'PJ - P'!C286)","v":""},{"$f":"IF('PJ - P'!D286=\"\",\"\",'PJ - P'!D286)","v":""},{"$f":"IF('PJ - P'!H286=\"\",\"\",'PJ - P'!H286)","v":""},{"$f":"IF('PJ - P'!M286=\"\",\"\",'PJ - P'!M286)","v":""},null,{"$f":"IF('PJ - P'!O286=\"\",\"\",'PJ - P'!O286)","v":""}]
[null,{"$f":"IF(AND('PJ - P'!$C287=\"\",'PJ - P'!$D287=\"\"),\"\",'PJ - P'!V287)","v":""},{"$f":"IF(AND('PJ - P'!$C287=\"\",'PJ - P'!$D287=\"\"),\"\",'PJ - P'!B287)","v":""},{"$f":"IF('PJ - P'!C287=\"\",\"\",'PJ - P'!C287)","v":""},{"$f":"IF('PJ - P'!D287=\"\",\"\",'PJ - P'!D287)","v":""},{"$f":"IF('PJ - P'!H287=\"\",\"\",'PJ - P'!H287)","v":""},{"$f":"IF('PJ - P'!M287=\"\",\"\",'PJ - P'!M287)","v":""},null,{"$f":"IF('PJ - P'!O287=\"\",\"\",'PJ - P'!O287)","v":""}]
[null,{"$f":"IF(AND('PJ - P'!$C288=\"\",'PJ - P'!$D288=\"\"),\"\",'PJ - P'!V288)","v":""},{"$f":"IF(AND('PJ - P'!$C288=\"\",'PJ - P'!$D288=\"\"),\"\",'PJ - P'!B288)","v":""},{"$f":"IF('PJ - P'!C288=\"\",\"\",'PJ - P'!C288)","v":""},{"$f":"IF('PJ - P'!D288=\"\",\"\",'PJ - P'!D288)","v":""},{"$f":"IF('PJ - P'!H288=\"\",\"\",'PJ - P'!H288)","v":""},{"$f":"IF('PJ - P'!M288=\"\",\"\",'PJ - P'!M288)","v":""},null,{"$f":"IF('PJ - P'!O288=\"\",\"\",'PJ - P'!O288)","v":""}]
[null,{"$f":"B$1","v":"Běh na 100m s přek. - Pořadí jednotlivců"}]
[]
[null,{"$f":"B$3","v":"VC ČR v požárním útoku družstev HZS krajů a HZS podniků"},null,null,{"$f":"E$3","v":"Petrovice 19.9.2019"}]
[]
[null,{"$f":"Start!$C$5","v":"MUŽI"}]
[null,"Pořadí","Start. číslo","Jméno","kolektiv","čas             I. pokusu","čas            II. pokusu",null,"Výsledný čas"]
[]
[null,{"$f":"IF(AND('PJ - P'!$C289=\"\",'PJ - P'!$D289=\"\"),\"\",'PJ - P'!V289)","v":""},{"$f":"IF(AND('PJ - P'!$C289=\"\",'PJ - P'!$D289=\"\"),\"\",'PJ - P'!B289)","v":""},{"$f":"IF('PJ - P'!C289=\"\",\"\",'PJ - P'!C289)","v":""},{"$f":"IF('PJ - P'!D289=\"\",\"\",'PJ - P'!D289)","v":""},{"$f":"IF('PJ - P'!H289=\"\",\"\",'PJ - P'!H289)","v":""},{"$f":"IF('PJ - P'!M289=\"\",\"\",'PJ - P'!M289)","v":""},null,{"$f":"IF('PJ - P'!O289=\"\",\"\",'PJ - P'!O289)","v":""}]
[null,{"$f":"IF(AND('PJ - P'!$C290=\"\",'PJ - P'!$D290=\"\"),\"\",'PJ - P'!V290)","v":""},{"$f":"IF(AND('PJ - P'!$C290=\"\",'PJ - P'!$D290=\"\"),\"\",'PJ - P'!B290)","v":""},{"$f":"IF('PJ - P'!C290=\"\",\"\",'PJ - P'!C290)","v":""},{"$f":"IF('PJ - P'!D290=\"\",\"\",'PJ - P'!D290)","v":""},{"$f":"IF('PJ - P'!H290=\"\",\"\",'PJ - P'!H290)","v":""},{"$f":"IF('PJ - P'!M290=\"\",\"\",'PJ - P'!M290)","v":""},null,{"$f":"IF('PJ - P'!O290=\"\",\"\",'PJ - P'!O290)","v":""}]
[null,{"$f":"IF(AND('PJ - P'!$C291=\"\",'PJ - P'!$D291=\"\"),\"\",'PJ - P'!V291)","v":""},{"$f":"IF(AND('PJ - P'!$C291=\"\",'PJ - P'!$D291=\"\"),\"\",'PJ - P'!B291)","v":""},{"$f":"IF('PJ - P'!C291=\"\",\"\",'PJ - P'!C291)","v":""},{"$f":"IF('PJ - P'!D291=\"\",\"\",'PJ - P'!D291)","v":""},{"$f":"IF('PJ - P'!H291=\"\",\"\",'PJ - P'!H291)","v":""},{"$f":"IF('PJ - P'!M291=\"\",\"\",'PJ - P'!M291)","v":""},null,{"$f":"IF('PJ - P'!O291=\"\",\"\",'PJ - P'!O291)","v":""}]
[null,{"$f":"IF(AND('PJ - P'!$C292=\"\",'PJ - P'!$D292=\"\"),\"\",'PJ - P'!V292)","v":""},{"$f":"IF(AND('PJ - P'!$C292=\"\",'PJ - P'!$D292=\"\"),\"\",'PJ - P'!B292)","v":""},{"$f":"IF('PJ - P'!C292=\"\",\"\",'PJ - P'!C292)","v":""},{"$f":"IF('PJ - P'!D292=\"\",\"\",'PJ - P'!D292)","v":""},{"$f":"IF('PJ - P'!H292=\"\",\"\",'PJ - P'!H292)","v":""},{"$f":"IF('PJ - P'!M292=\"\",\"\",'PJ - P'!M292)","v":""},null,{"$f":"IF('PJ - P'!O292=\"\",\"\",'PJ - P'!O292)","v":""}]
[null,{"$f":"IF(AND('PJ - P'!$C293=\"\",'PJ - P'!$D293=\"\"),\"\",'PJ - P'!V293)","v":""},{"$f":"IF(AND('PJ - P'!$C293=\"\",'PJ - P'!$D293=\"\"),\"\",'PJ - P'!B293)","v":""},{"$f":"IF('PJ - P'!C293=\"\",\"\",'PJ - P'!C293)","v":""},{"$f":"IF('PJ - P'!D293=\"\",\"\",'PJ - P'!D293)","v":""},{"$f":"IF('PJ - P'!H293=\"\",\"\",'PJ - P'!H293)","v":""},{"$f":"IF('PJ - P'!M293=\"\",\"\",'PJ - P'!M293)","v":""},null,{"$f":"IF('PJ - P'!O293=\"\",\"\",'PJ - P'!O293)","v":""}]
[null,{"$f":"IF(AND('PJ - P'!$C294=\"\",'PJ - P'!$D294=\"\"),\"\",'PJ - P'!V294)","v":""},{"$f":"IF(AND('PJ - P'!$C294=\"\",'PJ - P'!$D294=\"\"),\"\",'PJ - P'!B294)","v":""},{"$f":"IF('PJ - P'!C294=\"\",\"\",'PJ - P'!C294)","v":""},{"$f":"IF('PJ - P'!D294=\"\",\"\",'PJ - P'!D294)","v":""},{"$f":"IF('PJ - P'!H294=\"\",\"\",'PJ - P'!H294)","v":""},{"$f":"IF('PJ - P'!M294=\"\",\"\",'PJ - P'!M294)","v":""},null,{"$f":"IF('PJ - P'!O294=\"\",\"\",'PJ - P'!O294)","v":""}]
[null,{"$f":"IF(AND('PJ - P'!$C295=\"\",'PJ - P'!$D295=\"\"),\"\",'PJ - P'!V295)","v":""},{"$f":"IF(AND('PJ - P'!$C295=\"\",'PJ - P'!$D295=\"\"),\"\",'PJ - P'!B295)","v":""},{"$f":"IF('PJ - P'!C295=\"\",\"\",'PJ - P'!C295)","v":""},{"$f":"IF('PJ - P'!D295=\"\",\"\",'PJ - P'!D295)","v":""},{"$f":"IF('PJ - P'!H295=\"\",\"\",'PJ - P'!H295)","v":""},{"$f":"IF('PJ - P'!M295=\"\",\"\",'PJ - P'!M295)","v":""},null,{"$f":"IF('PJ - P'!O295=\"\",\"\",'PJ - P'!O295)","v":""}]
[null,{"$f":"IF(AND('PJ - P'!$C296=\"\",'PJ - P'!$D296=\"\"),\"\",'PJ - P'!V296)","v":""},{"$f":"IF(AND('PJ - P'!$C296=\"\",'PJ - P'!$D296=\"\"),\"\",'PJ - P'!B296)","v":""},{"$f":"IF('PJ - P'!C296=\"\",\"\",'PJ - P'!C296)","v":""},{"$f":"IF('PJ - P'!D296=\"\",\"\",'PJ - P'!D296)","v":""},{"$f":"IF('PJ - P'!H296=\"\",\"\",'PJ - P'!H296)","v":""},{"$f":"IF('PJ - P'!M296=\"\",\"\",'PJ - P'!M296)","v":""},null,{"$f":"IF('PJ - P'!O296=\"\",\"\",'PJ - P'!O296)","v":""}]
[null,{"$f":"IF(AND('PJ - P'!$C297=\"\",'PJ - P'!$D297=\"\"),\"\",'PJ - P'!V297)","v":""},{"$f":"IF(AND('PJ - P'!$C297=\"\",'PJ - P'!$D297=\"\"),\"\",'PJ - P'!B297)","v":""},{"$f":"IF('PJ - P'!C297=\"\",\"\",'PJ - P'!C297)","v":""},{"$f":"IF('PJ - P'!D297=\"\",\"\",'PJ - P'!D297)","v":""},{"$f":"IF('PJ - P'!H297=\"\",\"\",'PJ - P'!H297)","v":""},{"$f":"IF('PJ - P'!M297=\"\",\"\",'PJ - P'!M297)","v":""},null,{"$f":"IF('PJ - P'!O297=\"\",\"\",'PJ - P'!O297)","v":""}]
[null,{"$f":"IF(AND('PJ - P'!$C298=\"\",'PJ - P'!$D298=\"\"),\"\",'PJ - P'!V298)","v":""},{"$f":"IF(AND('PJ - P'!$C298=\"\",'PJ - P'!$D298=\"\"),\"\",'PJ - P'!B298)","v":""},{"$f":"IF('PJ - P'!C298=\"\",\"\",'PJ - P'!C298)","v":""},{"$f":"IF('PJ - P'!D298=\"\",\"\",'PJ - P'!D298)","v":""},{"$f":"IF('PJ - P'!H298=\"\",\"\",'PJ - P'!H298)","v":""},{"$f":"IF('PJ - P'!M298=\"\",\"\",'PJ - P'!M298)","v":""},null,{"$f":"IF('PJ - P'!O298=\"\",\"\",'PJ - P'!O298)","v":""}]
[null,{"$f":"IF(AND('PJ - P'!$C299=\"\",'PJ - P'!$D299=\"\"),\"\",'PJ - P'!V299)","v":""},{"$f":"IF(AND('PJ - P'!$C299=\"\",'PJ - P'!$D299=\"\"),\"\",'PJ - P'!B299)","v":""},{"$f":"IF('PJ - P'!C299=\"\",\"\",'PJ - P'!C299)","v":""},{"$f":"IF('PJ - P'!D299=\"\",\"\",'PJ - P'!D299)","v":""},{"$f":"IF('PJ - P'!H299=\"\",\"\",'PJ - P'!H299)","v":""},{"$f":"IF('PJ - P'!M299=\"\",\"\",'PJ - P'!M299)","v":""},null,{"$f":"IF('PJ - P'!O299=\"\",\"\",'PJ - P'!O299)","v":""}]
[null,{"$f":"IF(AND('PJ - P'!$C300=\"\",'PJ - P'!$D300=\"\"),\"\",'PJ - P'!V300)","v":""},{"$f":"IF(AND('PJ - P'!$C300=\"\",'PJ - P'!$D300=\"\"),\"\",'PJ - P'!B300)","v":""},{"$f":"IF('PJ - P'!C300=\"\",\"\",'PJ - P'!C300)","v":""},{"$f":"IF('PJ - P'!D300=\"\",\"\",'PJ - P'!D300)","v":""},{"$f":"IF('PJ - P'!H300=\"\",\"\",'PJ - P'!H300)","v":""},{"$f":"IF('PJ - P'!M300=\"\",\"\",'PJ - P'!M300)","v":""},null,{"$f":"IF('PJ - P'!O300=\"\",\"\",'PJ - P'!O300)","v":""}]
[null,{"$f":"IF(AND('PJ - P'!$C301=\"\",'PJ - P'!$D301=\"\"),\"\",'PJ - P'!V301)","v":""},{"$f":"IF(AND('PJ - P'!$C301=\"\",'PJ - P'!$D301=\"\"),\"\",'PJ - P'!B301)","v":""},{"$f":"IF('PJ - P'!C301=\"\",\"\",'PJ - P'!C301)","v":""},{"$f":"IF('PJ - P'!D301=\"\",\"\",'PJ - P'!D301)","v":""},{"$f":"IF('PJ - P'!H301=\"\",\"\",'PJ - P'!H301)","v":""},{"$f":"IF('PJ - P'!M301=\"\",\"\",'PJ - P'!M301)","v":""},null,{"$f":"IF('PJ - P'!O301=\"\",\"\",'PJ - P'!O301)","v":""}]
[null,{"$f":"IF(AND('PJ - P'!$C302=\"\",'PJ - P'!$D302=\"\"),\"\",'PJ - P'!V302)","v":""},{"$f":"IF(AND('PJ - P'!$C302=\"\",'PJ - P'!$D302=\"\"),\"\",'PJ - P'!B302)","v":""},{"$f":"IF('PJ - P'!C302=\"\",\"\",'PJ - P'!C302)","v":""},{"$f":"IF('PJ - P'!D302=\"\",\"\",'PJ - P'!D302)","v":""},{"$f":"IF('PJ - P'!H302=\"\",\"\",'PJ - P'!H302)","v":""},{"$f":"IF('PJ - P'!M302=\"\",\"\",'PJ - P'!M302)","v":""},null,{"$f":"IF('PJ - P'!O302=\"\",\"\",'PJ - P'!O302)","v":""}]
[null,{"$f":"IF(AND('PJ - P'!$C303=\"\",'PJ - P'!$D303=\"\"),\"\",'PJ - P'!V303)","v":""},{"$f":"IF(AND('PJ - P'!$C303=\"\",'PJ - P'!$D303=\"\"),\"\",'PJ - P'!B303)","v":""},{"$f":"IF('PJ - P'!C303=\"\",\"\",'PJ - P'!C303)","v":""},{"$f":"IF('PJ - P'!D303=\"\",\"\",'PJ - P'!D303)","v":""},{"$f":"IF('PJ - P'!H303=\"\",\"\",'PJ - P'!H303)","v":""},{"$f":"IF('PJ - P'!M303=\"\",\"\",'PJ - P'!M303)","v":""},null,{"$f":"IF('PJ - P'!O303=\"\",\"\",'PJ - P'!O303)","v":""}]
[null,{"$f":"IF(AND('PJ - P'!$C304=\"\",'PJ - P'!$D304=\"\"),\"\",'PJ - P'!V304)","v":""},{"$f":"IF(AND('PJ - P'!$C304=\"\",'PJ - P'!$D304=\"\"),\"\",'PJ - P'!B304)","v":""},{"$f":"IF('PJ - P'!C304=\"\",\"\",'PJ - P'!C304)","v":""},{"$f":"IF('PJ - P'!D304=\"\",\"\",'PJ - P'!D304)","v":""},{"$f":"IF('PJ - P'!H304=\"\",\"\",'PJ - P'!H304)","v":""},{"$f":"IF('PJ - P'!M304=\"\",\"\",'PJ - P'!M304)","v":""},null,{"$f":"IF('PJ - P'!O304=\"\",\"\",'PJ - P'!O304)","v":""}]
[null,{"$f":"IF(AND('PJ - P'!$C305=\"\",'PJ - P'!$D305=\"\"),\"\",'PJ - P'!V305)","v":""},{"$f":"IF(AND('PJ - P'!$C305=\"\",'PJ - P'!$D305=\"\"),\"\",'PJ - P'!B305)","v":""},{"$f":"IF('PJ - P'!C305=\"\",\"\",'PJ - P'!C305)","v":""},{"$f":"IF('PJ - P'!D305=\"\",\"\",'PJ - P'!D305)","v":""},{"$f":"IF('PJ - P'!H305=\"\",\"\",'PJ - P'!H305)","v":""},{"$f":"IF('PJ - P'!M305=\"\",\"\",'PJ - P'!M305)","v":""},null,{"$f":"IF('PJ - P'!O305=\"\",\"\",'PJ - P'!O305)","v":""}]
[null,{"$f":"IF(AND('PJ - P'!$C306=\"\",'PJ - P'!$D306=\"\"),\"\",'PJ - P'!V306)","v":""},{"$f":"IF(AND('PJ - P'!$C306=\"\",'PJ - P'!$D306=\"\"),\"\",'PJ - P'!B306)","v":""},{"$f":"IF('PJ - P'!C306=\"\",\"\",'PJ - P'!C306)","v":""},{"$f":"IF('PJ - P'!D306=\"\",\"\",'PJ - P'!D306)","v":""},{"$f":"IF('PJ - P'!H306=\"\",\"\",'PJ - P'!H306)","v":""},{"$f":"IF('PJ - P'!M306=\"\",\"\",'PJ - P'!M306)","v":""},null,{"$f":"IF('PJ - P'!O306=\"\",\"\",'PJ - P'!O306)","v":""}]
[null,{"$f":"IF(AND('PJ - P'!$C307=\"\",'PJ - P'!$D307=\"\"),\"\",'PJ - P'!V307)","v":""},{"$f":"IF(AND('PJ - P'!$C307=\"\",'PJ - P'!$D307=\"\"),\"\",'PJ - P'!B307)","v":""},{"$f":"IF('PJ - P'!C307=\"\",\"\",'PJ - P'!C307)","v":""},{"$f":"IF('PJ - P'!D307=\"\",\"\",'PJ - P'!D307)","v":""},{"$f":"IF('PJ - P'!H307=\"\",\"\",'PJ - P'!H307)","v":""},{"$f":"IF('PJ - P'!M307=\"\",\"\",'PJ - P'!M307)","v":""},null,{"$f":"IF('PJ - P'!O307=\"\",\"\",'PJ - P'!O307)","v":""}]
[null,{"$f":"IF(AND('PJ - P'!$C308=\"\",'PJ - P'!$D308=\"\"),\"\",'PJ - P'!V308)","v":""},{"$f":"IF(AND('PJ - P'!$C308=\"\",'PJ - P'!$D308=\"\"),\"\",'PJ - P'!B308)","v":""},{"$f":"IF('PJ - P'!C308=\"\",\"\",'PJ - P'!C308)","v":""},{"$f":"IF('PJ - P'!D308=\"\",\"\",'PJ - P'!D308)","v":""},{"$f":"IF('PJ - P'!H308=\"\",\"\",'PJ - P'!H308)","v":""},{"$f":"IF('PJ - P'!M308=\"\",\"\",'PJ - P'!M308)","v":""},null,{"$f":"IF('PJ - P'!O308=\"\",\"\",'PJ - P'!O308)","v":""}]
[null,{"$f":"IF(AND('PJ - P'!$C309=\"\",'PJ - P'!$D309=\"\"),\"\",'PJ - P'!V309)","v":""},{"$f":"IF(AND('PJ - P'!$C309=\"\",'PJ - P'!$D309=\"\"),\"\",'PJ - P'!B309)","v":""},{"$f":"IF('PJ - P'!C309=\"\",\"\",'PJ - P'!C309)","v":""},{"$f":"IF('PJ - P'!D309=\"\",\"\",'PJ - P'!D309)","v":""},{"$f":"IF('PJ - P'!H309=\"\",\"\",'PJ - P'!H309)","v":""},{"$f":"IF('PJ - P'!M309=\"\",\"\",'PJ - P'!M309)","v":""},null,{"$f":"IF('PJ - P'!O309=\"\",\"\",'PJ - P'!O309)","v":""}]
[null,{"$f":"IF(AND('PJ - P'!$C310=\"\",'PJ - P'!$D310=\"\"),\"\",'PJ - P'!V310)","v":""},{"$f":"IF(AND('PJ - P'!$C310=\"\",'PJ - P'!$D310=\"\"),\"\",'PJ - P'!B310)","v":""},{"$f":"IF('PJ - P'!C310=\"\",\"\",'PJ - P'!C310)","v":""},{"$f":"IF('PJ - P'!D310=\"\",\"\",'PJ - P'!D310)","v":""},{"$f":"IF('PJ - P'!H310=\"\",\"\",'PJ - P'!H310)","v":""},{"$f":"IF('PJ - P'!M310=\"\",\"\",'PJ - P'!M310)","v":""},null,{"$f":"IF('PJ - P'!O310=\"\",\"\",'PJ - P'!O310)","v":""}]
[null,{"$f":"IF(AND('PJ - P'!$C311=\"\",'PJ - P'!$D311=\"\"),\"\",'PJ - P'!V311)","v":""},{"$f":"IF(AND('PJ - P'!$C311=\"\",'PJ - P'!$D311=\"\"),\"\",'PJ - P'!B311)","v":""},{"$f":"IF('PJ - P'!C311=\"\",\"\",'PJ - P'!C311)","v":""},{"$f":"IF('PJ - P'!D311=\"\",\"\",'PJ - P'!D311)","v":""},{"$f":"IF('PJ - P'!H311=\"\",\"\",'PJ - P'!H311)","v":""},{"$f":"IF('PJ - P'!M311=\"\",\"\",'PJ - P'!M311)","v":""},null,{"$f":"IF('PJ - P'!O311=\"\",\"\",'PJ - P'!O311)","v":""}]
[null,{"$f":"IF(AND('PJ - P'!$C312=\"\",'PJ - P'!$D312=\"\"),\"\",'PJ - P'!V312)","v":""},{"$f":"IF(AND('PJ - P'!$C312=\"\",'PJ - P'!$D312=\"\"),\"\",'PJ - P'!B312)","v":""},{"$f":"IF('PJ - P'!C312=\"\",\"\",'PJ - P'!C312)","v":""},{"$f":"IF('PJ - P'!D312=\"\",\"\",'PJ - P'!D312)","v":""},{"$f":"IF('PJ - P'!H312=\"\",\"\",'PJ - P'!H312)","v":""},{"$f":"IF('PJ - P'!M312=\"\",\"\",'PJ - P'!M312)","v":""},null,{"$f":"IF('PJ - P'!O312=\"\",\"\",'PJ - P'!O312)","v":""}]
[null,{"$f":"IF(AND('PJ - P'!$C313=\"\",'PJ - P'!$D313=\"\"),\"\",'PJ - P'!V313)","v":""},{"$f":"IF(AND('PJ - P'!$C313=\"\",'PJ - P'!$D313=\"\"),\"\",'PJ - P'!B313)","v":""},{"$f":"IF('PJ - P'!C313=\"\",\"\",'PJ - P'!C313)","v":""},{"$f":"IF('PJ - P'!D313=\"\",\"\",'PJ - P'!D313)","v":""},{"$f":"IF('PJ - P'!H313=\"\",\"\",'PJ - P'!H313)","v":""},{"$f":"IF('PJ - P'!M313=\"\",\"\",'PJ - P'!M313)","v":""},null,{"$f":"IF('PJ - P'!O313=\"\",\"\",'PJ - P'!O313)","v":""}]
[null,{"$f":"IF(AND('PJ - P'!$C314=\"\",'PJ - P'!$D314=\"\"),\"\",'PJ - P'!V314)","v":""},{"$f":"IF(AND('PJ - P'!$C314=\"\",'PJ - P'!$D314=\"\"),\"\",'PJ - P'!B314)","v":""},{"$f":"IF('PJ - P'!C314=\"\",\"\",'PJ - P'!C314)","v":""},{"$f":"IF('PJ - P'!D314=\"\",\"\",'PJ - P'!D314)","v":""},{"$f":"IF('PJ - P'!H314=\"\",\"\",'PJ - P'!H314)","v":""},{"$f":"IF('PJ - P'!M314=\"\",\"\",'PJ - P'!M314)","v":""},null,{"$f":"IF('PJ - P'!O314=\"\",\"\",'PJ - P'!O314)","v":""}]
[null,{"$f":"IF(AND('PJ - P'!$C315=\"\",'PJ - P'!$D315=\"\"),\"\",'PJ - P'!V315)","v":""},{"$f":"IF(AND('PJ - P'!$C315=\"\",'PJ - P'!$D315=\"\"),\"\",'PJ - P'!B315)","v":""},{"$f":"IF('PJ - P'!C315=\"\",\"\",'PJ - P'!C315)","v":""},{"$f":"IF('PJ - P'!D315=\"\",\"\",'PJ - P'!D315)","v":""},{"$f":"IF('PJ - P'!H315=\"\",\"\",'PJ - P'!H315)","v":""},{"$f":"IF('PJ - P'!M315=\"\",\"\",'PJ - P'!M315)","v":""},null,{"$f":"IF('PJ - P'!O315=\"\",\"\",'PJ - P'!O315)","v":""}]
[null,{"$f":"IF(AND('PJ - P'!$C316=\"\",'PJ - P'!$D316=\"\"),\"\",'PJ - P'!V316)","v":""},{"$f":"IF(AND('PJ - P'!$C316=\"\",'PJ - P'!$D316=\"\"),\"\",'PJ - P'!B316)","v":""},{"$f":"IF('PJ - P'!C316=\"\",\"\",'PJ - P'!C316)","v":""},{"$f":"IF('PJ - P'!D316=\"\",\"\",'PJ - P'!D316)","v":""},{"$f":"IF('PJ - P'!H316=\"\",\"\",'PJ - P'!H316)","v":""},{"$f":"IF('PJ - P'!M316=\"\",\"\",'PJ - P'!M316)","v":""},null,{"$f":"IF('PJ - P'!O316=\"\",\"\",'PJ - P'!O316)","v":""}]
[null,{"$f":"IF(AND('PJ - P'!$C317=\"\",'PJ - P'!$D317=\"\"),\"\",'PJ - P'!V317)","v":""},{"$f":"IF(AND('PJ - P'!$C317=\"\",'PJ - P'!$D317=\"\"),\"\",'PJ - P'!B317)","v":""},{"$f":"IF('PJ - P'!C317=\"\",\"\",'PJ - P'!C317)","v":""},{"$f":"IF('PJ - P'!D317=\"\",\"\",'PJ - P'!D317)","v":""},{"$f":"IF('PJ - P'!H317=\"\",\"\",'PJ - P'!H317)","v":""},{"$f":"IF('PJ - P'!M317=\"\",\"\",'PJ - P'!M317)","v":""},null,{"$f":"IF('PJ - P'!O317=\"\",\"\",'PJ - P'!O317)","v":""}]
[null,{"$f":"IF(AND('PJ - P'!$C318=\"\",'PJ - P'!$D318=\"\"),\"\",'PJ - P'!V318)","v":""},{"$f":"IF(AND('PJ - P'!$C318=\"\",'PJ - P'!$D318=\"\"),\"\",'PJ - P'!B318)","v":""},{"$f":"IF('PJ - P'!C318=\"\",\"\",'PJ - P'!C318)","v":""},{"$f":"IF('PJ - P'!D318=\"\",\"\",'PJ - P'!D318)","v":""},{"$f":"IF('PJ - P'!H318=\"\",\"\",'PJ - P'!H318)","v":""},{"$f":"IF('PJ - P'!M318=\"\",\"\",'PJ - P'!M318)","v":""},null,{"$f":"IF('PJ - P'!O318=\"\",\"\",'PJ - P'!O318)","v":""}]
[null,{"$f":"IF(AND('PJ - P'!$C319=\"\",'PJ - P'!$D319=\"\"),\"\",'PJ - P'!V319)","v":""},{"$f":"IF(AND('PJ - P'!$C319=\"\",'PJ - P'!$D319=\"\"),\"\",'PJ - P'!B319)","v":""},{"$f":"IF('PJ - P'!C319=\"\",\"\",'PJ - P'!C319)","v":""},{"$f":"IF('PJ - P'!D319=\"\",\"\",'PJ - P'!D319)","v":""},{"$f":"IF('PJ - P'!H319=\"\",\"\",'PJ - P'!H319)","v":""},{"$f":"IF('PJ - P'!M319=\"\",\"\",'PJ - P'!M319)","v":""},null,{"$f":"IF('PJ - P'!O319=\"\",\"\",'PJ - P'!O319)","v":""}]
[null,{"$f":"IF(AND('PJ - P'!$C320=\"\",'PJ - P'!$D320=\"\"),\"\",'PJ - P'!V320)","v":""},{"$f":"IF(AND('PJ - P'!$C320=\"\",'PJ - P'!$D320=\"\"),\"\",'PJ - P'!B320)","v":""},{"$f":"IF('PJ - P'!C320=\"\",\"\",'PJ - P'!C320)","v":""},{"$f":"IF('PJ - P'!D320=\"\",\"\",'PJ - P'!D320)","v":""},{"$f":"IF('PJ - P'!H320=\"\",\"\",'PJ - P'!H320)","v":""},{"$f":"IF('PJ - P'!M320=\"\",\"\",'PJ - P'!M320)","v":""},null,{"$f":"IF('PJ - P'!O320=\"\",\"\",'PJ - P'!O320)","v":""}]
[null,{"$f":"IF(AND('PJ - P'!$C321=\"\",'PJ - P'!$D321=\"\"),\"\",'PJ - P'!V321)","v":""},{"$f":"IF(AND('PJ - P'!$C321=\"\",'PJ - P'!$D321=\"\"),\"\",'PJ - P'!B321)","v":""},{"$f":"IF('PJ - P'!C321=\"\",\"\",'PJ - P'!C321)","v":""},{"$f":"IF('PJ - P'!D321=\"\",\"\",'PJ - P'!D321)","v":""},{"$f":"IF('PJ - P'!H321=\"\",\"\",'PJ - P'!H321)","v":""},{"$f":"IF('PJ - P'!M321=\"\",\"\",'PJ - P'!M321)","v":""},null,{"$f":"IF('PJ - P'!O321=\"\",\"\",'PJ - P'!O321)","v":""}]
[null,{"$f":"IF(AND('PJ - P'!$C322=\"\",'PJ - P'!$D322=\"\"),\"\",'PJ - P'!V322)","v":""},{"$f":"IF(AND('PJ - P'!$C322=\"\",'PJ - P'!$D322=\"\"),\"\",'PJ - P'!B322)","v":""},{"$f":"IF('PJ - P'!C322=\"\",\"\",'PJ - P'!C322)","v":""},{"$f":"IF('PJ - P'!D322=\"\",\"\",'PJ - P'!D322)","v":""},{"$f":"IF('PJ - P'!H322=\"\",\"\",'PJ - P'!H322)","v":""},{"$f":"IF('PJ - P'!M322=\"\",\"\",'PJ - P'!M322)","v":""},null,{"$f":"IF('PJ - P'!O322=\"\",\"\",'PJ - P'!O322)","v":""}]
[null,{"$f":"IF(AND('PJ - P'!$C323=\"\",'PJ - P'!$D323=\"\"),\"\",'PJ - P'!V323)","v":""},{"$f":"IF(AND('PJ - P'!$C323=\"\",'PJ - P'!$D323=\"\"),\"\",'PJ - P'!B323)","v":""},{"$f":"IF('PJ - P'!C323=\"\",\"\",'PJ - P'!C323)","v":""},{"$f":"IF('PJ - P'!D323=\"\",\"\",'PJ - P'!D323)","v":""},{"$f":"IF('PJ - P'!H323=\"\",\"\",'PJ - P'!H323)","v":""},{"$f":"IF('PJ - P'!M323=\"\",\"\",'PJ - P'!M323)","v":""},null,{"$f":"IF('PJ - P'!O323=\"\",\"\",'PJ - P'!O323)","v":""}]
[null,{"$f":"IF(AND('PJ - P'!$C324=\"\",'PJ - P'!$D324=\"\"),\"\",'PJ - P'!V324)","v":""},{"$f":"IF(AND('PJ - P'!$C324=\"\",'PJ - P'!$D324=\"\"),\"\",'PJ - P'!B324)","v":""},{"$f":"IF('PJ - P'!C324=\"\",\"\",'PJ - P'!C324)","v":""},{"$f":"IF('PJ - P'!D324=\"\",\"\",'PJ - P'!D324)","v":""},{"$f":"IF('PJ - P'!H324=\"\",\"\",'PJ - P'!H324)","v":""},{"$f":"IF('PJ - P'!M324=\"\",\"\",'PJ - P'!M324)","v":""},null,{"$f":"IF('PJ - P'!O324=\"\",\"\",'PJ - P'!O324)","v":""}]
[null,{"$f":"B$1","v":"Běh na 100m s přek. - Pořadí jednotlivců"}]
[]
[null,{"$f":"B$3","v":"VC ČR v požárním útoku družstev HZS krajů a HZS podniků"},null,null,{"$f":"E$3","v":"Petrovice 19.9.2019"}]
[]
[null,{"$f":"Start!$C$5","v":"MUŽI"}]
[null,"Pořadí","Start. číslo","Jméno","kolektiv","čas             I. pokusu","čas            II. pokusu",null,"Výsledný čas"]
[]
[null,{"$f":"IF(AND('PJ - P'!$C325=\"\",'PJ - P'!$D325=\"\"),\"\",'PJ - P'!V325)","v":""},{"$f":"IF(AND('PJ - P'!$C325=\"\",'PJ - P'!$D325=\"\"),\"\",'PJ - P'!B325)","v":""},{"$f":"IF('PJ - P'!C325=\"\",\"\",'PJ - P'!C325)","v":""},{"$f":"IF('PJ - P'!D325=\"\",\"\",'PJ - P'!D325)","v":""},{"$f":"IF('PJ - P'!H325=\"\",\"\",'PJ - P'!H325)","v":""},{"$f":"IF('PJ - P'!M325=\"\",\"\",'PJ - P'!M325)","v":""},null,{"$f":"IF('PJ - P'!O325=\"\",\"\",'PJ - P'!O325)","v":""}]
[null,{"$f":"IF(AND('PJ - P'!$C326=\"\",'PJ - P'!$D326=\"\"),\"\",'PJ - P'!V326)","v":""},{"$f":"IF(AND('PJ - P'!$C326=\"\",'PJ - P'!$D326=\"\"),\"\",'PJ - P'!B326)","v":""},{"$f":"IF('PJ - P'!C326=\"\",\"\",'PJ - P'!C326)","v":""},{"$f":"IF('PJ - P'!D326=\"\",\"\",'PJ - P'!D326)","v":""},{"$f":"IF('PJ - P'!H326=\"\",\"\",'PJ - P'!H326)","v":""},{"$f":"IF('PJ - P'!M326=\"\",\"\",'PJ - P'!M326)","v":""},null,{"$f":"IF('PJ - P'!O326=\"\",\"\",'PJ - P'!O326)","v":""}]
[null,{"$f":"IF(AND('PJ - P'!$C327=\"\",'PJ - P'!$D327=\"\"),\"\",'PJ - P'!V327)","v":""},{"$f":"IF(AND('PJ - P'!$C327=\"\",'PJ - P'!$D327=\"\"),\"\",'PJ - P'!B327)","v":""},{"$f":"IF('PJ - P'!C327=\"\",\"\",'PJ - P'!C327)","v":""},{"$f":"IF('PJ - P'!D327=\"\",\"\",'PJ - P'!D327)","v":""},{"$f":"IF('PJ - P'!H327=\"\",\"\",'PJ - P'!H327)","v":""},{"$f":"IF('PJ - P'!M327=\"\",\"\",'PJ - P'!M327)","v":""},null,{"$f":"IF('PJ - P'!O327=\"\",\"\",'PJ - P'!O327)","v":""}]
[null,{"$f":"IF(AND('PJ - P'!$C328=\"\",'PJ - P'!$D328=\"\"),\"\",'PJ - P'!V328)","v":""},{"$f":"IF(AND('PJ - P'!$C328=\"\",'PJ - P'!$D328=\"\"),\"\",'PJ - P'!B328)","v":""},{"$f":"IF('PJ - P'!C328=\"\",\"\",'PJ - P'!C328)","v":""},{"$f":"IF('PJ - P'!D328=\"\",\"\",'PJ - P'!D328)","v":""},{"$f":"IF('PJ - P'!H328=\"\",\"\",'PJ - P'!H328)","v":""},{"$f":"IF('PJ - P'!M328=\"\",\"\",'PJ - P'!M328)","v":""},null,{"$f":"IF('PJ - P'!O328=\"\",\"\",'PJ - P'!O328)","v":""}]
[null,{"$f":"IF(AND('PJ - P'!$C329=\"\",'PJ - P'!$D329=\"\"),\"\",'PJ - P'!V329)","v":""},{"$f":"IF(AND('PJ - P'!$C329=\"\",'PJ - P'!$D329=\"\"),\"\",'PJ - P'!B329)","v":""},{"$f":"IF('PJ - P'!C329=\"\",\"\",'PJ - P'!C329)","v":""},{"$f":"IF('PJ - P'!D329=\"\",\"\",'PJ - P'!D329)","v":""},{"$f":"IF('PJ - P'!H329=\"\",\"\",'PJ - P'!H329)","v":""},{"$f":"IF('PJ - P'!M329=\"\",\"\",'PJ - P'!M329)","v":""},null,{"$f":"IF('PJ - P'!O329=\"\",\"\",'PJ - P'!O329)","v":""}]
[null,{"$f":"IF(AND('PJ - P'!$C330=\"\",'PJ - P'!$D330=\"\"),\"\",'PJ - P'!V330)","v":""},{"$f":"IF(AND('PJ - P'!$C330=\"\",'PJ - P'!$D330=\"\"),\"\",'PJ - P'!B330)","v":""},{"$f":"IF('PJ - P'!C330=\"\",\"\",'PJ - P'!C330)","v":""},{"$f":"IF('PJ - P'!D330=\"\",\"\",'PJ - P'!D330)","v":""},{"$f":"IF('PJ - P'!H330=\"\",\"\",'PJ - P'!H330)","v":""},{"$f":"IF('PJ - P'!M330=\"\",\"\",'PJ - P'!M330)","v":""},null,{"$f":"IF('PJ - P'!O330=\"\",\"\",'PJ - P'!O330)","v":""}]
[null,{"$f":"IF(AND('PJ - P'!$C331=\"\",'PJ - P'!$D331=\"\"),\"\",'PJ - P'!V331)","v":""},{"$f":"IF(AND('PJ - P'!$C331=\"\",'PJ - P'!$D331=\"\"),\"\",'PJ - P'!B331)","v":""},{"$f":"IF('PJ - P'!C331=\"\",\"\",'PJ - P'!C331)","v":""},{"$f":"IF('PJ - P'!D331=\"\",\"\",'PJ - P'!D331)","v":""},{"$f":"IF('PJ - P'!H331=\"\",\"\",'PJ - P'!H331)","v":""},{"$f":"IF('PJ - P'!M331=\"\",\"\",'PJ - P'!M331)","v":""},null,{"$f":"IF('PJ - P'!O331=\"\",\"\",'PJ - P'!O331)","v":""}]
[null,{"$f":"IF(AND('PJ - P'!$C332=\"\",'PJ - P'!$D332=\"\"),\"\",'PJ - P'!V332)","v":""},{"$f":"IF(AND('PJ - P'!$C332=\"\",'PJ - P'!$D332=\"\"),\"\",'PJ - P'!B332)","v":""},{"$f":"IF('PJ - P'!C332=\"\",\"\",'PJ - P'!C332)","v":""},{"$f":"IF('PJ - P'!D332=\"\",\"\",'PJ - P'!D332)","v":""},{"$f":"IF('PJ - P'!H332=\"\",\"\",'PJ - P'!H332)","v":""},{"$f":"IF('PJ - P'!M332=\"\",\"\",'PJ - P'!M332)","v":""},null,{"$f":"IF('PJ - P'!O332=\"\",\"\",'PJ - P'!O332)","v":""}]
[null,{"$f":"IF(AND('PJ - P'!$C333=\"\",'PJ - P'!$D333=\"\"),\"\",'PJ - P'!V333)","v":""},{"$f":"IF(AND('PJ - P'!$C333=\"\",'PJ - P'!$D333=\"\"),\"\",'PJ - P'!B333)","v":""},{"$f":"IF('PJ - P'!C333=\"\",\"\",'PJ - P'!C333)","v":""},{"$f":"IF('PJ - P'!D333=\"\",\"\",'PJ - P'!D333)","v":""},{"$f":"IF('PJ - P'!H333=\"\",\"\",'PJ - P'!H333)","v":""},{"$f":"IF('PJ - P'!M333=\"\",\"\",'PJ - P'!M333)","v":""},null,{"$f":"IF('PJ - P'!O333=\"\",\"\",'PJ - P'!O333)","v":""}]
[null,{"$f":"IF(AND('PJ - P'!$C334=\"\",'PJ - P'!$D334=\"\"),\"\",'PJ - P'!V334)","v":""},{"$f":"IF(AND('PJ - P'!$C334=\"\",'PJ - P'!$D334=\"\"),\"\",'PJ - P'!B334)","v":""},{"$f":"IF('PJ - P'!C334=\"\",\"\",'PJ - P'!C334)","v":""},{"$f":"IF('PJ - P'!D334=\"\",\"\",'PJ - P'!D334)","v":""},{"$f":"IF('PJ - P'!H334=\"\",\"\",'PJ - P'!H334)","v":""},{"$f":"IF('PJ - P'!M334=\"\",\"\",'PJ - P'!M334)","v":""},null,{"$f":"IF('PJ - P'!O334=\"\",\"\",'PJ - P'!O334)","v":""}]
[null,{"$f":"IF(AND('PJ - P'!$C335=\"\",'PJ - P'!$D335=\"\"),\"\",'PJ - P'!V335)","v":""},{"$f":"IF(AND('PJ - P'!$C335=\"\",'PJ - P'!$D335=\"\"),\"\",'PJ - P'!B335)","v":""},{"$f":"IF('PJ - P'!C335=\"\",\"\",'PJ - P'!C335)","v":""},{"$f":"IF('PJ - P'!D335=\"\",\"\",'PJ - P'!D335)","v":""},{"$f":"IF('PJ - P'!H335=\"\",\"\",'PJ - P'!H335)","v":""},{"$f":"IF('PJ - P'!M335=\"\",\"\",'PJ - P'!M335)","v":""},null,{"$f":"IF('PJ - P'!O335=\"\",\"\",'PJ - P'!O335)","v":""}]
[null,{"$f":"IF(AND('PJ - P'!$C336=\"\",'PJ - P'!$D336=\"\"),\"\",'PJ - P'!V336)","v":""},{"$f":"IF(AND('PJ - P'!$C336=\"\",'PJ - P'!$D336=\"\"),\"\",'PJ - P'!B336)","v":""},{"$f":"IF('PJ - P'!C336=\"\",\"\",'PJ - P'!C336)","v":""},{"$f":"IF('PJ - P'!D336=\"\",\"\",'PJ - P'!D336)","v":""},{"$f":"IF('PJ - P'!H336=\"\",\"\",'PJ - P'!H336)","v":""},{"$f":"IF('PJ - P'!M336=\"\",\"\",'PJ - P'!M336)","v":""},null,{"$f":"IF('PJ - P'!O336=\"\",\"\",'PJ - P'!O336)","v":""}]
[null,{"$f":"IF(AND('PJ - P'!$C337=\"\",'PJ - P'!$D337=\"\"),\"\",'PJ - P'!V337)","v":""},{"$f":"IF(AND('PJ - P'!$C337=\"\",'PJ - P'!$D337=\"\"),\"\",'PJ - P'!B337)","v":""},{"$f":"IF('PJ - P'!C337=\"\",\"\",'PJ - P'!C337)","v":""},{"$f":"IF('PJ - P'!D337=\"\",\"\",'PJ - P'!D337)","v":""},{"$f":"IF('PJ - P'!H337=\"\",\"\",'PJ - P'!H337)","v":""},{"$f":"IF('PJ - P'!M337=\"\",\"\",'PJ - P'!M337)","v":""},null,{"$f":"IF('PJ - P'!O337=\"\",\"\",'PJ - P'!O337)","v":""}]
[null,{"$f":"IF(AND('PJ - P'!$C338=\"\",'PJ - P'!$D338=\"\"),\"\",'PJ - P'!V338)","v":""},{"$f":"IF(AND('PJ - P'!$C338=\"\",'PJ - P'!$D338=\"\"),\"\",'PJ - P'!B338)","v":""},{"$f":"IF('PJ - P'!C338=\"\",\"\",'PJ - P'!C338)","v":""},{"$f":"IF('PJ - P'!D338=\"\",\"\",'PJ - P'!D338)","v":""},{"$f":"IF('PJ - P'!H338=\"\",\"\",'PJ - P'!H338)","v":""},{"$f":"IF('PJ - P'!M338=\"\",\"\",'PJ - P'!M338)","v":""},null,{"$f":"IF('PJ - P'!O338=\"\",\"\",'PJ - P'!O338)","v":""}]
[null,{"$f":"IF(AND('PJ - P'!$C339=\"\",'PJ - P'!$D339=\"\"),\"\",'PJ - P'!V339)","v":""},{"$f":"IF(AND('PJ - P'!$C339=\"\",'PJ - P'!$D339=\"\"),\"\",'PJ - P'!B339)","v":""},{"$f":"IF('PJ - P'!C339=\"\",\"\",'PJ - P'!C339)","v":""},{"$f":"IF('PJ - P'!D339=\"\",\"\",'PJ - P'!D339)","v":""},{"$f":"IF('PJ - P'!H339=\"\",\"\",'PJ - P'!H339)","v":""},{"$f":"IF('PJ - P'!M339=\"\",\"\",'PJ - P'!M339)","v":""},null,{"$f":"IF('PJ - P'!O339=\"\",\"\",'PJ - P'!O339)","v":""}]
[null,{"$f":"IF(AND('PJ - P'!$C340=\"\",'PJ - P'!$D340=\"\"),\"\",'PJ - P'!V340)","v":""},{"$f":"IF(AND('PJ - P'!$C340=\"\",'PJ - P'!$D340=\"\"),\"\",'PJ - P'!B340)","v":""},{"$f":"IF('PJ - P'!C340=\"\",\"\",'PJ - P'!C340)","v":""},{"$f":"IF('PJ - P'!D340=\"\",\"\",'PJ - P'!D340)","v":""},{"$f":"IF('PJ - P'!H340=\"\",\"\",'PJ - P'!H340)","v":""},{"$f":"IF('PJ - P'!M340=\"\",\"\",'PJ - P'!M340)","v":""},null,{"$f":"IF('PJ - P'!O340=\"\",\"\",'PJ - P'!O340)","v":""}]
[null,{"$f":"IF(AND('PJ - P'!$C341=\"\",'PJ - P'!$D341=\"\"),\"\",'PJ - P'!V341)","v":""},{"$f":"IF(AND('PJ - P'!$C341=\"\",'PJ - P'!$D341=\"\"),\"\",'PJ - P'!B341)","v":""},{"$f":"IF('PJ - P'!C341=\"\",\"\",'PJ - P'!C341)","v":""},{"$f":"IF('PJ - P'!D341=\"\",\"\",'PJ - P'!D341)","v":""},{"$f":"IF('PJ - P'!H341=\"\",\"\",'PJ - P'!H341)","v":""},{"$f":"IF('PJ - P'!M341=\"\",\"\",'PJ - P'!M341)","v":""},null,{"$f":"IF('PJ - P'!O341=\"\",\"\",'PJ - P'!O341)","v":""}]
[null,{"$f":"IF(AND('PJ - P'!$C342=\"\",'PJ - P'!$D342=\"\"),\"\",'PJ - P'!V342)","v":""},{"$f":"IF(AND('PJ - P'!$C342=\"\",'PJ - P'!$D342=\"\"),\"\",'PJ - P'!B342)","v":""},{"$f":"IF('PJ - P'!C342=\"\",\"\",'PJ - P'!C342)","v":""},{"$f":"IF('PJ - P'!D342=\"\",\"\",'PJ - P'!D342)","v":""},{"$f":"IF('PJ - P'!H342=\"\",\"\",'PJ - P'!H342)","v":""},{"$f":"IF('PJ - P'!M342=\"\",\"\",'PJ - P'!M342)","v":""},null,{"$f":"IF('PJ - P'!O342=\"\",\"\",'PJ - P'!O342)","v":""}]
[null,{"$f":"IF(AND('PJ - P'!$C343=\"\",'PJ - P'!$D343=\"\"),\"\",'PJ - P'!V343)","v":""},{"$f":"IF(AND('PJ - P'!$C343=\"\",'PJ - P'!$D343=\"\"),\"\",'PJ - P'!B343)","v":""},{"$f":"IF('PJ - P'!C343=\"\",\"\",'PJ - P'!C343)","v":""},{"$f":"IF('PJ - P'!D343=\"\",\"\",'PJ - P'!D343)","v":""},{"$f":"IF('PJ - P'!H343=\"\",\"\",'PJ - P'!H343)","v":""},{"$f":"IF('PJ - P'!M343=\"\",\"\",'PJ - P'!M343)","v":""},null,{"$f":"IF('PJ - P'!O343=\"\",\"\",'PJ - P'!O343)","v":""}]
[null,{"$f":"IF(AND('PJ - P'!$C344=\"\",'PJ - P'!$D344=\"\"),\"\",'PJ - P'!V344)","v":""},{"$f":"IF(AND('PJ - P'!$C344=\"\",'PJ - P'!$D344=\"\"),\"\",'PJ - P'!B344)","v":""},{"$f":"IF('PJ - P'!C344=\"\",\"\",'PJ - P'!C344)","v":""},{"$f":"IF('PJ - P'!D344=\"\",\"\",'PJ - P'!D344)","v":""},{"$f":"IF('PJ - P'!H344=\"\",\"\",'PJ - P'!H344)","v":""},{"$f":"IF('PJ - P'!M344=\"\",\"\",'PJ - P'!M344)","v":""},null,{"$f":"IF('PJ - P'!O344=\"\",\"\",'PJ - P'!O344)","v":""}]
[null,{"$f":"IF(AND('PJ - P'!$C345=\"\",'PJ - P'!$D345=\"\"),\"\",'PJ - P'!V345)","v":""},{"$f":"IF(AND('PJ - P'!$C345=\"\",'PJ - P'!$D345=\"\"),\"\",'PJ - P'!B345)","v":""},{"$f":"IF('PJ - P'!C345=\"\",\"\",'PJ - P'!C345)","v":""},{"$f":"IF('PJ - P'!D345=\"\",\"\",'PJ - P'!D345)","v":""},{"$f":"IF('PJ - P'!H345=\"\",\"\",'PJ - P'!H345)","v":""},{"$f":"IF('PJ - P'!M345=\"\",\"\",'PJ - P'!M345)","v":""},null,{"$f":"IF('PJ - P'!O345=\"\",\"\",'PJ - P'!O345)","v":""}]
[null,{"$f":"IF(AND('PJ - P'!$C346=\"\",'PJ - P'!$D346=\"\"),\"\",'PJ - P'!V346)","v":""},{"$f":"IF(AND('PJ - P'!$C346=\"\",'PJ - P'!$D346=\"\"),\"\",'PJ - P'!B346)","v":""},{"$f":"IF('PJ - P'!C346=\"\",\"\",'PJ - P'!C346)","v":""},{"$f":"IF('PJ - P'!D346=\"\",\"\",'PJ - P'!D346)","v":""},{"$f":"IF('PJ - P'!H346=\"\",\"\",'PJ - P'!H346)","v":""},{"$f":"IF('PJ - P'!M346=\"\",\"\",'PJ - P'!M346)","v":""},null,{"$f":"IF('PJ - P'!O346=\"\",\"\",'PJ - P'!O346)","v":""}]
[null,{"$f":"IF(AND('PJ - P'!$C347=\"\",'PJ - P'!$D347=\"\"),\"\",'PJ - P'!V347)","v":""},{"$f":"IF(AND('PJ - P'!$C347=\"\",'PJ - P'!$D347=\"\"),\"\",'PJ - P'!B347)","v":""},{"$f":"IF('PJ - P'!C347=\"\",\"\",'PJ - P'!C347)","v":""},{"$f":"IF('PJ - P'!D347=\"\",\"\",'PJ - P'!D347)","v":""},{"$f":"IF('PJ - P'!H347=\"\",\"\",'PJ - P'!H347)","v":""},{"$f":"IF('PJ - P'!M347=\"\",\"\",'PJ - P'!M347)","v":""},null,{"$f":"IF('PJ - P'!O347=\"\",\"\",'PJ - P'!O347)","v":""}]
[null,{"$f":"IF(AND('PJ - P'!$C348=\"\",'PJ - P'!$D348=\"\"),\"\",'PJ - P'!V348)","v":""},{"$f":"IF(AND('PJ - P'!$C348=\"\",'PJ - P'!$D348=\"\"),\"\",'PJ - P'!B348)","v":""},{"$f":"IF('PJ - P'!C348=\"\",\"\",'PJ - P'!C348)","v":""},{"$f":"IF('PJ - P'!D348=\"\",\"\",'PJ - P'!D348)","v":""},{"$f":"IF('PJ - P'!H348=\"\",\"\",'PJ - P'!H348)","v":""},{"$f":"IF('PJ - P'!M348=\"\",\"\",'PJ - P'!M348)","v":""},null,{"$f":"IF('PJ - P'!O348=\"\",\"\",'PJ - P'!O348)","v":""}]
[null,{"$f":"IF(AND('PJ - P'!$C349=\"\",'PJ - P'!$D349=\"\"),\"\",'PJ - P'!V349)","v":""},{"$f":"IF(AND('PJ - P'!$C349=\"\",'PJ - P'!$D349=\"\"),\"\",'PJ - P'!B349)","v":""},{"$f":"IF('PJ - P'!C349=\"\",\"\",'PJ - P'!C349)","v":""},{"$f":"IF('PJ - P'!D349=\"\",\"\",'PJ - P'!D349)","v":""},{"$f":"IF('PJ - P'!H349=\"\",\"\",'PJ - P'!H349)","v":""},{"$f":"IF('PJ - P'!M349=\"\",\"\",'PJ - P'!M349)","v":""},null,{"$f":"IF('PJ - P'!O349=\"\",\"\",'PJ - P'!O349)","v":""}]
[null,{"$f":"IF(AND('PJ - P'!$C350=\"\",'PJ - P'!$D350=\"\"),\"\",'PJ - P'!V350)","v":""},{"$f":"IF(AND('PJ - P'!$C350=\"\",'PJ - P'!$D350=\"\"),\"\",'PJ - P'!B350)","v":""},{"$f":"IF('PJ - P'!C350=\"\",\"\",'PJ - P'!C350)","v":""},{"$f":"IF('PJ - P'!D350=\"\",\"\",'PJ - P'!D350)","v":""},{"$f":"IF('PJ - P'!H350=\"\",\"\",'PJ - P'!H350)","v":""},{"$f":"IF('PJ - P'!M350=\"\",\"\",'PJ - P'!M350)","v":""},null,{"$f":"IF('PJ - P'!O350=\"\",\"\",'PJ - P'!O350)","v":""}]
[null,{"$f":"IF(AND('PJ - P'!$C351=\"\",'PJ - P'!$D351=\"\"),\"\",'PJ - P'!V351)","v":""},{"$f":"IF(AND('PJ - P'!$C351=\"\",'PJ - P'!$D351=\"\"),\"\",'PJ - P'!B351)","v":""},{"$f":"IF('PJ - P'!C351=\"\",\"\",'PJ - P'!C351)","v":""},{"$f":"IF('PJ - P'!D351=\"\",\"\",'PJ - P'!D351)","v":""},{"$f":"IF('PJ - P'!H351=\"\",\"\",'PJ - P'!H351)","v":""},{"$f":"IF('PJ - P'!M351=\"\",\"\",'PJ - P'!M351)","v":""},null,{"$f":"IF('PJ - P'!O351=\"\",\"\",'PJ - P'!O351)","v":""}]
[null,{"$f":"IF(AND('PJ - P'!$C352=\"\",'PJ - P'!$D352=\"\"),\"\",'PJ - P'!V352)","v":""},{"$f":"IF(AND('PJ - P'!$C352=\"\",'PJ - P'!$D352=\"\"),\"\",'PJ - P'!B352)","v":""},{"$f":"IF('PJ - P'!C352=\"\",\"\",'PJ - P'!C352)","v":""},{"$f":"IF('PJ - P'!D352=\"\",\"\",'PJ - P'!D352)","v":""},{"$f":"IF('PJ - P'!H352=\"\",\"\",'PJ - P'!H352)","v":""},{"$f":"IF('PJ - P'!M352=\"\",\"\",'PJ - P'!M352)","v":""},null,{"$f":"IF('PJ - P'!O352=\"\",\"\",'PJ - P'!O352)","v":""}]
[null,{"$f":"IF(AND('PJ - P'!$C353=\"\",'PJ - P'!$D353=\"\"),\"\",'PJ - P'!V353)","v":""},{"$f":"IF(AND('PJ - P'!$C353=\"\",'PJ - P'!$D353=\"\"),\"\",'PJ - P'!B353)","v":""},{"$f":"IF('PJ - P'!C353=\"\",\"\",'PJ - P'!C353)","v":""},{"$f":"IF('PJ - P'!D353=\"\",\"\",'PJ - P'!D353)","v":""},{"$f":"IF('PJ - P'!H353=\"\",\"\",'PJ - P'!H353)","v":""},{"$f":"IF('PJ - P'!M353=\"\",\"\",'PJ - P'!M353)","v":""},null,{"$f":"IF('PJ - P'!O353=\"\",\"\",'PJ - P'!O353)","v":""}]
[null,{"$f":"IF(AND('PJ - P'!$C354=\"\",'PJ - P'!$D354=\"\"),\"\",'PJ - P'!V354)","v":""},{"$f":"IF(AND('PJ - P'!$C354=\"\",'PJ - P'!$D354=\"\"),\"\",'PJ - P'!B354)","v":""},{"$f":"IF('PJ - P'!C354=\"\",\"\",'PJ - P'!C354)","v":""},{"$f":"IF('PJ - P'!D354=\"\",\"\",'PJ - P'!D354)","v":""},{"$f":"IF('PJ - P'!H354=\"\",\"\",'PJ - P'!H354)","v":""},{"$f":"IF('PJ - P'!M354=\"\",\"\",'PJ - P'!M354)","v":""},null,{"$f":"IF('PJ - P'!O354=\"\",\"\",'PJ - P'!O354)","v":""}]
[null,{"$f":"IF(AND('PJ - P'!$C355=\"\",'PJ - P'!$D355=\"\"),\"\",'PJ - P'!V355)","v":""},{"$f":"IF(AND('PJ - P'!$C355=\"\",'PJ - P'!$D355=\"\"),\"\",'PJ - P'!B355)","v":""},{"$f":"IF('PJ - P'!C355=\"\",\"\",'PJ - P'!C355)","v":""},{"$f":"IF('PJ - P'!D355=\"\",\"\",'PJ - P'!D355)","v":""},{"$f":"IF('PJ - P'!H355=\"\",\"\",'PJ - P'!H355)","v":""},{"$f":"IF('PJ - P'!M355=\"\",\"\",'PJ - P'!M355)","v":""},null,{"$f":"IF('PJ - P'!O355=\"\",\"\",'PJ - P'!O355)","v":""}]
[null,{"$f":"IF(AND('PJ - P'!$C356=\"\",'PJ - P'!$D356=\"\"),\"\",'PJ - P'!V356)","v":""},{"$f":"IF(AND('PJ - P'!$C356=\"\",'PJ - P'!$D356=\"\"),\"\",'PJ - P'!B356)","v":""},{"$f":"IF('PJ - P'!C356=\"\",\"\",'PJ - P'!C356)","v":""},{"$f":"IF('PJ - P'!D356=\"\",\"\",'PJ - P'!D356)","v":""},{"$f":"IF('PJ - P'!H356=\"\",\"\",'PJ - P'!H356)","v":""},{"$f":"IF('PJ - P'!M356=\"\",\"\",'PJ - P'!M356)","v":""},null,{"$f":"IF('PJ - P'!O356=\"\",\"\",'PJ - P'!O356)","v":""}]
[null,{"$f":"IF(AND('PJ - P'!$C357=\"\",'PJ - P'!$D357=\"\"),\"\",'PJ - P'!V357)","v":""},{"$f":"IF(AND('PJ - P'!$C357=\"\",'PJ - P'!$D357=\"\"),\"\",'PJ - P'!B357)","v":""},{"$f":"IF('PJ - P'!C357=\"\",\"\",'PJ - P'!C357)","v":""},{"$f":"IF('PJ - P'!D357=\"\",\"\",'PJ - P'!D357)","v":""},{"$f":"IF('PJ - P'!H357=\"\",\"\",'PJ - P'!H357)","v":""},{"$f":"IF('PJ - P'!M357=\"\",\"\",'PJ - P'!M357)","v":""},null,{"$f":"IF('PJ - P'!O357=\"\",\"\",'PJ - P'!O357)","v":""}]
[null,{"$f":"IF(AND('PJ - P'!$C358=\"\",'PJ - P'!$D358=\"\"),\"\",'PJ - P'!V358)","v":""},{"$f":"IF(AND('PJ - P'!$C358=\"\",'PJ - P'!$D358=\"\"),\"\",'PJ - P'!B358)","v":""},{"$f":"IF('PJ - P'!C358=\"\",\"\",'PJ - P'!C358)","v":""},{"$f":"IF('PJ - P'!D358=\"\",\"\",'PJ - P'!D358)","v":""},{"$f":"IF('PJ - P'!H358=\"\",\"\",'PJ - P'!H358)","v":""},{"$f":"IF('PJ - P'!M358=\"\",\"\",'PJ - P'!M358)","v":""},null,{"$f":"IF('PJ - P'!O358=\"\",\"\",'PJ - P'!O358)","v":""}]
[null,{"$f":"IF(AND('PJ - P'!$C359=\"\",'PJ - P'!$D359=\"\"),\"\",'PJ - P'!V359)","v":""},{"$f":"IF(AND('PJ - P'!$C359=\"\",'PJ - P'!$D359=\"\"),\"\",'PJ - P'!B359)","v":""},{"$f":"IF('PJ - P'!C359=\"\",\"\",'PJ - P'!C359)","v":""},{"$f":"IF('PJ - P'!D359=\"\",\"\",'PJ - P'!D359)","v":""},{"$f":"IF('PJ - P'!H359=\"\",\"\",'PJ - P'!H359)","v":""},{"$f":"IF('PJ - P'!M359=\"\",\"\",'PJ - P'!M359)","v":""},null,{"$f":"IF('PJ - P'!O359=\"\",\"\",'PJ - P'!O359)","v":""}]
[null,{"$f":"IF(AND('PJ - P'!$C360=\"\",'PJ - P'!$D360=\"\"),\"\",'PJ - P'!V360)","v":""},{"$f":"IF(AND('PJ - P'!$C360=\"\",'PJ - P'!$D360=\"\"),\"\",'PJ - P'!B360)","v":""},{"$f":"IF('PJ - P'!C360=\"\",\"\",'PJ - P'!C360)","v":""},{"$f":"IF('PJ - P'!D360=\"\",\"\",'PJ - P'!D360)","v":""},{"$f":"IF('PJ - P'!H360=\"\",\"\",'PJ - P'!H360)","v":""},{"$f":"IF('PJ - P'!M360=\"\",\"\",'PJ - P'!M360)","v":""},null,{"$f":"IF('PJ - P'!O360=\"\",\"\",'PJ - P'!O360)","v":""}]
[null,{"$f":"B$1","v":"Běh na 100m s přek. - Pořadí jednotlivců"}]
[]
[null,{"$f":"B$3","v":"VC ČR v požárním útoku družstev HZS krajů a HZS podniků"},null,null,{"$f":"E$3","v":"Petrovice 19.9.2019"}]
[]
[null,{"$f":"Start!$C$5","v":"MUŽI"}]
[null,"Pořadí","Start. číslo","Jméno","kolektiv","čas             I. pokusu","čas            II. pokusu",null,"Výsledný čas"]
[]
[null,{"$f":"IF(AND('PJ - P'!$C361=\"\",'PJ - P'!$D361=\"\"),\"\",'PJ - P'!V361)","v":""},{"$f":"IF(AND('PJ - P'!$C361=\"\",'PJ - P'!$D361=\"\"),\"\",'PJ - P'!B361)","v":""},{"$f":"IF('PJ - P'!C361=\"\",\"\",'PJ - P'!C361)","v":""},{"$f":"IF('PJ - P'!D361=\"\",\"\",'PJ - P'!D361)","v":""},{"$f":"IF('PJ - P'!H361=\"\",\"\",'PJ - P'!H361)","v":""},{"$f":"IF('PJ - P'!M361=\"\",\"\",'PJ - P'!M361)","v":""},null,{"$f":"IF('PJ - P'!O361=\"\",\"\",'PJ - P'!O361)","v":""}]
[null,{"$f":"IF(AND('PJ - P'!$C362=\"\",'PJ - P'!$D362=\"\"),\"\",'PJ - P'!V362)","v":""},{"$f":"IF(AND('PJ - P'!$C362=\"\",'PJ - P'!$D362=\"\"),\"\",'PJ - P'!B362)","v":""},{"$f":"IF('PJ - P'!C362=\"\",\"\",'PJ - P'!C362)","v":""},{"$f":"IF('PJ - P'!D362=\"\",\"\",'PJ - P'!D362)","v":""},{"$f":"IF('PJ - P'!H362=\"\",\"\",'PJ - P'!H362)","v":""},{"$f":"IF('PJ - P'!M362=\"\",\"\",'PJ - P'!M362)","v":""},null,{"$f":"IF('PJ - P'!O362=\"\",\"\",'PJ - P'!O362)","v":""}]
[null,{"$f":"IF(AND('PJ - P'!$C363=\"\",'PJ - P'!$D363=\"\"),\"\",'PJ - P'!V363)","v":""},{"$f":"IF(AND('PJ - P'!$C363=\"\",'PJ - P'!$D363=\"\"),\"\",'PJ - P'!B363)","v":""},{"$f":"IF('PJ - P'!C363=\"\",\"\",'PJ - P'!C363)","v":""},{"$f":"IF('PJ - P'!D363=\"\",\"\",'PJ - P'!D363)","v":""},{"$f":"IF('PJ - P'!H363=\"\",\"\",'PJ - P'!H363)","v":""},{"$f":"IF('PJ - P'!M363=\"\",\"\",'PJ - P'!M363)","v":""},null,{"$f":"IF('PJ - P'!O363=\"\",\"\",'PJ - P'!O363)","v":""}]
[null,{"$f":"IF(AND('PJ - P'!$C364=\"\",'PJ - P'!$D364=\"\"),\"\",'PJ - P'!V364)","v":""},{"$f":"IF(AND('PJ - P'!$C364=\"\",'PJ - P'!$D364=\"\"),\"\",'PJ - P'!B364)","v":""},{"$f":"IF('PJ - P'!C364=\"\",\"\",'PJ - P'!C364)","v":""},{"$f":"IF('PJ - P'!D364=\"\",\"\",'PJ - P'!D364)","v":""},{"$f":"IF('PJ - P'!H364=\"\",\"\",'PJ - P'!H364)","v":""},{"$f":"IF('PJ - P'!M364=\"\",\"\",'PJ - P'!M364)","v":""},null,{"$f":"IF('PJ - P'!O364=\"\",\"\",'PJ - P'!O364)","v":""}]
[null,{"$f":"IF(AND('PJ - P'!$C365=\"\",'PJ - P'!$D365=\"\"),\"\",'PJ - P'!V365)","v":""},{"$f":"IF(AND('PJ - P'!$C365=\"\",'PJ - P'!$D365=\"\"),\"\",'PJ - P'!B365)","v":""},{"$f":"IF('PJ - P'!C365=\"\",\"\",'PJ - P'!C365)","v":""},{"$f":"IF('PJ - P'!D365=\"\",\"\",'PJ - P'!D365)","v":""},{"$f":"IF('PJ - P'!H365=\"\",\"\",'PJ - P'!H365)","v":""},{"$f":"IF('PJ - P'!M365=\"\",\"\",'PJ - P'!M365)","v":""},null,{"$f":"IF('PJ - P'!O365=\"\",\"\",'PJ - P'!O365)","v":""}]
[null,{"$f":"IF(AND('PJ - P'!$C366=\"\",'PJ - P'!$D366=\"\"),\"\",'PJ - P'!V366)","v":""},{"$f":"IF(AND('PJ - P'!$C366=\"\",'PJ - P'!$D366=\"\"),\"\",'PJ - P'!B366)","v":""},{"$f":"IF('PJ - P'!C366=\"\",\"\",'PJ - P'!C366)","v":""},{"$f":"IF('PJ - P'!D366=\"\",\"\",'PJ - P'!D366)","v":""},{"$f":"IF('PJ - P'!H366=\"\",\"\",'PJ - P'!H366)","v":""},{"$f":"IF('PJ - P'!M366=\"\",\"\",'PJ - P'!M366)","v":""},null,{"$f":"IF('PJ - P'!O366=\"\",\"\",'PJ - P'!O366)","v":""}]
[null,{"$f":"IF(AND('PJ - P'!$C367=\"\",'PJ - P'!$D367=\"\"),\"\",'PJ - P'!V367)","v":""},{"$f":"IF(AND('PJ - P'!$C367=\"\",'PJ - P'!$D367=\"\"),\"\",'PJ - P'!B367)","v":""},{"$f":"IF('PJ - P'!C367=\"\",\"\",'PJ - P'!C367)","v":""},{"$f":"IF('PJ - P'!D367=\"\",\"\",'PJ - P'!D367)","v":""},{"$f":"IF('PJ - P'!H367=\"\",\"\",'PJ - P'!H367)","v":""},{"$f":"IF('PJ - P'!M367=\"\",\"\",'PJ - P'!M367)","v":""},null,{"$f":"IF('PJ - P'!O367=\"\",\"\",'PJ - P'!O367)","v":""}]
[null,{"$f":"IF(AND('PJ - P'!$C368=\"\",'PJ - P'!$D368=\"\"),\"\",'PJ - P'!V368)","v":""},{"$f":"IF(AND('PJ - P'!$C368=\"\",'PJ - P'!$D368=\"\"),\"\",'PJ - P'!B368)","v":""},{"$f":"IF('PJ - P'!C368=\"\",\"\",'PJ - P'!C368)","v":""},{"$f":"IF('PJ - P'!D368=\"\",\"\",'PJ - P'!D368)","v":""},{"$f":"IF('PJ - P'!H368=\"\",\"\",'PJ - P'!H368)","v":""},{"$f":"IF('PJ - P'!M368=\"\",\"\",'PJ - P'!M368)","v":""},null,{"$f":"IF('PJ - P'!O368=\"\",\"\",'PJ - P'!O368)","v":""}]
[null,{"$f":"IF(AND('PJ - P'!$C369=\"\",'PJ - P'!$D369=\"\"),\"\",'PJ - P'!V369)","v":""},{"$f":"IF(AND('PJ - P'!$C369=\"\",'PJ - P'!$D369=\"\"),\"\",'PJ - P'!B369)","v":""},{"$f":"IF('PJ - P'!C369=\"\",\"\",'PJ - P'!C369)","v":""},{"$f":"IF('PJ - P'!D369=\"\",\"\",'PJ - P'!D369)","v":""},{"$f":"IF('PJ - P'!H369=\"\",\"\",'PJ - P'!H369)","v":""},{"$f":"IF('PJ - P'!M369=\"\",\"\",'PJ - P'!M369)","v":""},null,{"$f":"IF('PJ - P'!O369=\"\",\"\",'PJ - P'!O369)","v":""}]
[null,{"$f":"IF(AND('PJ - P'!$C370=\"\",'PJ - P'!$D370=\"\"),\"\",'PJ - P'!V370)","v":""},{"$f":"IF(AND('PJ - P'!$C370=\"\",'PJ - P'!$D370=\"\"),\"\",'PJ - P'!B370)","v":""},{"$f":"IF('PJ - P'!C370=\"\",\"\",'PJ - P'!C370)","v":""},{"$f":"IF('PJ - P'!D370=\"\",\"\",'PJ - P'!D370)","v":""},{"$f":"IF('PJ - P'!H370=\"\",\"\",'PJ - P'!H370)","v":""},{"$f":"IF('PJ - P'!M370=\"\",\"\",'PJ - P'!M370)","v":""},null,{"$f":"IF('PJ - P'!O370=\"\",\"\",'PJ - P'!O370)","v":""}]
[null,{"$f":"IF(AND('PJ - P'!$C371=\"\",'PJ - P'!$D371=\"\"),\"\",'PJ - P'!V371)","v":""},{"$f":"IF(AND('PJ - P'!$C371=\"\",'PJ - P'!$D371=\"\"),\"\",'PJ - P'!B371)","v":""},{"$f":"IF('PJ - P'!C371=\"\",\"\",'PJ - P'!C371)","v":""},{"$f":"IF('PJ - P'!D371=\"\",\"\",'PJ - P'!D371)","v":""},{"$f":"IF('PJ - P'!H371=\"\",\"\",'PJ - P'!H371)","v":""},{"$f":"IF('PJ - P'!M371=\"\",\"\",'PJ - P'!M371)","v":""},null,{"$f":"IF('PJ - P'!O371=\"\",\"\",'PJ - P'!O371)","v":""}]
[null,{"$f":"IF(AND('PJ - P'!$C372=\"\",'PJ - P'!$D372=\"\"),\"\",'PJ - P'!V372)","v":""},{"$f":"IF(AND('PJ - P'!$C372=\"\",'PJ - P'!$D372=\"\"),\"\",'PJ - P'!B372)","v":""},{"$f":"IF('PJ - P'!C372=\"\",\"\",'PJ - P'!C372)","v":""},{"$f":"IF('PJ - P'!D372=\"\",\"\",'PJ - P'!D372)","v":""},{"$f":"IF('PJ - P'!H372=\"\",\"\",'PJ - P'!H372)","v":""},{"$f":"IF('PJ - P'!M372=\"\",\"\",'PJ - P'!M372)","v":""},null,{"$f":"IF('PJ - P'!O372=\"\",\"\",'PJ - P'!O372)","v":""}]
[null,{"$f":"IF(AND('PJ - P'!$C373=\"\",'PJ - P'!$D373=\"\"),\"\",'PJ - P'!V373)","v":""},{"$f":"IF(AND('PJ - P'!$C373=\"\",'PJ - P'!$D373=\"\"),\"\",'PJ - P'!B373)","v":""},{"$f":"IF('PJ - P'!C373=\"\",\"\",'PJ - P'!C373)","v":""},{"$f":"IF('PJ - P'!D373=\"\",\"\",'PJ - P'!D373)","v":""},{"$f":"IF('PJ - P'!H373=\"\",\"\",'PJ - P'!H373)","v":""},{"$f":"IF('PJ - P'!M373=\"\",\"\",'PJ - P'!M373)","v":""},null,{"$f":"IF('PJ - P'!O373=\"\",\"\",'PJ - P'!O373)","v":""}]
[null,{"$f":"IF(AND('PJ - P'!$C374=\"\",'PJ - P'!$D374=\"\"),\"\",'PJ - P'!V374)","v":""},{"$f":"IF(AND('PJ - P'!$C374=\"\",'PJ - P'!$D374=\"\"),\"\",'PJ - P'!B374)","v":""},{"$f":"IF('PJ - P'!C374=\"\",\"\",'PJ - P'!C374)","v":""},{"$f":"IF('PJ - P'!D374=\"\",\"\",'PJ - P'!D374)","v":""},{"$f":"IF('PJ - P'!H374=\"\",\"\",'PJ - P'!H374)","v":""},{"$f":"IF('PJ - P'!M374=\"\",\"\",'PJ - P'!M374)","v":""},null,{"$f":"IF('PJ - P'!O374=\"\",\"\",'PJ - P'!O374)","v":""}]
[null,{"$f":"IF(AND('PJ - P'!$C375=\"\",'PJ - P'!$D375=\"\"),\"\",'PJ - P'!V375)","v":""},{"$f":"IF(AND('PJ - P'!$C375=\"\",'PJ - P'!$D375=\"\"),\"\",'PJ - P'!B375)","v":""},{"$f":"IF('PJ - P'!C375=\"\",\"\",'PJ - P'!C375)","v":""},{"$f":"IF('PJ - P'!D375=\"\",\"\",'PJ - P'!D375)","v":""},{"$f":"IF('PJ - P'!H375=\"\",\"\",'PJ - P'!H375)","v":""},{"$f":"IF('PJ - P'!M375=\"\",\"\",'PJ - P'!M375)","v":""},null,{"$f":"IF('PJ - P'!O375=\"\",\"\",'PJ - P'!O375)","v":""}]
[null,{"$f":"IF(AND('PJ - P'!$C376=\"\",'PJ - P'!$D376=\"\"),\"\",'PJ - P'!V376)","v":""},{"$f":"IF(AND('PJ - P'!$C376=\"\",'PJ - P'!$D376=\"\"),\"\",'PJ - P'!B376)","v":""},{"$f":"IF('PJ - P'!C376=\"\",\"\",'PJ - P'!C376)","v":""},{"$f":"IF('PJ - P'!D376=\"\",\"\",'PJ - P'!D376)","v":""},{"$f":"IF('PJ - P'!H376=\"\",\"\",'PJ - P'!H376)","v":""},{"$f":"IF('PJ - P'!M376=\"\",\"\",'PJ - P'!M376)","v":""},null,{"$f":"IF('PJ - P'!O376=\"\",\"\",'PJ - P'!O376)","v":""}]
[null,{"$f":"IF(AND('PJ - P'!$C377=\"\",'PJ - P'!$D377=\"\"),\"\",'PJ - P'!V377)","v":""},{"$f":"IF(AND('PJ - P'!$C377=\"\",'PJ - P'!$D377=\"\"),\"\",'PJ - P'!B377)","v":""},{"$f":"IF('PJ - P'!C377=\"\",\"\",'PJ - P'!C377)","v":""},{"$f":"IF('PJ - P'!D377=\"\",\"\",'PJ - P'!D377)","v":""},{"$f":"IF('PJ - P'!H377=\"\",\"\",'PJ - P'!H377)","v":""},{"$f":"IF('PJ - P'!M377=\"\",\"\",'PJ - P'!M377)","v":""},null,{"$f":"IF('PJ - P'!O377=\"\",\"\",'PJ - P'!O377)","v":""}]
[null,{"$f":"IF(AND('PJ - P'!$C378=\"\",'PJ - P'!$D378=\"\"),\"\",'PJ - P'!V378)","v":""},{"$f":"IF(AND('PJ - P'!$C378=\"\",'PJ - P'!$D378=\"\"),\"\",'PJ - P'!B378)","v":""},{"$f":"IF('PJ - P'!C378=\"\",\"\",'PJ - P'!C378)","v":""},{"$f":"IF('PJ - P'!D378=\"\",\"\",'PJ - P'!D378)","v":""},{"$f":"IF('PJ - P'!H378=\"\",\"\",'PJ - P'!H378)","v":""},{"$f":"IF('PJ - P'!M378=\"\",\"\",'PJ - P'!M378)","v":""},null,{"$f":"IF('PJ - P'!O378=\"\",\"\",'PJ - P'!O378)","v":""}]
[null,{"$f":"IF(AND('PJ - P'!$C379=\"\",'PJ - P'!$D379=\"\"),\"\",'PJ - P'!V379)","v":""},{"$f":"IF(AND('PJ - P'!$C379=\"\",'PJ - P'!$D379=\"\"),\"\",'PJ - P'!B379)","v":""},{"$f":"IF('PJ - P'!C379=\"\",\"\",'PJ - P'!C379)","v":""},{"$f":"IF('PJ - P'!D379=\"\",\"\",'PJ - P'!D379)","v":""},{"$f":"IF('PJ - P'!H379=\"\",\"\",'PJ - P'!H379)","v":""},{"$f":"IF('PJ - P'!M379=\"\",\"\",'PJ - P'!M379)","v":""},null,{"$f":"IF('PJ - P'!O379=\"\",\"\",'PJ - P'!O379)","v":""}]
[null,{"$f":"IF(AND('PJ - P'!$C380=\"\",'PJ - P'!$D380=\"\"),\"\",'PJ - P'!V380)","v":""},{"$f":"IF(AND('PJ - P'!$C380=\"\",'PJ - P'!$D380=\"\"),\"\",'PJ - P'!B380)","v":""},{"$f":"IF('PJ - P'!C380=\"\",\"\",'PJ - P'!C380)","v":""},{"$f":"IF('PJ - P'!D380=\"\",\"\",'PJ - P'!D380)","v":""},{"$f":"IF('PJ - P'!H380=\"\",\"\",'PJ - P'!H380)","v":""},{"$f":"IF('PJ - P'!M380=\"\",\"\",'PJ - P'!M380)","v":""},null,{"$f":"IF('PJ - P'!O380=\"\",\"\",'PJ - P'!O380)","v":""}]
[null,{"$f":"IF(AND('PJ - P'!$C381=\"\",'PJ - P'!$D381=\"\"),\"\",'PJ - P'!V381)","v":""},{"$f":"IF(AND('PJ - P'!$C381=\"\",'PJ - P'!$D381=\"\"),\"\",'PJ - P'!B381)","v":""},{"$f":"IF('PJ - P'!C381=\"\",\"\",'PJ - P'!C381)","v":""},{"$f":"IF('PJ - P'!D381=\"\",\"\",'PJ - P'!D381)","v":""},{"$f":"IF('PJ - P'!H381=\"\",\"\",'PJ - P'!H381)","v":""},{"$f":"IF('PJ - P'!M381=\"\",\"\",'PJ - P'!M381)","v":""},null,{"$f":"IF('PJ - P'!O381=\"\",\"\",'PJ - P'!O381)","v":""}]
[null,{"$f":"IF(AND('PJ - P'!$C382=\"\",'PJ - P'!$D382=\"\"),\"\",'PJ - P'!V382)","v":""},{"$f":"IF(AND('PJ - P'!$C382=\"\",'PJ - P'!$D382=\"\"),\"\",'PJ - P'!B382)","v":""},{"$f":"IF('PJ - P'!C382=\"\",\"\",'PJ - P'!C382)","v":""},{"$f":"IF('PJ - P'!D382=\"\",\"\",'PJ - P'!D382)","v":""},{"$f":"IF('PJ - P'!H382=\"\",\"\",'PJ - P'!H382)","v":""},{"$f":"IF('PJ - P'!M382=\"\",\"\",'PJ - P'!M382)","v":""},null,{"$f":"IF('PJ - P'!O382=\"\",\"\",'PJ - P'!O382)","v":""}]
[null,{"$f":"IF(AND('PJ - P'!$C383=\"\",'PJ - P'!$D383=\"\"),\"\",'PJ - P'!V383)","v":""},{"$f":"IF(AND('PJ - P'!$C383=\"\",'PJ - P'!$D383=\"\"),\"\",'PJ - P'!B383)","v":""},{"$f":"IF('PJ - P'!C383=\"\",\"\",'PJ - P'!C383)","v":""},{"$f":"IF('PJ - P'!D383=\"\",\"\",'PJ - P'!D383)","v":""},{"$f":"IF('PJ - P'!H383=\"\",\"\",'PJ - P'!H383)","v":""},{"$f":"IF('PJ - P'!M383=\"\",\"\",'PJ - P'!M383)","v":""},null,{"$f":"IF('PJ - P'!O383=\"\",\"\",'PJ - P'!O383)","v":""}]
[null,{"$f":"IF(AND('PJ - P'!$C384=\"\",'PJ - P'!$D384=\"\"),\"\",'PJ - P'!V384)","v":""},{"$f":"IF(AND('PJ - P'!$C384=\"\",'PJ - P'!$D384=\"\"),\"\",'PJ - P'!B384)","v":""},{"$f":"IF('PJ - P'!C384=\"\",\"\",'PJ - P'!C384)","v":""},{"$f":"IF('PJ - P'!D384=\"\",\"\",'PJ - P'!D384)","v":""},{"$f":"IF('PJ - P'!H384=\"\",\"\",'PJ - P'!H384)","v":""},{"$f":"IF('PJ - P'!M384=\"\",\"\",'PJ - P'!M384)","v":""},null,{"$f":"IF('PJ - P'!O384=\"\",\"\",'PJ - P'!O384)","v":""}]
[null,{"$f":"IF(AND('PJ - P'!$C385=\"\",'PJ - P'!$D385=\"\"),\"\",'PJ - P'!V385)","v":""},{"$f":"IF(AND('PJ - P'!$C385=\"\",'PJ - P'!$D385=\"\"),\"\",'PJ - P'!B385)","v":""},{"$f":"IF('PJ - P'!C385=\"\",\"\",'PJ - P'!C385)","v":""},{"$f":"IF('PJ - P'!D385=\"\",\"\",'PJ - P'!D385)","v":""},{"$f":"IF('PJ - P'!H385=\"\",\"\",'PJ - P'!H385)","v":""},{"$f":"IF('PJ - P'!M385=\"\",\"\",'PJ - P'!M385)","v":""},null,{"$f":"IF('PJ - P'!O385=\"\",\"\",'PJ - P'!O385)","v":""}]
[null,{"$f":"IF(AND('PJ - P'!$C386=\"\",'PJ - P'!$D386=\"\"),\"\",'PJ - P'!V386)","v":""},{"$f":"IF(AND('PJ - P'!$C386=\"\",'PJ - P'!$D386=\"\"),\"\",'PJ - P'!B386)","v":""},{"$f":"IF('PJ - P'!C386=\"\",\"\",'PJ - P'!C386)","v":""},{"$f":"IF('PJ - P'!D386=\"\",\"\",'PJ - P'!D386)","v":""},{"$f":"IF('PJ - P'!H386=\"\",\"\",'PJ - P'!H386)","v":""},{"$f":"IF('PJ - P'!M386=\"\",\"\",'PJ - P'!M386)","v":""},null,{"$f":"IF('PJ - P'!O386=\"\",\"\",'PJ - P'!O386)","v":""}]
[null,{"$f":"IF(AND('PJ - P'!$C387=\"\",'PJ - P'!$D387=\"\"),\"\",'PJ - P'!V387)","v":""},{"$f":"IF(AND('PJ - P'!$C387=\"\",'PJ - P'!$D387=\"\"),\"\",'PJ - P'!B387)","v":""},{"$f":"IF('PJ - P'!C387=\"\",\"\",'PJ - P'!C387)","v":""},{"$f":"IF('PJ - P'!D387=\"\",\"\",'PJ - P'!D387)","v":""},{"$f":"IF('PJ - P'!H387=\"\",\"\",'PJ - P'!H387)","v":""},{"$f":"IF('PJ - P'!M387=\"\",\"\",'PJ - P'!M387)","v":""},null,{"$f":"IF('PJ - P'!O387=\"\",\"\",'PJ - P'!O387)","v":""}]
[null,{"$f":"IF(AND('PJ - P'!$C388=\"\",'PJ - P'!$D388=\"\"),\"\",'PJ - P'!V388)","v":""},{"$f":"IF(AND('PJ - P'!$C388=\"\",'PJ - P'!$D388=\"\"),\"\",'PJ - P'!B388)","v":""},{"$f":"IF('PJ - P'!C388=\"\",\"\",'PJ - P'!C388)","v":""},{"$f":"IF('PJ - P'!D388=\"\",\"\",'PJ - P'!D388)","v":""},{"$f":"IF('PJ - P'!H388=\"\",\"\",'PJ - P'!H388)","v":""},{"$f":"IF('PJ - P'!M388=\"\",\"\",'PJ - P'!M388)","v":""},null,{"$f":"IF('PJ - P'!O388=\"\",\"\",'PJ - P'!O388)","v":""}]
[null,{"$f":"IF(AND('PJ - P'!$C389=\"\",'PJ - P'!$D389=\"\"),\"\",'PJ - P'!V389)","v":""},{"$f":"IF(AND('PJ - P'!$C389=\"\",'PJ - P'!$D389=\"\"),\"\",'PJ - P'!B389)","v":""},{"$f":"IF('PJ - P'!C389=\"\",\"\",'PJ - P'!C389)","v":""},{"$f":"IF('PJ - P'!D389=\"\",\"\",'PJ - P'!D389)","v":""},{"$f":"IF('PJ - P'!H389=\"\",\"\",'PJ - P'!H389)","v":""},{"$f":"IF('PJ - P'!M389=\"\",\"\",'PJ - P'!M389)","v":""},null,{"$f":"IF('PJ - P'!O389=\"\",\"\",'PJ - P'!O389)","v":""}]
[null,{"$f":"IF(AND('PJ - P'!$C390=\"\",'PJ - P'!$D390=\"\"),\"\",'PJ - P'!V390)","v":""},{"$f":"IF(AND('PJ - P'!$C390=\"\",'PJ - P'!$D390=\"\"),\"\",'PJ - P'!B390)","v":""},{"$f":"IF('PJ - P'!C390=\"\",\"\",'PJ - P'!C390)","v":""},{"$f":"IF('PJ - P'!D390=\"\",\"\",'PJ - P'!D390)","v":""},{"$f":"IF('PJ - P'!H390=\"\",\"\",'PJ - P'!H390)","v":""},{"$f":"IF('PJ - P'!M390=\"\",\"\",'PJ - P'!M390)","v":""},null,{"$f":"IF('PJ - P'!O390=\"\",\"\",'PJ - P'!O390)","v":""}]
[null,{"$f":"IF(AND('PJ - P'!$C391=\"\",'PJ - P'!$D391=\"\"),\"\",'PJ - P'!V391)","v":""},{"$f":"IF(AND('PJ - P'!$C391=\"\",'PJ - P'!$D391=\"\"),\"\",'PJ - P'!B391)","v":""},{"$f":"IF('PJ - P'!C391=\"\",\"\",'PJ - P'!C391)","v":""},{"$f":"IF('PJ - P'!D391=\"\",\"\",'PJ - P'!D391)","v":""},{"$f":"IF('PJ - P'!H391=\"\",\"\",'PJ - P'!H391)","v":""},{"$f":"IF('PJ - P'!M391=\"\",\"\",'PJ - P'!M391)","v":""},null,{"$f":"IF('PJ - P'!O391=\"\",\"\",'PJ - P'!O391)","v":""}]
[null,{"$f":"IF(AND('PJ - P'!$C392=\"\",'PJ - P'!$D392=\"\"),\"\",'PJ - P'!V392)","v":""},{"$f":"IF(AND('PJ - P'!$C392=\"\",'PJ - P'!$D392=\"\"),\"\",'PJ - P'!B392)","v":""},{"$f":"IF('PJ - P'!C392=\"\",\"\",'PJ - P'!C392)","v":""},{"$f":"IF('PJ - P'!D392=\"\",\"\",'PJ - P'!D392)","v":""},{"$f":"IF('PJ - P'!H392=\"\",\"\",'PJ - P'!H392)","v":""},{"$f":"IF('PJ - P'!M392=\"\",\"\",'PJ - P'!M392)","v":""},null,{"$f":"IF('PJ - P'!O392=\"\",\"\",'PJ - P'!O392)","v":""}]
[null,{"$f":"IF(AND('PJ - P'!$C393=\"\",'PJ - P'!$D393=\"\"),\"\",'PJ - P'!V393)","v":""},{"$f":"IF(AND('PJ - P'!$C393=\"\",'PJ - P'!$D393=\"\"),\"\",'PJ - P'!B393)","v":""},{"$f":"IF('PJ - P'!C393=\"\",\"\",'PJ - P'!C393)","v":""},{"$f":"IF('PJ - P'!D393=\"\",\"\",'PJ - P'!D393)","v":""},{"$f":"IF('PJ - P'!H393=\"\",\"\",'PJ - P'!H393)","v":""},{"$f":"IF('PJ - P'!M393=\"\",\"\",'PJ - P'!M393)","v":""},null,{"$f":"IF('PJ - P'!O393=\"\",\"\",'PJ - P'!O393)","v":""}]
[null,{"$f":"IF(AND('PJ - P'!$C394=\"\",'PJ - P'!$D394=\"\"),\"\",'PJ - P'!V394)","v":""},{"$f":"IF(AND('PJ - P'!$C394=\"\",'PJ - P'!$D394=\"\"),\"\",'PJ - P'!B394)","v":""},{"$f":"IF('PJ - P'!C394=\"\",\"\",'PJ - P'!C394)","v":""},{"$f":"IF('PJ - P'!D394=\"\",\"\",'PJ - P'!D394)","v":""},{"$f":"IF('PJ - P'!H394=\"\",\"\",'PJ - P'!H394)","v":""},{"$f":"IF('PJ - P'!M394=\"\",\"\",'PJ - P'!M394)","v":""},null,{"$f":"IF('PJ - P'!O394=\"\",\"\",'PJ - P'!O394)","v":""}]
[null,{"$f":"IF(AND('PJ - P'!$C395=\"\",'PJ - P'!$D395=\"\"),\"\",'PJ - P'!V395)","v":""},{"$f":"IF(AND('PJ - P'!$C395=\"\",'PJ - P'!$D395=\"\"),\"\",'PJ - P'!B395)","v":""},{"$f":"IF('PJ - P'!C395=\"\",\"\",'PJ - P'!C395)","v":""},{"$f":"IF('PJ - P'!D395=\"\",\"\",'PJ - P'!D395)","v":""},{"$f":"IF('PJ - P'!H395=\"\",\"\",'PJ - P'!H395)","v":""},{"$f":"IF('PJ - P'!M395=\"\",\"\",'PJ - P'!M395)","v":""},null,{"$f":"IF('PJ - P'!O395=\"\",\"\",'PJ - P'!O395)","v":""}]
[null,{"$f":"IF(AND('PJ - P'!$C396=\"\",'PJ - P'!$D396=\"\"),\"\",'PJ - P'!V396)","v":""},{"$f":"IF(AND('PJ - P'!$C396=\"\",'PJ - P'!$D396=\"\"),\"\",'PJ - P'!B396)","v":""},{"$f":"IF('PJ - P'!C396=\"\",\"\",'PJ - P'!C396)","v":""},{"$f":"IF('PJ - P'!D396=\"\",\"\",'PJ - P'!D396)","v":""},{"$f":"IF('PJ - P'!H396=\"\",\"\",'PJ - P'!H396)","v":""},{"$f":"IF('PJ - P'!M396=\"\",\"\",'PJ - P'!M396)","v":""},null,{"$f":"IF('PJ - P'!O396=\"\",\"\",'PJ - P'!O396)","v":""}]
[null,{"$f":"B$1","v":"Běh na 100m s přek. - Pořadí jednotlivců"}]
[]
[null,{"$f":"B$3","v":"VC ČR v požárním útoku družstev HZS krajů a HZS podniků"},null,null,{"$f":"E$3","v":"Petrovice 19.9.2019"}]
[]
[null,{"$f":"Start!$C$5","v":"MUŽI"}]
[null,"Pořadí","Start. číslo","Jméno","kolektiv","čas             I. pokusu","čas            II. pokusu",null,"Výsledný čas"]
[]
[null,{"$f":"IF(AND('PJ - P'!$C397=\"\",'PJ - P'!$D397=\"\"),\"\",'PJ - P'!V397)","v":""},{"$f":"IF(AND('PJ - P'!$C397=\"\",'PJ - P'!$D397=\"\"),\"\",'PJ - P'!B397)","v":""},{"$f":"IF('PJ - P'!C397=\"\",\"\",'PJ - P'!C397)","v":""},{"$f":"IF('PJ - P'!D397=\"\",\"\",'PJ - P'!D397)","v":""},{"$f":"IF('PJ - P'!H397=\"\",\"\",'PJ - P'!H397)","v":""},{"$f":"IF('PJ - P'!M397=\"\",\"\",'PJ - P'!M397)","v":""},null,{"$f":"IF('PJ - P'!O397=\"\",\"\",'PJ - P'!O397)","v":""}]
[null,{"$f":"IF(AND('PJ - P'!$C398=\"\",'PJ - P'!$D398=\"\"),\"\",'PJ - P'!V398)","v":""},{"$f":"IF(AND('PJ - P'!$C398=\"\",'PJ - P'!$D398=\"\"),\"\",'PJ - P'!B398)","v":""},{"$f":"IF('PJ - P'!C398=\"\",\"\",'PJ - P'!C398)","v":""},{"$f":"IF('PJ - P'!D398=\"\",\"\",'PJ - P'!D398)","v":""},{"$f":"IF('PJ - P'!H398=\"\",\"\",'PJ - P'!H398)","v":""},{"$f":"IF('PJ - P'!M398=\"\",\"\",'PJ - P'!M398)","v":""},null,{"$f":"IF('PJ - P'!O398=\"\",\"\",'PJ - P'!O398)","v":""}]
[null,{"$f":"IF(AND('PJ - P'!$C399=\"\",'PJ - P'!$D399=\"\"),\"\",'PJ - P'!V399)","v":""},{"$f":"IF(AND('PJ - P'!$C399=\"\",'PJ - P'!$D399=\"\"),\"\",'PJ - P'!B399)","v":""},{"$f":"IF('PJ - P'!C399=\"\",\"\",'PJ - P'!C399)","v":""},{"$f":"IF('PJ - P'!D399=\"\",\"\",'PJ - P'!D399)","v":""},{"$f":"IF('PJ - P'!H399=\"\",\"\",'PJ - P'!H399)","v":""},{"$f":"IF('PJ - P'!M399=\"\",\"\",'PJ - P'!M399)","v":""},null,{"$f":"IF('PJ - P'!O399=\"\",\"\",'PJ - P'!O399)","v":""}]
[null,{"$f":"IF(AND('PJ - P'!$C400=\"\",'PJ - P'!$D400=\"\"),\"\",'PJ - P'!V400)","v":""},{"$f":"IF(AND('PJ - P'!$C400=\"\",'PJ - P'!$D400=\"\"),\"\",'PJ - P'!B400)","v":""},{"$f":"IF('PJ - P'!C400=\"\",\"\",'PJ - P'!C400)","v":""},{"$f":"IF('PJ - P'!D400=\"\",\"\",'PJ - P'!D400)","v":""},{"$f":"IF('PJ - P'!H400=\"\",\"\",'PJ - P'!H400)","v":""},{"$f":"IF('PJ - P'!M400=\"\",\"\",'PJ - P'!M400)","v":""},null,{"$f":"IF('PJ - P'!O400=\"\",\"\",'PJ - P'!O400)","v":""}]

{"sheet":"PJ - P","index":10,"n_rows":42,"n_cols":23,"rows_kept":42,"cut":false,"hidden":false,"merged":[]}
[null,25,"Stuchlík Martin","Re Jihlava",16.91,null,null,16.91,null,16.59,null,null,16.59,null,16.59,null,1,null,1,null,16.91,1,{"$f":"COUNT(Q:Q)","v":42}]
[null,52,"Čekal Michal","ÚO Žďár nad Sázavou",17.25,null,null,17.25,null,"NP",null,null,"NP",null,17.25,null,2,null,2,null,617.25,2]
[null,33,"Navrkal Luboš","ÚO Třebíč",17.32,null,null,17.32,null,17.350000000000001,null,null,17.350000000000001,null,17.32,null,3,null,3,null,17.350000000000001,3]
[null,31,"Fila Vojtěch","ÚO Třebíč",23.07,null,null,23.07,null,17.53,null,null,17.53,null,17.53,null,4,null,4,null,23.07,4]
[null,6,"Ryšavý Vilém","ÚO Pelhřimov",18.09,null,null,18.09,null,17.91,null,null,17.91,null,17.91,null,5,null,5,null,18.09,5]
[null,44,"Kubát Pavel","ÚO Havlíčkův Brod",17.940000000000001,null,null,17.940000000000001,null,"NP",null,null,"NP",null,17.940000000000001,null,6,null,6,null,617.94000000000005,6]
[null,32,"Hons Lukáš","ÚO Třebíč",19.89,null,null,19.89,null,18.12,null,null,18.12,null,18.12,null,7,null,7,null,19.89,7]
[null,54,"Kratochvíl Stanislav","ÚO Žďár nad Sázavou",18.41,null,null,18.41,null,"NP",null,null,"NP",null,18.41,null,8,null,8,null,618.41,8]
[null,42,"Klimeš Martin","ÚO Havlíčkův Brod",18.46,null,null,18.46,null,19.3,null,null,19.3,null,18.46,null,9,null,9,null,19.3,9]
[null,22,"Pařil Jiří","Re Jihlava",19.05,null,null,19.05,null,18.55,null,null,18.55,null,18.55,null,10,null,10,null,19.05,10]
[null,34,"Slatinský Petr","ÚO Třebíč",18.739999999999998,null,null,18.739999999999998,null,18.72,null,null,18.72,null,18.72,null,11,null,11,null,18.739999999999998,11]
[null,35,"Šťastný Libor","ÚO Třebíč","NDF",null,null,"DNF",null,19.190000000000001,null,null,19.190000000000001,null,19.190000000000001,null,12,null,12,null,3619.19,12]
[null,53,"Fabík Jan","ÚO Žďár nad Sázavou",19.41,null,null,19.41,null,"DNF",null,null,"DNF",null,19.41,null,13,null,13,null,3619.41,13]
[null,3,"Smetana Petr","ÚO Pelhřimov",19.45,null,null,19.45,null,24.03,null,null,24.03,null,19.45,null,14,null,14,null,24.03,14]
[null,46,"Lacina Josef","ÚO Havlíčkův Brod",19.829999999999998,null,null,19.829999999999998,null,19.600000000000001,null,null,19.600000000000001,null,19.600000000000001,null,15,null,15,null,19.829999999999998,15]
[null,26,"Pařil Milan","Re Jihlava",19.61,null,null,19.61,null,"NP",null,null,"NP",null,19.61,null,16,null,16,null,619.61,16]
[null,13,"Mrázek Jan","SŽDC Havlíčkův Brod",20.46,null,null,20.46,null,20.190000000000001,null,null,20.190000000000001,null,20.190000000000001,null,17,null,17,null,20.46,17]
[null,37,"Vejvoda Roman","ÚO Třebíč",22.99,null,null,22.99,null,20.68,null,null,20.68,null,20.68,null,18,null,18,null,22.99,18]
[null,48,"Panský David","ÚO Havlíčkův Brod",20.97,null,null,20.97,null,"NP",null,null,"NP",null,20.97,null,19,null,19,null,620.97,19]
[null,59,"Škapa Miroslav","ÚO Žďár nad Sázavou",21.07,null,null,21.07,null,21.97,null,null,21.97,null,21.07,null,20,null,20,null,21.97,20]
[null,24,"Hájek Petr","Re Jihlava",21.29,null,null,21.29,null,21.09,null,null,21.09,null,21.09,null,21,null,21,null,21.29,21]
[null,47,"Dolejší Zdenek","ÚO Havlíčkův Brod",23.64,null,null,23.64,null,21.23,null,null,21.23,null,21.23,null,22,null,22,null,23.64,22]
[null,57,"Urbánek Petr","ÚO Žďár nad Sázavou",21.47,null,null,21.47,null,"DNF",null,null,"DNF",null,21.47,null,23,null,23,null,3621.47,23]
[null,23,"Šimáček Pavel","Re Jihlava",22.15,null,null,22.15,null,21.52,null,null,21.52,null,21.52,null,24,null,24,null,22.15,24]
[null,27,"Novotný Hynek","Re Jihlava",21.66,null,null,21.66,null,21.8,null,null,21.8,null,21.66,null,25,null,25,null,21.8,25]
[null,43,"Kubát Jaroslav","ÚO Havlíčkův Brod",22.2,null,null,22.2,null,21.89,null,null,21.89,null,21.89,null,26,null,26,null,22.2,26]
[null,8,"Janko Vladimír","ÚO Pelhřimov",22.31,null,null,22.31,null,"NP",null,null,"NP",null,22.31,null,27,null,27,null,622.30999999999995,27]
[null,55,"Mičánek Lukáš","ÚO Žďár nad Sázavou",23,null,null,23,null,22.35,null,null,22.35,null,22.35,null,28,null,28,null,23,28]
[null,58,"Pelikán Jan","ÚO Žďár nad Sázavou",22.58,null,null,22.58,null,23.07,null,null,23.07,null,22.58,null,29,null,29,null,23.07,29]
[null,14,"Pátek Tomáš","SŽDC Havlíčkův Brod",27.37,null,null,27.37,null,23.06,null,null,23.06,null,23.06,null,30,null,30,null,27.37,30]
[null,15,"Zadina Dominik","SŽDC Havlíčkův Brod",23.46,null,null,23.46,null,23.09,null,null,23.09,null,23.09,null,31,null,31,null,23.46,31]
[null,17,"Patočka Petr","SŽDC Havlíčkův Brod","NP",null,null,"NP",null,23.2,null,null,23.2,null,23.2,null,32,null,32,null,623.20000000000005,32]
[null,4,"Blažek Jiří","ÚO Pelhřimov",27.25,null,null,27.25,null,23.56,null,null,23.56,null,23.56,null,33,null,33,null,27.25,33]
[null,51,"Špaček Marek","ÚO Žďár nad Sázavou",25.89,null,null,25.89,null,23.64,null,null,23.64,null,23.64,null,34,null,34,null,25.89,34]
[null,36,"Hnízdil Pavel","ÚO Třebíč",23.79,null,null,23.79,null,"DNF",null,null,"DNF",null,23.79,null,35,null,35,null,3623.79,35]
[null,41,"Zadina Martin","ÚO Havlíčkův Brod",24.07,null,null,24.07,null,"NP",null,null,"NP",null,24.07,null,36,null,36,null,624.07000000000005,36]
[null,1,"Kryzan Martin","ÚO Pelhřimov",24.29,null,null,24.29,null,"NP",null,null,"NP",null,24.29,null,37,null,37,null,624.29,37]
[null,7,"Hašek Vladislav","ÚO Pelhřimov",24.34,null,null,24.34,null,"NP",null,null,"NP",null,24.34,null,38,null,38,null,624.34,38]
[null,12,"Gemsa Martin","SŽDC Havlíčkův Brod",25.24,null,null,25.24,null,24.82,null,null,24.82,null,24.82,null,39,null,39,null,25.24,39]
[null,45,"Flídr Luboš","ÚO Havlíčkův Brod",25.58,null,null,25.58,null,25.2,null,null,25.2,null,25.2,null,40,null,40,null,25.58,40]
[null,5,"Vlk Martin","ÚO Pelhřimov",29.31,null,null,29.31,null,26.37,null,null,26.37,null,26.37,null,41,null,41,null,29.31,41]
[null,16,"Prchal Jan","SŽDC Havlíčkův Brod",26.78,null,null,26.78,null,26.82,null,null,26.82,null,26.78,null,42,null,42,null,26.82,42]

{"sheet":"PJ-C","index":11,"n_rows":136,"n_cols":29,"rows_kept":136,"cut":false,"hidden":false,"merged":[[4,18,6,18],[7,18,9,18],[10,18,12,18],[13,18,15,18],[16,18,18,18],[0,1,0,18],[19,1,21,1],[44,1,46,1],[44,2,46,2],[2,4,2,12],[28,13,30,13],[31,1,33,1],[19,16,21,16],[10,1,12,1],[31,13,33,13],[10,13,12,13],[4,2,6,2],[16,13,18,13],[25,13,27,13],[4,1,6,1],[7,1,9,1],[22,1,24,1],[25,1,27,1],[16,1,18,1],[10,2,12,2],[65,16,67,16],[7,2,9,2],[4,13,6,13],[4,14,6,14],[10,16,12,16],[10,14,12,14],[4,16,6,16],[7,16,9,16],[22,2,24,2],[25,2,27,2],[28,2,30,2],[19,2,21,2],[13,2,15,2],[16,2,18,2],[19,13,21,13],[22,13,24,13],[50,2,52,2],[50,13,52,13],[50,14,52,14],[25,14,27,14],[13,16,15,16],[16,16,18,16],[13,14,15,14],[13,1,15,1],[38,14,40,14],[41,1,43,1],[41,2,43,2],[41,13,43,13],[41,14,43,14],[38,1,40,1],[38,2,40,2],[38,13,40,13],[34,1,34,18],[28,16,30,16],[31,16,33,16],[38,16,40,16],[41,16,43,16],[25,16,27,16],[13,13,15,13],[22,14,24,14],[84,16,86,16],[81,1,83,1],[81,2,83,2],[81,13,83,13],[81,14,83,14],[84,1,86,1],[50,16,52,16],[53,16,55,16],[59,2,61,2],[59,13,61,13],[65,1,67,1],[65,2,67,2],[65,13,67,13],[65,14,67,14],[62,1,64,1],[62,2,64,2],[72,13,74,13],[62,16,64,16],[84,13,86,13],[50,1,52,1],[53,1,55,1],[53,2,55,2],[53,13,55,13],[56,16,58,16],[7,14,9,14],[7,13,9,13],[25,18,27,18],[28,18,30,18],[31,18,33,18],[53,18,55,18],[38,18,40,18],[41,18,43,18],[44,18,46,18],[47,18,49,18],[50,18,52,18],[19,18,21,18],[22,18,24,18],[44,13,46,13],[44,14,46,14],[47,16,49,16],[22,16,24,16],[28,14,30,14],[31,14,33,14],[47,13,49,13],[47,14,49,14],[44,16,46,16],[53,14,55,14],[78,13,80,13],[78,14,80,14],[72,1,74,1],[72,2,74,2],[28,1,30,1],[75,14,77,14],[78,16,80,16],[36,4,36,12],[31,2,33,2],[47,1,49,1],[47,2,49,2],[59,16,61,16],[56,1,58,1],[56,2,58,2],[56,13,58,13],[56,14,58,14],[59,1,61,1],[59,14,61,14],[62,13,64,13],[62,14,64,14],[84,2,86,2],[84,18,86,18],[75,13,77,13],[84,14,86,14],[16,14,18,14],[19,14,21,14],[81,18,83,18],[56,18,58,18],[59,18,61,18],[62,18,64,18],[65,18,67,18],[68,1,68,18],[70,4,70,12],[72,18,74,18],[75,18,77,18],[81,16,83,16],[72,14,74,14],[75,1,77,1],[75,2,77,2],[78,18,80,18],[72,16,74,16],[75,16,77,16],[78,1,80,1],[78,2,80,2],[87,1,89,1],[87,2,89,2],[87,13,89,13],[87,14,89,14],[93,16,95,16],[93,18,95,18],[90,1,92,1],[90,2,92,2],[90,13,92,13],[90,14,92,14],[87,16,89,16],[87,18,89,18],[90,16,92,16],[90,18,92,18],[99,1,101,1],[99,2,101,2],[99,16,101,16],[99,18,101,18],[102,1,102,18],[104,4,104,12],[99,13,101,13],[99,14,101,14],[93,1,95,1],[93,2,95,2],[96,1,98,1],[96,2,98,2],[96,13,98,13],[96,14,98,14],[93,13,95,13],[93,14,95,14],[96,16,98,16],[96,18,98,18],[106,16,108,16],[106,18,108,18],[109,1,111,1],[109,2,111,2],[109,13,111,13],[109,14,111,14],[109,16,111,16],[109,18,111,18],[106,13,108,13],[106,14,108,14],[106,1,108,1],[106,2,108,2],[112,18,114,18],[115,16,117,16],[115,18,117,18],[121,16,123,16],[121,18,123,18],[112,1,114,1],[112,2,114,2],[112,13,114,13],[112,14,114,14],[118,16,120,16],[118,18,120,18],[115,1,117,1],[115,2,117,2],[115,13,117,13],[115,14,117,14],[118,1,120,1],[118,2,120,2],[121,1,123,1],[121,2,123,2],[121,13,123,13],[121,14,123,14],[118,13,120,13],[118,14,120,14],[112,16,114,16],[124,18,126,18],[127,16,129,16],[127,18,129,18],[133,16,135,16],[133,18,135,18],[124,1,126,1],[124,2,126,2],[124,13,126,13],[124,14,126,14],[130,16,132,16],[130,18,132,18],[127,1,129,1],[127,2,129,2],[127,13,129,13],[127,14,129,14],[130,1,132,1],[130,2,132,2],[133,1,135,1],[133,2,135,2],[133,13,135,13],[133,14,135,14],[130,13,132,13],[130,14,132,14],[124,16,126,16],[4,26,6,26],[4,27,6,27],[4,28,6,28],[7,20,9,20],[7,21,9,21],[7,22,9,22],[7,23,9,23],[7,24,9,24],[7,25,9,25],[7,26,9,26],[4,20,6,20],[4,21,6,21],[4,22,6,22],[4,23,6,23],[4,24,6,24],[4,25,6,25],[7,27,9,27],[7,28,9,28],[10,20,12,20],[10,21,12,21],[10,22,12,22],[10,23,12,23],[10,24,12,24],[10,25,12,25],[10,26,12,26],[10,27,12,27],[10,28,12,28],[13,20,15,20],[13,21,15,21],[13,22,15,22],[13,23,15,23],[13,24,15,24],[13,25,15,25],[13,26,15,26],[13,27,15,27],[13,28,15,28],[16,26,18,26],[16,27,18,27],[16,28,18,28],[19,20,21,20],[19,21,21,21],[19,22,21,22],[19,23,21,23],[19,24,21,24],[19,25,21,25],[19,26,21,26],[16,20,18,20],[16,21,18,21],[16,22,18,22],[16,23,18,23],[16,24,18,24],[16,25,18,25],[19,27,21,27],[19,28,21,28],[22,20,24,20],[22,21,24,21],[22,22,24,22],[22,23,24,23],[22,24,24,24],[22,25,24,25],[22,26,24,26],[22,27,24,27],[22,28,24,28],[25,20,27,20],[25,21,27,21],[25,22,27,22],[25,23,27,23],[25,24,27,24],[25,25,27,25],[25,26,27,26],[25,27,27,27],[25,28,27,28],[28,26,30,26],[28,27,30,27],[28,28,30,28],[31,20,33,20],[31,21,33,21],[31,22,33,22],[31,23,33,23],[31,24,33,24],[31,25,33,25],[31,26,33,26],[28,20,30,20],[28,21,30,21],[28,22,30,22],[28,23,30,23],[28,24,30,24],[28,25,30,25],[31,27,33,27],[31,28,33,28],[38,20,40,20],[38,21,40,21],[38,22,40,22],[38,23,40,23],[38,24,40,24],[38,25,40,25],[38,26,40,26],[38,27,40,27],[38,28,40,28],[41,20,43,20],[41,21,43,21],[41,22,43,22],[41,23,43,23],[41,24,43,24],[41,25,43,25],[41,26,43,26],[41,27,43,27],[41,28,43,28],[44,26,46,26],[44,27,46,27],[44,28,46,28],[47,20,49,20],[47,21,49,21],[47,22,49,22],[47,23,49,23],[47,24,49,24],[47,25,49,25],[47,26,49,26],[44,20,46,20],[44,21,46,21],[44,22,46,22],[44,23,46,23],[44,24,46,24],[44,25,46,25],[47,27,49,27],[47,28,49,28],[50,20,52,20],[50,21,52,21],[50,22,52,22],[50,23,52,23],[50,24,52,24],[50,25,52,25],[50,26,52,26],[50,27,52,27],[50,28,52,28],[53,20,55,20],[53,21,55,21],[53,22,55,22],[53,23,55,23],[53,24,55,24],[53,25,55,25],[53,26,55,26],[53,27,55,27],[53,28,55,28],[56,26,58,26],[56,27,58,27],[56,28,58,28],[59,20,61,20],[59,21,61,21],[59,22,61,22],[59,23,61,23],[59,24,61,24],[59,25,61,25],[59,26,61,26],[56,20,58,20],[56,21,58,21],[56,22,58,22],[56,23,58,23],[56,24,58,24],[56,25,58,25],[59,27,61,27],[59,28,61,28],[62,20,64,20],[62,21,64,21],[62,22,64,22],[62,23,64,23],[62,24,64,24],[62,25,64,25],[62,26,64,26],[62,27,64,27],[62,28,64,28],[65,20,67,20],[65,21,67,21],[65,22,67,22],[65,23,67,23],[65,24,67,24],[65,25,67,25],[65,26,67,26],[65,27,67,27],[65,28,67,28],[72,26,74,26],[72,27,74,27],[72,28,74,28],[75,20,77,20],[75,21,77,21],[75,22,77,22],[75,23,77,23],[75,24,77,24],[75,25,77,25],[75,26,77,26],[72,20,74,20],[72,21,74,21],[72,22,74,22],[72,23,74,23],[72,24,74,24],[72,25,74,25],[75,27,77,27],[75,28,77,28],[78,20,80,20],[78,21,80,21],[78,22,80,22],[78,23,80,23],[78,24,80,24],[78,25,80,25],[78,26,80,26],[78,27,80,27],[78,28,80,28],[81,20,83,20],[81,21,83,21],[81,22,83,22],[81,23,83,23],[81,24,83,24],[81,25,83,25],[81,26,83,26],[81,27,83,27],[81,28,83,28],[84,26,86,26],[84,27,86,27],[84,28,86,28],[87,20,89,20],[87,21,89,21],[87,22,89,22],[87,23,89,23],[87,24,89,24],[87,25,89,25],[87,26,89,26],[84,20,86,20],[84,21,86,21],[84,22,86,22],[84,23,86,23],[84,24,86,24],[84,25,86,25],[87,27,89,27],[87,28,89,28],[90,20,92,20],[90,21,92,21],[90,22,92,22],[90,23,92,23],[90,24,92,24],[90,25,92,25],[90,26,92,26],[90,27,92,27],[90,28,92,28],[93,20,95,20],[93,21,95,21],[93,22,95,22],[93,23,95,23],[93,24,95,24],[93,25,95,25],[93,26,95,26],[93,27,95,27],[93,28,95,28],[96,26,98,26],[96,27,98,27],[96,28,98,28],[99,20,101,20],[99,21,101,21],[99,22,101,22],[99,23,101,23],[99,24,101,24],[99,25,101,25],[99,26,101,26],[96,20,98,20],[96,21,98,21],[96,22,98,22],[96,23,98,23],[96,24,98,24],[96,25,98,25],[99,27,101,27],[99,28,101,28],[106,20,108,20],[106,21,108,21],[106,22,108,22],[106,23,108,23],[106,24,108,24],[106,25,108,25],[106,26,108,26],[106,27,108,27],[106,28,108,28],[109,20,111,20],[109,21,111,21],[109,22,111,22],[109,23,111,23],[109,24,111,24],[109,25,111,25],[109,26,111,26],[109,27,111,27],[109,28,111,28],[112,26,114,26],[112,27,114,27],[112,28,114,28],[115,20,117,20],[115,21,117,21],[115,22,117,22],[115,23,117,23],[115,24,117,24],[115,25,117,25],[115,26,117,26],[112,20,114,20],[112,21,114,21],[112,22,114,22],[112,23,114,23],[112,24,114,24],[112,25,114,25],[115,27,117,27],[115,28,117,28],[118,20,120,20],[118,21,120,21],[118,22,120,22],[118,23,120,23],[118,24,120,24],[118,25,120,25],[118,26,120,26],[118,27,120,27],[118,28,120,28],[121,20,123,20],[121,21,123,21],[121,22,123,22],[121,23,123,23],[121,24,123,24],[121,25,123,25],[121,26,123,26],[121,27,123,27],[121,28,123,28],[124,26,126,26],[124,27,126,27],[124,28,126,28],[127,20,129,20],[127,21,129,21],[127,22,129,22],[127,23,129,23],[127,24,129,24],[127,25,129,25],[127,26,129,26],[124,20,126,20],[124,21,126,21],[124,22,126,22],[124,23,126,23],[124,24,126,24],[124,25,126,25],[127,27,129,27],[127,28,129,28],[130,20,132,20],[130,21,132,21],[130,22,132,22],[130,23,132,23],[130,24,132,24],[130,25,132,25],[130,26,132,26],[130,27,132,27],[130,28,132,28],[133,20,135,20],[133,21,135,21],[133,22,135,22],[133,23,135,23],[133,24,135,24],[133,25,135,25],[133,26,135,26],[133,27,135,27],[133,28,135,28]]}
[null,"Běh na 100m s překážkami - Pořadí družstev"]
[null,null,null,null,null,null,null,null,null,null,null,null,null,6]
[null,null,{"$f":"Start!$C$5","v":"MUŽI"},null,"Soutěžící"]
[null,"st.č.","SDH","Pokus",1,2,3,4,5,6,7,8,9,"P","Suma časů",null,"Poř.",null,"Poř.",null,1,2,3,4,5,6,7,8,9]
[null,{"$f":"Start!B7","v":1},{"$f":"IF(Start!C7=\"\",\"\",Start!C7)","v":"HZS Jihočeského kraje"},"1. pokus","DNF","DNF","DNF","DNF","DNF","DNF","DNF","DNF",null,{"$f":"IF(C5=\"\",\"\",COUNT(E7:M7))","v":0},{"$f":"IF(C5=\"\",\"\",IF(AND(N5=0,COUNTIF(E7:M7,\"NP\")=0),\"DNF\",IF(N5<N$2,\"NP\",SUM(U5:AC7))))","v":"DNF"},null,{"$f":"IF(C5=\"\",\"\",IF(OR(O5=\"NP\",O5=\"DNF\"),Start!$E$5,RANK(O5,O$5:O$136,1)))","v":9},null,{"$f":"IF(D5=\"\",\"\",IF(OR(Q5=\"NP\",Q5=\"DNF\"),IF(Q5=\"NP\",MAX(Q$5:Q$85)+COUNTIF((Q$5:Q$85),MAX(Q$5:Q$85)),MAX(Q$5:Q$85)+COUNTIF((Q$5:Q$85),MAX(Q$5:Q$85))+COUNTIF((Q$5:Q$85),\"NP\")),Q5))","v":9},null,{"$f":"IF($C5=\"\",\"\",IF(U$4>$N$2,0,IF(ISNA(SMALL($E7:$M7,1)),0,SMALL($E7:$M7,1))))","v":{"$error":"#NUM!"}},{"$f":"IF($C5=\"\",\"\",IF(V$4>$N$2,0,IF(ISNA(SMALL($E7:$M7,2)),0,SMALL($E7:$M7,2))))","v":{"$error":"#NUM!"}},{"$f":"IF($C5=\"\",\"\",IF(W$4>$N$2,0,IF(ISNA(SMALL($E7:$M7,3)),0,SMALL($E7:$M7,3))))","v":{"$error":"#NUM!"}},{"$f":"IF($C5=\"\",\"\",IF(X$4>$N$2,0,IF(ISNA(SMALL($E7:$M7,4)),0,SMALL($E7:$M7,4))))","v":{"$error":"#NUM!"}},{"$f":"IF($C5=\"\",\"\",IF(Y$4>$N$2,0,IF(ISNA(SMALL($E7:$M7,5)),0,SMALL($E7:$M7,5))))","v":{"$error":"#NUM!"}},{"$f":"IF($C5=\"\",\"\",IF(Z$4>$N$2,0,IF(ISNA(SMALL($E7:$M7,6)),0,SMALL($E7:$M7,6))))","v":{"$error":"#NUM!"}},{"$f":"IF($C5=\"\",\"\",IF(AA$4>$N$2,0,IF(ISNA(SMALL($E7:$M7,7)),0,SMALL($E7:$M7,7))))","v":0},{"$f":"IF($C5=\"\",\"\",IF(AB$4>$N$2,0,IF(ISNA(SMALL($E7:$M7,8)),0,SMALL($E7:$M7,8))))","v":0},{"$f":"IF($C5=\"\",\"\",IF(AC$4>$N$2,0,IF(ISNA(SMALL($E7:$M7,9)),0,SMALL($E7:$M7,9))))","v":0}]
[null,null,null,"2. pokus","DNF","DNF","DNF","DNF","DNF","DNF","DNF","DNF"]
[null,null,null,"čas",{"$f":"IF(OR($C5=\"\",E5=\"\",E6=\"\"),\"\",IF(OR(AND(E5=\"NP\",E6=\"NP\"),AND(E5=\"DNF\",E6=\"DNF\")),E5,IF(AND(E5=\"NP\",E6=\"DNF\"),E5,IF(AND(E5=\"DNF\",E6=\"NP\"),E6,MIN(E5,E6)))))","v":"DNF"},"DNF","DNF","DNF","DNF","DNF","DNF","DNF",""]
[null,{"$f":"Start!B8","v":2},{"$f":"IF(Start!C8=\"\",\"\",Start!C8)","v":"HZS Kraje Vysočina"},"1. pokus","DNF","DNF","DNF","DNF","DNF","DNF","DNF","DNF",null,{"$f":"IF(C8=\"\",\"\",COUNT(E10:M10))","v":0},{"$f":"IF(C8=\"\",\"\",IF(AND(N8=0,COUNTIF(E10:M10,\"NP\")=0),\"DNF\",IF(N8<N$2,\"NP\",SUM(U8:AC10))))","v":"DNF"},null,{"$f":"IF(C8=\"\",\"\",IF(OR(O8=\"NP\",O8=\"DNF\"),Start!$E$5,RANK(O8,O$5:O$136,1)))","v":9},null,{"$f":"IF(D8=\"\",\"\",IF(OR(Q8=\"NP\",Q8=\"DNF\"),IF(Q8=\"NP\",MAX(Q$5:Q$85)+COUNTIF((Q$5:Q$85),MAX(Q$5:Q$85)),MAX(Q$5:Q$85)+COUNTIF((Q$5:Q$85),MAX(Q$5:Q$85))+COUNTIF((Q$5:Q$85),\"NP\")),Q8))","v":9},null,{"$f":"IF($C8=\"\",\"\",IF(U$4>$N$2,0,IF(ISNA(SMALL($E10:$M10,1)),0,SMALL($E10:$M10,1))))","v":{"$error":"#NUM!"}},{"$f":"IF($C8=\"\",\"\",IF(V$4>$N$2,0,IF(ISNA(SMALL($E10:$M10,2)),0,SMALL($E10:$M10,2))))","v":{"$error":"#NUM!"}},{"$f":"IF($C8=\"\",\"\",IF(W$4>$N$2,0,IF(ISNA(SMALL($E10:$M10,3)),0,SMALL($E10:$M10,3))))","v":{"$error":"#NUM!"}},{"$f":"IF($C8=\"\",\"\",IF(X$4>$N$2,0,IF(ISNA(SMALL($E10:$M10,4)),0,SMALL($E10:$M10,4))))","v":{"$error":"#NUM!"}},{"$f":"IF($C8=\"\",\"\",IF(Y$4>$N$2,0,IF(ISNA(SMALL($E10:$M10,5)),0,SMALL($E10:$M10,5))))","v":{"$error":"#NUM!"}},{"$f":"IF($C8=\"\",\"\",IF(Z$4>$N$2,0,IF(ISNA(SMALL($E10:$M10,6)),0,SMALL($E10:$M10,6))))","v":{"$error":"#NUM!"}},{"$f":"IF($C8=\"\",\"\",IF(AA$4>$N$2,0,IF(ISNA(SMALL($E10:$M10,7)),0,SMALL($E10:$M10,7))))","v":0},{"$f":"IF($C8=\"\",\"\",IF(AB$4>$N$2,0,IF(ISNA(SMALL($E10:$M10,8)),0,SMALL($E10:$M10,8))))","v":0},{"$f":"IF($C8=\"\",\"\",IF(AC$4>$N$2,0,IF(ISNA(SMALL($E10:$M10,9)),0,SMALL($E10:$M10,9))))","v":0}]
[null,null,null,"2. pokus","DNF","DNF","DNF","DNF","DNF","DNF","DNF","DNF"]
[null,null,null,"čas",{"$f":"IF(OR($C8=\"\",E8=\"\",E9=\"\"),\"\",IF(OR(AND(E8=\"NP\",E9=\"NP\"),AND(E8=\"DNF\",E9=\"DNF\")),E8,IF(AND(E8=\"NP\",E9=\"DNF\"),E8,IF(AND(E8=\"DNF\",E9=\"NP\"),E9,MIN(E8,E9)))))","v":"DNF"},"DNF","DNF","DNF","DNF","DNF","DNF","DNF",""]
[null,{"$f":"Start!B9","v":3},{"$f":"IF(Start!C9=\"\",\"\",Start!C9)","v":"HZS Zlínského Kraje"},"1. pokus","DNF","DNF","DNF","DNF","DNF","DNF","DNF","DNF",null,{"$f":"IF(C11=\"\",\"\",COUNT(E13:M13))","v":0},{"$f":"IF(C11=\"\",\"\",IF(AND(N11=0,COUNTIF(E13:M13,\"NP\")=0),\"DNF\",IF(N11<N$2,\"NP\",SUM(U11:AC13))))","v":"DNF"},null,{"$f":"IF(C11=\"\",\"\",IF(OR(O11=\"NP\",O11=\"DNF\"),Start!$E$5,RANK(O11,O$5:O$136,1)))","v":9},null,{"$f":"IF(D11=\"\",\"\",IF(OR(Q11=\"NP\",Q11=\"DNF\"),IF(Q11=\"NP\",MAX(Q$5:Q$85)+COUNTIF((Q$5:Q$85),MAX(Q$5:Q$85)),MAX(Q$5:Q$85)+COUNTIF((Q$5:Q$85),MAX(Q$5:Q$85))+COUNTIF((Q$5:Q$85),\"NP\")),Q11))","v":9},null,{"$f":"IF($C11=\"\",\"\",IF(U$4>$N$2,0,IF(ISNA(SMALL($E13:$M13,1)),0,SMALL($E13:$M13,1))))","v":{"$error":"#NUM!"}},{"$f":"IF($C11=\"\",\"\",IF(V$4>$N$2,0,IF(ISNA(SMALL($E13:$M13,2)),0,SMALL($E13:$M13,2))))","v":{"$error":"#NUM!"}},{"$f":"IF($C11=\"\",\"\",IF(W$4>$N$2,0,IF(ISNA(SMALL($E13:$M13,3)),0,SMALL($E13:$M13,3))))","v":{"$error":"#NUM!"}},{"$f":"IF($C11=\"\",\"\",IF(X$4>$N$2,0,IF(ISNA(SMALL($E13:$M13,4)),0,SMALL($E13:$M13,4))))","v":{"$error":"#NUM!"}},{"$f":"IF($C11=\"\",\"\",IF(Y$4>$N$2,0,IF(ISNA(SMALL($E13:$M13,5)),0,SMALL($E13:$M13,5))))","v":{"$error":"#NUM!"}},{"$f":"IF($C11=\"\",\"\",IF(Z$4>$N$2,0,IF(ISNA(SMALL($E13:$M13,6)),0,SMALL($E13:$M13,6))))","v":{"$error":"#NUM!"}},{"$f":"IF($C11=\"\",\"\",IF(AA$4>$N$2,0,IF(ISNA(SMALL($E13:$M13,7)),0,SMALL($E13:$M13,7))))","v":0},{"$f":"IF($C11=\"\",\"\",IF(AB$4>$N$2,0,IF(ISNA(SMALL($E13:$M13,8)),0,SMALL($E13:$M13,8))))","v":0},{"$f":"IF($C11=\"\",\"\",IF(AC$4>$N$2,0,IF(ISNA(SMALL($E13:$M13,9)),0,SMALL($E13:$M13,9))))","v":0}]
[null,null,null,"2. pokus","DNF","DNF","DNF","DNF","DNF","DNF","DNF","DNF"]
[null,null,null,"čas",{"$f":"IF(OR($C11=\"\",E11=\"\",E12=\"\"),\"\",IF(OR(AND(E11=\"NP\",E12=\"NP\"),AND(E11=\"DNF\",E12=\"DNF\")),E11,IF(AND(E11=\"NP\",E12=\"DNF\"),E11,IF(AND(E11=\"DNF\",E12=\"NP\"),E12,MIN(E11,E12)))))","v":"DNF"},"DNF","DNF","DNF","DNF","DNF","DNF","DNF",""]
[null,{"$f":"Start!B10","v":4},{"$f":"IF(Start!C10=\"\",\"\",Start!C10)","v":"HZS správa železnic"},"1. pokus","DNF","DNF","DNF","DNF","DNF","DNF","DNF","DNF",null,{"$f":"IF(C14=\"\",\"\",COUNT(E16:M16))","v":0},{"$f":"IF(C14=\"\",\"\",IF(AND(N14=0,COUNTIF(E16:M16,\"NP\")=0),\"DNF\",IF(N14<N$2,\"NP\",SUM(U14:AC16))))","v":"DNF"},null,{"$f":"IF(C14=\"\",\"\",IF(OR(O14=\"NP\",O14=\"DNF\"),Start!$E$5,RANK(O14,O$5:O$136,1)))","v":9},null,{"$f":"IF(D14=\"\",\"\",IF(OR(Q14=\"NP\",Q14=\"DNF\"),IF(Q14=\"NP\",MAX(Q$5:Q$85)+COUNTIF((Q$5:Q$85),MAX(Q$5:Q$85)),MAX(Q$5:Q$85)+COUNTIF((Q$5:Q$85),MAX(Q$5:Q$85))+COUNTIF((Q$5:Q$85),\"NP\")),Q14))","v":9},null,{"$f":"IF($C14=\"\",\"\",IF(U$4>$N$2,0,IF(ISNA(SMALL($E16:$M16,1)),0,SMALL($E16:$M16,1))))","v":{"$error":"#NUM!"}},{"$f":"IF($C14=\"\",\"\",IF(V$4>$N$2,0,IF(ISNA(SMALL($E16:$M16,2)),0,SMALL($E16:$M16,2))))","v":{"$error":"#NUM!"}},{"$f":"IF($C14=\"\",\"\",IF(W$4>$N$2,0,IF(ISNA(SMALL($E16:$M16,3)),0,SMALL($E16:$M16,3))))","v":{"$error":"#NUM!"}},{"$f":"IF($C14=\"\",\"\",IF(X$4>$N$2,0,IF(ISNA(SMALL($E16:$M16,4)),0,SMALL($E16:$M16,4))))","v":{"$error":"#NUM!"}},{"$f":"IF($C14=\"\",\"\",IF(Y$4>$N$2,0,IF(ISNA(SMALL($E16:$M16,5)),0,SMALL($E16:$M16,5))))","v":{"$error":"#NUM!"}},{"$f":"IF($C14=\"\",\"\",IF(Z$4>$N$2,0,IF(ISNA(SMALL($E16:$M16,6)),0,SMALL($E16:$M16,6))))","v":{"$error":"#NUM!"}},{"$f":"IF($C14=\"\",\"\",IF(AA$4>$N$2,0,IF(ISNA(SMALL($E16:$M16,7)),0,SMALL($E16:$M16,7))))","v":0},{"$f":"IF($C14=\"\",\"\",IF(AB$4>$N$2,0,IF(ISNA(SMALL($E16:$M16,8)),0,SMALL($E16:$M16,8))))","v":0},{"$f":"IF($C14=\"\",\"\",IF(AC$4>$N$2,0,IF(ISNA(SMALL($E16:$M16,9)),0,SMALL($E16:$M16,9))))","v":0}]
[null,null,null,"2. pokus","DNF","DNF","DNF","DNF","DNF","DNF","DNF","DNF"]
[null,null,null,"čas",{"$f":"IF(OR($C14=\"\",E14=\"\",E15=\"\"),\"\",IF(OR(AND(E14=\"NP\",E15=\"NP\"),AND(E14=\"DNF\",E15=\"DNF\")),E14,IF(AND(E14=\"NP\",E15=\"DNF\"),E14,IF(AND(E14=\"DNF\",E15=\"NP\"),E15,MIN(E14,E15)))))","v":"DNF"},"DNF","DNF","DNF","DNF","DNF","DNF","DNF",""]
[null,{"$f":"Start!B11","v":5},{"$f":"IF(Start!C11=\"\",\"\",Start!C11)","v":"HZS Libereckého Kraje"},"1. pokus","DNF","DNF","DNF","DNF","DNF","DNF","DNF","",null,{"$f":"IF(C17=\"\",\"\",COUNT(E19:M19))","v":0},{"$f":"IF(C17=\"\",\"\",IF(AND(N17=0,COUNTIF(E19:M19,\"NP\")=0),\"DNF\",IF(N17<N$2,\"NP\",SUM(U17:AC19))))","v":"DNF"},null,{"$f":"IF(C17=\"\",\"\",IF(OR(O17=\"NP\",O17=\"DNF\"),Start!$E$5,RANK(O17,O$5:O$136,1)))","v":9},null,{"$f":"IF(D17=\"\",\"\",IF(OR(Q17=\"NP\",Q17=\"DNF\"),IF(Q17=\"NP\",MAX(Q$5:Q$85)+COUNTIF((Q$5:Q$85),MAX(Q$5:Q$85)),MAX(Q$5:Q$85)+COUNTIF((Q$5:Q$85),MAX(Q$5:Q$85))+COUNTIF((Q$5:Q$85),\"NP\")),Q17))","v":9},null,{"$f":"IF($C17=\"\",\"\",IF(U$4>$N$2,0,IF(ISNA(SMALL($E19:$M19,1)),0,SMALL($E19:$M19,1))))","v":{"$error":"#NUM!"}},{"$f":"IF($C17=\"\",\"\",IF(V$4>$N$2,0,IF(ISNA(SMALL($E19:$M19,2)),0,SMALL($E19:$M19,2))))","v":{"$error":"#NUM!"}},{"$f":"IF($C17=\"\",\"\",IF(W$4>$N$2,0,IF(ISNA(SMALL($E19:$M19,3)),0,SMALL($E19:$M19,3))))","v":{"$error":"#NUM!"}},{"$f":"IF($C17=\"\",\"\",IF(X$4>$N$2,0,IF(ISNA(SMALL($E19:$M19,4)),0,SMALL($E19:$M19,4))))","v":{"$error":"#NUM!"}},{"$f":"IF($C17=\"\",\"\",IF(Y$4>$N$2,0,IF(ISNA(SMALL($E19:$M19,5)),0,SMALL($E19:$M19,5))))","v":{"$error":"#NUM!"}},{"$f":"IF($C17=\"\",\"\",IF(Z$4>$N$2,0,IF(ISNA(SMALL($E19:$M19,6)),0,SMALL($E19:$M19,6))))","v":{"$error":"#NUM!"}},{"$f":"IF($C17=\"\",\"\",IF(AA$4>$N$2,0,IF(ISNA(SMALL($E19:$M19,7)),0,SMALL($E19:$M19,7))))","v":0},{"$f":"IF($C17=\"\",\"\",IF(AB$4>$N$2,0,IF(ISNA(SMALL($E19:$M19,8)),0,SMALL($E19:$M19,8))))","v":0},{"$f":"IF($C17=\"\",\"\",IF(AC$4>$N$2,0,IF(ISNA(SMALL($E19:$M19,9)),0,SMALL($E19:$M19,9))))","v":0}]
[null,null,null,"2. pokus","DNF","DNF","DNF","DNF","DNF","DNF","DNF",""]
[null,null,null,"čas",{"$f":"IF(OR($C17=\"\",E17=\"\",E18=\"\"),\"\",IF(OR(AND(E17=\"NP\",E18=\"NP\"),AND(E17=\"DNF\",E18=\"DNF\")),E17,IF(AND(E17=\"NP\",E18=\"DNF\"),E17,IF(AND(E17=\"DNF\",E18=\"NP\"),E18,MIN(E17,E18)))))","v":"DNF"},"DNF","DNF","DNF","DNF","DNF","DNF","",""]
[null,{"$f":"Start!B12","v":6},{"$f":"IF(Start!C12=\"\",\"\",Start!C12)","v":"HZS Pardubického Kraje"},"1. pokus","DNF","DNF","DNF","DNF","DNF","DNF","DNF","DNF",null,{"$f":"IF(C20=\"\",\"\",COUNT(E22:M22))","v":0},{"$f":"IF(C20=\"\",\"\",IF(AND(N20=0,COUNTIF(E22:M22,\"NP\")=0),\"DNF\",IF(N20<N$2,\"NP\",SUM(U20:AC22))))","v":"DNF"},null,{"$f":"IF(C20=\"\",\"\",IF(OR(O20=\"NP\",O20=\"DNF\"),Start!$E$5,RANK(O20,O$5:O$136,1)))","v":9},null,{"$f":"IF(D20=\"\",\"\",IF(OR(Q20=\"NP\",Q20=\"DNF\"),IF(Q20=\"NP\",MAX(Q$5:Q$85)+COUNTIF((Q$5:Q$85),MAX(Q$5:Q$85)),MAX(Q$5:Q$85)+COUNTIF((Q$5:Q$85),MAX(Q$5:Q$85))+COUNTIF((Q$5:Q$85),\"NP\")),Q20))","v":9},null,{"$f":"IF($C20=\"\",\"\",IF(U$4>$N$2,0,IF(ISNA(SMALL($E22:$M22,1)),0,SMALL($E22:$M22,1))))","v":{"$error":"#NUM!"}},{"$f":"IF($C20=\"\",\"\",IF(V$4>$N$2,0,IF(ISNA(SMALL($E22:$M22,2)),0,SMALL($E22:$M22,2))))","v":{"$error":"#NUM!"}},{"$f":"IF($C20=\"\",\"\",IF(W$4>$N$2,0,IF(ISNA(SMALL($E22:$M22,3)),0,SMALL($E22:$M22,3))))","v":{"$error":"#NUM!"}},{"$f":"IF($C20=\"\",\"\",IF(X$4>$N$2,0,IF(ISNA(SMALL($E22:$M22,4)),0,SMALL($E22:$M22,4))))","v":{"$error":"#NUM!"}},{"$f":"IF($C20=\"\",\"\",IF(Y$4>$N$2,0,IF(ISNA(SMALL($E22:$M22,5)),0,SMALL($E22:$M22,5))))","v":{"$error":"#NUM!"}},{"$f":"IF($C20=\"\",\"\",IF(Z$4>$N$2,0,IF(ISNA(SMALL($E22:$M22,6)),0,SMALL($E22:$M22,6))))","v":{"$error":"#NUM!"}},{"$f":"IF($C20=\"\",\"\",IF(AA$4>$N$2,0,IF(ISNA(SMALL($E22:$M22,7)),0,SMALL($E22:$M22,7))))","v":0},{"$f":"IF($C20=\"\",\"\",IF(AB$4>$N$2,0,IF(ISNA(SMALL($E22:$M22,8)),0,SMALL($E22:$M22,8))))","v":0},{"$f":"IF($C20=\"\",\"\",IF(AC$4>$N$2,0,IF(ISNA(SMALL($E22:$M22,9)),0,SMALL($E22:$M22,9))))","v":0}]
[null,null,null,"2. pokus","DNF","DNF","DNF","DNF","DNF","DNF","DNF","DNF"]
[null,null,null,"čas",{"$f":"IF(OR($C20=\"\",E20=\"\",E21=\"\"),\"\",IF(OR(AND(E20=\"NP\",E21=\"NP\"),AND(E20=\"DNF\",E21=\"DNF\")),E20,IF(AND(E20=\"NP\",E21=\"DNF\"),E20,IF(AND(E20=\"DNF\",E21=\"NP\"),E21,MIN(E20,E21)))))","v":"DNF"},"DNF","DNF","DNF","DNF","DNF","DNF","DNF",""]
[null,{"$f":"Start!B13","v":7},{"$f":"IF(Start!C13=\"\",\"\",Start!C13)","v":"HZS Královohradeckého Kr."},"1. pokus","DNF","DNF","DNF","DNF","DNF","DNF","DNF","",null,{"$f":"IF(C23=\"\",\"\",COUNT(E25:M25))","v":0},{"$f":"IF(C23=\"\",\"\",IF(AND(N23=0,COUNTIF(E25:M25,\"NP\")=0),\"DNF\",IF(N23<N$2,\"NP\",SUM(U23:AC25))))","v":"DNF"},null,{"$f":"IF(C23=\"\",\"\",IF(OR(O23=\"NP\",O23=\"DNF\"),Start!$E$5,RANK(O23,O$5:O$136,1)))","v":9},null,{"$f":"IF(D23=\"\",\"\",IF(OR(Q23=\"NP\",Q23=\"DNF\"),IF(Q23=\"NP\",MAX(Q$5:Q$85)+COUNTIF((Q$5:Q$85),MAX(Q$5:Q$85)),MAX(Q$5:Q$85)+COUNTIF((Q$5:Q$85),MAX(Q$5:Q$85))+COUNTIF((Q$5:Q$85),\"NP\")),Q23))","v":9},null,{"$f":"IF($C23=\"\",\"\",IF(U$4>$N$2,0,IF(ISNA(SMALL($E25:$M25,1)),0,SMALL($E25:$M25,1))))","v":{"$error":"#NUM!"}},{"$f":"IF($C23=\"\",\"\",IF(V$4>$N$2,0,IF(ISNA(SMALL($E25:$M25,2)),0,SMALL($E25:$M25,2))))","v":{"$error":"#NUM!"}},{"$f":"IF($C23=\"\",\"\",IF(W$4>$N$2,0,IF(ISNA(SMALL($E25:$M25,3)),0,SMALL($E25:$M25,3))))","v":{"$error":"#NUM!"}},{"$f":"IF($C23=\"\",\"\",IF(X$4>$N$2,0,IF(ISNA(SMALL($E25:$M25,4)),0,SMALL($E25:$M25,4))))","v":{"$error":"#NUM!"}},{"$f":"IF($C23=\"\",\"\",IF(Y$4>$N$2,0,IF(ISNA(SMALL($E25:$M25,5)),0,SMALL($E25:$M25,5))))","v":{"$error":"#NUM!"}},{"$f":"IF($C23=\"\",\"\",IF(Z$4>$N$2,0,IF(ISNA(SMALL($E25:$M25,6)),0,SMALL($E25:$M25,6))))","v":{"$error":"#NUM!"}},{"$f":"IF($C23=\"\",\"\",IF(AA$4>$N$2,0,IF(ISNA(SMALL($E25:$M25,7)),0,SMALL($E25:$M25,7))))","v":0},{"$f":"IF($C23=\"\",\"\",IF(AB$4>$N$2,0,IF(ISNA(SMALL($E25:$M25,8)),0,SMALL($E25:$M25,8))))","v":0},{"$f":"IF($C23=\"\",\"\",IF(AC$4>$N$2,0,IF(ISNA(SMALL($E25:$M25,9)),0,SMALL($E25:$M25,9))))","v":0}]
[null,null,null,"2. pokus","DNF","DNF","DNF","DNF","DNF","DNF","DNF",""]
[null,null,null,"čas",{"$f":"IF(OR($C23=\"\",E23=\"\",E24=\"\"),\"\",IF(OR(AND(E23=\"NP\",E24=\"NP\"),AND(E23=\"DNF\",E24=\"DNF\")),E23,IF(AND(E23=\"NP\",E24=\"DNF\"),E23,IF(AND(E23=\"DNF\",E24=\"NP\"),E24,MIN(E23,E24)))))","v":"DNF"},"DNF","DNF","DNF","DNF","DNF","DNF","",""]
[null,{"$f":"Start!B14","v":8},{"$f":"IF(Start!C14=\"\",\"\",Start!C14)","v":"HZS Plzeňského Kraje"},"1. pokus","DNF","DNF","DNF","DNF","DNF","DNF","DNF","DNF",null,{"$f":"IF(C26=\"\",\"\",COUNT(E28:M28))","v":0},{"$f":"IF(C26=\"\",\"\",IF(AND(N26=0,COUNTIF(E28:M28,\"NP\")=0),\"DNF\",IF(N26<N$2,\"NP\",SUM(U26:AC28))))","v":"DNF"},null,{"$f":"IF(C26=\"\",\"\",IF(OR(O26=\"NP\",O26=\"DNF\"),Start!$E$5,RANK(O26,O$5:O$136,1)))","v":9},null,{"$f":"IF(D26=\"\",\"\",IF(OR(Q26=\"NP\",Q26=\"DNF\"),IF(Q26=\"NP\",MAX(Q$5:Q$85)+COUNTIF((Q$5:Q$85),MAX(Q$5:Q$85)),MAX(Q$5:Q$85)+COUNTIF((Q$5:Q$85),MAX(Q$5:Q$85))+COUNTIF((Q$5:Q$85),\"NP\")),Q26))","v":9},null,{"$f":"IF($C26=\"\",\"\",IF(U$4>$N$2,0,IF(ISNA(SMALL($E28:$M28,1)),0,SMALL($E28:$M28,1))))","v":{"$error":"#NUM!"}},{"$f":"IF($C26=\"\",\"\",IF(V$4>$N$2,0,IF(ISNA(SMALL($E28:$M28,2)),0,SMALL($E28:$M28,2))))","v":{"$error":"#NUM!"}},{"$f":"IF($C26=\"\",\"\",IF(W$4>$N$2,0,IF(ISNA(SMALL($E28:$M28,3)),0,SMALL($E28:$M28,3))))","v":{"$error":"#NUM!"}},{"$f":"IF($C26=\"\",\"\",IF(X$4>$N$2,0,IF(ISNA(SMALL($E28:$M28,4)),0,SMALL($E28:$M28,4))))","v":{"$error":"#NUM!"}},{"$f":"IF($C26=\"\",\"\",IF(Y$4>$N$2,0,IF(ISNA(SMALL($E28:$M28,5)),0,SMALL($E28:$M28,5))))","v":{"$error":"#NUM!"}},{"$f":"IF($C26=\"\",\"\",IF(Z$4>$N$2,0,IF(ISNA(SMALL($E28:$M28,6)),0,SMALL($E28:$M28,6))))","v":{"$error":"#NUM!"}},{"$f":"IF($C26=\"\",\"\",IF(AA$4>$N$2,0,IF(ISNA(SMALL($E28:$M28,7)),0,SMALL($E28:$M28,7))))","v":0},{"$f":"IF($C26=\"\",\"\",IF(AB$4>$N$2,0,IF(ISNA(SMALL($E28:$M28,8)),0,SMALL($E28:$M28,8))))","v":0},{"$f":"IF($C26=\"\",\"\",IF(AC$4>$N$2,0,IF(ISNA(SMALL($E28:$M28,9)),0,SMALL($E28:$M28,9))))","v":0}]
[null,null,null,"2. pokus","DNF","DNF","DNF","DNF","DNF","DNF","DNF","DNF"]
[null,null,null,"čas",{"$f":"IF(OR($C26=\"\",E26=\"\",E27=\"\"),\"\",IF(OR(AND(E26=\"NP\",E27=\"NP\"),AND(E26=\"DNF\",E27=\"DNF\")),E26,IF(AND(E26=\"NP\",E27=\"DNF\"),E26,IF(AND(E26=\"DNF\",E27=\"NP\"),E27,MIN(E26,E27)))))","v":"DNF"},"DNF","DNF","DNF","DNF","DNF","DNF","DNF",""]
[null,{"$f":"Start!B15","v":9},{"$f":"IF(Start!C15=\"\",\"\",Start!C15)","v":"HZSP Deza"},"1. pokus","DNF","DNF","DNF","DNF","DNF","DNF","DNF","DNF",null,{"$f":"IF(C29=\"\",\"\",COUNT(E31:M31))","v":0},{"$f":"IF(C29=\"\",\"\",IF(AND(N29=0,COUNTIF(E31:M31,\"NP\")=0),\"DNF\",IF(N29<N$2,\"NP\",SUM(U29:AC31))))","v":"DNF"},null,{"$f":"IF(C29=\"\",\"\",IF(OR(O29=\"NP\",O29=\"DNF\"),Start!$E$5,RANK(O29,O$5:O$136,1)))","v":9},null,{"$f":"IF(D29=\"\",\"\",IF(OR(Q29=\"NP\",Q29=\"DNF\"),IF(Q29=\"NP\",MAX(Q$5:Q$85)+COUNTIF((Q$5:Q$85),MAX(Q$5:Q$85)),MAX(Q$5:Q$85)+COUNTIF((Q$5:Q$85),MAX(Q$5:Q$85))+COUNTIF((Q$5:Q$85),\"NP\")),Q29))","v":9},null,{"$f":"IF($C29=\"\",\"\",IF(U$4>$N$2,0,IF(ISNA(SMALL($E31:$M31,1)),0,SMALL($E31:$M31,1))))","v":{"$error":"#NUM!"}},{"$f":"IF($C29=\"\",\"\",IF(V$4>$N$2,0,IF(ISNA(SMALL($E31:$M31,2)),0,SMALL($E31:$M31,2))))","v":{"$error":"#NUM!"}},{"$f":"IF($C29=\"\",\"\",IF(W$4>$N$2,0,IF(ISNA(SMALL($E31:$M31,3)),0,SMALL($E31:$M31,3))))","v":{"$error":"#NUM!"}},{"$f":"IF($C29=\"\",\"\",IF(X$4>$N$2,0,IF(ISNA(SMALL($E31:$M31,4)),0,SMALL($E31:$M31,4))))","v":{"$error":"#NUM!"}},{"$f":"IF($C29=\"\",\"\",IF(Y$4>$N$2,0,IF(ISNA(SMALL($E31:$M31,5)),0,SMALL($E31:$M31,5))))","v":{"$error":"#NUM!"}},{"$f":"IF($C29=\"\",\"\",IF(Z$4>$N$2,0,IF(ISNA(SMALL($E31:$M31,6)),0,SMALL($E31:$M31,6))))","v":{"$error":"#NUM!"}},{"$f":"IF($C29=\"\",\"\",IF(AA$4>$N$2,0,IF(ISNA(SMALL($E31:$M31,7)),0,SMALL($E31:$M31,7))))","v":0},{"$f":"IF($C29=\"\",\"\",IF(AB$4>$N$2,0,IF(ISNA(SMALL($E31:$M31,8)),0,SMALL($E31:$M31,8))))","v":0},{"$f":"IF($C29=\"\",\"\",IF(AC$4>$N$2,0,IF(ISNA(SMALL($E31:$M31,9)),0,SMALL($E31:$M31,9))))","v":0}]
[null,null,null,"2. pokus","DNF","DNF","DNF","DNF","DNF","DNF","DNF","DNF"]
[null,null,null,"čas",{"$f":"IF(OR($C29=\"\",E29=\"\",E30=\"\"),\"\",IF(OR(AND(E29=\"NP\",E30=\"NP\"),AND(E29=\"DNF\",E30=\"DNF\")),E29,IF(AND(E29=\"NP\",E30=\"DNF\"),E29,IF(AND(E29=\"DNF\",E30=\"NP\"),E30,MIN(E29,E30)))))","v":"DNF"},"DNF","DNF","DNF","DNF","DNF","DNF","DNF",""]
[null,{"$f":"Start!B16","v":10},{"$f":"IF(Start!C16=\"\",\"\",Start!C16)","v":""},"1. pokus","DNF","DNF","DNF","DNF","DNF","DNF","DNF","",null,{"$f":"IF(C32=\"\",\"\",COUNT(E34:M34))","v":""},{"$f":"IF(C32=\"\",\"\",IF(AND(N32=0,COUNTIF(E34:M34,\"NP\")=0),\"DNF\",IF(N32<N$2,\"NP\",SUM(U32:AC34))))","v":""},null,{"$f":"IF(C32=\"\",\"\",IF(OR(O32=\"NP\",O32=\"DNF\"),Start!$E$5,RANK(O32,O$5:O$136,1)))","v":""},null,{"$f":"IF(D32=\"\",\"\",IF(OR(Q32=\"NP\",Q32=\"DNF\"),IF(Q32=\"NP\",MAX(Q$5:Q$85)+COUNTIF((Q$5:Q$85),MAX(Q$5:Q$85)),MAX(Q$5:Q$85)+COUNTIF((Q$5:Q$85),MAX(Q$5:Q$85))+COUNTIF((Q$5:Q$85),\"NP\")),Q32))","v":""},null,{"$f":"IF($C32=\"\",\"\",IF(U$4>$N$2,0,IF(ISNA(SMALL($E34:$M34,1)),0,SMALL($E34:$M34,1))))","v":""},{"$f":"IF($C32=\"\",\"\",IF(V$4>$N$2,0,IF(ISNA(SMALL($E34:$M34,2)),0,SMALL($E34:$M34,2))))","v":""},{"$f":"IF($C32=\"\",\"\",IF(W$4>$N$2,0,IF(ISNA(SMALL($E34:$M34,3)),0,SMALL($E34:$M34,3))))","v":""},{"$f":"IF($C32=\"\",\"\",IF(X$4>$N$2,0,IF(ISNA(SMALL($E34:$M34,4)),0,SMALL($E34:$M34,4))))","v":""},{"$f":"IF($C32=\"\",\"\",IF(Y$4>$N$2,0,IF(ISNA(SMALL($E34:$M34,5)),0,SMALL($E34:$M34,5))))","v":""},{"$f":"IF($C32=\"\",\"\",IF(Z$4>$N$2,0,IF(ISNA(SMALL($E34:$M34,6)),0,SMALL($E34:$M34,6))))","v":""},{"$f":"IF($C32=\"\",\"\",IF(AA$4>$N$2,0,IF(ISNA(SMALL($E34:$M34,7)),0,SMALL($E34:$M34,7))))","v":""},{"$f":"IF($C32=\"\",\"\",IF(AB$4>$N$2,0,IF(ISNA(SMALL($E34:$M34,8)),0,SMALL($E34:$M34,8))))","v":""},{"$f":"IF($C32=\"\",\"\",IF(AC$4>$N$2,0,IF(ISNA(SMALL($E34:$M34,9)),0,SMALL($E34:$M34,9))))","v":""}]
[null,null,null,"2. pokus","DNF","DNF","DNF","DNF","DNF","DNF","DNF",""]
[null,null,null,"čas",{"$f":"IF(OR($C32=\"\",E32=\"\",E33=\"\"),\"\",IF(OR(AND(E32=\"NP\",E33=\"NP\"),AND(E32=\"DNF\",E33=\"DNF\")),E32,IF(AND(E32=\"NP\",E33=\"DNF\"),E32,IF(AND(E32=\"DNF\",E33=\"NP\"),E33,MIN(E32,E33)))))","v":""},"","","","","","","",""]
[null,{"$f":"B1","v":"Běh na 100m s překážkami - Pořadí družstev"}]
[]
[null,null,{"$f":"Start!$C$5","v":"MUŽI"},null,"Soutěžící"]
[null,"st.č.","SDH","Pokus",1,2,3,4,5,6,7,8,9,"P","C.čas",null,"Poř.",null,"Body"]
[null,{"$f":"Start!B17","v":11},{"$f":"IF(Start!C17=\"\",\"\",Start!C17)","v":""},"1. pokus","DNF","DNF","DNF","DNF","DNF","DNF","DNF","DNF",null,{"$f":"IF(C39=\"\",\"\",COUNT(E41:M41))","v":""},{"$f":"IF(C39=\"\",\"\",IF(AND(N39=0,COUNTIF(E41:M41,\"NP\")=0),\"DNF\",IF(N39<N$2,\"NP\",SUM(U39:AC41))))","v":""},null,{"$f":"IF(C39=\"\",\"\",IF(OR(O39=\"NP\",O39=\"DNF\"),Start!$E$5,RANK(O39,O$5:O$136,1)))","v":""},null,{"$f":"IF(D39=\"\",\"\",IF(OR(Q39=\"NP\",Q39=\"DNF\"),IF(Q39=\"NP\",MAX(Q$5:Q$85)+COUNTIF((Q$5:Q$85),MAX(Q$5:Q$85)),MAX(Q$5:Q$85)+COUNTIF((Q$5:Q$85),MAX(Q$5:Q$85))+COUNTIF((Q$5:Q$85),\"NP\")),Q39))","v":""},null,{"$f":"IF($C39=\"\",\"\",IF(U$4>$N$2,0,IF(ISNA(SMALL($E41:$M41,1)),0,SMALL($E41:$M41,1))))","v":""},{"$f":"IF($C39=\"\",\"\",IF(V$4>$N$2,0,IF(ISNA(SMALL($E41:$M41,2)),0,SMALL($E41:$M41,2))))","v":""},{"$f":"IF($C39=\"\",\"\",IF(W$4>$N$2,0,IF(ISNA(SMALL($E41:$M41,3)),0,SMALL($E41:$M41,3))))","v":""},{"$f":"IF($C39=\"\",\"\",IF(X$4>$N$2,0,IF(ISNA(SMALL($E41:$M41,4)),0,SMALL($E41:$M41,4))))","v":""},{"$f":"IF($C39=\"\",\"\",IF(Y$4>$N$2,0,IF(ISNA(SMALL($E41:$M41,5)),0,SMALL($E41:$M41,5))))","v":""},{"$f":"IF($C39=\"\",\"\",IF(Z$4>$N$2,0,IF(ISNA(SMALL($E41:$M41,6)),0,SMALL($E41:$M41,6))))","v":""},{"$f":"IF($C39=\"\",\"\",IF(AA$4>$N$2,0,IF(ISNA(SMALL($E41:$M41,7)),0,SMALL($E41:$M41,7))))","v":""},{"$f":"IF($C39=\"\",\"\",IF(AB$4>$N$2,0,IF(ISNA(SMALL($E41:$M41,8)),0,SMALL($E41:$M41,8))))","v":""},{"$f":"IF($C39=\"\",\"\",IF(AC$4>$N$2,0,IF(ISNA(SMALL($E41:$M41,9)),0,SMALL($E41:$M41,9))))","v":""}]
[null,null,null,"2. pokus","DNF","DNF","DNF","DNF","DNF","DNF","DNF","DNF"]
[null,null,null,"čas",{"$f":"IF(OR($C39=\"\",E39=\"\",E40=\"\"),\"\",IF(OR(AND(E39=\"NP\",E40=\"NP\"),AND(E39=\"DNF\",E40=\"DNF\")),E39,IF(AND(E39=\"NP\",E40=\"DNF\"),E39,IF(AND(E39=\"DNF\",E40=\"NP\"),E40,MIN(E39,E40)))))","v":""},"","","","","","","",""]
[null,{"$f":"Start!B18","v":12},{"$f":"IF(Start!C18=\"\",\"\",Start!C18)","v":""},"1. pokus","DNF","DNF","DNF","DNF","DNF","DNF","DNF","DNF",null,{"$f":"IF(C42=\"\",\"\",COUNT(E44:M44))","v":""},{"$f":"IF(C42=\"\",\"\",IF(AND(N42=0,COUNTIF(E44:M44,\"NP\")=0),\"DNF\",IF(N42<N$2,\"NP\",SUM(U42:AC44))))","v":""},null,{"$f":"IF(C42=\"\",\"\",IF(OR(O42=\"NP\",O42=\"DNF\"),Start!$E$5,RANK(O42,O$5:O$136,1)))","v":""},null,{"$f":"IF(D42=\"\",\"\",IF(OR(Q42=\"NP\",Q42=\"DNF\"),IF(Q42=\"NP\",MAX(Q$5:Q$85)+COUNTIF((Q$5:Q$85),MAX(Q$5:Q$85)),MAX(Q$5:Q$85)+COUNTIF((Q$5:Q$85),MAX(Q$5:Q$85))+COUNTIF((Q$5:Q$85),\"NP\")),Q42))","v":""},null,{"$f":"IF($C42=\"\",\"\",IF(U$4>$N$2,0,IF(ISNA(SMALL($E44:$M44,1)),0,SMALL($E44:$M44,1))))","v":""},{"$f":"IF($C42=\"\",\"\",IF(V$4>$N$2,0,IF(ISNA(SMALL($E44:$M44,2)),0,SMALL($E44:$M44,2))))","v":""},{"$f":"IF($C42=\"\",\"\",IF(W$4>$N$2,0,IF(ISNA(SMALL($E44:$M44,3)),0,SMALL($E44:$M44,3))))","v":""},{"$f":"IF($C42=\"\",\"\",IF(X$4>$N$2,0,IF(ISNA(SMALL($E44:$M44,4)),0,SMALL($E44:$M44,4))))","v":""},{"$f":"IF($C42=\"\",\"\",IF(Y$4>$N$2,0,IF(ISNA(SMALL($E44:$M44,5)),0,SMALL($E44:$M44,5))))","v":""},{"$f":"IF($C42=\"\",\"\",IF(Z$4>$N$2,0,IF(ISNA(SMALL($E44:$M44,6)),0,SMALL($E44:$M44,6))))","v":""},{"$f":"IF($C42=\"\",\"\",IF(AA$4>$N$2,0,IF(ISNA(SMALL($E44:$M44,7)),0,SMALL($E44:$M44,7))))","v":""},{"$f":"IF($C42=\"\",\"\",IF(AB$4>$N$2,0,IF(ISNA(SMALL($E44:$M44,8)),0,SMALL($E44:$M44,8))))","v":""},{"$f":"IF($C42=\"\",\"\",IF(AC$4>$N$2,0,IF(ISNA(SMALL($E44:$M44,9)),0,SMALL($E44:$M44,9))))","v":""}]
[null,null,null,"2. pokus","DNF","DNF","DNF","DNF","DNF","DNF","DNF","DNF"]
[null,null,null,"čas",{"$f":"IF(OR($C42=\"\",E42=\"\",E43=\"\"),\"\",IF(OR(AND(E42=\"NP\",E43=\"NP\"),AND(E42=\"DNF\",E43=\"DNF\")),E42,IF(AND(E42=\"NP\",E43=\"DNF\"),E42,IF(AND(E42=\"DNF\",E43=\"NP\"),E43,MIN(E42,E43)))))","v":""},"","","","","","","",""]
[null,{"$f":"Start!B19","v":13},{"$f":"IF(Start!C19=\"\",\"\",Start!C19)","v":""},"1. pokus",null,null,null,null,null,null,null,null,null,{"$f":"IF(C45=\"\",\"\",COUNT(E47:M47))","v":""},{"$f":"IF(C45=\"\",\"\",IF(AND(N45=0,COUNTIF(E47:M47,\"NP\")=0),\"DNF\",IF(N45<N$2,\"NP\",SUM(U45:AC47))))","v":""},null,{"$f":"IF(C45=\"\",\"\",IF(OR(O45=\"NP\",O45=\"DNF\"),Start!$E$5,RANK(O45,O$5:O$136,1)))","v":""},null,{"$f":"IF(D45=\"\",\"\",IF(OR(Q45=\"NP\",Q45=\"DNF\"),IF(Q45=\"NP\",MAX(Q$5:Q$85)+COUNTIF((Q$5:Q$85),MAX(Q$5:Q$85)),MAX(Q$5:Q$85)+COUNTIF((Q$5:Q$85),MAX(Q$5:Q$85))+COUNTIF((Q$5:Q$85),\"NP\")),Q45))","v":""},null,{"$f":"IF($C45=\"\",\"\",IF(U$4>$N$2,0,IF(ISNA(SMALL($E47:$M47,1)),0,SMALL($E47:$M47,1))))","v":""},{"$f":"IF($C45=\"\",\"\",IF(V$4>$N$2,0,IF(ISNA(SMALL($E47:$M47,2)),0,SMALL($E47:$M47,2))))","v":""},{"$f":"IF($C45=\"\",\"\",IF(W$4>$N$2,0,IF(ISNA(SMALL($E47:$M47,3)),0,SMALL($E47:$M47,3))))","v":""},{"$f":"IF($C45=\"\",\"\",IF(X$4>$N$2,0,IF(ISNA(SMALL($E47:$M47,4)),0,SMALL($E47:$M47,4))))","v":""},{"$f":"IF($C45=\"\",\"\",IF(Y$4>$N$2,0,IF(ISNA(SMALL($E47:$M47,5)),0,SMALL($E47:$M47,5))))","v":""},{"$f":"IF($C45=\"\",\"\",IF(Z$4>$N$2,0,IF(ISNA(SMALL($E47:$M47,6)),0,SMALL($E47:$M47,6))))","v":""},{"$f":"IF($C45=\"\",\"\",IF(AA$4>$N$2,0,IF(ISNA(SMALL($E47:$M47,7)),0,SMALL($E47:$M47,7))))","v":""},{"$f":"IF($C45=\"\",\"\",IF(AB$4>$N$2,0,IF(ISNA(SMALL($E47:$M47,8)),0,SMALL($E47:$M47,8))))","v":""},{"$f":"IF($C45=\"\",\"\",IF(AC$4>$N$2,0,IF(ISNA(SMALL($E47:$M47,9)),0,SMALL($E47:$M47,9))))","v":""}]
[null,null,null,"2. pokus"]
[null,null,null,"čas",{"$f":"IF(OR($C45=\"\",E45=\"\",E46=\"\"),\"\",IF(OR(AND(E45=\"NP\",E46=\"NP\"),AND(E45=\"DNF\",E46=\"DNF\")),E45,IF(AND(E45=\"NP\",E46=\"DNF\"),E45,IF(AND(E45=\"DNF\",E46=\"NP\"),E46,MIN(E45,E46)))))","v":""},"","","","","","","",""]
[null,{"$f":"Start!B20","v":14},{"$f":"IF(Start!C20=\"\",\"\",Start!C20)","v":""},"1. pokus",null,null,null,null,null,null,null,null,null,{"$f":"IF(C48=\"\",\"\",COUNT(E50:M50))","v":""},{"$f":"IF(C48=\"\",\"\",IF(AND(N48=0,COUNTIF(E50:M50,\"NP\")=0),\"DNF\",IF(N48<N$2,\"NP\",SUM(U48:AC50))))","v":""},null,{"$f":"IF(C48=\"\",\"\",IF(OR(O48=\"NP\",O48=\"DNF\"),Start!$E$5,RANK(O48,O$5:O$136,1)))","v":""},null,{"$f":"IF(D48=\"\",\"\",IF(OR(Q48=\"NP\",Q48=\"DNF\"),IF(Q48=\"NP\",MAX(Q$5:Q$85)+COUNTIF((Q$5:Q$85),MAX(Q$5:Q$85)),MAX(Q$5:Q$85)+COUNTIF((Q$5:Q$85),MAX(Q$5:Q$85))+COUNTIF((Q$5:Q$85),\"NP\")),Q48))","v":""},null,{"$f":"IF($C48=\"\",\"\",IF(U$4>$N$2,0,IF(ISNA(SMALL($E50:$M50,1)),0,SMALL($E50:$M50,1))))","v":""},{"$f":"IF($C48=\"\",\"\",IF(V$4>$N$2,0,IF(ISNA(SMALL($E50:$M50,2)),0,SMALL($E50:$M50,2))))","v":""},{"$f":"IF($C48=\"\",\"\",IF(W$4>$N$2,0,IF(ISNA(SMALL($E50:$M50,3)),0,SMALL($E50:$M50,3))))","v":""},{"$f":"IF($C48=\"\",\"\",IF(X$4>$N$2,0,IF(ISNA(SMALL($E50:$M50,4)),0,SMALL($E50:$M50,4))))","v":""},{"$f":"IF($C48=\"\",\"\",IF(Y$4>$N$2,0,IF(ISNA(SMALL($E50:$M50,5)),0,SMALL($E50:$M50,5))))","v":""},{"$f":"IF($C48=\"\",\"\",IF(Z$4>$N$2,0,IF(ISNA(SMALL($E50:$M50,6)),0,SMALL($E50:$M50,6))))","v":""},{"$f":"IF($C48=\"\",\"\",IF(AA$4>$N$2,0,IF(ISNA(SMALL($E50:$M50,7)),0,SMALL($E50:$M50,7))))","v":""},{"$f":"IF($C48=\"\",\"\",IF(AB$4>$N$2,0,IF(ISNA(SMALL($E50:$M50,8)),0,SMALL($E50:$M50,8))))","v":""},{"$f":"IF($C48=\"\",\"\",IF(AC$4>$N$2,0,IF(ISNA(SMALL($E50:$M50,9)),0,SMALL($E50:$M50,9))))","v":""}]
[null,null,null,"2. pokus"]
[null,null,null,"čas",{"$f":"IF(OR($C48=\"\",E48=\"\",E49=\"\"),\"\",IF(OR(AND(E48=\"NP\",E49=\"NP\"),AND(E48=\"DNF\",E49=\"DNF\")),E48,IF(AND(E48=\"NP\",E49=\"DNF\"),E48,IF(AND(E48=\"DNF\",E49=\"NP\"),E49,MIN(E48,E49)))))","v":""},"","","","","","","",""]
[null,{"$f":"Start!B21","v":15},{"$f":"IF(Start!C21=\"\",\"\",Start!C21)","v":""},"1. pokus",null,null,null,null,null,null,null,null,null,{"$f":"IF(C51=\"\",\"\",COUNT(E53:M53))","v":""},{"$f":"IF(C51=\"\",\"\",IF(AND(N51=0,COUNTIF(E53:M53,\"NP\")=0),\"DNF\",IF(N51<N$2,\"NP\",SUM(U51:AC53))))","v":""},null,{"$f":"IF(C51=\"\",\"\",IF(OR(O51=\"NP\",O51=\"DNF\"),Start!$E$5,RANK(O51,O$5:O$136,1)))","v":""},null,{"$f":"IF(D51=\"\",\"\",IF(OR(Q51=\"NP\",Q51=\"DNF\"),IF(Q51=\"NP\",MAX(Q$5:Q$85)+COUNTIF((Q$5:Q$85),MAX(Q$5:Q$85)),MAX(Q$5:Q$85)+COUNTIF((Q$5:Q$85),MAX(Q$5:Q$85))+COUNTIF((Q$5:Q$85),\"NP\")),Q51))","v":""},null,{"$f":"IF($C51=\"\",\"\",IF(U$4>$N$2,0,IF(ISNA(SMALL($E53:$M53,1)),0,SMALL($E53:$M53,1))))","v":""},{"$f":"IF($C51=\"\",\"\",IF(V$4>$N$2,0,IF(ISNA(SMALL($E53:$M53,2)),0,SMALL($E53:$M53,2))))","v":""},{"$f":"IF($C51=\"\",\"\",IF(W$4>$N$2,0,IF(ISNA(SMALL($E53:$M53,3)),0,SMALL($E53:$M53,3))))","v":""},{"$f":"IF($C51=\"\",\"\",IF(X$4>$N$2,0,IF(ISNA(SMALL($E53:$M53,4)),0,SMALL($E53:$M53,4))))","v":""},{"$f":"IF($C51=\"\",\"\",IF(Y$4>$N$2,0,IF(ISNA(SMALL($E53:$M53,5)),0,SMALL($E53:$M53,5))))","v":""},{"$f":"IF($C51=\"\",\"\",IF(Z$4>$N$2,0,IF(ISNA(SMALL($E53:$M53,6)),0,SMALL($E53:$M53,6))))","v":""},{"$f":"IF($C51=\"\",\"\",IF(AA$4>$N$2,0,IF(ISNA(SMALL($E53:$M53,7)),0,SMALL($E53:$M53,7))))","v":""},{"$f":"IF($C51=\"\",\"\",IF(AB$4>$N$2,0,IF(ISNA(SMALL($E53:$M53,8)),0,SMALL($E53:$M53,8))))","v":""},{"$f":"IF($C51=\"\",\"\",IF(AC$4>$N$2,0,IF(ISNA(SMALL($E53:$M53,9)),0,SMALL($E53:$M53,9))))","v":""}]
[null,null,null,"2. pokus"]
[null,null,null,"čas",{"$f":"IF(OR($C51=\"\",E51=\"\",E52=\"\"),\"\",IF(OR(AND(E51=\"NP\",E52=\"NP\"),AND(E51=\"DNF\",E52=\"DNF\")),E51,IF(AND(E51=\"NP\",E52=\"DNF\"),E51,IF(AND(E51=\"DNF\",E52=\"NP\"),E52,MIN(E51,E52)))))","v":""},"","","","","","","",""]
[null,{"$f":"Start!B22","v":16},{"$f":"IF(Start!C22=\"\",\"\",Start!C22)","v":""},"1. pokus",null,null,null,null,null,null,null,null,null,{"$f":"IF(C54=\"\",\"\",COUNT(E56:M56))","v":""},{"$f":"IF(C54=\"\",\"\",IF(AND(N54=0,COUNTIF(E56:M56,\"NP\")=0),\"DNF\",IF(N54<N$2,\"NP\",SUM(U54:AC56))))","v":""},null,{"$f":"IF(C54=\"\",\"\",IF(OR(O54=\"NP\",O54=\"DNF\"),Start!$E$5,RANK(O54,O$5:O$136,1)))","v":""},null,{"$f":"IF(D54=\"\",\"\",IF(OR(Q54=\"NP\",Q54=\"DNF\"),IF(Q54=\"NP\",MAX(Q$5:Q$85)+COUNTIF((Q$5:Q$85),MAX(Q$5:Q$85)),MAX(Q$5:Q$85)+COUNTIF((Q$5:Q$85),MAX(Q$5:Q$85))+COUNTIF((Q$5:Q$85),\"NP\")),Q54))","v":""},null,{"$f":"IF($C54=\"\",\"\",IF(U$4>$N$2,0,IF(ISNA(SMALL($E56:$M56,1)),0,SMALL($E56:$M56,1))))","v":""},{"$f":"IF($C54=\"\",\"\",IF(V$4>$N$2,0,IF(ISNA(SMALL($E56:$M56,2)),0,SMALL($E56:$M56,2))))","v":""},{"$f":"IF($C54=\"\",\"\",IF(W$4>$N$2,0,IF(ISNA(SMALL($E56:$M56,3)),0,SMALL($E56:$M56,3))))","v":""},{"$f":"IF($C54=\"\",\"\",IF(X$4>$N$2,0,IF(ISNA(SMALL($E56:$M56,4)),0,SMALL($E56:$M56,4))))","v":""},{"$f":"IF($C54=\"\",\"\",IF(Y$4>$N$2,0,IF(ISNA(SMALL($E56:$M56,5)),0,SMALL($E56:$M56,5))))","v":""},{"$f":"IF($C54=\"\",\"\",IF(Z$4>$N$2,0,IF(ISNA(SMALL($E56:$M56,6)),0,SMALL($E56:$M56,6))))","v":""},{"$f":"IF($C54=\"\",\"\",IF(AA$4>$N$2,0,IF(ISNA(SMALL($E56:$M56,7)),0,SMALL($E56:$M56,7))))","v":""},{"$f":"IF($C54=\"\",\"\",IF(AB$4>$N$2,0,IF(ISNA(SMALL($E56:$M56,8)),0,SMALL($E56:$M56,8))))","v":""},{"$f":"IF($C54=\"\",\"\",IF(AC$4>$N$2,0,IF(ISNA(SMALL($E56:$M56,9)),0,SMALL($E56:$M56,9))))","v":""}]
[null,null,null,"2. pokus"]
[null,null,null,"čas",{"$f":"IF(OR($C54=\"\",E54=\"\",E55=\"\"),\"\",IF(OR(AND(E54=\"NP\",E55=\"NP\"),AND(E54=\"DNF\",E55=\"DNF\")),E54,IF(AND(E54=\"NP\",E55=\"DNF\"),E54,IF(AND(E54=\"DNF\",E55=\"NP\"),E55,MIN(E54,E55)))))","v":""},"","","","","","","",""]
[null,{"$f":"Start!B23","v":17},{"$f":"IF(Start!C23=\"\",\"\",Start!C23)","v":""},"1. pokus",null,null,null,null,null,null,null,null,null,{"$f":"IF(C57=\"\",\"\",COUNT(E59:M59))","v":""},{"$f":"IF(C57=\"\",\"\",IF(AND(N57=0,COUNTIF(E59:M59,\"NP\")=0),\"DNF\",IF(N57<N$2,\"NP\",SUM(U57:AC59))))","v":""},null,{"$f":"IF(C57=\"\",\"\",IF(OR(O57=\"NP\",O57=\"DNF\"),Start!$E$5,RANK(O57,O$5:O$136,1)))","v":""},null,{"$f":"IF(D57=\"\",\"\",IF(OR(Q57=\"NP\",Q57=\"DNF\"),IF(Q57=\"NP\",MAX(Q$5:Q$85)+COUNTIF((Q$5:Q$85),MAX(Q$5:Q$85)),MAX(Q$5:Q$85)+COUNTIF((Q$5:Q$85),MAX(Q$5:Q$85))+COUNTIF((Q$5:Q$85),\"NP\")),Q57))","v":""},null,{"$f":"IF($C57=\"\",\"\",IF(U$4>$N$2,0,IF(ISNA(SMALL($E59:$M59,1)),0,SMALL($E59:$M59,1))))","v":""},{"$f":"IF($C57=\"\",\"\",IF(V$4>$N$2,0,IF(ISNA(SMALL($E59:$M59,2)),0,SMALL($E59:$M59,2))))","v":""},{"$f":"IF($C57=\"\",\"\",IF(W$4>$N$2,0,IF(ISNA(SMALL($E59:$M59,3)),0,SMALL($E59:$M59,3))))","v":""},{"$f":"IF($C57=\"\",\"\",IF(X$4>$N$2,0,IF(ISNA(SMALL($E59:$M59,4)),0,SMALL($E59:$M59,4))))","v":""},{"$f":"IF($C57=\"\",\"\",IF(Y$4>$N$2,0,IF(ISNA(SMALL($E59:$M59,5)),0,SMALL($E59:$M59,5))))","v":""},{"$f":"IF($C57=\"\",\"\",IF(Z$4>$N$2,0,IF(ISNA(SMALL($E59:$M59,6)),0,SMALL($E59:$M59,6))))","v":""},{"$f":"IF($C57=\"\",\"\",IF(AA$4>$N$2,0,IF(ISNA(SMALL($E59:$M59,7)),0,SMALL($E59:$M59,7))))","v":""},{"$f":"IF($C57=\"\",\"\",IF(AB$4>$N$2,0,IF(ISNA(SMALL($E59:$M59,8)),0,SMALL($E59:$M59,8))))","v":""},{"$f":"IF($C57=\"\",\"\",IF(AC$4>$N$2,0,IF(ISNA(SMALL($E59:$M59,9)),0,SMALL($E59:$M59,9))))","v":""}]
[null,null,null,"2. pokus"]
[null,null,null,"čas",{"$f":"IF(OR($C57=\"\",E57=\"\",E58=\"\"),\"\",IF(OR(AND(E57=\"NP\",E58=\"NP\"),AND(E57=\"DNF\",E58=\"DNF\")),E57,IF(AND(E57=\"NP\",E58=\"DNF\"),E57,IF(AND(E57=\"DNF\",E58=\"NP\"),E58,MIN(E57,E58)))))","v":""},"","","","","","","",""]
[null,{"$f":"Start!B24","v":18},{"$f":"IF(Start!C24=\"\",\"\",Start!C24)","v":""},"1. pokus",null,null,null,null,null,null,null,null,null,{"$f":"IF(C60=\"\",\"\",COUNT(E62:M62))","v":""},{"$f":"IF(C60=\"\",\"\",IF(AND(N60=0,COUNTIF(E62:M62,\"NP\")=0),\"DNF\",IF(N60<N$2,\"NP\",SUM(U60:AC62))))","v":""},null,{"$f":"IF(C60=\"\",\"\",IF(OR(O60=\"NP\",O60=\"DNF\"),Start!$E$5,RANK(O60,O$5:O$136,1)))","v":""},null,{"$f":"IF(D60=\"\",\"\",IF(OR(Q60=\"NP\",Q60=\"DNF\"),IF(Q60=\"NP\",MAX(Q$5:Q$85)+COUNTIF((Q$5:Q$85),MAX(Q$5:Q$85)),MAX(Q$5:Q$85)+COUNTIF((Q$5:Q$85),MAX(Q$5:Q$85))+COUNTIF((Q$5:Q$85),\"NP\")),Q60))","v":""},null,{"$f":"IF($C60=\"\",\"\",IF(U$4>$N$2,0,IF(ISNA(SMALL($E62:$M62,1)),0,SMALL($E62:$M62,1))))","v":""},{"$f":"IF($C60=\"\",\"\",IF(V$4>$N$2,0,IF(ISNA(SMALL($E62:$M62,2)),0,SMALL($E62:$M62,2))))","v":""},{"$f":"IF($C60=\"\",\"\",IF(W$4>$N$2,0,IF(ISNA(SMALL($E62:$M62,3)),0,SMALL($E62:$M62,3))))","v":""},{"$f":"IF($C60=\"\",\"\",IF(X$4>$N$2,0,IF(ISNA(SMALL($E62:$M62,4)),0,SMALL($E62:$M62,4))))","v":""},{"$f":"IF($C60=\"\",\"\",IF(Y$4>$N$2,0,IF(ISNA(SMALL($E62:$M62,5)),0,SMALL($E62:$M62,5))))","v":""},{"$f":"IF($C60=\"\",\"\",IF(Z$4>$N$2,0,IF(ISNA(SMALL($E62:$M62,6)),0,SMALL($E62:$M62,6))))","v":""},{"$f":"IF($C60=\"\",\"\",IF(AA$4>$N$2,0,IF(ISNA(SMALL($E62:$M62,7)),0,SMALL($E62:$M62,7))))","v":""},{"$f":"IF($C60=\"\",\"\",IF(AB$4>$N$2,0,IF(ISNA(SMALL($E62:$M62,8)),0,SMALL($E62:$M62,8))))","v":""},{"$f":"IF($C60=\"\",\"\",IF(AC$4>$N$2,0,IF(ISNA(SMALL($E62:$M62,9)),0,SMALL($E62:$M62,9))))","v":""}]
[null,null,null,"2. pokus"]
[null,null,null,"čas",{"$f":"IF(OR($C60=\"\",E60=\"\",E61=\"\"),\"\",IF(OR(AND(E60=\"NP\",E61=\"NP\"),AND(E60=\"DNF\",E61=\"DNF\")),E60,IF(AND(E60=\"NP\",E61=\"DNF\"),E60,IF(AND(E60=\"DNF\",E61=\"NP\"),E61,MIN(E60,E61)))))","v":""},"","","","","","","",""]
[null,{"$f":"Start!B25","v":19},{"$f":"IF(Start!C25=\"\",\"\",Start!C25)","v":""},"1. pokus",null,null,null,null,null,null,null,null,null,{"$f":"IF(C63=\"\",\"\",COUNT(E65:M65))","v":""},{"$f":"IF(C63=\"\",\"\",IF(AND(N63=0,COUNTIF(E65:M65,\"NP\")=0),\"DNF\",IF(N63<N$2,\"NP\",SUM(U63:AC65))))","v":""},null,{"$f":"IF(C63=\"\",\"\",IF(OR(O63=\"NP\",O63=\"DNF\"),Start!$E$5,RANK(O63,O$5:O$136,1)))","v":""},null,{"$f":"IF(D63=\"\",\"\",IF(OR(Q63=\"NP\",Q63=\"DNF\"),IF(Q63=\"NP\",MAX(Q$5:Q$85)+COUNTIF((Q$5:Q$85),MAX(Q$5:Q$85)),MAX(Q$5:Q$85)+COUNTIF((Q$5:Q$85),MAX(Q$5:Q$85))+COUNTIF((Q$5:Q$85),\"NP\")),Q63))","v":""},null,{"$f":"IF($C63=\"\",\"\",IF(U$4>$N$2,0,IF(ISNA(SMALL($E65:$M65,1)),0,SMALL($E65:$M65,1))))","v":""},{"$f":"IF($C63=\"\",\"\",IF(V$4>$N$2,0,IF(ISNA(SMALL($E65:$M65,2)),0,SMALL($E65:$M65,2))))","v":""},{"$f":"IF($C63=\"\",\"\",IF(W$4>$N$2,0,IF(ISNA(SMALL($E65:$M65,3)),0,SMALL($E65:$M65,3))))","v":""},{"$f":"IF($C63=\"\",\"\",IF(X$4>$N$2,0,IF(ISNA(SMALL($E65:$M65,4)),0,SMALL($E65:$M65,4))))","v":""},{"$f":"IF($C63=\"\",\"\",IF(Y$4>$N$2,0,IF(ISNA(SMALL($E65:$M65,5)),0,SMALL($E65:$M65,5))))","v":""},{"$f":"IF($C63=\"\",\"\",IF(Z$4>$N$2,0,IF(ISNA(SMALL($E65:$M65,6)),0,SMALL($E65:$M65,6))))","v":""},{"$f":"IF($C63=\"\",\"\",IF(AA$4>$N$2,0,IF(ISNA(SMALL($E65:$M65,7)),0,SMALL($E65:$M65,7))))","v":""},{"$f":"IF($C63=\"\",\"\",IF(AB$4>$N$2,0,IF(ISNA(SMALL($E65:$M65,8)),0,SMALL($E65:$M65,8))))","v":""},{"$f":"IF($C63=\"\",\"\",IF(AC$4>$N$2,0,IF(ISNA(SMALL($E65:$M65,9)),0,SMALL($E65:$M65,9))))","v":""}]
[null,null,null,"2. pokus"]
[null,null,null,"čas",{"$f":"IF(OR($C63=\"\",E63=\"\",E64=\"\"),\"\",IF(OR(AND(E63=\"NP\",E64=\"NP\"),AND(E63=\"DNF\",E64=\"DNF\")),E63,IF(AND(E63=\"NP\",E64=\"DNF\"),E63,IF(AND(E63=\"DNF\",E64=\"NP\"),E64,MIN(E63,E64)))))","v":""},"","","","","","","",""]
[null,{"$f":"Start!B26","v":20},{"$f":"IF(Start!C26=\"\",\"\",Start!C26)","v":""},"1. pokus",null,null,null,null,null,null,null,null,null,{"$f":"IF(C66=\"\",\"\",COUNT(E68:M68))","v":""},{"$f":"IF(C66=\"\",\"\",IF(AND(N66=0,COUNTIF(E68:M68,\"NP\")=0),\"DNF\",IF(N66<N$2,\"NP\",SUM(U66:AC68))))","v":""},null,{"$f":"IF(C66=\"\",\"\",IF(OR(O66=\"NP\",O66=\"DNF\"),Start!$E$5,RANK(O66,O$5:O$136,1)))","v":""},null,{"$f":"IF(D66=\"\",\"\",IF(OR(Q66=\"NP\",Q66=\"DNF\"),IF(Q66=\"NP\",MAX(Q$5:Q$85)+COUNTIF((Q$5:Q$85),MAX(Q$5:Q$85)),MAX(Q$5:Q$85)+COUNTIF((Q$5:Q$85),MAX(Q$5:Q$85))+COUNTIF((Q$5:Q$85),\"NP\")),Q66))","v":""},null,{"$f":"IF($C66=\"\",\"\",IF(U$4>$N$2,0,IF(ISNA(SMALL($E68:$M68,1)),0,SMALL($E68:$M68,1))))","v":""},{"$f":"IF($C66=\"\",\"\",IF(V$4>$N$2,0,IF(ISNA(SMALL($E68:$M68,2)),0,SMALL($E68:$M68,2))))","v":""},{"$f":"IF($C66=\"\",\"\",IF(W$4>$N$2,0,IF(ISNA(SMALL($E68:$M68,3)),0,SMALL($E68:$M68,3))))","v":""},{"$f":"IF($C66=\"\",\"\",IF(X$4>$N$2,0,IF(ISNA(SMALL($E68:$M68,4)),0,SMALL($E68:$M68,4))))","v":""},{"$f":"IF($C66=\"\",\"\",IF(Y$4>$N$2,0,IF(ISNA(SMALL($E68:$M68,5)),0,SMALL($E68:$M68,5))))","v":""},{"$f":"IF($C66=\"\",\"\",IF(Z$4>$N$2,0,IF(ISNA(SMALL($E68:$M68,6)),0,SMALL($E68:$M68,6))))","v":""},{"$f":"IF($C66=\"\",\"\",IF(AA$4>$N$2,0,IF(ISNA(SMALL($E68:$M68,7)),0,SMALL($E68:$M68,7))))","v":""},{"$f":"IF($C66=\"\",\"\",IF(AB$4>$N$2,0,IF(ISNA(SMALL($E68:$M68,8)),0,SMALL($E68:$M68,8))))","v":""},{"$f":"IF($C66=\"\",\"\",IF(AC$4>$N$2,0,IF(ISNA(SMALL($E68:$M68,9)),0,SMALL($E68:$M68,9))))","v":""}]
[null,null,null,"2. pokus"]
[null,null,null,"čas",{"$f":"IF(OR($C66=\"\",E66=\"\",E67=\"\"),\"\",IF(OR(AND(E66=\"NP\",E67=\"NP\"),AND(E66=\"DNF\",E67=\"DNF\")),E66,IF(AND(E66=\"NP\",E67=\"DNF\"),E66,IF(AND(E66=\"DNF\",E67=\"NP\"),E67,MIN(E66,E67)))))","v":""},"","","","","","","",""]
[null,{"$f":"B35","v":"Běh na 100m s překážkami - Pořadí družstev"}]
[]
[null,null,{"$f":"Start!$C$5","v":"MUŽI"},null,"Soutěžící"]
[null,"st.č.","SDH","Pokus",1,2,3,4,5,6,7,8,9,"P","C.čas",null,"Poř.",null,"Body"]
[null,{"$f":"Start!B27","v":21},{"$f":"IF(Start!C27=\"\",\"\",Start!C27)","v":""},"1. pokus",null,null,null,null,null,null,null,null,null,{"$f":"IF(C73=\"\",\"\",COUNT(E75:M75))","v":""},{"$f":"IF(C73=\"\",\"\",IF(AND(N73=0,COUNTIF(E75:M75,\"NP\")=0),\"DNF\",IF(N73<N$2,\"NP\",SUM(U73:AC75))))","v":""},null,{"$f":"IF(C73=\"\",\"\",IF(OR(O73=\"NP\",O73=\"DNF\"),Start!$E$5,RANK(O73,O$5:O$136,1)))","v":""},null,{"$f":"IF(D73=\"\",\"\",IF(OR(Q73=\"NP\",Q73=\"DNF\"),IF(Q73=\"NP\",MAX(Q$5:Q$85)+COUNTIF((Q$5:Q$85),MAX(Q$5:Q$85)),MAX(Q$5:Q$85)+COUNTIF((Q$5:Q$85),MAX(Q$5:Q$85))+COUNTIF((Q$5:Q$85),\"NP\")),Q73))","v":""},null,{"$f":"IF($C73=\"\",\"\",IF(U$4>$N$2,0,IF(ISNA(SMALL($E75:$M75,1)),0,SMALL($E75:$M75,1))))","v":""},{"$f":"IF($C73=\"\",\"\",IF(V$4>$N$2,0,IF(ISNA(SMALL($E75:$M75,2)),0,SMALL($E75:$M75,2))))","v":""},{"$f":"IF($C73=\"\",\"\",IF(W$4>$N$2,0,IF(ISNA(SMALL($E75:$M75,3)),0,SMALL($E75:$M75,3))))","v":""},{"$f":"IF($C73=\"\",\"\",IF(X$4>$N$2,0,IF(ISNA(SMALL($E75:$M75,4)),0,SMALL($E75:$M75,4))))","v":""},{"$f":"IF($C73=\"\",\"\",IF(Y$4>$N$2,0,IF(ISNA(SMALL($E75:$M75,5)),0,SMALL($E75:$M75,5))))","v":""},{"$f":"IF($C73=\"\",\"\",IF(Z$4>$N$2,0,IF(ISNA(SMALL($E75:$M75,6)),0,SMALL($E75:$M75,6))))","v":""},{"$f":"IF($C73=\"\",\"\",IF(AA$4>$N$2,0,IF(ISNA(SMALL($E75:$M75,7)),0,SMALL($E75:$M75,7))))","v":""},{"$f":"IF($C73=\"\",\"\",IF(AB$4>$N$2,0,IF(ISNA(SMALL($E75:$M75,8)),0,SMALL($E75:$M75,8))))","v":""},{"$f":"IF($C73=\"\",\"\",IF(AC$4>$N$2,0,IF(ISNA(SMALL($E75:$M75,9)),0,SMALL($E75:$M75,9))))","v":""}]
[null,null,null,"2. pokus"]
[null,null,null,"čas",{"$f":"IF(OR($C73=\"\",E73=\"\",E74=\"\"),\"\",IF(OR(AND(E73=\"NP\",E74=\"NP\"),AND(E73=\"DNF\",E74=\"DNF\")),E73,IF(AND(E73=\"NP\",E74=\"DNF\"),E73,IF(AND(E73=\"DNF\",E74=\"NP\"),E74,MIN(E73,E74)))))","v":""},"","","","","","","",""]
[null,{"$f":"Start!B28","v":22},{"$f":"IF(Start!C28=\"\",\"\",Start!C28)","v":""},"1. pokus",null,null,null,null,null,null,null,null,null,{"$f":"IF(C76=\"\",\"\",COUNT(E78:M78))","v":""},{"$f":"IF(C76=\"\",\"\",IF(AND(N76=0,COUNTIF(E78:M78,\"NP\")=0),\"DNF\",IF(N76<N$2,\"NP\",SUM(U76:AC78))))","v":""},null,{"$f":"IF(C76=\"\",\"\",IF(OR(O76=\"NP\",O76=\"DNF\"),Start!$E$5,RANK(O76,O$5:O$136,1)))","v":""},null,{"$f":"IF(D76=\"\",\"\",IF(OR(Q76=\"NP\",Q76=\"DNF\"),IF(Q76=\"NP\",MAX(Q$5:Q$85)+COUNTIF((Q$5:Q$85),MAX(Q$5:Q$85)),MAX(Q$5:Q$85)+COUNTIF((Q$5:Q$85),MAX(Q$5:Q$85))+COUNTIF((Q$5:Q$85),\"NP\")),Q76))","v":""},null,{"$f":"IF($C76=\"\",\"\",IF(U$4>$N$2,0,IF(ISNA(SMALL($E78:$M78,1)),0,SMALL($E78:$M78,1))))","v":""},{"$f":"IF($C76=\"\",\"\",IF(V$4>$N$2,0,IF(ISNA(SMALL($E78:$M78,2)),0,SMALL($E78:$M78,2))))","v":""},{"$f":"IF($C76=\"\",\"\",IF(W$4>$N$2,0,IF(ISNA(SMALL($E78:$M78,3)),0,SMALL($E78:$M78,3))))","v":""},{"$f":"IF($C76=\"\",\"\",IF(X$4>$N$2,0,IF(ISNA(SMALL($E78:$M78,4)),0,SMALL($E78:$M78,4))))","v":""},{"$f":"IF($C76=\"\",\"\",IF(Y$4>$N$2,0,IF(ISNA(SMALL($E78:$M78,5)),0,SMALL($E78:$M78,5))))","v":""},{"$f":"IF($C76=\"\",\"\",IF(Z$4>$N$2,0,IF(ISNA(SMALL($E78:$M78,6)),0,SMALL($E78:$M78,6))))","v":""},{"$f":"IF($C76=\"\",\"\",IF(AA$4>$N$2,0,IF(ISNA(SMALL($E78:$M78,7)),0,SMALL($E78:$M78,7))))","v":""},{"$f":"IF($C76=\"\",\"\",IF(AB$4>$N$2,0,IF(ISNA(SMALL($E78:$M78,8)),0,SMALL($E78:$M78,8))))","v":""},{"$f":"IF($C76=\"\",\"\",IF(AC$4>$N$2,0,IF(ISNA(SMALL($E78:$M78,9)),0,SMALL($E78:$M78,9))))","v":""}]
[null,null,null,"2. pokus"]
[null,null,null,"čas",{"$f":"IF(OR($C76=\"\",E76=\"\",E77=\"\"),\"\",IF(OR(AND(E76=\"NP\",E77=\"NP\"),AND(E76=\"DNF\",E77=\"DNF\")),E76,IF(AND(E76=\"NP\",E77=\"DNF\"),E76,IF(AND(E76=\"DNF\",E77=\"NP\"),E77,MIN(E76,E77)))))","v":""},"","","","","","","",""]
[null,{"$f":"Start!B29","v":23},{"$f":"IF(Start!C29=\"\",\"\",Start!C29)","v":""},"1. pokus",null,null,null,null,null,null,null,null,null,{"$f":"IF(C79=\"\",\"\",COUNT(E81:M81))","v":""},{"$f":"IF(C79=\"\",\"\",IF(AND(N79=0,COUNTIF(E81:M81,\"NP\")=0),\"DNF\",IF(N79<N$2,\"NP\",SUM(U79:AC81))))","v":""},null,{"$f":"IF(C79=\"\",\"\",IF(OR(O79=\"NP\",O79=\"DNF\"),Start!$E$5,RANK(O79,O$5:O$136,1)))","v":""},null,{"$f":"IF(D79=\"\",\"\",IF(OR(Q79=\"NP\",Q79=\"DNF\"),IF(Q79=\"NP\",MAX(Q$5:Q$85)+COUNTIF((Q$5:Q$85),MAX(Q$5:Q$85)),MAX(Q$5:Q$85)+COUNTIF((Q$5:Q$85),MAX(Q$5:Q$85))+COUNTIF((Q$5:Q$85),\"NP\")),Q79))","v":""},null,{"$f":"IF($C79=\"\",\"\",IF(U$4>$N$2,0,IF(ISNA(SMALL($E81:$M81,1)),0,SMALL($E81:$M81,1))))","v":""},{"$f":"IF($C79=\"\",\"\",IF(V$4>$N$2,0,IF(ISNA(SMALL($E81:$M81,2)),0,SMALL($E81:$M81,2))))","v":""},{"$f":"IF($C79=\"\",\"\",IF(W$4>$N$2,0,IF(ISNA(SMALL($E81:$M81,3)),0,SMALL($E81:$M81,3))))","v":""},{"$f":"IF($C79=\"\",\"\",IF(X$4>$N$2,0,IF(ISNA(SMALL($E81:$M81,4)),0,SMALL($E81:$M81,4))))","v":""},{"$f":"IF($C79=\"\",\"\",IF(Y$4>$N$2,0,IF(ISNA(SMALL($E81:$M81,5)),0,SMALL($E81:$M81,5))))","v":""},{"$f":"IF($C79=\"\",\"\",IF(Z$4>$N$2,0,IF(ISNA(SMALL($E81:$M81,6)),0,SMALL($E81:$M81,6))))","v":""},{"$f":"IF($C79=\"\",\"\",IF(AA$4>$N$2,0,IF(ISNA(SMALL($E81:$M81,7)),0,SMALL($E81:$M81,7))))","v":""},{"$f":"IF($C79=\"\",\"\",IF(AB$4>$N$2,0,IF(ISNA(SMALL($E81:$M81,8)),0,SMALL($E81:$M81,8))))","v":""},{"$f":"IF($C79=\"\",\"\",IF(AC$4>$N$2,0,IF(ISNA(SMALL($E81:$M81,9)),0,SMALL($E81:$M81,9))))","v":""}]
[null,null,null,"2. pokus"]
[null,null,null,"čas",{"$f":"IF(OR($C79=\"\",E79=\"\",E80=\"\"),\"\",IF(OR(AND(E79=\"NP\",E80=\"NP\"),AND(E79=\"DNF\",E80=\"DNF\")),E79,IF(AND(E79=\"NP\",E80=\"DNF\"),E79,IF(AND(E79=\"DNF\",E80=\"NP\"),E80,MIN(E79,E80)))))","v":""},"","","","","","","",""]
[null,{"$f":"Start!B30","v":24},{"$f":"IF(Start!C30=\"\",\"\",Start!C30)","v":""},"1. pokus",null,null,null,null,null,null,null,null,null,{"$f":"IF(C82=\"\",\"\",COUNT(E84:M84))","v":""},{"$f":"IF(C82=\"\",\"\",IF(AND(N82=0,COUNTIF(E84:M84,\"NP\")=0),\"DNF\",IF(N82<N$2,\"NP\",SUM(U82:AC84))))","v":""},null,{"$f":"IF(C82=\"\",\"\",IF(OR(O82=\"NP\",O82=\"DNF\"),Start!$E$5,RANK(O82,O$5:O$136,1)))","v":""},null,{"$f":"IF(D82=\"\",\"\",IF(OR(Q82=\"NP\",Q82=\"DNF\"),IF(Q82=\"NP\",MAX(Q$5:Q$85)+COUNTIF((Q$5:Q$85),MAX(Q$5:Q$85)),MAX(Q$5:Q$85)+COUNTIF((Q$5:Q$85),MAX(Q$5:Q$85))+COUNTIF((Q$5:Q$85),\"NP\")),Q82))","v":""},null,{"$f":"IF($C82=\"\",\"\",IF(U$4>$N$2,0,IF(ISNA(SMALL($E84:$M84,1)),0,SMALL($E84:$M84,1))))","v":""},{"$f":"IF($C82=\"\",\"\",IF(V$4>$N$2,0,IF(ISNA(SMALL($E84:$M84,2)),0,SMALL($E84:$M84,2))))","v":""},{"$f":"IF($C82=\"\",\"\",IF(W$4>$N$2,0,IF(ISNA(SMALL($E84:$M84,3)),0,SMALL($E84:$M84,3))))","v":""},{"$f":"IF($C82=\"\",\"\",IF(X$4>$N$2,0,IF(ISNA(SMALL($E84:$M84,4)),0,SMALL($E84:$M84,4))))","v":""},{"$f":"IF($C82=\"\",\"\",IF(Y$4>$N$2,0,IF(ISNA(SMALL($E84:$M84,5)),0,SMALL($E84:$M84,5))))","v":""},{"$f":"IF($C82=\"\",\"\",IF(Z$4>$N$2,0,IF(ISNA(SMALL($E84:$M84,6)),0,SMALL($E84:$M84,6))))","v":""},{"$f":"IF($C82=\"\",\"\",IF(AA$4>$N$2,0,IF(ISNA(SMALL($E84:$M84,7)),0,SMALL($E84:$M84,7))))","v":""},{"$f":"IF($C82=\"\",\"\",IF(AB$4>$N$2,0,IF(ISNA(SMALL($E84:$M84,8)),0,SMALL($E84:$M84,8))))","v":""},{"$f":"IF($C82=\"\",\"\",IF(AC$4>$N$2,0,IF(ISNA(SMALL($E84:$M84,9)),0,SMALL($E84:$M84,9))))","v":""}]
[null,null,null,"2. pokus"]
[null,null,null,"čas",{"$f":"IF(OR($C82=\"\",E82=\"\",E83=\"\"),\"\",IF(OR(AND(E82=\"NP\",E83=\"NP\"),AND(E82=\"DNF\",E83=\"DNF\")),E82,IF(AND(E82=\"NP\",E83=\"DNF\"),E82,IF(AND(E82=\"DNF\",E83=\"NP\"),E83,MIN(E82,E83)))))","v":""},"","","","","","","",""]
[null,{"$f":"Start!B31","v":25},{"$f":"IF(Start!C31=\"\",\"\",Start!C31)","v":""},"1. pokus",null,null,null,null,null,null,null,null,null,{"$f":"IF(C85=\"\",\"\",COUNT(E87:M87))","v":""},{"$f":"IF(C85=\"\",\"\",IF(AND(N85=0,COUNTIF(E87:M87,\"NP\")=0),\"DNF\",IF(N85<N$2,\"NP\",SUM(U85:AC87))))","v":""},null,{"$f":"IF(C85=\"\",\"\",IF(OR(O85=\"NP\",O85=\"DNF\"),Start!$E$5,RANK(O85,O$5:O$136,1)))","v":""},null,{"$f":"IF(D85=\"\",\"\",IF(OR(Q85=\"NP\",Q85=\"DNF\"),IF(Q85=\"NP\",MAX(Q$5:Q$85)+COUNTIF((Q$5:Q$85),MAX(Q$5:Q$85)),MAX(Q$5:Q$85)+COUNTIF((Q$5:Q$85),MAX(Q$5:Q$85))+COUNTIF((Q$5:Q$85),\"NP\")),Q85))","v":""},null,{"$f":"IF($C85=\"\",\"\",IF(U$4>$N$2,0,IF(ISNA(SMALL($E87:$M87,1)),0,SMALL($E87:$M87,1))))","v":""},{"$f":"IF($C85=\"\",\"\",IF(V$4>$N$2,0,IF(ISNA(SMALL($E87:$M87,2)),0,SMALL($E87:$M87,2))))","v":""},{"$f":"IF($C85=\"\",\"\",IF(W$4>$N$2,0,IF(ISNA(SMALL($E87:$M87,3)),0,SMALL($E87:$M87,3))))","v":""},{"$f":"IF($C85=\"\",\"\",IF(X$4>$N$2,0,IF(ISNA(SMALL($E87:$M87,4)),0,SMALL($E87:$M87,4))))","v":""},{"$f":"IF($C85=\"\",\"\",IF(Y$4>$N$2,0,IF(ISNA(SMALL($E87:$M87,5)),0,SMALL($E87:$M87,5))))","v":""},{"$f":"IF($C85=\"\",\"\",IF(Z$4>$N$2,0,IF(ISNA(SMALL($E87:$M87,6)),0,SMALL($E87:$M87,6))))","v":""},{"$f":"IF($C85=\"\",\"\",IF(AA$4>$N$2,0,IF(ISNA(SMALL($E87:$M87,7)),0,SMALL($E87:$M87,7))))","v":""},{"$f":"IF($C85=\"\",\"\",IF(AB$4>$N$2,0,IF(ISNA(SMALL($E87:$M87,8)),0,SMALL($E87:$M87,8))))","v":""},{"$f":"IF($C85=\"\",\"\",IF(AC$4>$N$2,0,IF(ISNA(SMALL($E87:$M87,9)),0,SMALL($E87:$M87,9))))","v":""}]
[null,null,null,"2. pokus"]
[null,null,null,"čas",{"$f":"IF(OR($C85=\"\",E85=\"\",E86=\"\"),\"\",IF(OR(AND(E85=\"NP\",E86=\"NP\"),AND(E85=\"DNF\",E86=\"DNF\")),E85,IF(AND(E85=\"NP\",E86=\"DNF\"),E85,IF(AND(E85=\"DNF\",E86=\"NP\"),E86,MIN(E85,E86)))))","v":""},"","","","","","","",""]
[null,{"$f":"Start!B32","v":26},{"$f":"IF(Start!C32=\"\",\"\",Start!C32)","v":""},"1. pokus",null,null,null,null,null,null,null,null,null,{"$f":"IF(C88=\"\",\"\",COUNT(E90:M90))","v":""},{"$f":"IF(C88=\"\",\"\",IF(AND(N88=0,COUNTIF(E90:M90,\"NP\")=0),\"DNF\",IF(N88<N$2,\"NP\",SUM(U88:AC90))))","v":""},null,{"$f":"IF(C88=\"\",\"\",IF(OR(O88=\"NP\",O88=\"DNF\"),Start!$E$5,RANK(O88,O$5:O$136,1)))","v":""},null,{"$f":"IF(D88=\"\",\"\",IF(OR(Q88=\"NP\",Q88=\"DNF\"),IF(Q88=\"NP\",MAX(Q$5:Q$85)+COUNTIF((Q$5:Q$85),MAX(Q$5:Q$85)),MAX(Q$5:Q$85)+COUNTIF((Q$5:Q$85),MAX(Q$5:Q$85))+COUNTIF((Q$5:Q$85),\"NP\")),Q88))","v":""},null,{"$f":"IF($C88=\"\",\"\",IF(U$4>$N$2,0,IF(ISNA(SMALL($E90:$M90,1)),0,SMALL($E90:$M90,1))))","v":""},{"$f":"IF($C88=\"\",\"\",IF(V$4>$N$2,0,IF(ISNA(SMALL($E90:$M90,2)),0,SMALL($E90:$M90,2))))","v":""},{"$f":"IF($C88=\"\",\"\",IF(W$4>$N$2,0,IF(ISNA(SMALL($E90:$M90,3)),0,SMALL($E90:$M90,3))))","v":""},{"$f":"IF($C88=\"\",\"\",IF(X$4>$N$2,0,IF(ISNA(SMALL($E90:$M90,4)),0,SMALL($E90:$M90,4))))","v":""},{"$f":"IF($C88=\"\",\"\",IF(Y$4>$N$2,0,IF(ISNA(SMALL($E90:$M90,5)),0,SMALL($E90:$M90,5))))","v":""},{"$f":"IF($C88=\"\",\"\",IF(Z$4>$N$2,0,IF(ISNA(SMALL($E90:$M90,6)),0,SMALL($E90:$M90,6))))","v":""},{"$f":"IF($C88=\"\",\"\",IF(AA$4>$N$2,0,IF(ISNA(SMALL($E90:$M90,7)),0,SMALL($E90:$M90,7))))","v":""},{"$f":"IF($C88=\"\",\"\",IF(AB$4>$N$2,0,IF(ISNA(SMALL($E90:$M90,8)),0,SMALL($E90:$M90,8))))","v":""},{"$f":"IF($C88=\"\",\"\",IF(AC$4>$N$2,0,IF(ISNA(SMALL($E90:$M90,9)),0,SMALL($E90:$M90,9))))","v":""}]
[null,null,null,"2. pokus"]
[null,null,null,"čas",{"$f":"IF(OR($C88=\"\",E88=\"\",E89=\"\"),\"\",IF(OR(AND(E88=\"NP\",E89=\"NP\"),AND(E88=\"DNF\",E89=\"DNF\")),E88,IF(AND(E88=\"NP\",E89=\"DNF\"),E88,IF(AND(E88=\"DNF\",E89=\"NP\"),E89,MIN(E88,E89)))))","v":""},"","","","","","","",""]
[null,{"$f":"Start!B33","v":27},{"$f":"IF(Start!C33=\"\",\"\",Start!C33)","v":""},"1. pokus",null,null,null,null,null,null,null,null,null,{"$f":"IF(C91=\"\",\"\",COUNT(E93:M93))","v":""},{"$f":"IF(C91=\"\",\"\",IF(AND(N91=0,COUNTIF(E93:M93,\"NP\")=0),\"DNF\",IF(N91<N$2,\"NP\",SUM(U91:AC93))))","v":""},null,{"$f":"IF(C91=\"\",\"\",IF(OR(O91=\"NP\",O91=\"DNF\"),Start!$E$5,RANK(O91,O$5:O$136,1)))","v":""},null,{"$f":"IF(D91=\"\",\"\",IF(OR(Q91=\"NP\",Q91=\"DNF\"),IF(Q91=\"NP\",MAX(Q$5:Q$85)+COUNTIF((Q$5:Q$85),MAX(Q$5:Q$85)),MAX(Q$5:Q$85)+COUNTIF((Q$5:Q$85),MAX(Q$5:Q$85))+COUNTIF((Q$5:Q$85),\"NP\")),Q91))","v":""},null,{"$f":"IF($C91=\"\",\"\",IF(U$4>$N$2,0,IF(ISNA(SMALL($E93:$M93,1)),0,SMALL($E93:$M93,1))))","v":""},{"$f":"IF($C91=\"\",\"\",IF(V$4>$N$2,0,IF(ISNA(SMALL($E93:$M93,2)),0,SMALL($E93:$M93,2))))","v":""},{"$f":"IF($C91=\"\",\"\",IF(W$4>$N$2,0,IF(ISNA(SMALL($E93:$M93,3)),0,SMALL($E93:$M93,3))))","v":""},{"$f":"IF($C91=\"\",\"\",IF(X$4>$N$2,0,IF(ISNA(SMALL($E93:$M93,4)),0,SMALL($E93:$M93,4))))","v":""},{"$f":"IF($C91=\"\",\"\",IF(Y$4>$N$2,0,IF(ISNA(SMALL($E93:$M93,5)),0,SMALL($E93:$M93,5))))","v":""},{"$f":"IF($C91=\"\",\"\",IF(Z$4>$N$2,0,IF(ISNA(SMALL($E93:$M93,6)),0,SMALL($E93:$M93,6))))","v":""},{"$f":"IF($C91=\"\",\"\",IF(AA$4>$N$2,0,IF(ISNA(SMALL($E93:$M93,7)),0,SMALL($E93:$M93,7))))","v":""},{"$f":"IF($C91=\"\",\"\",IF(AB$4>$N$2,0,IF(ISNA(SMALL($E93:$M93,8)),0,SMALL($E93:$M93,8))))","v":""},{"$f":"IF($C91=\"\",\"\",IF(AC$4>$N$2,0,IF(ISNA(SMALL($E93:$M93,9)),0,SMALL($E93:$M93,9))))","v":""}]
[null,null,null,"2. pokus"]
[null,null,null,"čas",{"$f":"IF(OR($C91=\"\",E91=\"\",E92=\"\"),\"\",IF(OR(AND(E91=\"NP\",E92=\"NP\"),AND(E91=\"DNF\",E92=\"DNF\")),E91,IF(AND(E91=\"NP\",E92=\"DNF\"),E91,IF(AND(E91=\"DNF\",E92=\"NP\"),E92,MIN(E91,E92)))))","v":""},"","","","","","","",""]
[null,{"$f":"Start!B34","v":28},{"$f":"IF(Start!C34=\"\",\"\",Start!C34)","v":""},"1. pokus",null,null,null,null,null,null,null,null,null,{"$f":"IF(C94=\"\",\"\",COUNT(E96:M96))","v":""},{"$f":"IF(C94=\"\",\"\",IF(AND(N94=0,COUNTIF(E96:M96,\"NP\")=0),\"DNF\",IF(N94<N$2,\"NP\",SUM(U94:AC96))))","v":""},null,{"$f":"IF(C94=\"\",\"\",IF(OR(O94=\"NP\",O94=\"DNF\"),Start!$E$5,RANK(O94,O$5:O$136,1)))","v":""},null,{"$f":"IF(D94=\"\",\"\",IF(OR(Q94=\"NP\",Q94=\"DNF\"),IF(Q94=\"NP\",MAX(Q$5:Q$85)+COUNTIF((Q$5:Q$85),MAX(Q$5:Q$85)),MAX(Q$5:Q$85)+COUNTIF((Q$5:Q$85),MAX(Q$5:Q$85))+COUNTIF((Q$5:Q$85),\"NP\")),Q94))","v":""},null,{"$f":"IF($C94=\"\",\"\",IF(U$4>$N$2,0,IF(ISNA(SMALL($E96:$M96,1)),0,SMALL($E96:$M96,1))))","v":""},{"$f":"IF($C94=\"\",\"\",IF(V$4>$N$2,0,IF(ISNA(SMALL($E96:$M96,2)),0,SMALL($E96:$M96,2))))","v":""},{"$f":"IF($C94=\"\",\"\",IF(W$4>$N$2,0,IF(ISNA(SMALL($E96:$M96,3)),0,SMALL($E96:$M96,3))))","v":""},{"$f":"IF($C94=\"\",\"\",IF(X$4>$N$2,0,IF(ISNA(SMALL($E96:$M96,4)),0,SMALL($E96:$M96,4))))","v":""},{"$f":"IF($C94=\"\",\"\",IF(Y$4>$N$2,0,IF(ISNA(SMALL($E96:$M96,5)),0,SMALL($E96:$M96,5))))","v":""},{"$f":"IF($C94=\"\",\"\",IF(Z$4>$N$2,0,IF(ISNA(SMALL($E96:$M96,6)),0,SMALL($E96:$M96,6))))","v":""},{"$f":"IF($C94=\"\",\"\",IF(AA$4>$N$2,0,IF(ISNA(SMALL($E96:$M96,7)),0,SMALL($E96:$M96,7))))","v":""},{"$f":"IF($C94=\"\",\"\",IF(AB$4>$N$2,0,IF(ISNA(SMALL($E96:$M96,8)),0,SMALL($E96:$M96,8))))","v":""},{"$f":"IF($C94=\"\",\"\",IF(AC$4>$N$2,0,IF(ISNA(SMALL($E96:$M96,9)),0,SMALL($E96:$M96,9))))","v":""}]
[null,null,null,"2. pokus"]
[null,null,null,"čas",{"$f":"IF(OR($C94=\"\",E94=\"\",E95=\"\"),\"\",IF(OR(AND(E94=\"NP\",E95=\"NP\"),AND(E94=\"DNF\",E95=\"DNF\")),E94,IF(AND(E94=\"NP\",E95=\"DNF\"),E94,IF(AND(E94=\"DNF\",E95=\"NP\"),E95,MIN(E94,E95)))))","v":""},"","","","","","","",""]
[null,{"$f":"Start!B35","v":29},{"$f":"IF(Start!C35=\"\",\"\",Start!C35)","v":""},"1. pokus","","","","","","","","",null,{"$f":"IF(C97=\"\",\"\",COUNT(E99:M99))","v":""},{"$f":"IF(C97=\"\",\"\",IF(AND(N97=0,COUNTIF(E99:M99,\"NP\")=0),\"DNF\",IF(N97<N$2,\"NP\",SUM(U97:AC99))))","v":""},null,{"$f":"IF(C97=\"\",\"\",IF(OR(O97=\"NP\",O97=\"DNF\"),Start!$E$5,RANK(O97,O$5:O$136,1)))","v":""},null,{"$f":"IF(D97=\"\",\"\",IF(OR(Q97=\"NP\",Q97=\"DNF\"),IF(Q97=\"NP\",MAX(Q$5:Q$85)+COUNTIF((Q$5:Q$85),MAX(Q$5:Q$85)),MAX(Q$5:Q$85)+COUNTIF((Q$5:Q$85),MAX(Q$5:Q$85))+COUNTIF((Q$5:Q$85),\"NP\")),Q97))","v":""},null,{"$f":"IF($C97=\"\",\"\",IF(U$4>$N$2,0,IF(ISNA(SMALL($E99:$M99,1)),0,SMALL($E99:$M99,1))))","v":""},{"$f":"IF($C97=\"\",\"\",IF(V$4>$N$2,0,IF(ISNA(SMALL($E99:$M99,2)),0,SMALL($E99:$M99,2))))","v":""},{"$f":"IF($C97=\"\",\"\",IF(W$4>$N$2,0,IF(ISNA(SMALL($E99:$M99,3)),0,SMALL($E99:$M99,3))))","v":""},{"$f":"IF($C97=\"\",\"\",IF(X$4>$N$2,0,IF(ISNA(SMALL($E99:$M99,4)),0,SMALL($E99:$M99,4))))","v":""},{"$f":"IF($C97=\"\",\"\",IF(Y$4>$N$2,0,IF(ISNA(SMALL($E99:$M99,5)),0,SMALL($E99:$M99,5))))","v":""},{"$f":"IF($C97=\"\",\"\",IF(Z$4>$N$2,0,IF(ISNA(SMALL($E99:$M99,6)),0,SMALL($E99:$M99,6))))","v":""},{"$f":"IF($C97=\"\",\"\",IF(AA$4>$N$2,0,IF(ISNA(SMALL($E99:$M99,7)),0,SMALL($E99:$M99,7))))","v":""},{"$f":"IF($C97=\"\",\"\",IF(AB$4>$N$2,0,IF(ISNA(SMALL($E99:$M99,8)),0,SMALL($E99:$M99,8))))","v":""},{"$f":"IF($C97=\"\",\"\",IF(AC$4>$N$2,0,IF(ISNA(SMALL($E99:$M99,9)),0,SMALL($E99:$M99,9))))","v":""}]
[null,null,null,"2. pokus","","","","","","","",""]
[null,null,null,"čas",{"$f":"IF(OR($C97=\"\",E97=\"\",E98=\"\"),\"\",IF(OR(AND(E97=\"NP\",E98=\"NP\"),AND(E97=\"DNF\",E98=\"DNF\")),E97,IF(AND(E97=\"NP\",E98=\"DNF\"),E97,IF(AND(E97=\"DNF\",E98=\"NP\"),E98,MIN(E97,E98)))))","v":""},"","","","","","","",""]
[null,{"$f":"Start!B36","v":30},{"$f":"IF(Start!C36=\"\",\"\",Start!C36)","v":""},"1. pokus",null,null,null,null,null,null,null,null,null,{"$f":"IF(C100=\"\",\"\",COUNT(E102:M102))","v":""},{"$f":"IF(C100=\"\",\"\",IF(AND(N100=0,COUNTIF(E102:M102,\"NP\")=0),\"DNF\",IF(N100<N$2,\"NP\",SUM(U100:AC102))))","v":""},null,{"$f":"IF(C100=\"\",\"\",IF(OR(O100=\"NP\",O100=\"DNF\"),Start!$E$5,RANK(O100,O$5:O$136,1)))","v":""},null,{"$f":"IF(D100=\"\",\"\",IF(OR(Q100=\"NP\",Q100=\"DNF\"),IF(Q100=\"NP\",MAX(Q$5:Q$85)+COUNTIF((Q$5:Q$85),MAX(Q$5:Q$85)),MAX(Q$5:Q$85)+COUNTIF((Q$5:Q$85),MAX(Q$5:Q$85))+COUNTIF((Q$5:Q$85),\"NP\")),Q100))","v":""},null,{"$f":"IF($C100=\"\",\"\",IF(U$4>$N$2,0,IF(ISNA(SMALL($E102:$M102,1)),0,SMALL($E102:$M102,1))))","v":""},{"$f":"IF($C100=\"\",\"\",IF(V$4>$N$2,0,IF(ISNA(SMALL($E102:$M102,2)),0,SMALL($E102:$M102,2))))","v":""},{"$f":"IF($C100=\"\",\"\",IF(W$4>$N$2,0,IF(ISNA(SMALL($E102:$M102,3)),0,SMALL($E102:$M102,3))))","v":""},{"$f":"IF($C100=\"\",\"\",IF(X$4>$N$2,0,IF(ISNA(SMALL($E102:$M102,4)),0,SMALL($E102:$M102,4))))","v":""},{"$f":"IF($C100=\"\",\"\",IF(Y$4>$N$2,0,IF(ISNA(SMALL($E102:$M102,5)),0,SMALL($E102:$M102,5))))","v":""},{"$f":"IF($C100=\"\",\"\",IF(Z$4>$N$2,0,IF(ISNA(SMALL($E102:$M102,6)),0,SMALL($E102:$M102,6))))","v":""},{"$f":"IF($C100=\"\",\"\",IF(AA$4>$N$2,0,IF(ISNA(SMALL($E102:$M102,7)),0,SMALL($E102:$M102,7))))","v":""},{"$f":"IF($C100=\"\",\"\",IF(AB$4>$N$2,0,IF(ISNA(SMALL($E102:$M102,8)),0,SMALL($E102:$M102,8))))","v":""},{"$f":"IF($C100=\"\",\"\",IF(AC$4>$N$2,0,IF(ISNA(SMALL($E102:$M102,9)),0,SMALL($E102:$M102,9))))","v":""}]
[null,null,null,"2. pokus"]
[null,null,null,"čas",{"$f":"IF(OR($C100=\"\",E100=\"\",E101=\"\"),\"\",IF(OR(AND(E100=\"NP\",E101=\"NP\"),AND(E100=\"DNF\",E101=\"DNF\")),E100,IF(AND(E100=\"NP\",E101=\"DNF\"),E100,IF(AND(E100=\"DNF\",E101=\"NP\"),E101,MIN(E100,E101)))))","v":""},"","","","","","","",""]
[null,{"$f":"B35","v":"Běh na 100m s překážkami - Pořadí družstev"}]
[]
[null,null,{"$f":"Start!$C$5","v":"MUŽI"},null,"Soutěžící"]
[null,"st.č.","SDH","Pokus",1,2,3,4,5,6,7,8,9,"P","C.čas",null,"Poř.",null,"Body"]
[null,{"$f":"Start!B37","v":31},{"$f":"IF(Start!C37=\"\",\"\",Start!C37)","v":""},"1. pokus",null,null,null,null,null,null,null,null,null,{"$f":"IF(C107=\"\",\"\",COUNT(E109:M109))","v":""},{"$f":"IF(C107=\"\",\"\",IF(AND(N107=0,COUNTIF(E109:M109,\"NP\")=0),\"DNF\",IF(N107<N$2,\"NP\",SUM(U107:AC109))))","v":""},null,{"$f":"IF(C107=\"\",\"\",IF(OR(O107=\"NP\",O107=\"DNF\"),Start!$E$5,RANK(O107,O$5:O$136,1)))","v":""},null,{"$f":"IF(D107=\"\",\"\",IF(OR(Q107=\"NP\",Q107=\"DNF\"),IF(Q107=\"NP\",MAX(Q$5:Q$85)+COUNTIF((Q$5:Q$85),MAX(Q$5:Q$85)),MAX(Q$5:Q$85)+COUNTIF((Q$5:Q$85),MAX(Q$5:Q$85))+COUNTIF((Q$5:Q$85),\"NP\")),Q107))","v":""},null,{"$f":"IF($C107=\"\",\"\",IF(U$4>$N$2,0,IF(ISNA(SMALL($E109:$M109,1)),0,SMALL($E109:$M109,1))))","v":""},{"$f":"IF($C107=\"\",\"\",IF(V$4>$N$2,0,IF(ISNA(SMALL($E109:$M109,2)),0,SMALL($E109:$M109,2))))","v":""},{"$f":"IF($C107=\"\",\"\",IF(W$4>$N$2,0,IF(ISNA(SMALL($E109:$M109,3)),0,SMALL($E109:$M109,3))))","v":""},{"$f":"IF($C107=\"\",\"\",IF(X$4>$N$2,0,IF(ISNA(SMALL($E109:$M109,4)),0,SMALL($E109:$M109,4))))","v":""},{"$f":"IF($C107=\"\",\"\",IF(Y$4>$N$2,0,IF(ISNA(SMALL($E109:$M109,5)),0,SMALL($E109:$M109,5))))","v":""},{"$f":"IF($C107=\"\",\"\",IF(Z$4>$N$2,0,IF(ISNA(SMALL($E109:$M109,6)),0,SMALL($E109:$M109,6))))","v":""},{"$f":"IF($C107=\"\",\"\",IF(AA$4>$N$2,0,IF(ISNA(SMALL($E109:$M109,7)),0,SMALL($E109:$M109,7))))","v":""},{"$f":"IF($C107=\"\",\"\",IF(AB$4>$N$2,0,IF(ISNA(SMALL($E109:$M109,8)),0,SMALL($E109:$M109,8))))","v":""},{"$f":"IF($C107=\"\",\"\",IF(AC$4>$N$2,0,IF(ISNA(SMALL($E109:$M109,9)),0,SMALL($E109:$M109,9))))","v":""}]
[null,null,null,"2. pokus"]
[null,null,null,"čas",{"$f":"IF(OR($C107=\"\",E107=\"\",E108=\"\"),\"\",IF(OR(AND(E107=\"NP\",E108=\"NP\"),AND(E107=\"DNF\",E108=\"DNF\")),E107,IF(AND(E107=\"NP\",E108=\"DNF\"),E107,IF(AND(E107=\"DNF\",E108=\"NP\"),E108,MIN(E107,E108)))))","v":""},"","","","","","","",""]
[null,{"$f":"Start!B38","v":32},{"$f":"IF(Start!C38=\"\",\"\",Start!C38)","v":""},"1. pokus",null,null,null,null,null,null,null,null,null,{"$f":"IF(C110=\"\",\"\",COUNT(E112:M112))","v":""},{"$f":"IF(C110=\"\",\"\",IF(AND(N110=0,COUNTIF(E112:M112,\"NP\")=0),\"DNF\",IF(N110<N$2,\"NP\",SUM(U110:AC112))))","v":""},null,{"$f":"IF(C110=\"\",\"\",IF(OR(O110=\"NP\",O110=\"DNF\"),Start!$E$5,RANK(O110,O$5:O$136,1)))","v":""},null,{"$f":"IF(D110=\"\",\"\",IF(OR(Q110=\"NP\",Q110=\"DNF\"),IF(Q110=\"NP\",MAX(Q$5:Q$85)+COUNTIF((Q$5:Q$85),MAX(Q$5:Q$85)),MAX(Q$5:Q$85)+COUNTIF((Q$5:Q$85),MAX(Q$5:Q$85))+COUNTIF((Q$5:Q$85),\"NP\")),Q110))","v":""},null,{"$f":"IF($C110=\"\",\"\",IF(U$4>$N$2,0,IF(ISNA(SMALL($E112:$M112,1)),0,SMALL($E112:$M112,1))))","v":""},{"$f":"IF($C110=\"\",\"\",IF(V$4>$N$2,0,IF(ISNA(SMALL($E112:$M112,2)),0,SMALL($E112:$M112,2))))","v":""},{"$f":"IF($C110=\"\",\"\",IF(W$4>$N$2,0,IF(ISNA(SMALL($E112:$M112,3)),0,SMALL($E112:$M112,3))))","v":""},{"$f":"IF($C110=\"\",\"\",IF(X$4>$N$2,0,IF(ISNA(SMALL($E112:$M112,4)),0,SMALL($E112:$M112,4))))","v":""},{"$f":"IF($C110=\"\",\"\",IF(Y$4>$N$2,0,IF(ISNA(SMALL($E112:$M112,5)),0,SMALL($E112:$M112,5))))","v":""},{"$f":"IF($C110=\"\",\"\",IF(Z$4>$N$2,0,IF(ISNA(SMALL($E112:$M112,6)),0,SMALL($E112:$M112,6))))","v":""},{"$f":"IF($C110=\"\",\"\",IF(AA$4>$N$2,0,IF(ISNA(SMALL($E112:$M112,7)),0,SMALL($E112:$M112,7))))","v":""},{"$f":"IF($C110=\"\",\"\",IF(AB$4>$N$2,0,IF(ISNA(SMALL($E112:$M112,8)),0,SMALL($E112:$M112,8))))","v":""},{"$f":"IF($C110=\"\",\"\",IF(AC$4>$N$2,0,IF(ISNA(SMALL($E112:$M112,9)),0,SMALL($E112:$M112,9))))","v":""}]
[null,null,null,"2. pokus"]
[null,null,null,"čas",{"$f":"IF(OR($C110=\"\",E110=\"\",E111=\"\"),\"\",IF(OR(AND(E110=\"NP\",E111=\"NP\"),AND(E110=\"DNF\",E111=\"DNF\")),E110,IF(AND(E110=\"NP\",E111=\"DNF\"),E110,IF(AND(E110=\"DNF\",E111=\"NP\"),E111,MIN(E110,E111)))))","v":""},"","","","","","","",""]
[null,{"$f":"Start!B39","v":33},{"$f":"IF(Start!C39=\"\",\"\",Start!C39)","v":""},"1. pokus",null,null,null,null,null,null,null,null,null,{"$f":"IF(C113=\"\",\"\",COUNT(E115:M115))","v":""},{"$f":"IF(C113=\"\",\"\",IF(AND(N113=0,COUNTIF(E115:M115,\"NP\")=0),\"DNF\",IF(N113<N$2,\"NP\",SUM(U113:AC115))))","v":""},null,{"$f":"IF(C113=\"\",\"\",IF(OR(O113=\"NP\",O113=\"DNF\"),Start!$E$5,RANK(O113,O$5:O$136,1)))","v":""},null,{"$f":"IF(D113=\"\",\"\",IF(OR(Q113=\"NP\",Q113=\"DNF\"),IF(Q113=\"NP\",MAX(Q$5:Q$85)+COUNTIF((Q$5:Q$85),MAX(Q$5:Q$85)),MAX(Q$5:Q$85)+COUNTIF((Q$5:Q$85),MAX(Q$5:Q$85))+COUNTIF((Q$5:Q$85),\"NP\")),Q113))","v":""},null,{"$f":"IF($C113=\"\",\"\",IF(U$4>$N$2,0,IF(ISNA(SMALL($E115:$M115,1)),0,SMALL($E115:$M115,1))))","v":""},{"$f":"IF($C113=\"\",\"\",IF(V$4>$N$2,0,IF(ISNA(SMALL($E115:$M115,2)),0,SMALL($E115:$M115,2))))","v":""},{"$f":"IF($C113=\"\",\"\",IF(W$4>$N$2,0,IF(ISNA(SMALL($E115:$M115,3)),0,SMALL($E115:$M115,3))))","v":""},{"$f":"IF($C113=\"\",\"\",IF(X$4>$N$2,0,IF(ISNA(SMALL($E115:$M115,4)),0,SMALL($E115:$M115,4))))","v":""},{"$f":"IF($C113=\"\",\"\",IF(Y$4>$N$2,0,IF(ISNA(SMALL($E115:$M115,5)),0,SMALL($E115:$M115,5))))","v":""},{"$f":"IF($C113=\"\",\"\",IF(Z$4>$N$2,0,IF(ISNA(SMALL($E115:$M115,6)),0,SMALL($E115:$M115,6))))","v":""},{"$f":"IF($C113=\"\",\"\",IF(AA$4>$N$2,0,IF(ISNA(SMALL($E115:$M115,7)),0,SMALL($E115:$M115,7))))","v":""},{"$f":"IF($C113=\"\",\"\",IF(AB$4>$N$2,0,IF(ISNA(SMALL($E115:$M115,8)),0,SMALL($E115:$M115,8))))","v":""},{"$f":"IF($C113=\"\",\"\",IF(AC$4>$N$2,0,IF(ISNA(SMALL($E115:$M115,9)),0,SMALL($E115:$M115,9))))","v":""}]
[null,null,null,"2. pokus"]
[null,null,null,"čas",{"$f":"IF(OR($C113=\"\",E113=\"\",E114=\"\"),\"\",IF(OR(AND(E113=\"NP\",E114=\"NP\"),AND(E113=\"DNF\",E114=\"DNF\")),E113,IF(AND(E113=\"NP\",E114=\"DNF\"),E113,IF(AND(E113=\"DNF\",E114=\"NP\"),E114,MIN(E113,E114)))))","v":""},"","","","","","","",""]
[null,{"$f":"Start!B40","v":34},{"$f":"IF(Start!C40=\"\",\"\",Start!C40)","v":""},"1. pokus",null,null,null,null,null,null,null,null,null,{"$f":"IF(C116=\"\",\"\",COUNT(E118:M118))","v":""},{"$f":"IF(C116=\"\",\"\",IF(AND(N116=0,COUNTIF(E118:M118,\"NP\")=0),\"DNF\",IF(N116<N$2,\"NP\",SUM(U116:AC118))))","v":""},null,{"$f":"IF(C116=\"\",\"\",IF(OR(O116=\"NP\",O116=\"DNF\"),Start!$E$5,RANK(O116,O$5:O$136,1)))","v":""},null,{"$f":"IF(D116=\"\",\"\",IF(OR(Q116=\"NP\",Q116=\"DNF\"),IF(Q116=\"NP\",MAX(Q$5:Q$85)+COUNTIF((Q$5:Q$85),MAX(Q$5:Q$85)),MAX(Q$5:Q$85)+COUNTIF((Q$5:Q$85),MAX(Q$5:Q$85))+COUNTIF((Q$5:Q$85),\"NP\")),Q116))","v":""},null,{"$f":"IF($C116=\"\",\"\",IF(U$4>$N$2,0,IF(ISNA(SMALL($E118:$M118,1)),0,SMALL($E118:$M118,1))))","v":""},{"$f":"IF($C116=\"\",\"\",IF(V$4>$N$2,0,IF(ISNA(SMALL($E118:$M118,2)),0,SMALL($E118:$M118,2))))","v":""},{"$f":"IF($C116=\"\",\"\",IF(W$4>$N$2,0,IF(ISNA(SMALL($E118:$M118,3)),0,SMALL($E118:$M118,3))))","v":""},{"$f":"IF($C116=\"\",\"\",IF(X$4>$N$2,0,IF(ISNA(SMALL($E118:$M118,4)),0,SMALL($E118:$M118,4))))","v":""},{"$f":"IF($C116=\"\",\"\",IF(Y$4>$N$2,0,IF(ISNA(SMALL($E118:$M118,5)),0,SMALL($E118:$M118,5))))","v":""},{"$f":"IF($C116=\"\",\"\",IF(Z$4>$N$2,0,IF(ISNA(SMALL($E118:$M118,6)),0,SMALL($E118:$M118,6))))","v":""},{"$f":"IF($C116=\"\",\"\",IF(AA$4>$N$2,0,IF(ISNA(SMALL($E118:$M118,7)),0,SMALL($E118:$M118,7))))","v":""},{"$f":"IF($C116=\"\",\"\",IF(AB$4>$N$2,0,IF(ISNA(SMALL($E118:$M118,8)),0,SMALL($E118:$M118,8))))","v":""},{"$f":"IF($C116=\"\",\"\",IF(AC$4>$N$2,0,IF(ISNA(SMALL($E118:$M118,9)),0,SMALL($E118:$M118,9))))","v":""}]
[null,null,null,"2. pokus"]
[null,null,null,"čas",{"$f":"IF(OR($C116=\"\",E116=\"\",E117=\"\"),\"\",IF(OR(AND(E116=\"NP\",E117=\"NP\"),AND(E116=\"DNF\",E117=\"DNF\")),E116,IF(AND(E116=\"NP\",E117=\"DNF\"),E116,IF(AND(E116=\"DNF\",E117=\"NP\"),E117,MIN(E116,E117)))))","v":""},"","","","","","","",""]
[null,{"$f":"Start!B41","v":35},{"$f":"IF(Start!C41=\"\",\"\",Start!C41)","v":""},"1. pokus",null,null,null,null,null,null,null,null,null,{"$f":"IF(C119=\"\",\"\",COUNT(E121:M121))","v":""},{"$f":"IF(C119=\"\",\"\",IF(AND(N119=0,COUNTIF(E121:M121,\"NP\")=0),\"DNF\",IF(N119<N$2,\"NP\",SUM(U119:AC121))))","v":""},null,{"$f":"IF(C119=\"\",\"\",IF(OR(O119=\"NP\",O119=\"DNF\"),Start!$E$5,RANK(O119,O$5:O$136,1)))","v":""},null,{"$f":"IF(D119=\"\",\"\",IF(OR(Q119=\"NP\",Q119=\"DNF\"),IF(Q119=\"NP\",MAX(Q$5:Q$85)+COUNTIF((Q$5:Q$85),MAX(Q$5:Q$85)),MAX(Q$5:Q$85)+COUNTIF((Q$5:Q$85),MAX(Q$5:Q$85))+COUNTIF((Q$5:Q$85),\"NP\")),Q119))","v":""},null,{"$f":"IF($C119=\"\",\"\",IF(U$4>$N$2,0,IF(ISNA(SMALL($E121:$M121,1)),0,SMALL($E121:$M121,1))))","v":""},{"$f":"IF($C119=\"\",\"\",IF(V$4>$N$2,0,IF(ISNA(SMALL($E121:$M121,2)),0,SMALL($E121:$M121,2))))","v":""},{"$f":"IF($C119=\"\",\"\",IF(W$4>$N$2,0,IF(ISNA(SMALL($E121:$M121,3)),0,SMALL($E121:$M121,3))))","v":""},{"$f":"IF($C119=\"\",\"\",IF(X$4>$N$2,0,IF(ISNA(SMALL($E121:$M121,4)),0,SMALL($E121:$M121,4))))","v":""},{"$f":"IF($C119=\"\",\"\",IF(Y$4>$N$2,0,IF(ISNA(SMALL($E121:$M121,5)),0,SMALL($E121:$M121,5))))","v":""},{"$f":"IF($C119=\"\",\"\",IF(Z$4>$N$2,0,IF(ISNA(SMALL($E121:$M121,6)),0,SMALL($E121:$M121,6))))","v":""},{"$f":"IF($C119=\"\",\"\",IF(AA$4>$N$2,0,IF(ISNA(SMALL($E121:$M121,7)),0,SMALL($E121:$M121,7))))","v":""},{"$f":"IF($C119=\"\",\"\",IF(AB$4>$N$2,0,IF(ISNA(SMALL($E121:$M121,8)),0,SMALL($E121:$M121,8))))","v":""},{"$f":"IF($C119=\"\",\"\",IF(AC$4>$N$2,0,IF(ISNA(SMALL($E121:$M121,9)),0,SMALL($E121:$M121,9))))","v":""}]
[null,null,null,"2. pokus"]
[null,null,null,"čas",{"$f":"IF(OR($C119=\"\",E119=\"\",E120=\"\"),\"\",IF(OR(AND(E119=\"NP\",E120=\"NP\"),AND(E119=\"DNF\",E120=\"DNF\")),E119,IF(AND(E119=\"NP\",E120=\"DNF\"),E119,IF(AND(E119=\"DNF\",E120=\"NP\"),E120,MIN(E119,E120)))))","v":""},"","","","","","","",""]
[null,{"$f":"Start!B42","v":36},{"$f":"IF(Start!C42=\"\",\"\",Start!C42)","v":""},"1. pokus",null,null,null,null,null,null,null,null,null,{"$f":"IF(C122=\"\",\"\",COUNT(E124:M124))","v":""},{"$f":"IF(C122=\"\",\"\",IF(AND(N122=0,COUNTIF(E124:M124,\"NP\")=0),\"DNF\",IF(N122<N$2,\"NP\",SUM(U122:AC124))))","v":""},null,{"$f":"IF(C122=\"\",\"\",IF(OR(O122=\"NP\",O122=\"DNF\"),Start!$E$5,RANK(O122,O$5:O$136,1)))","v":""},null,{"$f":"IF(D122=\"\",\"\",IF(OR(Q122=\"NP\",Q122=\"DNF\"),IF(Q122=\"NP\",MAX(Q$5:Q$85)+COUNTIF((Q$5:Q$85),MAX(Q$5:Q$85)),MAX(Q$5:Q$85)+COUNTIF((Q$5:Q$85),MAX(Q$5:Q$85))+COUNTIF((Q$5:Q$85),\"NP\")),Q122))","v":""},null,{"$f":"IF($C122=\"\",\"\",IF(U$4>$N$2,0,IF(ISNA(SMALL($E124:$M124,1)),0,SMALL($E124:$M124,1))))","v":""},{"$f":"IF($C122=\"\",\"\",IF(V$4>$N$2,0,IF(ISNA(SMALL($E124:$M124,2)),0,SMALL($E124:$M124,2))))","v":""},{"$f":"IF($C122=\"\",\"\",IF(W$4>$N$2,0,IF(ISNA(SMALL($E124:$M124,3)),0,SMALL($E124:$M124,3))))","v":""},{"$f":"IF($C122=\"\",\"\",IF(X$4>$N$2,0,IF(ISNA(SMALL($E124:$M124,4)),0,SMALL($E124:$M124,4))))","v":""},{"$f":"IF($C122=\"\",\"\",IF(Y$4>$N$2,0,IF(ISNA(SMALL($E124:$M124,5)),0,SMALL($E124:$M124,5))))","v":""},{"$f":"IF($C122=\"\",\"\",IF(Z$4>$N$2,0,IF(ISNA(SMALL($E124:$M124,6)),0,SMALL($E124:$M124,6))))","v":""},{"$f":"IF($C122=\"\",\"\",IF(AA$4>$N$2,0,IF(ISNA(SMALL($E124:$M124,7)),0,SMALL($E124:$M124,7))))","v":""},{"$f":"IF($C122=\"\",\"\",IF(AB$4>$N$2,0,IF(ISNA(SMALL($E124:$M124,8)),0,SMALL($E124:$M124,8))))","v":""},{"$f":"IF($C122=\"\",\"\",IF(AC$4>$N$2,0,IF(ISNA(SMALL($E124:$M124,9)),0,SMALL($E124:$M124,9))))","v":""}]
[null,null,null,"2. pokus"]
[null,null,null,"čas",{"$f":"IF(OR($C122=\"\",E122=\"\",E123=\"\"),\"\",IF(OR(AND(E122=\"NP\",E123=\"NP\"),AND(E122=\"DNF\",E123=\"DNF\")),E122,IF(AND(E122=\"NP\",E123=\"DNF\"),E122,IF(AND(E122=\"DNF\",E123=\"NP\"),E123,MIN(E122,E123)))))","v":""},"","","","","","","",""]
[null,{"$f":"Start!B43","v":37},{"$f":"IF(Start!C43=\"\",\"\",Start!C43)","v":""},"1. pokus",null,null,null,null,null,null,null,null,null,{"$f":"IF(C125=\"\",\"\",COUNT(E127:M127))","v":""},{"$f":"IF(C125=\"\",\"\",IF(AND(N125=0,COUNTIF(E127:M127,\"NP\")=0),\"DNF\",IF(N125<N$2,\"NP\",SUM(U125:AC127))))","v":""},null,{"$f":"IF(C125=\"\",\"\",IF(OR(O125=\"NP\",O125=\"DNF\"),Start!$E$5,RANK(O125,O$5:O$136,1)))","v":""},null,{"$f":"IF(D125=\"\",\"\",IF(OR(Q125=\"NP\",Q125=\"DNF\"),IF(Q125=\"NP\",MAX(Q$5:Q$85)+COUNTIF((Q$5:Q$85),MAX(Q$5:Q$85)),MAX(Q$5:Q$85)+COUNTIF((Q$5:Q$85),MAX(Q$5:Q$85))+COUNTIF((Q$5:Q$85),\"NP\")),Q125))","v":""},null,{"$f":"IF($C125=\"\",\"\",IF(U$4>$N$2,0,IF(ISNA(SMALL($E127:$M127,1)),0,SMALL($E127:$M127,1))))","v":""},{"$f":"IF($C125=\"\",\"\",IF(V$4>$N$2,0,IF(ISNA(SMALL($E127:$M127,2)),0,SMALL($E127:$M127,2))))","v":""},{"$f":"IF($C125=\"\",\"\",IF(W$4>$N$2,0,IF(ISNA(SMALL($E127:$M127,3)),0,SMALL($E127:$M127,3))))","v":""},{"$f":"IF($C125=\"\",\"\",IF(X$4>$N$2,0,IF(ISNA(SMALL($E127:$M127,4)),0,SMALL($E127:$M127,4))))","v":""},{"$f":"IF($C125=\"\",\"\",IF(Y$4>$N$2,0,IF(ISNA(SMALL($E127:$M127,5)),0,SMALL($E127:$M127,5))))","v":""},{"$f":"IF($C125=\"\",\"\",IF(Z$4>$N$2,0,IF(ISNA(SMALL($E127:$M127,6)),0,SMALL($E127:$M127,6))))","v":""},{"$f":"IF($C125=\"\",\"\",IF(AA$4>$N$2,0,IF(ISNA(SMALL($E127:$M127,7)),0,SMALL($E127:$M127,7))))","v":""},{"$f":"IF($C125=\"\",\"\",IF(AB$4>$N$2,0,IF(ISNA(SMALL($E127:$M127,8)),0,SMALL($E127:$M127,8))))","v":""},{"$f":"IF($C125=\"\",\"\",IF(AC$4>$N$2,0,IF(ISNA(SMALL($E127:$M127,9)),0,SMALL($E127:$M127,9))))","v":""}]
[null,null,null,"2. pokus"]
[null,null,null,"čas",{"$f":"IF(OR($C125=\"\",E125=\"\",E126=\"\"),\"\",IF(OR(AND(E125=\"NP\",E126=\"NP\"),AND(E125=\"DNF\",E126=\"DNF\")),E125,IF(AND(E125=\"NP\",E126=\"DNF\"),E125,IF(AND(E125=\"DNF\",E126=\"NP\"),E126,MIN(E125,E126)))))","v":""},"","","","","","","",""]
[null,{"$f":"Start!B44","v":38},{"$f":"IF(Start!C44=\"\",\"\",Start!C44)","v":""},"1. pokus",null,null,null,null,null,null,null,null,null,{"$f":"IF(C128=\"\",\"\",COUNT(E130:M130))","v":""},{"$f":"IF(C128=\"\",\"\",IF(AND(N128=0,COUNTIF(E130:M130,\"NP\")=0),\"DNF\",IF(N128<N$2,\"NP\",SUM(U128:AC130))))","v":""},null,{"$f":"IF(C128=\"\",\"\",IF(OR(O128=\"NP\",O128=\"DNF\"),Start!$E$5,RANK(O128,O$5:O$136,1)))","v":""},null,{"$f":"IF(D128=\"\",\"\",IF(OR(Q128=\"NP\",Q128=\"DNF\"),IF(Q128=\"NP\",MAX(Q$5:Q$85)+COUNTIF((Q$5:Q$85),MAX(Q$5:Q$85)),MAX(Q$5:Q$85)+COUNTIF((Q$5:Q$85),MAX(Q$5:Q$85))+COUNTIF((Q$5:Q$85),\"NP\")),Q128))","v":""},null,{"$f":"IF($C128=\"\",\"\",IF(U$4>$N$2,0,IF(ISNA(SMALL($E130:$M130,1)),0,SMALL($E130:$M130,1))))","v":""},{"$f":"IF($C128=\"\",\"\",IF(V$4>$N$2,0,IF(ISNA(SMALL($E130:$M130,2)),0,SMALL($E130:$M130,2))))","v":""},{"$f":"IF($C128=\"\",\"\",IF(W$4>$N$2,0,IF(ISNA(SMALL($E130:$M130,3)),0,SMALL($E130:$M130,3))))","v":""},{"$f":"IF($C128=\"\",\"\",IF(X$4>$N$2,0,IF(ISNA(SMALL($E130:$M130,4)),0,SMALL($E130:$M130,4))))","v":""},{"$f":"IF($C128=\"\",\"\",IF(Y$4>$N$2,0,IF(ISNA(SMALL($E130:$M130,5)),0,SMALL($E130:$M130,5))))","v":""},{"$f":"IF($C128=\"\",\"\",IF(Z$4>$N$2,0,IF(ISNA(SMALL($E130:$M130,6)),0,SMALL($E130:$M130,6))))","v":""},{"$f":"IF($C128=\"\",\"\",IF(AA$4>$N$2,0,IF(ISNA(SMALL($E130:$M130,7)),0,SMALL($E130:$M130,7))))","v":""},{"$f":"IF($C128=\"\",\"\",IF(AB$4>$N$2,0,IF(ISNA(SMALL($E130:$M130,8)),0,SMALL($E130:$M130,8))))","v":""},{"$f":"IF($C128=\"\",\"\",IF(AC$4>$N$2,0,IF(ISNA(SMALL($E130:$M130,9)),0,SMALL($E130:$M130,9))))","v":""}]
[null,null,null,"2. pokus"]
[null,null,null,"čas",{"$f":"IF(OR($C128=\"\",E128=\"\",E129=\"\"),\"\",IF(OR(AND(E128=\"NP\",E129=\"NP\"),AND(E128=\"DNF\",E129=\"DNF\")),E128,IF(AND(E128=\"NP\",E129=\"DNF\"),E128,IF(AND(E128=\"DNF\",E129=\"NP\"),E129,MIN(E128,E129)))))","v":""},"","","","","","","",""]
[null,{"$f":"Start!B45","v":39},{"$f":"IF(Start!C45=\"\",\"\",Start!C45)","v":""},"1. pokus",null,null,null,null,null,null,null,null,null,{"$f":"IF(C131=\"\",\"\",COUNT(E133:M133))","v":""},{"$f":"IF(C131=\"\",\"\",IF(AND(N131=0,COUNTIF(E133:M133,\"NP\")=0),\"DNF\",IF(N131<N$2,\"NP\",SUM(U131:AC133))))","v":""},null,{"$f":"IF(C131=\"\",\"\",IF(OR(O131=\"NP\",O131=\"DNF\"),Start!$E$5,RANK(O131,O$5:O$136,1)))","v":""},null,{"$f":"IF(D131=\"\",\"\",IF(OR(Q131=\"NP\",Q131=\"DNF\"),IF(Q131=\"NP\",MAX(Q$5:Q$85)+COUNTIF((Q$5:Q$85),MAX(Q$5:Q$85)),MAX(Q$5:Q$85)+COUNTIF((Q$5:Q$85),MAX(Q$5:Q$85))+COUNTIF((Q$5:Q$85),\"NP\")),Q131))","v":""},null,{"$f":"IF($C131=\"\",\"\",IF(U$4>$N$2,0,IF(ISNA(SMALL($E133:$M133,1)),0,SMALL($E133:$M133,1))))","v":""},{"$f":"IF($C131=\"\",\"\",IF(V$4>$N$2,0,IF(ISNA(SMALL($E133:$M133,2)),0,SMALL($E133:$M133,2))))","v":""},{"$f":"IF($C131=\"\",\"\",IF(W$4>$N$2,0,IF(ISNA(SMALL($E133:$M133,3)),0,SMALL($E133:$M133,3))))","v":""},{"$f":"IF($C131=\"\",\"\",IF(X$4>$N$2,0,IF(ISNA(SMALL($E133:$M133,4)),0,SMALL($E133:$M133,4))))","v":""},{"$f":"IF($C131=\"\",\"\",IF(Y$4>$N$2,0,IF(ISNA(SMALL($E133:$M133,5)),0,SMALL($E133:$M133,5))))","v":""},{"$f":"IF($C131=\"\",\"\",IF(Z$4>$N$2,0,IF(ISNA(SMALL($E133:$M133,6)),0,SMALL($E133:$M133,6))))","v":""},{"$f":"IF($C131=\"\",\"\",IF(AA$4>$N$2,0,IF(ISNA(SMALL($E133:$M133,7)),0,SMALL($E133:$M133,7))))","v":""},{"$f":"IF($C131=\"\",\"\",IF(AB$4>$N$2,0,IF(ISNA(SMALL($E133:$M133,8)),0,SMALL($E133:$M133,8))))","v":""},{"$f":"IF($C131=\"\",\"\",IF(AC$4>$N$2,0,IF(ISNA(SMALL($E133:$M133,9)),0,SMALL($E133:$M133,9))))","v":""}]
[null,null,null,"2. pokus"]
[null,null,null,"čas",{"$f":"IF(OR($C131=\"\",E131=\"\",E132=\"\"),\"\",IF(OR(AND(E131=\"NP\",E132=\"NP\"),AND(E131=\"DNF\",E132=\"DNF\")),E131,IF(AND(E131=\"NP\",E132=\"DNF\"),E131,IF(AND(E131=\"DNF\",E132=\"NP\"),E132,MIN(E131,E132)))))","v":""},"","","","","","","",""]
[null,{"$f":"Start!B46","v":40},{"$f":"IF(Start!C46=\"\",\"\",Start!C46)","v":""},"1. pokus",null,null,null,null,null,null,null,null,null,{"$f":"IF(C134=\"\",\"\",COUNT(E136:M136))","v":""},{"$f":"IF(C134=\"\",\"\",IF(AND(N134=0,COUNTIF(E136:M136,\"NP\")=0),\"DNF\",IF(N134<N$2,\"NP\",SUM(U134:AC136))))","v":""},null,{"$f":"IF(C134=\"\",\"\",IF(OR(O134=\"NP\",O134=\"DNF\"),Start!$E$5,RANK(O134,O$5:O$136,1)))","v":""},null,{"$f":"IF(D134=\"\",\"\",IF(OR(Q134=\"NP\",Q134=\"DNF\"),IF(Q134=\"NP\",MAX(Q$5:Q$85)+COUNTIF((Q$5:Q$85),MAX(Q$5:Q$85)),MAX(Q$5:Q$85)+COUNTIF((Q$5:Q$85),MAX(Q$5:Q$85))+COUNTIF((Q$5:Q$85),\"NP\")),Q134))","v":""},null,{"$f":"IF($C134=\"\",\"\",IF(U$4>$N$2,0,IF(ISNA(SMALL($E136:$M136,1)),0,SMALL($E136:$M136,1))))","v":""},{"$f":"IF($C134=\"\",\"\",IF(V$4>$N$2,0,IF(ISNA(SMALL($E136:$M136,2)),0,SMALL($E136:$M136,2))))","v":""},{"$f":"IF($C134=\"\",\"\",IF(W$4>$N$2,0,IF(ISNA(SMALL($E136:$M136,3)),0,SMALL($E136:$M136,3))))","v":""},{"$f":"IF($C134=\"\",\"\",IF(X$4>$N$2,0,IF(ISNA(SMALL($E136:$M136,4)),0,SMALL($E136:$M136,4))))","v":""},{"$f":"IF($C134=\"\",\"\",IF(Y$4>$N$2,0,IF(ISNA(SMALL($E136:$M136,5)),0,SMALL($E136:$M136,5))))","v":""},{"$f":"IF($C134=\"\",\"\",IF(Z$4>$N$2,0,IF(ISNA(SMALL($E136:$M136,6)),0,SMALL($E136:$M136,6))))","v":""},{"$f":"IF($C134=\"\",\"\",IF(AA$4>$N$2,0,IF(ISNA(SMALL($E136:$M136,7)),0,SMALL($E136:$M136,7))))","v":""},{"$f":"IF($C134=\"\",\"\",IF(AB$4>$N$2,0,IF(ISNA(SMALL($E136:$M136,8)),0,SMALL($E136:$M136,8))))","v":""},{"$f":"IF($C134=\"\",\"\",IF(AC$4>$N$2,0,IF(ISNA(SMALL($E136:$M136,9)),0,SMALL($E136:$M136,9))))","v":""}]
[null,null,null,"2. pokus"]
[null,null,null,"čas",{"$f":"IF(OR($C134=\"\",E134=\"\",E135=\"\"),\"\",IF(OR(AND(E134=\"NP\",E135=\"NP\"),AND(E134=\"DNF\",E135=\"DNF\")),E134,IF(AND(E134=\"NP\",E135=\"DNF\"),E134,IF(AND(E134=\"DNF\",E135=\"NP\"),E135,MIN(E134,E135)))))","v":""},"","","","","","","",""]

{"sheet":"V - S","index":12,"n_rows":44,"n_cols":22,"rows_kept":44,"cut":false,"hidden":false,"merged":[[3,19,3,20],[3,21,3,22],[0,1,0,22],[2,3,2,22],[3,3,3,4],[3,5,3,6],[3,7,3,8],[3,9,3,10],[3,11,3,12],[3,13,3,14],[3,15,3,16],[3,17,3,18]]}
[null,"Věž -  Seznam soutěžících"]
[]
[null,2,{"$f":"Start!$C$5","v":"MUŽI"},"Soutěžící"]
[null,"st.č.","Družstvo",1,null,2,null,3,null,4,null,5,null,6,null,7,null,8,null,9,null,10]
[null,{"$f":"Start!$B7","v":1},{"$f":"IF(Start!$C7=\"\",\"\",Start!$C7)","v":"HZS Jihočeského kraje"},1,"Kusalík Miroslav",2,"Synek Petr",3,"Kadara Josef",4,"Novák Dušan",5,"Svitálek Roman",null,null,7,"Kudláč Lukáš",8,"Slavík Martin"]
[null,{"$f":"Start!$B8","v":2},{"$f":"IF(Start!$C8=\"\",\"\",Start!$C8)","v":"HZS Kraje Vysočina"},11,"Hejl Petr",13,"Ptáček Jindřich",14,"Průža Jiří",16,"Sláma Josef",17,"Špaček Marek",18,"Škapa Miroslav",15,"Řehoř Radim",12,"Kunfürst Michal"]
[null,{"$f":"Start!$B9","v":3},{"$f":"IF(Start!$C9=\"\",\"\",Start!$C9)","v":"HZS Zlínského Kraje"},21,"Hons Lukáš",22,"Fila Vojtěch",23,"Hnízdil Pavel",24,"Traxler Pavel",25,"Slatinský Petr",26,"Stuchlík Martin",27,"Čurda Aleš",30,"Šťastný Libor"]
[null,{"$f":"Start!$B10","v":4},{"$f":"IF(Start!$C10=\"\",\"\",Start!$C10)","v":"HZS správa železnic"},31,"Rajchman Jan",33,"Celta Vojtěch",34,"Ondráček Martin",35,"Schäfer Jiří",36,"Brveník Jan",37,"Barát Michal",38,"Pospíšil Karel",39,"Kaňa Jakub"]
[null,{"$f":"Start!$B11","v":5},{"$f":"IF(Start!$C11=\"\",\"\",Start!$C11)","v":"HZS Libereckého Kraje"},null,null,45,"Štěpanovský Marek",41,"Pařil Jiří",46,"Skurčák František",42,"Pařil Milan",47,"Štumar Michal",44,"Šebesta Pavel"]
[null,{"$f":"Start!$B12","v":6},{"$f":"IF(Start!$C12=\"\",\"\",Start!$C12)","v":"HZS Pardubického Kraje"},51,"Kubát Pavel",53,"Kadlec Jan",54,"Veselý Petr",55,"Drahoš Adam",57,"Tvrdý Zdeněk",58,"Prchal Jan",59,"Stehlík Ondřej"]
[null,{"$f":"Start!$B13","v":7},{"$f":"IF(Start!$C13=\"\",\"\",Start!$C13)","v":"HZS Královohradeckého Kr."},null,null,62,"Kaňa Jindřich",63,"Cejpek Zdeněk",64,"Hušek Dominik",65,"Jiříkovský David",66,"Pokorný Martin",67,"Sarga Aleš"]
[null,{"$f":"Start!$B14","v":8},{"$f":"IF(Start!$C14=\"\",\"\",Start!$C14)","v":"HZS Plzeňského Kraje"},71,"Jocov Jaroslav",72,"Medek Martin",73,"Daněk Lukáš",74,"Kalinič Marek",75,"Kinc Michal",76,"Klíč Miloš",79,"Hlávka Petr",77,"Minařík David"]
[null,{"$f":"Start!$B15","v":9},{"$f":"IF(Start!$C15=\"\",\"\",Start!$C15)","v":"HZSP Deza"},81,"Hofírek Michal",83,"Kubík František",84,"Bílek Martin",85,"Čech Radim",86,"Škaroupka Jiří",87,"Zhoř Jaroslav",88,"Jarůška Marek",89,"Pěnča Josef"]
[null,{"$f":"Start!$B16","v":10},{"$f":"IF(Start!$C16=\"\",\"\",Start!$C16)","v":""},91,"Klíma Petr",92,"Blažek jiří",98,"Podhrázský Petr",99,"Paulík Václav",94,"Ryšavý Vilém",93,"Janko Vladimír",97,"Dvořák Martin"]
[null,{"$f":"Start!$B17","v":11},{"$f":"IF(Start!$C17=\"\",\"\",Start!$C17)","v":""},101,"Novotný Pavel",102,"Šmerek Jakub",103,"Tinka Martin",104,"Šindelka Tomáš",105,"Seehofner Jakub",106,"Antl Vladimír",107,"Šlachta Roman",108,"Podloučka Pavel"]
[null,{"$f":"Start!$B18","v":12},{"$f":"IF(Start!$C18=\"\",\"\",Start!$C18)","v":""},111,"Dvořáček Jan",112,"Kavečka Marek",113,"Pospíšil Jan",114,"Najman Lukáš",116,"Masař Tomáš",117,"Pupík Jan",118,"Jeřábek Martin",119,"Rajci Miroslav"]
[null,{"$f":"Start!$B19","v":13},{"$f":"IF(Start!$C19=\"\",\"\",Start!$C19)","v":""}]
[null,{"$f":"Start!$B20","v":14},{"$f":"IF(Start!$C20=\"\",\"\",Start!$C20)","v":""}]
[null,{"$f":"Start!$B21","v":15},{"$f":"IF(Start!$C21=\"\",\"\",Start!$C21)","v":""}]
[null,{"$f":"Start!$B22","v":16},{"$f":"IF(Start!$C22=\"\",\"\",Start!$C22)","v":""}]
[null,{"$f":"Start!$B23","v":17},{"$f":"IF(Start!$C23=\"\",\"\",Start!$C23)","v":""}]
[null,{"$f":"Start!$B24","v":18},{"$f":"IF(Start!$C24=\"\",\"\",Start!$C24)","v":""}]
[null,{"$f":"Start!$B25","v":19},{"$f":"IF(Start!$C25=\"\",\"\",Start!$C25)","v":""}]
[null,{"$f":"Start!$B26","v":20},{"$f":"IF(Start!$C26=\"\",\"\",Start!$C26)","v":""}]
[null,{"$f":"Start!$B27","v":21},{"$f":"IF(Start!$C27=\"\",\"\",Start!$C27)","v":""}]
[null,{"$f":"Start!$B28","v":22},{"$f":"IF(Start!$C28=\"\",\"\",Start!$C28)","v":""}]
[null,{"$f":"Start!$B29","v":23},{"$f":"IF(Start!$C29=\"\",\"\",Start!$C29)","v":""}]
[null,{"$f":"Start!$B30","v":24},{"$f":"IF(Start!$C30=\"\",\"\",Start!$C30)","v":""}]
[null,{"$f":"Start!$B31","v":25},{"$f":"IF(Start!$C31=\"\",\"\",Start!$C31)","v":""}]
[null,{"$f":"Start!$B32","v":26},{"$f":"IF(Start!$C32=\"\",\"\",Start!$C32)","v":""}]
[null,{"$f":"Start!$B33","v":27},{"$f":"IF(Start!$C33=\"\",\"\",Start!$C33)","v":""}]
[null,{"$f":"Start!$B34","v":28},{"$f":"IF(Start!$C34=\"\",\"\",Start!$C34)","v":""}]
[null,{"$f":"Start!$B35","v":29},{"$f":"IF(Start!$C35=\"\",\"\",Start!$C35)","v":""}]
[null,{"$f":"Start!$B36","v":30},{"$f":"IF(Start!$C36=\"\",\"\",Start!$C36)","v":""}]
[null,{"$f":"Start!$B37","v":31},{"$f":"IF(Start!$C37=\"\",\"\",Start!$C37)","v":""}]
[null,{"$f":"Start!$B38","v":32},{"$f":"IF(Start!$C38=\"\",\"\",Start!$C38)","v":""}]
[null,{"$f":"Start!$B39","v":33},{"$f":"IF(Start!$C39=\"\",\"\",Start!$C39)","v":""}]
[null,{"$f":"Start!$B40","v":34},{"$f":"IF(Start!$C40=\"\",\"\",Start!$C40)","v":""}]
[null,{"$f":"Start!$B41","v":35},{"$f":"IF(Start!$C41=\"\",\"\",Start!$C41)","v":""}]
[null,{"$f":"Start!$B42","v":36},{"$f":"IF(Start!$C42=\"\",\"\",Start!$C42)","v":""}]
[null,{"$f":"Start!$B43","v":37},{"$f":"IF(Start!$C43=\"\",\"\",Start!$C43)","v":""}]
[null,{"$f":"Start!$B44","v":38},{"$f":"IF(Start!$C44=\"\",\"\",Start!$C44)","v":""}]
[null,{"$f":"Start!$B45","v":39},{"$f":"IF(Start!$C45=\"\",\"\",Start!$C45)","v":""}]
[null,{"$f":"Start!$B46","v":40},{"$f":"IF(Start!$C46=\"\",\"\",Start!$C46)","v":""}]

{"sheet":"V - T","index":13,"n_rows":404,"n_cols":15,"rows_kept":404,"cut":false,"hidden":false,"merged":[[0,1,0,14],[2,4,2,7],[2,10,2,13]]}
[null,"Věž - Startovní listina"]
[]
[null,null,{"$f":"Start!$C$5","v":"MUŽI"},null,"I. pokus",null,null,null,null,null,"II. pokus"]
[null,"st.č.","Jméno","Kolektiv",1,2,3,"Čas","dr.",null,1,2,3,"Čas","dr."]
[null,1,"Kusalík Miroslav","ÚO Hodonín",null,null,null,null,"1",null,null,null,null,null,"2"]
[null,11,"Hejl Petr","ÚO Žďár nad Sázavou",null,null,null,null,"2",null,null,null,null,null,"3"]
[null,21,"Hons Lukáš","ÚO Třebíč",null,null,null,null,"3",null,null,null,null,null,"4"]
[null,31,"Rajchman Jan","ÚO Břeclav",null,null,null,null,"4",null,null,null,null,null,"1"]
[null,51,"Kubát Pavel","ÚO Havlíčkův Brod",null,null,null,null,"1",null,null,null,null,null,"2"]
[null,71,"Jocov Jaroslav","ÚO Brno - město",null,null,null,null,"2",null,null,null,null,null,"3"]
[null,81,"Hofírek Michal","ÚO Blansko",null,null,null,null,"3",null,null,null,null,null,"4"]
[null,91,"Klíma Petr","ÚO Pelhřimov",null,null,null,null,"4",null,null,null,null,null,"1"]
[null,101,"Novotný Pavel","ÚO Brno - venkov",null,null,null,null,"1",null,null,null,null,null,"2"]
[null,111,"Dvořáček Jan","ÚO Vyškov",null,null,null,null,"2",null,null,null,null,null,"3"]
[null,2,"Synek Petr","ÚO Hodonín",null,null,null,null,"3",null,null,null,null,null,"4"]
[null,13,"Ptáček Jindřich","ÚO Žďár nad Sázavou",null,null,null,null,"4",null,null,null,null,null,"1"]
[null,22,"Fila Vojtěch","ÚO Třebíč",null,null,null,null,"1",null,null,null,null,null,"2"]
[null,33,"Celta Vojtěch","ÚO Břeclav",null,null,null,null,"2",null,null,null,null,null,"3"]
[null,45,"Štěpanovský Marek","ÚO Jihlava",null,null,null,null,"3",null,null,null,null,null,"4"]
[null,53,"Kadlec Jan","ÚO Havlíčkův Brod",null,null,null,null,"4",null,null,null,null,null,"1"]
[null,62,"Kaňa Jindřich","ÚO Znojmo",null,null,null,null,"1",null,null,null,null,null,"2"]
[null,72,"Medek Martin","ÚO Brno - město",null,null,null,null,"2",null,null,null,null,null,"3"]
[null,83,"Kubík František","ÚO Blansko",null,null,null,null,"3",null,null,null,null,null,"4"]
[null,92,"Blažek jiří","ÚO Pelhřimov",null,null,null,null,"4",null,null,null,null,null,"1"]
[null,102,"Šmerek Jakub","ÚO Brno - venkov",null,null,null,null,"1",null,null,null,null,null,"2"]
[null,112,"Kavečka Marek","ÚO Vyškov",null,null,null,null,"2",null,null,null,null,null,"3"]
[null,3,"Kadara Josef","ÚO Hodonín",null,null,null,null,"3",null,null,null,null,null,"4"]
[null,14,"Průža Jiří","ÚO Žďár nad Sázavou",null,null,null,null,"4",null,null,null,null,null,"1"]
[null,23,"Hnízdil Pavel","ÚO Třebíč",null,null,null,null,"1",null,null,null,null,null,"2"]
[null,34,"Ondráček Martin","ÚO Břeclav",null,null,null,null,"2",null,null,null,null,null,"3"]
[null,41,"Pařil Jiří","ÚO Jihlava",null,null,null,null,"3",null,null,null,null,null,"4"]
[null,54,"Veselý Petr","ÚO Havlíčkův Brod",null,null,null,null,"4",null,null,null,null,null,"1"]
[null,63,"Cejpek Zdeněk","ÚO Znojmo",null,null,null,null,"1",null,null,null,null,null,"2"]
[null,73,"Daněk Lukáš","ÚO Brno - město",null,null,null,null,"2",null,null,null,null,null,"3"]
[null,84,"Bílek Martin","ÚO Blansko",null,null,null,null,"3",null,null,null,null,null,"4"]
[null,98,"Podhrázský Petr","ÚO Pelhřimov",null,null,null,null,"4",null,null,null,null,null,"1"]
[null,103,"Tinka Martin","ÚO Brno - venkov",null,null,null,null,"1",null,null,null,null,null,"2"]
[null,113,"Pospíšil Jan","ÚO Vyškov",null,null,null,null,"2",null,null,null,null,null,"3"]
[null,4,"Novák Dušan","ÚO Hodonín",null,null,null,null,"3",null,null,null,null,null,"4"]
[null,16,"Sláma Josef","ÚO Žďár nad Sázavou",null,null,null,null,"4",null,null,null,null,null,"1"]
[null,24,"Traxler Pavel","ÚO Třebíč",null,null,null,null,"1",null,null,null,null,null,"2"]
[null,35,"Schäfer Jiří","ÚO Břeclav",null,null,null,null,"2",null,null,null,null,null,"3"]
[null,46,"Skurčák František","ÚO Jihlava",null,null,null,null,"3",null,null,null,null,null,"4"]
[null,55,"Drahoš Adam","ÚO Havlíčkův Brod",null,null,null,null,"4",null,null,null,null,null,"1"]
[null,64,"Hušek Dominik","ÚO Znojmo",null,null,null,null,"1",null,null,null,null,null,"2"]
[null,74,"Kalinič Marek","ÚO Brno - město",null,null,null,null,"2",null,null,null,null,null,"3"]
[null,85,"Čech Radim","ÚO Blansko",null,null,null,null,"3",null,null,null,null,null,"4"]
[null,99,"Paulík Václav","ÚO Pelhřimov",null,null,null,null,"4",null,null,null,null,null,"1"]
[null,104,"Šindelka Tomáš","ÚO Brno - venkov",null,null,null,null,"1",null,null,null,null,null,"2"]
[null,114,"Najman Lukáš","ÚO Vyškov",null,null,null,null,"2",null,null,null,null,null,"3"]
[null,5,"Svitálek Roman","ÚO Hodonín",null,null,null,null,"3",null,null,null,null,null,"4"]
[null,17,"Špaček Marek","ÚO Žďár nad Sázavou",null,null,null,null,"4",null,null,null,null,null,"1"]
[null,25,"Slatinský Petr","ÚO Třebíč",null,null,null,null,"1",null,null,null,null,null,"2"]
[null,36,"Brveník Jan","ÚO Břeclav",null,null,null,null,"2",null,null,null,null,null,"3"]
[null,42,"Pařil Milan","ÚO Jihlava",null,null,null,null,"3",null,null,null,null,null,"4"]
[null,57,"Tvrdý Zdeněk","ÚO Havlíčkův Brod",null,null,null,null,"4",null,null,null,null,null,"1"]
[null,65,"Jiříkovský David","ÚO Znojmo",null,null,null,null,"1",null,null,null,null,null,"2"]
[null,75,"Kinc Michal","ÚO Brno - město",null,null,null,null,"2",null,null,null,null,null,"3"]
[null,86,"Škaroupka Jiří","ÚO Blansko",null,null,null,null,"3",null,null,null,null,null,"4"]
[null,94,"Ryšavý Vilém","ÚO Pelhřimov",null,null,null,null,"4",null,null,null,null,null,"1"]
[null,105,"Seehofner Jakub","ÚO Brno - venkov",null,null,null,null,"1",null,null,null,null,null,"2"]
[null,116,"Masař Tomáš","ÚO Vyškov",null,null,null,null,"2",null,null,null,null,null,"3"]
[null,18,"Škapa Miroslav","ÚO Žďár nad Sázavou",null,null,null,null,"3",null,null,null,null,null,"4"]
[null,26,"Stuchlík Martin","ÚO Třebíč",null,null,null,null,"4",null,null,null,null,null,"1"]
[null,37,"Barát Michal","ÚO Břeclav",null,null,null,null,"1",null,null,null,null,null,"2"]
[null,47,"Štumar Michal","ÚO Jihlava",null,null,null,null,"2",null,null,null,null,null,"3"]
[null,58,"Prchal Jan","ÚO Havlíčkův Brod",null,null,null,null,"3",null,null,null,null,null,"4"]
[null,66,"Pokorný Martin","ÚO Znojmo",null,null,null,null,"4",null,null,null,null,null,"1"]
[null,76,"Klíč Miloš","ÚO Brno - město",null,null,null,null,"1",null,null,null,null,null,"2"]
[null,87,"Zhoř Jaroslav","ÚO Blansko",null,null,null,null,"2",null,null,null,null,null,"3"]
[null,93,"Janko Vladimír","ÚO Pelhřimov",null,null,null,null,"3",null,null,null,null,null,"4"]
[null,106,"Antl Vladimír","ÚO Brno - venkov",null,null,null,null,"4",null,null,null,null,null,"1"]
[null,117,"Pupík Jan","ÚO Vyškov",null,null,null,null,"1",null,null,null,null,null,"2"]
[null,7,"Kudláč Lukáš","ÚO Hodonín",null,null,null,null,"2",null,null,null,null,null,"3"]
[null,15,"Řehoř Radim","ÚO Žďár nad Sázavou",null,null,null,null,"3",null,null,null,null,null,"4"]
[null,27,"Čurda Aleš","ÚO Třebíč",null,null,null,null,"4",null,null,null,null,null,"1"]
[null,38,"Pospíšil Karel","ÚO Břeclav",null,null,null,null,"1",null,null,null,null,null,"2"]
[null,44,"Šebesta Pavel","ÚO Jihlava",null,null,null,null,"2",null,null,null,null,null,"3"]
[null,59,"Stehlík Ondřej","ÚO Havlíčkův Brod",null,null,null,null,"3",null,null,null,null,null,"4"]
[null,67,"Sarga Aleš","ÚO Znojmo",null,null,null,null,"4",null,null,null,null,null,"1"]
[null,79,"Hlávka Petr","ÚO Brno - město",null,null,null,null,"1",null,null,null,null,null,"2"]
[null,88,"Jarůška Marek","ÚO Blansko",null,null,null,null,"2",null,null,null,null,null,"3"]
[null,97,"Dvořák Martin","ÚO Pelhřimov",null,null,null,null,"3",null,null,null,null,null,"4"]
[null,107,"Šlachta Roman","ÚO Brno - venkov",null,null,null,null,"4",null,null,null,null,null,"1"]
[null,118,"Jeřábek Martin","ÚO Vyškov",null,null,null,null,"1",null,null,null,null,null,"2"]
[null,8,"Slavík Martin","ÚO Hodonín",null,null,null,null,"2",null,null,null,null,null,"3"]
[null,12,"Kunfürst Michal","ÚO Žďár nad Sázavou",null,null,null,null,"3",null,null,null,null,null,"4"]
[null,30,"Šťastný Libor","ÚO Třebíč",null,null,null,null,"4",null,null,null,null,null,"1"]
[null,39,"Kaňa Jakub","ÚO Břeclav",null,null,null,null,"1",null,null,null,null,null,"2"]
[null,77,"Minařík David","ÚO Brno - město",null,null,null,null,"2",null,null,null,null,null,"3"]
[null,89,"Pěnča Josef","ÚO Blansko",null,null,null,null,"3",null,null,null,null,null,"4"]
[null,108,"Podloučka Pavel","ÚO Brno - venkov",null,null,null,null,"4",null,null,null,null,null,"1"]
[null,119,"Rajci Miroslav","ÚO Vyškov",null,null,null,null,"1",null,null,null,null,null,"2"]
[null,null,null,null,null,null,null,null,"2",null,null,null,null,null,"3"]
[null,null,null,null,null,null,null,null,"3",null,null,null,null,null,"4"]
[null,null,null,null,null,null,null,null,"4",null,null,null,null,null,"1"]
[null,null,null,null,null,null,null,null,"1",null,null,null,null,null,"2"]
[null,null,null,null,null,null,null,null,"2",null,null,null,null,null,"3"]
[null,null,null,null,null,null,null,null,"3",null,null,null,null,null,"4"]
[null,null,null,null,null,null,null,null,"4",null,null,null,null,null,"1"]
[null,null,null,null,null,null,null,null,"1",null,null,null,null,null,"2"]
[null,null,null,null,null,null,null,null,"2",null,null,null,null,null,"3"]
[null,null,null,null,null,null,null,null,"3",null,null,null,null,null,"4"]
[null,null,null,null,null,null,null,null,"4",null,null,null,null,null,"1"]
[null,null,null,null,null,null,null,null,"1",null,null,null,null,null,"2"]
[null,null,null,null,null,null,null,null,"2",null,null,null,null,null,"3"]
[null,null,null,null,null,null,null,null,"3",null,null,null,null,null,"4"]
[null,null,null,null,null,null,null,null,"4",null,null,null,null,null,"1"]
[null,null,null,null,null,null,null,null,"1",null,null,null,null,null,"2"]
[null,null,null,null,null,null,null,null,"2",null,null,null,null,null,"3"]
[null,null,null,null,null,null,null,null,"3",null,null,null,null,null,"4"]
[null,null,null,null,null,null,null,null,"4",null,null,null,null,null,"1"]
[null,null,null,null,null,null,null,null,"1",null,null,null,null,null,"2"]
[null,null,null,null,null,null,null,null,"2",null,null,null,null,null,"3"]
[null,null,null,null,null,null,null,null,"3",null,null,null,null,null,"4"]
[null,null,null,null,null,null,null,null,"4",null,null,null,null,null,"1"]
[null,null,null,null,null,null,null,null,"1",null,null,null,null,null,"2"]
[null,null,null,null,null,null,null,null,"2",null,null,null,null,null,"3"]
[null,null,null,null,null,null,null,null,"3",null,null,null,null,null,"4"]
[null,null,null,null,null,null,null,null,"4",null,null,null,null,null,"1"]
[null,null,null,null,null,null,null,null,"1",null,null,null,null,null,"2"]
[null,null,null,null,null,null,null,null,"2",null,null,null,null,null,"3"]
[null,null,null,null,null,null,null,null,"3",null,null,null,null,null,"4"]
[null,null,null,null,null,null,null,null,"4",null,null,null,null,null,"1"]
[null,null,null,null,null,null,null,null,"1",null,null,null,null,null,"2"]
[null,null,null,null,null,null,null,null,"2",null,null,null,null,null,"3"]
[null,null,null,null,null,null,null,null,"3",null,null,null,null,null,"4"]
[null,null,null,null,null,null,null,null,"4",null,null,null,null,null,"1"]
[null,null,null,null,null,null,null,null,"1",null,null,null,null,null,"2"]
[null,null,null,null,null,null,null,null,"2",null,null,null,null,null,"3"]
[null,null,null,null,null,null,null,null,"3",null,null,null,null,null,"4"]
[null,null,null,null,null,null,null,null,"4",null,null,null,null,null,"1"]
[null,null,null,null,null,null,null,null,"1",null,null,null,null,null,"2"]
[null,null,null,null,null,null,null,null,"2",null,null,null,null,null,"3"]
[null,null,null,null,null,null,null,null,"3",null,null,null,null,null,"4"]
[null,null,null,null,null,null,null,null,"4",null,null,null,null,null,"1"]
[null,null,null,null,null,null,null,null,"1",null,null,null,null,null,"2"]
[null,null,null,null,null,null,null,null,"2",null,null,null,null,null,"3"]
[null,null,null,null,null,null,null,null,"3",null,null,null,null,null,"4"]
[null,null,null,null,null,null,null,null,"4",null,null,null,null,null,"1"]
[null,null,null,null,null,null,null,null,"1",null,null,null,null,null,"2"]
[null,null,null,null,null,null,null,null,"2",null,null,null,null,null,"3"]
[null,null,null,null,null,null,null,null,"3",null,null,null,null,null,"4"]
[null,null,null,null,null,null,null,null,"4",null,null,null,null,null,"1"]
[null,null,null,null,null,null,null,null,"1",null,null,null,null,null,"2"]
[null,null,null,null,null,null,null,null,"2",null,null,null,null,null,"3"]
[null,null,null,null,null,null,null,null,"3",null,null,null,null,null,"4"]
[null,null,null,null,null,null,null,null,"4",null,null,null,null,null,"1"]
[null,null,null,null,null,null,null,null,"1",null,null,null,null,null,"2"]
[null,null,null,null,null,null,null,null,"2",null,null,null,null,null,"3"]
[null,null,null,null,null,null,null,null,"3",null,null,null,null,null,"4"]
[null,null,null,null,null,null,null,null,"4",null,null,null,null,null,"1"]
[null,null,null,null,null,null,null,null,"1",null,null,null,null,null,"2"]
[null,null,null,null,null,null,null,null,"2",null,null,null,null,null,"3"]
[null,null,null,null,null,null,null,null,"3",null,null,null,null,null,"4"]
[null,null,null,null,null,null,null,null,"4",null,null,null,null,null,"1"]
[null,null,null,null,null,null,null,null,"1",null,null,null,null,null,"2"]
[null,null,null,null,null,null,null,null,"2",null,null,null,null,null,"3"]
[null,null,null,null,null,null,null,null,"3",null,null,null,null,null,"4"]
[null,null,null,null,null,null,null,null,"4",null,null,null,null,null,"1"]
[null,null,null,null,null,null,null,null,"1",null,null,null,null,null,"2"]
[null,null,null,null,null,null,null,null,"2",null,null,null,null,null,"3"]
[null,null,null,null,null,null,null,null,"3",null,null,null,null,null,"4"]
[null,null,null,null,null,null,null,null,"4",null,null,null,null,null,"1"]
[null,null,null,null,null,null,null,null,"1",null,null,null,null,null,"2"]
[null,null,null,null,null,null,null,null,"2",null,null,null,null,null,"3"]
[null,null,null,null,null,null,null,null,"3",null,null,null,null,null,"4"]
[null,null,null,null,null,null,null,null,"4",null,null,null,null,null,"1"]
[null,null,null,null,null,null,null,null,"1",null,null,null,null,null,"2"]
[null,null,null,null,null,null,null,null,"2",null,null,null,null,null,"3"]
[null,null,null,null,null,null,null,null,"3",null,null,null,null,null,"4"]
[null,null,null,null,null,null,null,null,"4",null,null,null,null,null,"1"]
[null,null,null,null,null,null,null,null,"1",null,null,null,null,null,"2"]
[null,null,null,null,null,null,null,null,"2",null,null,null,null,null,"3"]
[null,null,null,null,null,null,null,null,"3",null,null,null,null,null,"4"]
[null,null,null,null,null,null,null,null,"4",null,null,null,null,null,"1"]
[null,null,null,null,null,null,null,null,"1",null,null,null,null,null,"2"]
[null,null,null,null,null,null,null,null,"2",null,null,null,null,null,"3"]
[null,null,null,null,null,null,null,null,"3",null,null,null,null,null,"4"]
[null,null,null,null,null,null,null,null,"4",null,null,null,null,null,"1"]
[null,null,null,null,null,null,null,null,"1",null,null,null,null,null,"2"]
[null,null,null,null,null,null,null,null,"2",null,null,null,null,null,"3"]
[null,null,null,null,null,null,null,null,"3",null,null,null,null,null,"4"]
[null,null,null,null,null,null,null,null,"4",null,null,null,null,null,"1"]
[null,null,null,null,null,null,null,null,"1",null,null,null,null,null,"2"]
[null,null,null,null,null,null,null,null,"2",null,null,null,null,null,"3"]
[null,null,null,null,null,null,null,null,"3",null,null,null,null,null,"4"]
[null,null,null,null,null,null,null,null,"4",null,null,null,null,null,"1"]
[null,null,null,null,null,null,null,null,"1",null,null,null,null,null,"2"]
[null,null,null,null,null,null,null,null,"2",null,null,null,null,null,"3"]
[null,null,null,null,null,null,null,null,"3",null,null,null,null,null,"4"]
[null,null,null,null,null,null,null,null,"4",null,null,null,null,null,"1"]
[null,null,null,null,null,null,null,null,"1",null,null,null,null,null,"2"]
[null,null,null,null,null,null,null,null,"2",null,null,null,null,null,"3"]
[null,null,null,null,null,null,null,null,"3",null,null,null,null,null,"4"]
[null,null,null,null,null,null,null,null,"4",null,null,null,null,null,"1"]
[null,null,null,null,null,null,null,null,"1",null,null,null,null,null,"2"]
[null,null,null,null,null,null,null,null,"2",null,null,null,null,null,"3"]
[null,null,null,null,null,null,null,null,"3",null,null,null,null,null,"4"]
[null,null,null,null,null,null,null,null,"4",null,null,null,null,null,"1"]
[null,null,null,null,null,null,null,null,"1",null,null,null,null,null,"2"]
[null,null,null,null,null,null,null,null,"2",null,null,null,null,null,"3"]
[null,null,null,null,null,null,null,null,"3",null,null,null,null,null,"4"]
[null,null,null,null,null,null,null,null,"4",null,null,null,null,null,"1"]
[null,null,null,null,null,null,null,null,"1",null,null,null,null,null,"2"]
[null,null,null,null,null,null,null,null,"2",null,null,null,null,null,"3"]
[null,null,null,null,null,null,null,null,"3",null,null,null,null,null,"4"]
[null,null,null,null,null,null,null,null,"4",null,null,null,null,null,"1"]
[null,null,null,null,null,null,null,null,"1",null,null,null,null,null,"2"]
[null,null,null,null,null,null,null,null,"2",null,null,null,null,null,"3"]
[null,null,null,null,null,null,null,null,"3",null,null,null,null,null,"4"]
[null,null,null,null,null,null,null,null,"4",null,null,null,null,null,"1"]
[null,null,null,null,null,null,null,null,"1",null,null,null,null,null,"2"]
[null,null,null,null,null,null,null,null,"2",null,null,null,null,null,"3"]
[null,null,null,null,null,null,null,null,"3",null,null,null,null,null,"4"]
[null,null,null,null,null,null,null,null,"4",null,null,null,null,null,"1"]
[null,null,null,null,null,null,null,null,"1",null,null,null,null,null,"2"]
[null,null,null,null,null,null,null,null,"2",null,null,null,null,null,"3"]
[null,null,null,null,null,null,null,null,"3",null,null,null,null,null,"4"]
[null,null,null,null,null,null,null,null,"4",null,null,null,null,null,"1"]
[null,null,null,null,null,null,null,null,"1",null,null,null,null,null,"2"]
[null,null,null,null,null,null,null,null,"2",null,null,null,null,null,"3"]
[null,null,null,null,null,null,null,null,"3",null,null,null,null,null,"4"]
[null,null,null,null,null,null,null,null,"4",null,null,null,null,null,"1"]
[null,null,null,null,null,null,null,null,"1",null,null,null,null,null,"2"]
[null,null,null,null,null,null,null,null,"2",null,null,null,null,null,"3"]
[null,null,null,null,null,null,null,null,"3",null,null,null,null,null,"4"]
[null,null,null,null,null,null,null,null,"4",null,null,null,null,null,"1"]
[null,null,null,null,null,null,null,null,"1",null,null,null,null,null,"2"]
[null,null,null,null,null,null,null,null,"2",null,null,null,null,null,"3"]
[null,null,null,null,null,null,null,null,"3",null,null,null,null,null,"4"]
[null,null,null,null,null,null,null,null,"4",null,null,null,null,null,"1"]
[null,null,null,null,null,null,null,null,"1",null,null,null,null,null,"2"]
[null,null,null,null,null,null,null,null,"2",null,null,null,null,null,"3"]
[null,null,null,null,null,null,null,null,"3",null,null,null,null,null,"4"]
[null,null,null,null,null,null,null,null,"4",null,null,null,null,null,"1"]
[null,null,null,null,null,null,null,null,"1",null,null,null,null,null,"2"]
[null,null,null,null,null,null,null,null,"2",null,null,null,null,null,"3"]
[null,null,null,null,null,null,null,null,"3",null,null,null,null,null,"4"]
[null,null,null,null,null,null,null,null,"4",null,null,null,null,null,"1"]
[null,null,null,null,null,null,null,null,"1",null,null,null,null,null,"2"]
[null,null,null,null,null,null,null,null,"2",null,null,null,null,null,"3"]
[null,null,null,null,null,null,null,null,"3",null,null,null,null,null,"4"]
[null,null,null,null,null,null,null,null,"4",null,null,null,null,null,"1"]
[null,null,null,null,null,null,null,null,"1",null,null,null,null,null,"2"]
[null,null,null,null,null,null,null,null,"2",null,null,null,null,null,"3"]
[null,null,null,null,null,null,null,null,"3",null,null,null,null,null,"4"]
[null,null,null,null,null,null,null,null,"4",null,null,null,null,null,"1"]
[null,null,null,null,null,null,null,null,"1",null,null,null,null,null,"2"]
[null,null,null,null,null,null,null,null,"2",null,null,null,null,null,"3"]
[null,null,null,null,null,null,null,null,"3",null,null,null,null,null,"4"]
[null,null,null,null,null,null,null,null,"4",null,null,null,null,null,"1"]
[null,null,null,null,null,null,null,null,"1",null,null,null,null,null,"2"]
[null,null,null,null,null,null,null,null,"2",null,null,null,null,null,"3"]
[null,null,null,null,null,null,null,null,"3",null,null,null,null,null,"4"]
[null,null,null,null,null,null,null,null,"4",null,null,null,null,null,"1"]
[null,null,null,null,null,null,null,null,"1",null,null,null,null,null,"2"]
[null,null,null,null,null,null,null,null,"2",null,null,null,null,null,"3"]
[null,null,null,null,null,null,null,null,"3",null,null,null,null,null,"4"]
[null,null,null,null,null,null,null,null,"4",null,null,null,null,null,"1"]
[null,null,null,null,null,null,null,null,"1",null,null,null,null,null,"2"]
[null,null,null,null,null,null,null,null,"2",null,null,null,null,null,"3"]
[null,null,null,null,null,null,null,null,"3",null,null,null,null,null,"4"]
[null,null,null,null,null,null,null,null,"4",null,null,null,null,null,"1"]
[null,null,null,null,null,null,null,null,"1",null,null,null,null,null,"2"]
[null,null,null,null,null,null,null,null,"2",null,null,null,null,null,"3"]
[null,null,null,null,null,null,null,null,"3",null,null,null,null,null,"4"]
[null,null,null,null,null,null,null,null,"4",null,null,null,null,null,"1"]
[null,null,null,null,null,null,null,null,"1",null,null,null,null,null,"2"]
[null,null,null,null,null,null,null,null,"2",null,null,null,null,null,"3"]
[null,null,null,null,null,null,null,null,"3",null,null,null,null,null,"4"]
[null,null,null,null,null,null,null,null,"4",null,null,null,null,null,"1"]
[null,null,null,null,null,null,null,null,"1",null,null,null,null,null,"2"]
[null,null,null,null,null,null,null,null,"2",null,null,null,null,null,"3"]
[null,null,null,null,null,null,null,null,"3",null,null,null,null,null,"4"]
[null,null,null,null,null,null,null,null,"4",null,null,null,null,null,"1"]
[null,null,null,null,null,null,null,null,"1",null,null,null,null,null,"2"]
[null,null,null,null,null,null,null,null,"2",null,null,null,null,null,"3"]
[null,null,null,null,null,null,null,null,"3",null,null,null,null,null,"4"]
[null,null,null,null,null,null,null,null,"4",null,null,null,null,null,"1"]
[null,null,null,null,null,null,null,null,"1",null,null,null,null,null,"2"]
[null,null,null,null,null,null,null,null,"2",null,null,null,null,null,"3"]
[null,null,null,null,null,null,null,null,"3",null,null,null,null,null,"4"]
[null,null,null,null,null,null,null,null,"4",null,null,null,null,null,"1"]
[null,null,null,null,null,null,null,null,"1",null,null,null,null,null,"2"]
[null,null,null,null,null,null,null,null,"2",null,null,null,null,null,"3"]
[null,null,null,null,null,null,null,null,"3",null,null,null,null,null,"4"]
[null,null,null,null,null,null,null,null,"4",null,null,null,null,null,"1"]
[null,null,null,null,null,null,null,null,"1",null,null,null,null,null,"2"]
[null,null,null,null,null,null,null,null,"2",null,null,null,null,null,"3"]
[null,null,null,null,null,null,null,null,"3",null,null,null,null,null,"4"]
[null,null,null,null,null,null,null,null,"4",null,null,null,null,null,"1"]
[null,null,null,null,null,null,null,null,"1",null,null,null,null,null,"2"]
[null,null,null,null,null,null,null,null,"2",null,null,null,null,null,"3"]
[null,null,null,null,null,null,null,null,"3",null,null,null,null,null,"4"]
[null,null,null,null,null,null,null,null,"4",null,null,null,null,null,"1"]
[null,null,null,null,null,null,null,null,"1",null,null,null,null,null,"2"]
[null,null,null,null,null,null,null,null,"2",null,null,null,null,null,"3"]
[null,null,null,null,null,null,null,null,"3",null,null,null,null,null,"4"]
[null,null,null,null,null,null,null,null,"4",null,null,null,null,null,"1"]
[null,null,null,null,null,null,null,null,"1",null,null,null,null,null,"2"]
[null,null,null,null,null,null,null,null,"2",null,null,null,null,null,"3"]
[null,null,null,null,null,null,null,null,"3",null,null,null,null,null,"4"]
[null,null,null,null,null,null,null,null,"4",null,null,null,null,null,"1"]
[null,null,null,null,null,null,null,null,"1",null,null,null,null,null,"2"]
[null,null,null,null,null,null,null,null,"2",null,null,null,null,null,"3"]
[null,null,null,null,null,null,null,null,"3",null,null,null,null,null,"4"]
[null,null,null,null,null,null,null,null,"4",null,null,null,null,null,"1"]
[null,null,null,null,null,null,null,null,"1",null,null,null,null,null,"2"]
[null,null,null,null,null,null,null,null,"2",null,null,null,null,null,"3"]
[null,null,null,null,null,null,null,null,"3",null,null,null,null,null,"4"]
[null,null,null,null,null,null,null,null,"4",null,null,null,null,null,"1"]
[null,null,null,null,null,null,null,null,"1",null,null,null,null,null,"2"]
[null,null,null,null,null,null,null,null,"2",null,null,null,null,null,"3"]
[null,null,null,null,null,null,null,null,"3",null,null,null,null,null,"4"]
[null,null,null,null,null,null,null,null,"4",null,null,null,null,null,"1"]
[null,null,null,null,null,null,null,null,"1",null,null,null,null,null,"2"]
[null,null,null,null,null,null,null,null,"2",null,null,null,null,null,"3"]
[null,null,null,null,null,null,null,null,"3",null,null,null,null,null,"4"]
[null,null,null,null,null,null,null,null,"4",null,null,null,null,null,"1"]
[null,null,null,null,null,null,null,null,"1",null,null,null,null,null,"2"]
[null,null,null,null,null,null,null,null,"2",null,null,null,null,null,"3"]
[null,null,null,null,null,null,null,null,"3",null,null,null,null,null,"4"]
[null,null,null,null,null,null,null,null,"4",null,null,null,null,null,"1"]
[null,null,null,null,null,null,null,null,"1",null,null,null,null,null,"2"]
[null,null,null,null,null,null,null,null,"2",null,null,null,null,null,"3"]
[null,null,null,null,null,null,null,null,"3",null,null,null,null,null,"4"]
[null,null,null,null,null,null,null,null,"4",null,null,null,null,null,"1"]
[null,null,null,null,null,null,null,null,"1",null,null,null,null,null,"2"]
[null,null,null,null,null,null,null,null,"2",null,null,null,null,null,"3"]
[null,null,null,null,null,null,null,null,"3",null,null,null,null,null,"4"]
[null,null,null,null,null,null,null,null,"4",null,null,null,null,null,"1"]
[null,null,null,null,null,null,null,null,"1",null,null,null,null,null,"2"]
[null,null,null,null,null,null,null,null,"2",null,null,null,null,null,"3"]
[null,null,null,null,null,null,null,null,"3",null,null,null,null,null,"4"]
[null,null,null,null,null,null,null,null,"4",null,null,null,null,null,"1"]
[null,null,null,null,null,null,null,null,"1",null,null,null,null,null,"2"]
[null,null,null,null,null,null,null,null,"2",null,null,null,null,null,"3"]
[null,null,null,null,null,null,null,null,"3",null,null,null,null,null,"4"]
[null,null,null,null,null,null,null,null,"4",null,null,null,null,null,"1"]
[null,null,null,null,null,null,null,null,"1",null,null,null,null,null,"2"]
[null,null,null,null,null,null,null,null,"2",null,null,null,null,null,"3"]
[null,null,null,null,null,null,null,null,"3",null,null,null,null,null,"4"]
[null,null,null,null,null,null,null,null,"4",null,null,null,null,null,"1"]
[null,null,null,null,null,null,null,null,"1",null,null,null,null,null,"2"]
[null,null,null,null,null,null,null,null,"2",null,null,null,null,null,"3"]
[null,null,null,null,null,null,null,null,"3",null,null,null,null,null,"4"]
[null,null,null,null,null,null,null,null,"4",null,null,null,null,null,"1"]
[null,null,null,null,null,null,null,null,"1",null,null,null,null,null,"2"]
[null,null,null,null,null,null,null,null,"2",null,null,null,null,null,"3"]
[null,null,null,null,null,null,null,null,"3",null,null,null,null,null,"4"]
[null,null,null,null,null,null,null,null,"4",null,null,null,null,null,"1"]
[null,null,null,null,null,null,null,null,"1",null,null,null,null,null,"2"]
[null,null,null,null,null,null,null,null,"2",null,null,null,null,null,"3"]
[null,null,null,null,null,null,null,null,"3",null,null,null,null,null,"4"]
[null,null,null,null,null,null,null,null,"4",null,null,null,null,null,"1"]
[null,null,null,null,null,null,null,null,"1",null,null,null,null,null,"2"]
[null,null,null,null,null,null,null,null,"2",null,null,null,null,null,"3"]
[null,null,null,null,null,null,null,null,"3",null,null,null,null,null,"4"]
[null,null,null,null,null,null,null,null,"4",null,null,null,null,null,"1"]
[null,null,null,null,null,null,null,null,"1",null,null,null,null,null,"2"]
[null,null,null,null,null,null,null,null,"2",null,null,null,null,null,"3"]
[null,null,null,null,null,null,null,null,"3",null,null,null,null,null,"4"]
[null,null,null,null,null,null,null,null,"4",null,null,null,null,null,"1"]
[null,null,null,null,null,null,null,null,"1",null,null,null,null,null,"2"]
[null,null,null,null,null,null,null,null,"2",null,null,null,null,null,"3"]
[null,null,null,null,null,null,null,null,"3",null,null,null,null,null,"4"]
[null,null,null,null,null,null,null,null,"4",null,null,null,null,null,"1"]
[null,null,null,null,null,null,null,null,"1",null,null,null,null,null,"2"]
[null,null,null,null,null,null,null,null,"2",null,null,null,null,null,"3"]
[null,null,null,null,null,null,null,null,"3",null,null,null,null,null,"4"]
[null,null,null,null,null,null,null,null,"4",null,null,null,null,null,"1"]
[null,null,null,null,null,null,null,null,"1",null,null,null,null,null,"2"]
[null,null,null,null,null,null,null,null,"2",null,null,null,null,null,"3"]
[null,null,null,null,null,null,null,null,"3",null,null,null,null,null,"4"]
[null,null,null,null,null,null,null,null,"4",null,null,null,null,null,"1"]
[null,null,null,null,null,null,null,null,"1",null,null,null,null,null,"2"]
[null,null,null,null,null,null,null,null,"2",null,null,null,null,null,"3"]
[null,null,null,null,null,null,null,null,"3",null,null,null,null,null,"4"]
[null,null,null,null,null,null,null,null,"4",null,null,null,null,null,"1"]
[null,null,null,null,null,null,null,null,"1",null,null,null,null,null,"2"]
[null,null,null,null,null,null,null,null,"2",null,null,null,null,null,"3"]
[null,null,null,null,null,null,null,null,"3",null,null,null,null,null,"4"]
[null,null,null,null,null,null,null,null,"4",null,null,null,null,null,"1"]
[null,null,null,null,null,null,null,null,"1",null,null,null,null,null,"2"]
[null,null,null,null,null,null,null,null,"2",null,null,null,null,null,"3"]
[null,null,null,null,null,null,null,null,"3",null,null,null,null,null,"4"]
[null,null,null,null,null,null,null,null,"4",null,null,null,null,null,"1"]
[null,null,null,null,null,null,null,null,"1",null,null,null,null,null,"2"]
[null,null,null,null,null,null,null,null,"2",null,null,null,null,null,"3"]
[null,null,null,null,null,null,null,null,"3",null,null,null,null,null,"4"]
[null,null,null,null,null,null,null,null,"4",null,null,null,null,null,"1"]
[null,null,null,null,null,null,null,null,"1",null,null,null,null,null,"2"]
[null,null,null,null,null,null,null,null,"2",null,null,null,null,null,"3"]
[null,null,null,null,null,null,null,null,"3",null,null,null,null,null,"4"]
[null,null,null,null,null,null,null,null,"4",null,null,null,null,null,"1"]
[null,null,null,null,null,null,null,null,"1",null,null,null,null,null,"2"]
[null,null,null,null,null,null,null,null,"2",null,null,null,null,null,"3"]
[null,null,null,null,null,null,null,null,"3",null,null,null,null,null,"4"]
[null,null,null,null,null,null,null,null,"4",null,null,null,null,null,"1"]
[null,null,null,null,null,null,null,null,"1",null,null,null,null,null,"2"]
[null,null,null,null,null,null,null,null,"2",null,null,null,null,null,"3"]
[null,null,null,null,null,null,null,null,"3",null,null,null,null,null,"4"]
[null,null,null,null,null,null,null,null,"4",null,null,null,null,null,"1"]

{"sheet":"V-T","index":14,"n_rows":472,"n_cols":15,"rows_kept":472,"cut":false,"hidden":false,"merged":[[336,1,336,14],[338,2,338,5],[338,6,338,13],[340,4,340,7],[340,10,340,13],[378,1,378,14],[380,2,380,5],[380,6,380,13],[382,4,382,7],[382,10,382,13],[252,1,252,14],[254,2,254,5],[254,6,254,13],[256,4,256,7],[256,10,256,13],[294,1,294,14],[296,2,296,5],[296,6,296,13],[298,4,298,7],[298,10,298,13],[168,1,168,14],[170,2,170,5],[170,6,170,13],[172,4,172,7],[172,10,172,13],[210,1,210,14],[212,2,212,5],[212,6,212,13],[214,4,214,7],[214,10,214,13],[0,1,0,14],[4,4,4,7],[4,10,4,13],[42,1,42,14],[2,2,2,5],[2,6,2,13],[130,4,130,7],[130,10,130,13],[44,2,44,5],[44,6,44,13],[46,4,46,7],[46,10,46,13],[86,6,86,13],[84,1,84,14],[86,2,86,5],[88,4,88,7],[88,10,88,13],[126,1,126,14],[128,2,128,5],[128,6,128,13],[464,2,464,5],[464,6,464,13],[466,4,466,7],[466,10,466,13],[420,1,420,14],[422,2,422,5],[422,6,422,13],[424,4,424,7],[424,10,424,13],[462,1,462,14]]}
[null,"Věž - Startovní listina"]
[]
[null,null,{"$f":"Start!B2","v":"VC ČR v požárním útoku družstev HZS krajů a HZS podniků"},null,null,null,{"$f":"Start!B3","v":"Petrovice 19.9.2019"}]
[]
[null,null,{"$f":"Start!$C$5","v":"MUŽI"},null,"I. pokus",null,null,null,null,null,"II. pokus"]
[null,"st.č.","Jméno","Kolektiv",1,2,3,"Čas","dr.",null,1,2,3,"Čas","dr."]
[null,1,"Kusalík Miroslav","ÚO Hodonín",null,null,null,null,"1",null,null,null,null,null,"2"]
[null,11,"Hejl Petr","ÚO Žďár nad Sázavou",null,null,null,null,"2",null,null,null,null,null,"3"]
[null,21,"Hons Lukáš","ÚO Třebíč",null,null,null,null,"3",null,null,null,null,null,"4"]
[null,31,"Rajchman Jan","ÚO Břeclav",null,null,null,null,"4",null,null,null,null,null,"1"]
[null,51,"Kubát Pavel","ÚO Havlíčkův Brod",null,null,null,null,"1",null,null,null,null,null,"2"]
[null,71,"Jocov Jaroslav","ÚO Brno - město",null,null,null,null,"2",null,null,null,null,null,"3"]
[null,81,"Hofírek Michal","ÚO Blansko",null,null,null,null,"3",null,null,null,null,null,"4"]
[null,91,"Klíma Petr","ÚO Pelhřimov",null,null,null,null,"4",null,null,null,null,null,"1"]
[null,101,"Novotný Pavel","ÚO Brno - venkov",null,null,null,null,"1",null,null,null,null,null,"2"]
[null,111,"Dvořáček Jan","ÚO Vyškov",null,null,null,null,"2",null,null,null,null,null,"3"]
[null,2,"Synek Petr","ÚO Hodonín",null,null,null,null,"3",null,null,null,null,null,"4"]
[null,13,"Ptáček Jindřich","ÚO Žďár nad Sázavou",null,null,null,null,"4",null,null,null,null,null,"1"]
[null,22,"Fila Vojtěch","ÚO Třebíč",null,null,null,null,"1",null,null,null,null,null,"2"]
[null,33,"Celta Vojtěch","ÚO Břeclav",null,null,null,null,"2",null,null,null,null,null,"3"]
[null,45,"Štěpanovský Marek","ÚO Jihlava",null,null,null,null,"3",null,null,null,null,null,"4"]
[null,53,"Kadlec Jan","ÚO Havlíčkův Brod",null,null,null,null,"4",null,null,null,null,null,"1"]
[null,62,"Kaňa Jindřich","ÚO Znojmo",null,null,null,null,"1",null,null,null,null,null,"2"]
[null,72,"Medek Martin","ÚO Brno - město",null,null,null,null,"2",null,null,null,null,null,"3"]
[null,83,"Kubík František","ÚO Blansko",null,null,null,null,"3",null,null,null,null,null,"4"]
[null,92,"Blažek jiří","ÚO Pelhřimov",null,null,null,null,"4",null,null,null,null,null,"1"]
[null,102,"Šmerek Jakub","ÚO Brno - venkov",null,null,null,null,"1",null,null,null,null,null,"2"]
[null,112,"Kavečka Marek","ÚO Vyškov",null,null,null,null,"2",null,null,null,null,null,"3"]
[null,3,"Kadara Josef","ÚO Hodonín",null,null,null,null,"3",null,null,null,null,null,"4"]
[null,14,"Průža Jiří","ÚO Žďár nad Sázavou",null,null,null,null,"4",null,null,null,null,null,"1"]
[null,23,"Hnízdil Pavel","ÚO Třebíč",null,null,null,null,"1",null,null,null,null,null,"2"]
[null,34,"Ondráček Martin","ÚO Břeclav",null,null,null,null,"2",null,null,null,null,null,"3"]
[null,41,"Pařil Jiří","ÚO Jihlava",null,null,null,null,"3",null,null,null,null,null,"4"]
[null,54,"Veselý Petr","ÚO Havlíčkův Brod",null,null,null,null,"4",null,null,null,null,null,"1"]
[null,63,"Cejpek Zdeněk","ÚO Znojmo",null,null,null,null,"1",null,null,null,null,null,"2"]
[null,73,"Daněk Lukáš","ÚO Brno - město",null,null,null,null,"2",null,null,null,null,null,"3"]
[null,84,"Bílek Martin","ÚO Blansko",null,null,null,null,"3",null,null,null,null,null,"4"]
[null,98,"Podhrázský Petr","ÚO Pelhřimov",null,null,null,null,"4",null,null,null,null,null,"1"]
[null,103,"Tinka Martin","ÚO Brno - venkov",null,null,null,null,"1",null,null,null,null,null,"2"]
[null,113,"Pospíšil Jan","ÚO Vyškov",null,null,null,null,"2",null,null,null,null,null,"3"]
[null,4,"Novák Dušan","ÚO Hodonín",null,null,null,null,"3",null,null,null,null,null,"4"]
[null,16,"Sláma Josef","ÚO Žďár nad Sázavou",null,null,null,null,"4",null,null,null,null,null,"1"]
[null,{"$f":"$B$1","v":"Věž - Startovní listina"}]
[]
[null,null,{"$f":"$C$3","v":"VC ČR v požárním útoku družstev HZS krajů a HZS podniků"},null,null,null,{"$f":"$G$3","v":"Petrovice 19.9.2019"}]
[]
[null,null,{"$f":"Start!$C$5","v":"MUŽI"},null,"I. pokus",null,null,null,null,null,"II. pokus"]
[null,"st.č.","Jméno","Kolektiv",1,2,3,"Čas","dr.",null,1,2,3,"Čas","dr."]
[null,24,"Traxler Pavel","ÚO Třebíč",null,null,null,null,"1",null,null,null,null,null,"2"]
[null,35,"Schäfer Jiří","ÚO Břeclav",null,null,null,null,"2",null,null,null,null,null,"3"]
[null,46,"Skurčák František","ÚO Jihlava",null,null,null,null,"3",null,null,null,null,null,"4"]
[null,55,"Drahoš Adam","ÚO Havlíčkův Brod",null,null,null,null,"4",null,null,null,null,null,"1"]
[null,64,"Hušek Dominik","ÚO Znojmo",null,null,null,null,"1",null,null,null,null,null,"2"]
[null,74,"Kalinič Marek","ÚO Brno - město",null,null,null,null,"2",null,null,null,null,null,"3"]
[null,85,"Čech Radim","ÚO Blansko",null,null,null,null,"3",null,null,null,null,null,"4"]
[null,99,"Paulík Václav","ÚO Pelhřimov",null,null,null,null,"4",null,null,null,null,null,"1"]
[null,104,"Šindelka Tomáš","ÚO Brno - venkov",null,null,null,null,"1",null,null,null,null,null,"2"]
[null,114,"Najman Lukáš","ÚO Vyškov",null,null,null,null,"2",null,null,null,null,null,"3"]
[null,5,"Svitálek Roman","ÚO Hodonín",null,null,null,null,"3",null,null,null,null,null,"4"]
[null,17,"Špaček Marek","ÚO Žďár nad Sázavou",null,null,null,null,"4",null,null,null,null,null,"1"]
[null,25,"Slatinský Petr","ÚO Třebíč",null,null,null,null,"1",null,null,null,null,null,"2"]
[null,36,"Brveník Jan","ÚO Břeclav",null,null,null,null,"2",null,null,null,null,null,"3"]
[null,42,"Pařil Milan","ÚO Jihlava",null,null,null,null,"3",null,null,null,null,null,"4"]
[null,57,"Tvrdý Zdeněk","ÚO Havlíčkův Brod",null,null,null,null,"4",null,null,null,null,null,"1"]
[null,65,"Jiříkovský David","ÚO Znojmo",null,null,null,null,"1",null,null,null,null,null,"2"]
[null,75,"Kinc Michal","ÚO Brno - město",null,null,null,null,"2",null,null,null,null,null,"3"]
[null,86,"Škaroupka Jiří","ÚO Blansko",null,null,null,null,"3",null,null,null,null,null,"4"]
[null,94,"Ryšavý Vilém","ÚO Pelhřimov",null,null,null,null,"4",null,null,null,null,null,"1"]
[null,105,"Seehofner Jakub","ÚO Brno - venkov",null,null,null,null,"1",null,null,null,null,null,"2"]
[null,116,"Masař Tomáš","ÚO Vyškov",null,null,null,null,"2",null,null,null,null,null,"3"]
[null,18,"Škapa Miroslav","ÚO Žďár nad Sázavou",null,null,null,null,"3",null,null,null,null,null,"4"]
[null,26,"Stuchlík Martin","ÚO Třebíč",null,null,null,null,"4",null,null,null,null,null,"1"]
[null,37,"Barát Michal","ÚO Břeclav",null,null,null,null,"1",null,null,null,null,null,"2"]
[null,47,"Štumar Michal","ÚO Jihlava",null,null,null,null,"2",null,null,null,null,null,"3"]
[null,58,"Prchal Jan","ÚO Havlíčkův Brod",null,null,null,null,"3",null,null,null,null,null,"4"]
[null,66,"Pokorný Martin","ÚO Znojmo",null,null,null,null,"4",null,null,null,null,null,"1"]
[null,76,"Klíč Miloš","ÚO Brno - město",null,null,null,null,"1",null,null,null,null,null,"2"]
[null,87,"Zhoř Jaroslav","ÚO Blansko",null,null,null,null,"2",null,null,null,null,null,"3"]
[null,93,"Janko Vladimír","ÚO Pelhřimov",null,null,null,null,"3",null,null,null,null,null,"4"]
[null,106,"Antl Vladimír","ÚO Brno - venkov",null,null,null,null,"4",null,null,null,null,null,"1"]
[null,117,"Pupík Jan","ÚO Vyškov",null,null,null,null,"1",null,null,null,null,null,"2"]
[null,7,"Kudláč Lukáš","ÚO Hodonín",null,null,null,null,"2",null,null,null,null,null,"3"]
[null,15,"Řehoř Radim","ÚO Žďár nad Sázavou",null,null,null,null,"3",null,null,null,null,null,"4"]
[null,27,"Čurda Aleš","ÚO Třebíč",null,null,null,null,"4",null,null,null,null,null,"1"]
[null,{"$f":"$B$1","v":"Věž - Startovní listina"}]
[]
[null,null,{"$f":"$C$3","v":"VC ČR v požárním útoku družstev HZS krajů a HZS podniků"},null,null,null,{"$f":"$G$3","v":"Petrovice 19.9.2019"}]
[]
[null,null,{"$f":"Start!$C$5","v":"MUŽI"},null,"I. pokus",null,null,null,null,null,"II. pokus"]
[null,"st.č.","Jméno","Kolektiv",1,2,3,"Čas","dr.",null,1,2,3,"Čas","dr."]
[null,38,"Pospíšil Karel","ÚO Břeclav",null,null,null,null,"1",null,null,null,null,null,"2"]
[null,44,"Šebesta Pavel","ÚO Jihlava",null,null,null,null,"2",null,null,null,null,null,"3"]
[null,59,"Stehlík Ondřej","ÚO Havlíčkův Brod",null,null,null,null,"3",null,null,null,null,null,"4"]
[null,67,"Sarga Aleš","ÚO Znojmo",null,null,null,null,"4",null,null,null,null,null,"1"]
[null,79,"Hlávka Petr","ÚO Brno - město",null,null,null,null,"1",null,null,null,null,null,"2"]
[null,88,"Jarůška Marek","ÚO Blansko",null,null,null,null,"2",null,null,null,null,null,"3"]
[null,97,"Dvořák Martin","ÚO Pelhřimov",null,null,null,null,"3",null,null,null,null,null,"4"]
[null,107,"Šlachta Roman","ÚO Brno - venkov",null,null,null,null,"4",null,null,null,null,null,"1"]
[null,118,"Jeřábek Martin","ÚO Vyškov",null,null,null,null,"1",null,null,null,null,null,"2"]
[null,8,"Slavík Martin","ÚO Hodonín",null,null,null,null,"2",null,null,null,null,null,"3"]
[null,12,"Kunfürst Michal","ÚO Žďár nad Sázavou",null,null,null,null,"3",null,null,null,null,null,"4"]
[null,30,"Šťastný Libor","ÚO Třebíč",null,null,null,null,"4",null,null,null,null,null,"1"]
[null,39,"Kaňa Jakub","ÚO Břeclav",null,null,null,null,"1",null,null,null,null,null,"2"]
[null,77,"Minařík David","ÚO Brno - město",null,null,null,null,"2",null,null,null,null,null,"3"]
[null,89,"Pěnča Josef","ÚO Blansko",null,null,null,null,"3",null,null,null,null,null,"4"]
[null,108,"Podloučka Pavel","ÚO Brno - venkov",null,null,null,null,"4",null,null,null,null,null,"1"]
[null,119,"Rajci Miroslav","ÚO Vyškov",null,null,null,null,"1",null,null,null,null,null,"2"]
[null,null,null,null,null,null,null,null,"2",null,null,null,null,null,"3"]
[null,null,null,null,null,null,null,null,"3",null,null,null,null,null,"4"]
[null,null,null,null,null,null,null,null,"4",null,null,null,null,null,"1"]
[null,null,null,null,null,null,null,null,"1",null,null,null,null,null,"2"]
[null,null,null,null,null,null,null,null,"2",null,null,null,null,null,"3"]
[null,null,null,null,null,null,null,null,"3",null,null,null,null,null,"4"]
[null,null,null,null,null,null,null,null,"4",null,null,null,null,null,"1"]
[null,null,null,null,null,null,null,null,"1",null,null,null,null,null,"2"]
[null,null,null,null,null,null,null,null,"2",null,null,null,null,null,"3"]
[null,null,null,null,null,null,null,null,"3",null,null,null,null,null,"4"]
[null,null,null,null,null,null,null,null,"4",null,null,null,null,null,"1"]
[null,null,null,null,null,null,null,null,"1",null,null,null,null,null,"2"]
[null,null,null,null,null,null,null,null,"2",null,null,null,null,null,"3"]
[null,null,null,null,null,null,null,null,"3",null,null,null,null,null,"4"]
[null,null,null,null,null,null,null,null,"4",null,null,null,null,null,"1"]
[null,null,null,null,null,null,null,null,"1",null,null,null,null,null,"2"]
[null,null,null,null,null,null,null,null,"2",null,null,null,null,null,"3"]
[null,null,null,null,null,null,null,null,"3",null,null,null,null,null,"4"]
[null,null,null,null,null,null,null,null,"4",null,null,null,null,null,"1"]
[null,{"$f":"$B$1","v":"Věž - Startovní listina"}]
[]
[null,null,{"$f":"$C$3","v":"VC ČR v požárním útoku družstev HZS krajů a HZS podniků"},null,null,null,{"$f":"$G$3","v":"Petrovice 19.9.2019"}]
[]
[null,null,{"$f":"Start!$C$5","v":"MUŽI"},null,"I. pokus",null,null,null,null,null,"II. pokus"]
[null,"st.č.","Jméno","Kolektiv",1,2,3,"Čas","dr.",null,1,2,3,"Čas","dr."]
[null,null,null,null,null,null,null,null,"1",null,null,null,null,null,"2"]
[null,null,null,null,null,null,null,null,"2",null,null,null,null,null,"3"]
[null,null,null,null,null,null,null,null,"3",null,null,null,null,null,"4"]
[null,null,null,null,null,null,null,null,"4",null,null,null,null,null,"1"]
[null,null,null,null,null,null,null,null,"1",null,null,null,null,null,"2"]
[null,null,null,null,null,null,null,null,"2",null,null,null,null,null,"3"]
[null,null,null,null,null,null,null,null,"3",null,null,null,null,null,"4"]
[null,null,null,null,null,null,null,null,"4",null,null,null,null,null,"1"]
[null,null,null,null,null,null,null,null,"1",null,null,null,null,null,"2"]
[null,null,null,null,null,null,null,null,"2",null,null,null,null,null,"3"]
[null,null,null,null,null,null,null,null,"3",null,null,null,null,null,"4"]
[null,null,null,null,null,null,null,null,"4",null,null,null,null,null,"1"]
[null,null,null,null,null,null,null,null,"1",null,null,null,null,null,"2"]
[null,null,null,null,null,null,null,null,"2",null,null,null,null,null,"3"]
[null,null,null,null,null,null,null,null,"3",null,null,null,null,null,"4"]
[null,null,null,null,null,null,null,null,"4",null,null,null,null,null,"1"]
[null,null,null,null,null,null,null,null,"1",null,null,null,null,null,"2"]
[null,null,null,null,null,null,null,null,"2",null,null,null,null,null,"3"]
[null,null,null,null,null,null,null,null,"3",null,null,null,null,null,"4"]
[null,null,null,null,null,null,null,null,"4",null,null,null,null,null,"1"]
[null,null,null,null,null,null,null,null,"1",null,null,null,null,null,"2"]
[null,null,null,null,null,null,null,null,"2",null,null,null,null,null,"3"]
[null,null,null,null,null,null,null,null,"3",null,null,null,null,null,"4"]
[null,null,null,null,null,null,null,null,"4",null,null,null,null,null,"1"]
[null,null,null,null,null,null,null,null,"1",null,null,null,null,null,"2"]
[null,null,null,null,null,null,null,null,"2",null,null,null,null,null,"3"]
[null,null,null,null,null,null,null,null,"3",null,null,null,null,null,"4"]
[null,null,null,null,null,null,null,null,"4",null,null,null,null,null,"1"]
[null,null,null,null,null,null,null,null,"1",null,null,null,null,null,"2"]
[null,null,null,null,null,null,null,null,"2",null,null,null,null,null,"3"]
[null,null,null,null,null,null,null,null,"3",null,null,null,null,null,"4"]
[null,null,null,null,null,null,null,null,"4",null,null,null,null,null,"1"]
[null,null,null,null,null,null,null,null,"1",null,null,null,null,null,"2"]
[null,null,null,null,null,null,null,null,"2",null,null,null,null,null,"3"]
[null,null,null,null,null,null,null,null,"3",null,null,null,null,null,"4"]
[null,null,null,null,null,null,null,null,"4",null,null,null,null,null,"1"]
[null,{"$f":"$B$1","v":"Věž - Startovní listina"}]
[]
[null,null,{"$f":"$C$3","v":"VC ČR v požárním útoku družstev HZS krajů a HZS podniků"},null,null,null,{"$f":"$G$3","v":"Petrovice 19.9.2019"}]
[]
[null,null,{"$f":"Start!$C$5","v":"MUŽI"},null,"I. pokus",null,null,null,null,null,"II. pokus"]
[null,"st.č.","Jméno","Kolektiv",1,2,3,"Čas","dr.",null,1,2,3,"Čas","dr."]
[null,null,null,null,null,null,null,null,"1",null,null,null,null,null,"2"]
[null,null,null,null,null,null,null,null,"2",null,null,null,null,null,"3"]
[null,null,null,null,null,null,null,null,"3",null,null,null,null,null,"4"]
[null,null,null,null,null,null,null,null,"4",null,null,null,null,null,"1"]
[null,null,null,null,null,null,null,null,"1",null,null,null,null,null,"2"]
[null,null,null,null,null,null,null,null,"2",null,null,null,null,null,"3"]
[null,null,null,null,null,null,null,null,"3",null,null,null,null,null,"4"]
[null,null,null,null,null,null,null,null,"4",null,null,null,null,null,"1"]
[null,null,null,null,null,null,null,null,"1",null,null,null,null,null,"2"]
[null,null,null,null,null,null,null,null,"2",null,null,null,null,null,"3"]
[null,null,null,null,null,null,null,null,"3",null,null,null,null,null,"4"]
[null,null,null,null,null,null,null,null,"4",null,null,null,null,null,"1"]
[null,null,null,null,null,null,null,null,"1",null,null,null,null,null,"2"]
[null,null,null,null,null,null,null,null,"2",null,null,null,null,null,"3"]
[null,null,null,null,null,null,null,null,"3",null,null,null,null,null,"4"]
[null,null,null,null,null,null,null,null,"4",null,null,null,null,null,"1"]
[null,null,null,null,null,null,null,null,"1",null,null,null,null,null,"2"]
[null,null,null,null,null,null,null,null,"2",null,null,null,null,null,"3"]
[null,null,null,null,null,null,null,null,"3",null,null,null,null,null,"4"]
[null,null,null,null,null,null,null,null,"4",null,null,null,null,null,"1"]
[null,null,null,null,null,null,null,null,"1",null,null,null,null,null,"2"]
[null,null,null,null,null,null,null,null,"2",null,null,null,null,null,"3"]
[null,null,null,null,null,null,null,null,"3",null,null,null,null,null,"4"]
[null,null,null,null,null,null,null,null,"4",null,null,null,null,null,"1"]
[null,null,null,null,null,null,null,null,"1",null,null,null,null,null,"2"]
[null,null,null,null,null,null,null,null,"2",null,null,null,null,null,"3"]
[null,null,null,null,null,null,null,null,"3",null,null,null,null,null,"4"]
[null,null,null,null,null,null,null,null,"4",null,null,null,null,null,"1"]
[null,null,null,null,null,null,null,null,"1",null,null,null,null,null,"2"]
[null,null,null,null,null,null,null,null,"2",null,null,null,null,null,"3"]
[null,null,null,null,null,null,null,null,"3",null,null,null,null,null,"4"]
[null,null,null,null,null,null,null,null,"4",null,null,null,null,null,"1"]
[null,null,null,null,null,null,null,null,"1",null,null,null,null,null,"2"]
[null,null,null,null,null,null,null,null,"2",null,null,null,null,null,"3"]
[null,null,null,null,null,null,null,null,"3",null,null,null,null,null,"4"]
[null,null,null,null,null,null,null,null,"4",null,null,null,null,null,"1"]
[null,{"$f":"$B$1","v":"Věž - Startovní listina"}]
[]
[null,null,{"$f":"$C$3","v":"VC ČR v požárním útoku družstev HZS krajů a HZS podniků"},null,null,null,{"$f":"$G$3","v":"Petrovice 19.9.2019"}]
[]
[null,null,{"$f":"Start!$C$5","v":"MUŽI"},null,"I. pokus",null,null,null,null,null,"II. pokus"]
[null,"st.č.","Jméno","Kolektiv",1,2,3,"Čas","dr.",null,1,2,3,"Čas","dr."]
[null,null,null,null,null,null,null,null,"1",null,null,null,null,null,"2"]
[null,null,null,null,null,null,null,null,"2",null,null,null,null,null,"3"]
[null,null,null,null,null,null,null,null,"3",null,null,null,null,null,"4"]
[null,null,null,null,null,null,null,null,"4",null,null,null,null,null,"1"]
[null,null,null,null,null,null,null,null,"1",null,null,null,null,null,"2"]
[null,null,null,null,null,null,null,null,"2",null,null,null,null,null,"3"]
[null,null,null,null,null,null,null,null,"3",null,null,null,null,null,"4"]
[null,null,null,null,null,null,null,null,"4",null,null,null,null,null,"1"]
[null,null,null,null,null,null,null,null,"1",null,null,null,null,null,"2"]
[null,null,null,null,null,null,null,null,"2",null,null,null,null,null,"3"]
[null,null,null,null,null,null,null,null,"3",null,null,null,null,null,"4"]
[null,null,null,null,null,null,null,null,"4",null,null,null,null,null,"1"]
[null,null,null,null,null,null,null,null,"1",null,null,null,null,null,"2"]
[null,null,null,null,null,null,null,null,"2",null,null,null,null,null,"3"]
[null,null,null,null,null,null,null,null,"3",null,null,null,null,null,"4"]
[null,null,null,null,null,null,null,null,"4",null,null,null,null,null,"1"]
[null,null,null,null,null,null,null,null,"1",null,null,null,null,null,"2"]
[null,null,null,null,null,null,null,null,"2",null,null,null,null,null,"3"]
[null,null,null,null,null,null,null,null,"3",null,null,null,null,null,"4"]
[null,null,null,null,null,null,null,null,"4",null,null,null,null,null,"1"]
[null,null,null,null,null,null,null,null,"1",null,null,null,null,null,"2"]
[null,null,null,null,null,null,null,null,"2",null,null,null,null,null,"3"]
[null,null,null,null,null,null,null,null,"3",null,null,null,null,null,"4"]
[null,null,null,null,null,null,null,null,"4",null,null,null,null,null,"1"]
[null,null,null,null,null,null,null,null,"1",null,null,null,null,null,"2"]
[null,null,null,null,null,null,null,null,"2",null,null,null,null,null,"3"]
[null,null,null,null,null,null,null,null,"3",null,null,null,null,null,"4"]
[null,null,null,null,null,null,null,null,"4",null,null,null,null,null,"1"]
[null,null,null,null,null,null,null,null,"1",null,null,null,null,null,"2"]
[null,null,null,null,null,null,null,null,"2",null,null,null,null,null,"3"]
[null,null,null,null,null,null,null,null,"3",null,null,null,null,null,"4"]
[null,null,null,null,null,null,null,null,"4",null,null,null,null,null,"1"]
[null,null,null,null,null,null,null,null,"1",null,null,null,null,null,"2"]
[null,null,null,null,null,null,null,null,"2",null,null,null,null,null,"3"]
[null,null,null,null,null,null,null,null,"3",null,null,null,null,null,"4"]
[null,null,null,null,null,null,null,null,"4",null,null,null,null,null,"1"]
[null,{"$f":"$B$1","v":"Věž - Startovní listina"}]
[]
[null,null,{"$f":"$C$3","v":"VC ČR v požárním útoku družstev HZS krajů a HZS podniků"},null,null,null,{"$f":"$G$3","v":"Petrovice 19.9.2019"}]
[]
[null,null,{"$f":"Start!$C$5","v":"MUŽI"},null,"I. pokus",null,null,null,null,null,"II. pokus"]
[null,"st.č.","Jméno","Kolektiv",1,2,3,"Čas","dr.",null,1,2,3,"Čas","dr."]
[null,null,null,null,null,null,null,null,"1",null,null,null,null,null,"2"]
[null,null,null,null,null,null,null,null,"2",null,null,null,null,null,"3"]
[null,null,null,null,null,null,null,null,"3",null,null,null,null,null,"4"]
[null,null,null,null,null,null,null,null,"4",null,null,null,null,null,"1"]
[null,null,null,null,null,null,null,null,"1",null,null,null,null,null,"2"]
[null,null,null,null,null,null,null,null,"2",null,null,null,null,null,"3"]
[null,null,null,null,null,null,null,null,"3",null,null,null,null,null,"4"]
[null,null,null,null,null,null,null,null,"4",null,null,null,null,null,"1"]
[null,null,null,null,null,null,null,null,"1",null,null,null,null,null,"2"]
[null,null,null,null,null,null,null,null,"2",null,null,null,null,null,"3"]
[null,null,null,null,null,null,null,null,"3",null,null,null,null,null,"4"]
[null,null,null,null,null,null,null,null,"4",null,null,null,null,null,"1"]
[null,null,null,null,null,null,null,null,"1",null,null,null,null,null,"2"]
[null,null,null,null,null,null,null,null,"2",null,null,null,null,null,"3"]
[null,null,null,null,null,null,null,null,"3",null,null,null,null,null,"4"]
[null,null,null,null,null,null,null,null,"4",null,null,null,null,null,"1"]
[null,null,null,null,null,null,null,null,"1",null,null,null,null,null,"2"]
[null,null,null,null,null,null,null,null,"2",null,null,null,null,null,"3"]
[null,null,null,null,null,null,null,null,"3",null,null,null,null,null,"4"]
[null,null,null,null,null,null,null,null,"4",null,null,null,null,null,"1"]
[null,null,null,null,null,null,null,null,"1",null,null,null,null,null,"2"]
[null,null,null,null,null,null,null,null,"2",null,null,null,null,null,"3"]
[null,null,null,null,null,null,null,null,"3",null,null,null,null,null,"4"]
[null,null,null,null,null,null,null,null,"4",null,null,null,null,null,"1"]
[null,null,null,null,null,null,null,null,"1",null,null,null,null,null,"2"]
[null,null,null,null,null,null,null,null,"2",null,null,null,null,null,"3"]
[null,null,null,null,null,null,null,null,"3",null,null,null,null,null,"4"]
[null,null,null,null,null,null,null,null,"4",null,null,null,null,null,"1"]
[null,null,null,null,null,null,null,null,"1",null,null,null,null,null,"2"]
[null,null,null,null,null,null,null,null,"2",null,null,null,null,null,"3"]
[null,null,null,null,null,null,null,null,"3",null,null,null,null,null,"4"]
[null,null,null,null,null,null,null,null,"4",null,null,null,null,null,"1"]
[null,null,null,null,null,null,null,null,"1",null,null,null,null,null,"2"]
[null,null,null,null,null,null,null,null,"2",null,null,null,null,null,"3"]
[null,null,null,null,null,null,null,null,"3",null,null,null,null,null,"4"]
[null,null,null,null,null,null,null,null,"4",null,null,null,null,null,"1"]
[null,{"$f":"$B$1","v":"Věž - Startovní listina"}]
[]
[null,null,{"$f":"$C$3","v":"VC ČR v požárním útoku družstev HZS krajů a HZS podniků"},null,null,null,{"$f":"$G$3","v":"Petrovice 19.9.2019"}]
[]
[null,null,{"$f":"Start!$C$5","v":"MUŽI"},null,"I. pokus",null,null,null,null,null,"II. pokus"]
[null,"st.č.","Jméno","Kolektiv",1,2,3,"Čas","dr.",null,1,2,3,"Čas","dr."]
[null,null,null,null,null,null,null,null,"1",null,null,null,null,null,"2"]
[null,null,null,null,null,null,null,null,"2",null,null,null,null,null,"3"]
[null,null,null,null,null,null,null,null,"3",null,null,null,null,null,"4"]
[null,null,null,null,null,null,null,null,"4",null,null,null,null,null,"1"]
[null,null,null,null,null,null,null,null,"1",null,null,null,null,null,"2"]
[null,null,null,null,null,null,null,null,"2",null,null,null,null,null,"3"]
[null,null,null,null,null,null,null,null,"3",null,null,null,null,null,"4"]
[null,null,null,null,null,null,null,null,"4",null,null,null,null,null,"1"]
[null,null,null,null,null,null,null,null,"1",null,null,null,null,null,"2"]
[null,null,null,null,null,null,null,null,"2",null,null,null,null,null,"3"]
[null,null,null,null,null,null,null,null,"3",null,null,null,null,null,"4"]
[null,null,null,null,null,null,null,null,"4",null,null,null,null,null,"1"]
[null,null,null,null,null,null,null,null,"1",null,null,null,null,null,"2"]
[null,null,null,null,null,null,null,null,"2",null,null,null,null,null,"3"]
[null,null,null,null,null,null,null,null,"3",null,null,null,null,null,"4"]
[null,null,null,null,null,null,null,null,"4",null,null,null,null,null,"1"]
[null,null,null,null,null,null,null,null,"1",null,null,null,null,null,"2"]
[null,null,null,null,null,null,null,null,"2",null,null,null,null,null,"3"]
[null,null,null,null,null,null,null,null,"3",null,null,null,null,null,"4"]
[null,null,null,null,null,null,null,null,"4",null,null,null,null,null,"1"]
[null,null,null,null,null,null,null,null,"1",null,null,null,null,null,"2"]
[null,null,null,null,null,null,null,null,"2",null,null,null,null,null,"3"]
[null,null,null,null,null,null,null,null,"3",null,null,null,null,null,"4"]
[null,null,null,null,null,null,null,null,"4",null,null,null,null,null,"1"]
[null,null,null,null,null,null,null,null,"1",null,null,null,null,null,"2"]
[null,null,null,null,null,null,null,null,"2",null,null,null,null,null,"3"]
[null,null,null,null,null,null,null,null,"3",null,null,null,null,null,"4"]
[null,null,null,null,null,null,null,null,"4",null,null,null,null,null,"1"]
[null,null,null,null,null,null,null,null,"1",null,null,null,null,null,"2"]
[null,null,null,null,null,null,null,null,"2",null,null,null,null,null,"3"]
[null,null,null,null,null,null,null,null,"3",null,null,null,null,null,"4"]
[null,null,null,null,null,null,null,null,"4",null,null,null,null,null,"1"]
[null,null,null,null,null,null,null,null,"1",null,null,null,null,null,"2"]
[null,null,null,null,null,null,null,null,"2",null,null,null,null,null,"3"]
[null,null,null,null,null,null,null,null,"3",null,null,null,null,null,"4"]
[null,null,null,null,null,null,null,null,"4",null,null,null,null,null,"1"]
[null,{"$f":"$B$1","v":"Věž - Startovní listina"}]
[]
[null,null,{"$f":"$C$3","v":"VC ČR v požárním útoku družstev HZS krajů a HZS podniků"},null,null,null,{"$f":"$G$3","v":"Petrovice 19.9.2019"}]
[]
[null,null,{"$f":"Start!$C$5","v":"MUŽI"},null,"I. pokus",null,null,null,null,null,"II. pokus"]
[null,"st.č.","Jméno","Kolektiv",1,2,3,"Čas","dr.",null,1,2,3,"Čas","dr."]
[null,null,null,null,null,null,null,null,"1",null,null,null,null,null,"2"]
[null,null,null,null,null,null,null,null,"2",null,null,null,null,null,"3"]
[null,null,null,null,null,null,null,null,"3",null,null,null,null,null,"4"]
[null,null,null,null,null,null,null,null,"4",null,null,null,null,null,"1"]
[null,null,null,null,null,null,null,null,"1",null,null,null,null,null,"2"]
[null,null,null,null,null,null,null,null,"2",null,null,null,null,null,"3"]
[null,null,null,null,null,null,null,null,"3",null,null,null,null,null,"4"]
[null,null,null,null,null,null,null,null,"4",null,null,null,null,null,"1"]
[null,null,null,null,null,null,null,null,"1",null,null,null,null,null,"2"]
[null,null,null,null,null,null,null,null,"2",null,null,null,null,null,"3"]
[null,null,null,null,null,null,null,null,"3",null,null,null,null,null,"4"]
[null,null,null,null,null,null,null,null,"4",null,null,null,null,null,"1"]
[null,null,null,null,null,null,null,null,"1",null,null,null,null,null,"2"]
[null,null,null,null,null,null,null,null,"2",null,null,null,null,null,"3"]
[null,null,null,null,null,null,null,null,"3",null,null,null,null,null,"4"]
[null,null,null,null,null,null,null,null,"4",null,null,null,null,null,"1"]
[null,null,null,null,null,null,null,null,"1",null,null,null,null,null,"2"]
[null,null,null,null,null,null,null,null,"2",null,null,null,null,null,"3"]
[null,null,null,null,null,null,null,null,"3",null,null,null,null,null,"4"]
[null,null,null,null,null,null,null,null,"4",null,null,null,null,null,"1"]
[null,null,null,null,null,null,null,null,"1",null,null,null,null,null,"2"]
[null,null,null,null,null,null,null,null,"2",null,null,null,null,null,"3"]
[null,null,null,null,null,null,null,null,"3",null,null,null,null,null,"4"]
[null,null,null,null,null,null,null,null,"4",null,null,null,null,null,"1"]
[null,null,null,null,null,null,null,null,"1",null,null,null,null,null,"2"]
[null,null,null,null,null,null,null,null,"2",null,null,null,null,null,"3"]
[null,null,null,null,null,null,null,null,"3",null,null,null,null,null,"4"]
[null,null,null,null,null,null,null,null,"4",null,null,null,null,null,"1"]
[null,null,null,null,null,null,null,null,"1",null,null,null,null,null,"2"]
[null,null,null,null,null,null,null,null,"2",null,null,null,null,null,"3"]
[null,null,null,null,null,null,null,null,"3",null,null,null,null,null,"4"]
[null,null,null,null,null,null,null,null,"4",null,null,null,null,null,"1"]
[null,null,null,null,null,null,null,null,"1",null,null,null,null,null,"2"]
[null,null,null,null,null,null,null,null,"2",null,null,null,null,null,"3"]
[null,null,null,null,null,null,null,null,"3",null,null,null,null,null,"4"]
[null,null,null,null,null,null,null,null,"4",null,null,null,null,null,"1"]
[null,{"$f":"$B$1","v":"Věž - Startovní listina"}]
[]
[null,null,{"$f":"$C$3","v":"VC ČR v požárním útoku družstev HZS krajů a HZS podniků"},null,null,null,{"$f":"$G$3","v":"Petrovice 19.9.2019"}]
[]
[null,null,{"$f":"Start!$C$5","v":"MUŽI"},null,"I. pokus",null,null,null,null,null,"II. pokus"]
[null,"st.č.","Jméno","Kolektiv",1,2,3,"Čas","dr.",null,1,2,3,"Čas","dr."]
[null,null,null,null,null,null,null,null,"1",null,null,null,null,null,"2"]
[null,null,null,null,null,null,null,null,"2",null,null,null,null,null,"3"]
[null,null,null,null,null,null,null,null,"3",null,null,null,null,null,"4"]
[null,null,null,null,null,null,null,null,"4",null,null,null,null,null,"1"]
[null,null,null,null,null,null,null,null,"1",null,null,null,null,null,"2"]
[null,null,null,null,null,null,null,null,"2",null,null,null,null,null,"3"]
[null,null,null,null,null,null,null,null,"3",null,null,null,null,null,"4"]
[null,null,null,null,null,null,null,null,"4",null,null,null,null,null,"1"]
[null,null,null,null,null,null,null,null,"1",null,null,null,null,null,"2"]
[null,null,null,null,null,null,null,null,"2",null,null,null,null,null,"3"]
[null,null,null,null,null,null,null,null,"3",null,null,null,null,null,"4"]
[null,null,null,null,null,null,null,null,"4",null,null,null,null,null,"1"]
[null,null,null,null,null,null,null,null,"1",null,null,null,null,null,"2"]
[null,null,null,null,null,null,null,null,"2",null,null,null,null,null,"3"]
[null,null,null,null,null,null,null,null,"3",null,null,null,null,null,"4"]
[null,null,null,null,null,null,null,null,"4",null,null,null,null,null,"1"]
[null,null,null,null,null,null,null,null,"1",null,null,null,null,null,"2"]
[null,null,null,null,null,null,null,null,"2",null,null,null,null,null,"3"]
[null,null,null,null,null,null,null,null,"3",null,null,null,null,null,"4"]
[null,null,null,null,null,null,null,null,"4",null,null,null,null,null,"1"]
[null,null,null,null,null,null,null,null,"1",null,null,null,null,null,"2"]
[null,null,null,null,null,null,null,null,"2",null,null,null,null,null,"3"]
[null,null,null,null,null,null,null,null,"3",null,null,null,null,null,"4"]
[null,null,null,null,null,null,null,null,"4",null,null,null,null,null,"1"]
[null,null,null,null,null,null,null,null,"1",null,null,null,null,null,"2"]
[null,null,null,null,null,null,null,null,"2",null,null,null,null,null,"3"]
[null,null,null,null,null,null,null,null,"3",null,null,null,null,null,"4"]
[null,null,null,null,null,null,null,null,"4",null,null,null,null,null,"1"]
[null,null,null,null,null,null,null,null,"1",null,null,null,null,null,"2"]
[null,null,null,null,null,null,null,null,"2",null,null,null,null,null,"3"]
[null,null,null,null,null,null,null,null,"3",null,null,null,null,null,"4"]
[null,null,null,null,null,null,null,null,"4",null,null,null,null,null,"1"]
[null,null,null,null,null,null,null,null,"1",null,null,null,null,null,"2"]
[null,null,null,null,null,null,null,null,"2",null,null,null,null,null,"3"]
[null,null,null,null,null,null,null,null,"3",null,null,null,null,null,"4"]
[null,null,null,null,null,null,null,null,"4",null,null,null,null,null,"1"]
[null,{"$f":"$B$1","v":"Věž - Startovní listina"}]
[]
[null,null,{"$f":"$C$3","v":"VC ČR v požárním útoku družstev HZS krajů a HZS podniků"},null,null,null,{"$f":"$G$3","v":"Petrovice 19.9.2019"}]
[]
[null,null,{"$f":"Start!$C$5","v":"MUŽI"},null,"I. pokus",null,null,null,null,null,"II. pokus"]
[null,"st.č.","Jméno","Kolektiv",1,2,3,"Čas","dr.",null,1,2,3,"Čas","dr."]
[null,null,null,null,null,null,null,null,"1",null,null,null,null,null,"2"]
[null,null,null,null,null,null,null,null,"2",null,null,null,null,null,"3"]
[null,null,null,null,null,null,null,null,"3",null,null,null,null,null,"4"]
[null,null,null,null,null,null,null,null,"4",null,null,null,null,null,"1"]
[null,null,null,null,null,null,null,null,"1",null,null,null,null,null,"2"]
[null,null,null,null,null,null,null,null,"2",null,null,null,null,null,"3"]
[null,null,null,null,null,null,null,null,"3",null,null,null,null,null,"4"]
[null,null,null,null,null,null,null,null,"4",null,null,null,null,null,"1"]
[null,null,null,null,null,null,null,null,"1",null,null,null,null,null,"2"]
[null,null,null,null,null,null,null,null,"2",null,null,null,null,null,"3"]
[null,null,null,null,null,null,null,null,"3",null,null,null,null,null,"4"]
[null,null,null,null,null,null,null,null,"4",null,null,null,null,null,"1"]
[null,null,null,null,null,null,null,null,"1",null,null,null,null,null,"2"]
[null,null,null,null,null,null,null,null,"2",null,null,null,null,null,"3"]
[null,null,null,null,null,null,null,null,"3",null,null,null,null,null,"4"]
[null,null,null,null,null,null,null,null,"4",null,null,null,null,null,"1"]
[null,null,null,null,null,null,null,null,"1",null,null,null,null,null,"2"]
[null,null,null,null,null,null,null,null,"2",null,null,null,null,null,"3"]
[null,null,null,null,null,null,null,null,"3",null,null,null,null,null,"4"]
[null,null,null,null,null,null,null,null,"4",null,null,null,null,null,"1"]
[null,null,null,null,null,null,null,null,"1",null,null,null,null,null,"2"]
[null,null,null,null,null,null,null,null,"2",null,null,null,null,null,"3"]
[null,null,null,null,null,null,null,null,"3",null,null,null,null,null,"4"]
[null,null,null,null,null,null,null,null,"4",null,null,null,null,null,"1"]
[null,null,null,null,null,null,null,null,"1",null,null,null,null,null,"2"]
[null,null,null,null,null,null,null,null,"2",null,null,null,null,null,"3"]
[null,null,null,null,null,null,null,null,"3",null,null,null,null,null,"4"]
[null,null,null,null,null,null,null,null,"4",null,null,null,null,null,"1"]
[null,null,null,null,null,null,null,null,"1",null,null,null,null,null,"2"]
[null,null,null,null,null,null,null,null,"2",null,null,null,null,null,"3"]
[null,null,null,null,null,null,null,null,"3",null,null,null,null,null,"4"]
[null,null,null,null,null,null,null,null,"4",null,null,null,null,null,"1"]
[null,null,null,null,null,null,null,null,"1",null,null,null,null,null,"2"]
[null,null,null,null,null,null,null,null,"2",null,null,null,null,null,"3"]
[null,null,null,null,null,null,null,null,"3",null,null,null,null,null,"4"]
[null,null,null,null,null,null,null,null,"4",null,null,null,null,null,"1"]
[null,{"$f":"$B$1","v":"Věž - Startovní listina"}]
[]
[null,null,{"$f":"$C$3","v":"VC ČR v požárním útoku družstev HZS krajů a HZS podniků"},null,null,null,{"$f":"$G$3","v":"Petrovice 19.9.2019"}]
[]
[null,null,{"$f":"Start!$C$5","v":"MUŽI"},null,"I. pokus",null,null,null,null,null,"II. pokus"]
[null,"st.č.","Jméno","Kolektiv",1,2,3,"Čas","dr.",null,1,2,3,"Čas","dr."]
[null,null,null,null,null,null,null,null,"1",null,null,null,null,null,"2"]
[null,null,null,null,null,null,null,null,"2",null,null,null,null,null,"3"]
[null,null,null,null,null,null,null,null,"3",null,null,null,null,null,"4"]
[null,null,null,null,null,null,null,null,"4",null,null,null,null,null,"1"]

{"sheet":"V-V","index":15,"n_rows":404,"n_cols":21,"rows_kept":404,"cut":false,"hidden":false,"merged":[[2,4,2,7],[2,9,2,12],[0,1,0,14]]}
[null,"Věž - Zadání výsledků"]
[]
[null,null,{"$f":"Start!$C$5","v":"MUŽI"},null,"I.",null,null,null,null,"II."]
[null,"St.č.","Jméno","kolektiv",1,2,3,"Čas",null,1,2,3,"Čas",null,"C.",null,"P.",null,"B.",null,"X."]
[null,{"$f":"IF(JVez!E1=\"\",\"\",JVez!E1)","v":1},{"$f":"IF(AND(JVez!A1=\"\",JVez!B1<>\"\"),\"\",IF(AND(JVez!A1=\"\",JVez!B1=\"\"),\"\",JVez!A1))","v":"Kusalík Miroslav"},{"$f":"IF(C5=\"\",\"\",JVez!B1)","v":"ÚO Hodonín"},null,null,null,{"$f":"IF($C5=\"\",\"\",IF(OR($E5=\"DNF\",$F5=\"DNF\",$G5=\"DNF\",AND($E5=\"\",$F5=\"\",$G5=\"\")),\"DNF\",IF(OR($E5=\"NP\",$F5=\"NP\",$G5=\"NP\"),\"NP\",IF(ISERROR(MEDIAN($E5:$G5)),\"DNF\",IF(OR($E5=\"X\",$F5=\"X\",$G5=\"X\",$E5=\"\",$F5=\"\",$G5=\"\",$E5=\"x\",$F5=\"x\",$G5=\"x\"),MAX($E5:$G5),MEDIAN($E5:$G5))))))","v":"DNF"},null,null,null,null,{"$f":"IF($C5=\"\",\"\",IF(OR($J5=\"DNF\",$K5=\"DNF\",$L5=\"DNF\",AND($J5=\"\",$K5=\"\",$L5=\"\")),\"DNF\",IF(OR($J5=\"NP\",$K5=\"NP\",$L5=\"NP\"),\"NP\",IF(ISERROR(MEDIAN($J5:$L5)),\"DNF\",IF(OR($J5=\"X\",$K5=\"X\",$L5=\"X\",$J5=\"\",$K5=\"\",$L5=\"\",$J5=\"x\",$K5=\"x\",$L5=\"x\"),MAX($J5:$L5),MEDIAN($J5:$L5))))))","v":"DNF"},null,{"$f":"IF(C5=\"\",\"\",IF(OR(AND(H5=\"NP\",M5=\"NP\"),AND(H5=\"DNF\",M5=\"DNF\")),H5,IF(AND(H5=\"NP\",M5=\"DNF\"),H5,IF(AND(H5=\"DNF\",M5=\"NP\"),M5,MIN(H5,M5)))))","v":"DNF"},null,{"$f":"IF(C5=\"\",\"\",IF(OR(O5=\"NP\",O5=\"DNF\"),O5,RANK(O5,O$5:O$404,1)))","v":"DNF"},null,{"$f":"IF(C5=\"\",\"\",IF(O5=\"NP\",MAX(Q$5:Q$404)+1,IF(O5=\"DNF\",MAX(Q$5:Q$404)+COUNTIF(Q$5:Q$404,\"NP\")+1,RANK(O5,O$5:O$404,1))))","v":1},null,{"$f":"IF($C5=\"\",9000,MAX(H5,M5)+(COUNTIF($H5:$H5,\"NP\")*600)+(COUNTIF($M5:$M5,\"NP\")*600)+(COUNTIF($H5:$H5,\"DNF\")*3600)+(COUNTIF($M5:$M5,\"DNF\")*3600))","v":7200}]
[null,{"$f":"IF(JVez!E2=\"\",\"\",JVez!E2)","v":11},{"$f":"IF(AND(JVez!A2=\"\",JVez!B2<>\"\"),\"\",IF(AND(JVez!A2=\"\",JVez!B2=\"\"),\"\",JVez!A2))","v":"Hejl Petr"},{"$f":"IF(C6=\"\",\"\",JVez!B2)","v":"ÚO Žďár nad Sázavou"},null,null,null,"DNF",null,null,null,null,"DNF",null,"DNF",null,"DNF",null,1,null,7200]
[null,{"$f":"IF(JVez!E3=\"\",\"\",JVez!E3)","v":21},{"$f":"IF(AND(JVez!A3=\"\",JVez!B3<>\"\"),\"\",IF(AND(JVez!A3=\"\",JVez!B3=\"\"),\"\",JVez!A3))","v":"Hons Lukáš"},{"$f":"IF(C7=\"\",\"\",JVez!B3)","v":"ÚO Třebíč"},null,null,null,"DNF",null,null,null,null,"DNF",null,"DNF",null,"DNF",null,1,null,7200]
[null,{"$f":"IF(JVez!E4=\"\",\"\",JVez!E4)","v":31},{"$f":"IF(AND(JVez!A4=\"\",JVez!B4<>\"\"),\"\",IF(AND(JVez!A4=\"\",JVez!B4=\"\"),\"\",JVez!A4))","v":"Rajchman Jan"},{"$f":"IF(C8=\"\",\"\",JVez!B4)","v":"ÚO Břeclav"},null,null,null,"DNF",null,null,null,null,"DNF",null,"DNF",null,"DNF",null,1,null,7200]
[null,{"$f":"IF(JVez!E5=\"\",\"\",JVez!E5)","v":""},{"$f":"IF(AND(JVez!A5=\"\",JVez!B5<>\"\"),\"\",IF(AND(JVez!A5=\"\",JVez!B5=\"\"),\"\",JVez!A5))","v":""},{"$f":"IF(C9=\"\",\"\",JVez!B5)","v":""},null,null,null,"",null,null,null,null,"",null,"",null,"",null,"",null,9000]
[null,{"$f":"IF(JVez!E6=\"\",\"\",JVez!E6)","v":51},{"$f":"IF(AND(JVez!A6=\"\",JVez!B6<>\"\"),\"\",IF(AND(JVez!A6=\"\",JVez!B6=\"\"),\"\",JVez!A6))","v":"Kubát Pavel"},{"$f":"IF(C10=\"\",\"\",JVez!B6)","v":"ÚO Havlíčkův Brod"},null,null,null,"DNF",null,null,null,null,"DNF",null,"DNF",null,"DNF",null,1,null,7200]
[null,{"$f":"IF(JVez!E7=\"\",\"\",JVez!E7)","v":""},{"$f":"IF(AND(JVez!A7=\"\",JVez!B7<>\"\"),\"\",IF(AND(JVez!A7=\"\",JVez!B7=\"\"),\"\",JVez!A7))","v":""},{"$f":"IF(C11=\"\",\"\",JVez!B7)","v":""},null,null,null,"",null,null,null,null,"",null,"",null,"",null,"",null,9000]
[null,{"$f":"IF(JVez!E8=\"\",\"\",JVez!E8)","v":71},{"$f":"IF(AND(JVez!A8=\"\",JVez!B8<>\"\"),\"\",IF(AND(JVez!A8=\"\",JVez!B8=\"\"),\"\",JVez!A8))","v":"Jocov Jaroslav"},{"$f":"IF(C12=\"\",\"\",JVez!B8)","v":"ÚO Brno - město"},null,null,null,"DNF",null,null,null,null,"DNF",null,"DNF",null,"DNF",null,1,null,7200]
[null,{"$f":"IF(JVez!E9=\"\",\"\",JVez!E9)","v":81},{"$f":"IF(AND(JVez!A9=\"\",JVez!B9<>\"\"),\"\",IF(AND(JVez!A9=\"\",JVez!B9=\"\"),\"\",JVez!A9))","v":"Hofírek Michal"},{"$f":"IF(C13=\"\",\"\",JVez!B9)","v":"ÚO Blansko"},null,null,null,"DNF",null,null,null,null,"DNF",null,"DNF",null,"DNF",null,1,null,7200]
[null,{"$f":"IF(JVez!E10=\"\",\"\",JVez!E10)","v":91},{"$f":"IF(AND(JVez!A10=\"\",JVez!B10<>\"\"),\"\",IF(AND(JVez!A10=\"\",JVez!B10=\"\"),\"\",JVez!A10))","v":"Klíma Petr"},{"$f":"IF(C14=\"\",\"\",JVez!B10)","v":"ÚO Pelhřimov"},null,null,null,"DNF",null,null,null,null,"DNF",null,"DNF",null,"DNF",null,1,null,7200]
[null,{"$f":"IF(JVez!E11=\"\",\"\",JVez!E11)","v":101},{"$f":"IF(AND(JVez!A11=\"\",JVez!B11<>\"\"),\"\",IF(AND(JVez!A11=\"\",JVez!B11=\"\"),\"\",JVez!A11))","v":"Novotný Pavel"},{"$f":"IF(C15=\"\",\"\",JVez!B11)","v":"ÚO Brno - venkov"},null,null,null,"DNF",null,null,null,null,"DNF",null,"DNF",null,"DNF",null,1,null,7200]
[null,{"$f":"IF(JVez!E12=\"\",\"\",JVez!E12)","v":111},{"$f":"IF(AND(JVez!A12=\"\",JVez!B12<>\"\"),\"\",IF(AND(JVez!A12=\"\",JVez!B12=\"\"),\"\",JVez!A12))","v":"Dvořáček Jan"},{"$f":"IF(C16=\"\",\"\",JVez!B12)","v":"ÚO Vyškov"},null,null,null,"DNF",null,null,null,null,"DNF",null,"DNF",null,"DNF",null,1,null,7200]
[null,{"$f":"IF(JVez!E13=\"\",\"\",JVez!E13)","v":2},{"$f":"IF(AND(JVez!A13=\"\",JVez!B13<>\"\"),\"\",IF(AND(JVez!A13=\"\",JVez!B13=\"\"),\"\",JVez!A13))","v":"Synek Petr"},{"$f":"IF(C17=\"\",\"\",JVez!B13)","v":"ÚO Hodonín"},null,null,null,"DNF",null,null,null,null,"DNF",null,"DNF",null,"DNF",null,1,null,7200]
[null,{"$f":"IF(JVez!E14=\"\",\"\",JVez!E14)","v":13},{"$f":"IF(AND(JVez!A14=\"\",JVez!B14<>\"\"),\"\",IF(AND(JVez!A14=\"\",JVez!B14=\"\"),\"\",JVez!A14))","v":"Ptáček Jindřich"},{"$f":"IF(C18=\"\",\"\",JVez!B14)","v":"ÚO Žďár nad Sázavou"},null,null,null,"DNF",null,null,null,null,"DNF",null,"DNF",null,"DNF",null,1,null,7200]
[null,{"$f":"IF(JVez!E15=\"\",\"\",JVez!E15)","v":22},{"$f":"IF(AND(JVez!A15=\"\",JVez!B15<>\"\"),\"\",IF(AND(JVez!A15=\"\",JVez!B15=\"\"),\"\",JVez!A15))","v":"Fila Vojtěch"},{"$f":"IF(C19=\"\",\"\",JVez!B15)","v":"ÚO Třebíč"},null,null,null,"DNF",null,null,null,null,"DNF",null,"DNF",null,"DNF",null,1,null,7200]
[null,{"$f":"IF(JVez!E16=\"\",\"\",JVez!E16)","v":33},{"$f":"IF(AND(JVez!A16=\"\",JVez!B16<>\"\"),\"\",IF(AND(JVez!A16=\"\",JVez!B16=\"\"),\"\",JVez!A16))","v":"Celta Vojtěch"},{"$f":"IF(C20=\"\",\"\",JVez!B16)","v":"ÚO Břeclav"},null,null,null,"DNF",null,null,null,null,"DNF",null,"DNF",null,"DNF",null,1,null,7200]
[null,{"$f":"IF(JVez!E17=\"\",\"\",JVez!E17)","v":45},{"$f":"IF(AND(JVez!A17=\"\",JVez!B17<>\"\"),\"\",IF(AND(JVez!A17=\"\",JVez!B17=\"\"),\"\",JVez!A17))","v":"Štěpanovský Marek"},{"$f":"IF(C21=\"\",\"\",JVez!B17)","v":"ÚO Jihlava"},null,null,null,"DNF",null,null,null,null,"DNF",null,"DNF",null,"DNF",null,1,null,7200]
[null,{"$f":"IF(JVez!E18=\"\",\"\",JVez!E18)","v":53},{"$f":"IF(AND(JVez!A18=\"\",JVez!B18<>\"\"),\"\",IF(AND(JVez!A18=\"\",JVez!B18=\"\"),\"\",JVez!A18))","v":"Kadlec Jan"},{"$f":"IF(C22=\"\",\"\",JVez!B18)","v":"ÚO Havlíčkův Brod"},null,null,null,"DNF",null,null,null,null,"DNF",null,"DNF",null,"DNF",null,1,null,7200]
[null,{"$f":"IF(JVez!E19=\"\",\"\",JVez!E19)","v":62},{"$f":"IF(AND(JVez!A19=\"\",JVez!B19<>\"\"),\"\",IF(AND(JVez!A19=\"\",JVez!B19=\"\"),\"\",JVez!A19))","v":"Kaňa Jindřich"},{"$f":"IF(C23=\"\",\"\",JVez!B19)","v":"ÚO Znojmo"},null,null,null,"DNF",null,null,null,null,"DNF",null,"DNF",null,"DNF",null,1,null,7200]
[null,{"$f":"IF(JVez!E20=\"\",\"\",JVez!E20)","v":72},{"$f":"IF(AND(JVez!A20=\"\",JVez!B20<>\"\"),\"\",IF(AND(JVez!A20=\"\",JVez!B20=\"\"),\"\",JVez!A20))","v":"Medek Martin"},{"$f":"IF(C24=\"\",\"\",JVez!B20)","v":"ÚO Brno - město"},null,null,null,"DNF",null,null,null,null,"DNF",null,"DNF",null,"DNF",null,1,null,7200]
[null,{"$f":"IF(JVez!E21=\"\",\"\",JVez!E21)","v":83},{"$f":"IF(AND(JVez!A21=\"\",JVez!B21<>\"\"),\"\",IF(AND(JVez!A21=\"\",JVez!B21=\"\"),\"\",JVez!A21))","v":"Kubík František"},{"$f":"IF(C25=\"\",\"\",JVez!B21)","v":"ÚO Blansko"},null,null,null,"DNF",null,null,null,null,"DNF",null,"DNF",null,"DNF",null,1,null,7200]
[null,{"$f":"IF(JVez!E22=\"\",\"\",JVez!E22)","v":92},{"$f":"IF(AND(JVez!A22=\"\",JVez!B22<>\"\"),\"\",IF(AND(JVez!A22=\"\",JVez!B22=\"\"),\"\",JVez!A22))","v":"Blažek jiří"},{"$f":"IF(C26=\"\",\"\",JVez!B22)","v":"ÚO Pelhřimov"},null,null,null,"DNF",null,null,null,null,"DNF",null,"DNF",null,"DNF",null,1,null,7200]
[null,{"$f":"IF(JVez!E23=\"\",\"\",JVez!E23)","v":102},{"$f":"IF(AND(JVez!A23=\"\",JVez!B23<>\"\"),\"\",IF(AND(JVez!A23=\"\",JVez!B23=\"\"),\"\",JVez!A23))","v":"Šmerek Jakub"},{"$f":"IF(C27=\"\",\"\",JVez!B23)","v":"ÚO Brno - venkov"},null,null,null,"DNF",null,null,null,null,"DNF",null,"DNF",null,"DNF",null,1,null,7200]
[null,{"$f":"IF(JVez!E24=\"\",\"\",JVez!E24)","v":112},{"$f":"IF(AND(JVez!A24=\"\",JVez!B24<>\"\"),\"\",IF(AND(JVez!A24=\"\",JVez!B24=\"\"),\"\",JVez!A24))","v":"Kavečka Marek"},{"$f":"IF(C28=\"\",\"\",JVez!B24)","v":"ÚO Vyškov"},null,null,null,"DNF",null,null,null,null,"DNF",null,"DNF",null,"DNF",null,1,null,7200]
[null,{"$f":"IF(JVez!E25=\"\",\"\",JVez!E25)","v":3},{"$f":"IF(AND(JVez!A25=\"\",JVez!B25<>\"\"),\"\",IF(AND(JVez!A25=\"\",JVez!B25=\"\"),\"\",JVez!A25))","v":"Kadara Josef"},{"$f":"IF(C29=\"\",\"\",JVez!B25)","v":"ÚO Hodonín"},null,null,null,"DNF",null,null,null,null,"DNF",null,"DNF",null,"DNF",null,1,null,7200]
[null,{"$f":"IF(JVez!E26=\"\",\"\",JVez!E26)","v":14},{"$f":"IF(AND(JVez!A26=\"\",JVez!B26<>\"\"),\"\",IF(AND(JVez!A26=\"\",JVez!B26=\"\"),\"\",JVez!A26))","v":"Průža Jiří"},{"$f":"IF(C30=\"\",\"\",JVez!B26)","v":"ÚO Žďár nad Sázavou"},null,null,null,"DNF",null,null,null,null,"DNF",null,"DNF",null,"DNF",null,1,null,7200]
[null,{"$f":"IF(JVez!E27=\"\",\"\",JVez!E27)","v":23},{"$f":"IF(AND(JVez!A27=\"\",JVez!B27<>\"\"),\"\",IF(AND(JVez!A27=\"\",JVez!B27=\"\"),\"\",JVez!A27))","v":"Hnízdil Pavel"},{"$f":"IF(C31=\"\",\"\",JVez!B27)","v":"ÚO Třebíč"},null,null,null,"DNF",null,null,null,null,"DNF",null,"DNF",null,"DNF",null,1,null,7200]
[null,{"$f":"IF(JVez!E28=\"\",\"\",JVez!E28)","v":34},{"$f":"IF(AND(JVez!A28=\"\",JVez!B28<>\"\"),\"\",IF(AND(JVez!A28=\"\",JVez!B28=\"\"),\"\",JVez!A28))","v":"Ondráček Martin"},{"$f":"IF(C32=\"\",\"\",JVez!B28)","v":"ÚO Břeclav"},null,null,null,"DNF",null,null,null,null,"DNF",null,"DNF",null,"DNF",null,1,null,7200]
[null,{"$f":"IF(JVez!E29=\"\",\"\",JVez!E29)","v":41},{"$f":"IF(AND(JVez!A29=\"\",JVez!B29<>\"\"),\"\",IF(AND(JVez!A29=\"\",JVez!B29=\"\"),\"\",JVez!A29))","v":"Pařil Jiří"},{"$f":"IF(C33=\"\",\"\",JVez!B29)","v":"ÚO Jihlava"},null,null,null,"DNF",null,null,null,null,"DNF",null,"DNF",null,"DNF",null,1,null,7200]
[null,{"$f":"IF(JVez!E30=\"\",\"\",JVez!E30)","v":54},{"$f":"IF(AND(JVez!A30=\"\",JVez!B30<>\"\"),\"\",IF(AND(JVez!A30=\"\",JVez!B30=\"\"),\"\",JVez!A30))","v":"Veselý Petr"},{"$f":"IF(C34=\"\",\"\",JVez!B30)","v":"ÚO Havlíčkův Brod"},null,null,null,"DNF",null,null,null,null,"DNF",null,"DNF",null,"DNF",null,1,null,7200]
[null,{"$f":"IF(JVez!E31=\"\",\"\",JVez!E31)","v":63},{"$f":"IF(AND(JVez!A31=\"\",JVez!B31<>\"\"),\"\",IF(AND(JVez!A31=\"\",JVez!B31=\"\"),\"\",JVez!A31))","v":"Cejpek Zdeněk"},{"$f":"IF(C35=\"\",\"\",JVez!B31)","v":"ÚO Znojmo"},null,null,null,"DNF",null,null,null,null,"DNF",null,"DNF",null,"DNF",null,1,null,7200]
[null,{"$f":"IF(JVez!E32=\"\",\"\",JVez!E32)","v":73},{"$f":"IF(AND(JVez!A32=\"\",JVez!B32<>\"\"),\"\",IF(AND(JVez!A32=\"\",JVez!B32=\"\"),\"\",JVez!A32))","v":"Daněk Lukáš"},{"$f":"IF(C36=\"\",\"\",JVez!B32)","v":"ÚO Brno - město"},null,null,null,"DNF",null,null,null,null,"DNF",null,"DNF",null,"DNF",null,1,null,7200]
[null,{"$f":"IF(JVez!E33=\"\",\"\",JVez!E33)","v":84},{"$f":"IF(AND(JVez!A33=\"\",JVez!B33<>\"\"),\"\",IF(AND(JVez!A33=\"\",JVez!B33=\"\"),\"\",JVez!A33))","v":"Bílek Martin"},{"$f":"IF(C37=\"\",\"\",JVez!B33)","v":"ÚO Blansko"},null,null,null,"DNF",null,null,null,null,"DNF",null,"DNF",null,"DNF",null,1,null,7200]
[null,{"$f":"IF(JVez!E34=\"\",\"\",JVez!E34)","v":98},{"$f":"IF(AND(JVez!A34=\"\",JVez!B34<>\"\"),\"\",IF(AND(JVez!A34=\"\",JVez!B34=\"\"),\"\",JVez!A34))","v":"Podhrázský Petr"},{"$f":"IF(C38=\"\",\"\",JVez!B34)","v":"ÚO Pelhřimov"},null,null,null,"DNF",null,null,null,null,"DNF",null,"DNF",null,"DNF",null,1,null,7200]
[null,{"$f":"IF(JVez!E35=\"\",\"\",JVez!E35)","v":103},{"$f":"IF(AND(JVez!A35=\"\",JVez!B35<>\"\"),\"\",IF(AND(JVez!A35=\"\",JVez!B35=\"\"),\"\",JVez!A35))","v":"Tinka Martin"},{"$f":"IF(C39=\"\",\"\",JVez!B35)","v":"ÚO Brno - venkov"},null,null,null,"DNF",null,null,null,null,"DNF",null,"DNF",null,"DNF",null,1,null,7200]
[null,{"$f":"IF(JVez!E36=\"\",\"\",JVez!E36)","v":113},{"$f":"IF(AND(JVez!A36=\"\",JVez!B36<>\"\"),\"\",IF(AND(JVez!A36=\"\",JVez!B36=\"\"),\"\",JVez!A36))","v":"Pospíšil Jan"},{"$f":"IF(C40=\"\",\"\",JVez!B36)","v":"ÚO Vyškov"},null,null,null,"DNF",null,null,null,null,"DNF",null,"DNF",null,"DNF",null,1,null,7200]
[null,{"$f":"IF(JVez!E37=\"\",\"\",JVez!E37)","v":4},{"$f":"IF(AND(JVez!A37=\"\",JVez!B37<>\"\"),\"\",IF(AND(JVez!A37=\"\",JVez!B37=\"\"),\"\",JVez!A37))","v":"Novák Dušan"},{"$f":"IF(C41=\"\",\"\",JVez!B37)","v":"ÚO Hodonín"},null,null,null,"DNF",null,null,null,null,"DNF",null,"DNF",null,"DNF",null,1,null,7200]
[null,{"$f":"IF(JVez!E38=\"\",\"\",JVez!E38)","v":16},{"$f":"IF(AND(JVez!A38=\"\",JVez!B38<>\"\"),\"\",IF(AND(JVez!A38=\"\",JVez!B38=\"\"),\"\",JVez!A38))","v":"Sláma Josef"},{"$f":"IF(C42=\"\",\"\",JVez!B38)","v":"ÚO Žďár nad Sázavou"},null,null,null,"DNF",null,null,null,null,"DNF",null,"DNF",null,"DNF",null,1,null,7200]
[null,{"$f":"IF(JVez!E39=\"\",\"\",JVez!E39)","v":24},{"$f":"IF(AND(JVez!A39=\"\",JVez!B39<>\"\"),\"\",IF(AND(JVez!A39=\"\",JVez!B39=\"\"),\"\",JVez!A39))","v":"Traxler Pavel"},{"$f":"IF(C43=\"\",\"\",JVez!B39)","v":"ÚO Třebíč"},null,null,null,"DNF",null,null,null,null,"DNF",null,"DNF",null,"DNF",null,1,null,7200]
[null,{"$f":"IF(JVez!E40=\"\",\"\",JVez!E40)","v":35},{"$f":"IF(AND(JVez!A40=\"\",JVez!B40<>\"\"),\"\",IF(AND(JVez!A40=\"\",JVez!B40=\"\"),\"\",JVez!A40))","v":"Schäfer Jiří"},{"$f":"IF(C44=\"\",\"\",JVez!B40)","v":"ÚO Břeclav"},null,null,null,"DNF",null,null,null,null,"DNF",null,"DNF",null,"DNF",null,1,null,7200]
[null,{"$f":"IF(JVez!E41=\"\",\"\",JVez!E41)","v":46},{"$f":"IF(AND(JVez!A41=\"\",JVez!B41<>\"\"),\"\",IF(AND(JVez!A41=\"\",JVez!B41=\"\"),\"\",JVez!A41))","v":"Skurčák František"},{"$f":"IF(C45=\"\",\"\",JVez!B41)","v":"ÚO Jihlava"},null,null,null,"DNF",null,null,null,null,"DNF",null,"DNF",null,"DNF",null,1,null,7200]
[null,{"$f":"IF(JVez!E42=\"\",\"\",JVez!E42)","v":55},{"$f":"IF(AND(JVez!A42=\"\",JVez!B42<>\"\"),\"\",IF(AND(JVez!A42=\"\",JVez!B42=\"\"),\"\",JVez!A42))","v":"Drahoš Adam"},{"$f":"IF(C46=\"\",\"\",JVez!B42)","v":"ÚO Havlíčkův Brod"},null,null,null,"DNF",null,null,null,null,"DNF",null,"DNF",null,"DNF",null,1,null,7200]
[null,{"$f":"IF(JVez!E43=\"\",\"\",JVez!E43)","v":64},{"$f":"IF(AND(JVez!A43=\"\",JVez!B43<>\"\"),\"\",IF(AND(JVez!A43=\"\",JVez!B43=\"\"),\"\",JVez!A43))","v":"Hušek Dominik"},{"$f":"IF(C47=\"\",\"\",JVez!B43)","v":"ÚO Znojmo"},null,null,null,"DNF",null,null,null,null,"DNF",null,"DNF",null,"DNF",null,1,null,7200]
[null,{"$f":"IF(JVez!E44=\"\",\"\",JVez!E44)","v":74},{"$f":"IF(AND(JVez!A44=\"\",JVez!B44<>\"\"),\"\",IF(AND(JVez!A44=\"\",JVez!B44=\"\"),\"\",JVez!A44))","v":"Kalinič Marek"},{"$f":"IF(C48=\"\",\"\",JVez!B44)","v":"ÚO Brno - město"},null,null,null,"DNF",null,null,null,null,"DNF",null,"DNF",null,"DNF",null,1,null,7200]
[null,{"$f":"IF(JVez!E45=\"\",\"\",JVez!E45)","v":85},{"$f":"IF(AND(JVez!A45=\"\",JVez!B45<>\"\"),\"\",IF(AND(JVez!A45=\"\",JVez!B45=\"\"),\"\",JVez!A45))","v":"Čech Radim"},{"$f":"IF(C49=\"\",\"\",JVez!B45)","v":"ÚO Blansko"},null,null,null,"DNF",null,null,null,null,"DNF",null,"DNF",null,"DNF",null,1,null,7200]
[null,{"$f":"IF(JVez!E46=\"\",\"\",JVez!E46)","v":99},{"$f":"IF(AND(JVez!A46=\"\",JVez!B46<>\"\"),\"\",IF(AND(JVez!A46=\"\",JVez!B46=\"\"),\"\",JVez!A46))","v":"Paulík Václav"},{"$f":"IF(C50=\"\",\"\",JVez!B46)","v":"ÚO Pelhřimov"},null,null,null,"DNF",null,null,null,null,"DNF",null,"DNF",null,"DNF",null,1,null,7200]
[null,{"$f":"IF(JVez!E47=\"\",\"\",JVez!E47)","v":104},{"$f":"IF(AND(JVez!A47=\"\",JVez!B47<>\"\"),\"\",IF(AND(JVez!A47=\"\",JVez!B47=\"\"),\"\",JVez!A47))","v":"Šindelka Tomáš"},{"$f":"IF(C51=\"\",\"\",JVez!B47)","v":"ÚO Brno - venkov"},null,null,null,"DNF",null,null,null,null,"DNF",null,"DNF",null,"DNF",null,1,null,7200]
[null,{"$f":"IF(JVez!E48=\"\",\"\",JVez!E48)","v":114},{"$f":"IF(AND(JVez!A48=\"\",JVez!B48<>\"\"),\"\",IF(AND(JVez!A48=\"\",JVez!B48=\"\"),\"\",JVez!A48))","v":"Najman Lukáš"},{"$f":"IF(C52=\"\",\"\",JVez!B48)","v":"ÚO Vyškov"},null,null,null,"DNF",null,null,null,null,"DNF",null,"DNF",null,"DNF",null,1,null,7200]
[null,{"$f":"IF(JVez!E49=\"\",\"\",JVez!E49)","v":5},{"$f":"IF(AND(JVez!A49=\"\",JVez!B49<>\"\"),\"\",IF(AND(JVez!A49=\"\",JVez!B49=\"\"),\"\",JVez!A49))","v":"Svitálek Roman"},{"$f":"IF(C53=\"\",\"\",JVez!B49)","v":"ÚO Hodonín"},null,null,null,"DNF",null,null,null,null,"DNF",null,"DNF",null,"DNF",null,1,null,7200]
[null,{"$f":"IF(JVez!E50=\"\",\"\",JVez!E50)","v":17},{"$f":"IF(AND(JVez!A50=\"\",JVez!B50<>\"\"),\"\",IF(AND(JVez!A50=\"\",JVez!B50=\"\"),\"\",JVez!A50))","v":"Špaček Marek"},{"$f":"IF(C54=\"\",\"\",JVez!B50)","v":"ÚO Žďár nad Sázavou"},null,null,null,"DNF",null,null,null,null,"DNF",null,"DNF",null,"DNF",null,1,null,7200]
[null,{"$f":"IF(JVez!E51=\"\",\"\",JVez!E51)","v":25},{"$f":"IF(AND(JVez!A51=\"\",JVez!B51<>\"\"),\"\",IF(AND(JVez!A51=\"\",JVez!B51=\"\"),\"\",JVez!A51))","v":"Slatinský Petr"},{"$f":"IF(C55=\"\",\"\",JVez!B51)","v":"ÚO Třebíč"},null,null,null,"DNF",null,null,null,null,"DNF",null,"DNF",null,"DNF",null,1,null,7200]
[null,{"$f":"IF(JVez!E52=\"\",\"\",JVez!E52)","v":36},{"$f":"IF(AND(JVez!A52=\"\",JVez!B52<>\"\"),\"\",IF(AND(JVez!A52=\"\",JVez!B52=\"\"),\"\",JVez!A52))","v":"Brveník Jan"},{"$f":"IF(C56=\"\",\"\",JVez!B52)","v":"ÚO Břeclav"},null,null,null,"DNF",null,null,null,null,"DNF",null,"DNF",null,"DNF",null,1,null,7200]
[null,{"$f":"IF(JVez!E53=\"\",\"\",JVez!E53)","v":42},{"$f":"IF(AND(JVez!A53=\"\",JVez!B53<>\"\"),\"\",IF(AND(JVez!A53=\"\",JVez!B53=\"\"),\"\",JVez!A53))","v":"Pařil Milan"},{"$f":"IF(C57=\"\",\"\",JVez!B53)","v":"ÚO Jihlava"},null,null,null,"DNF",null,null,null,null,"DNF",null,"DNF",null,"DNF",null,1,null,7200]
[null,{"$f":"IF(JVez!E54=\"\",\"\",JVez!E54)","v":57},{"$f":"IF(AND(JVez!A54=\"\",JVez!B54<>\"\"),\"\",IF(AND(JVez!A54=\"\",JVez!B54=\"\"),\"\",JVez!A54))","v":"Tvrdý Zdeněk"},{"$f":"IF(C58=\"\",\"\",JVez!B54)","v":"ÚO Havlíčkův Brod"},null,null,null,"DNF",null,null,null,null,"DNF",null,"DNF",null,"DNF",null,1,null,7200]
[null,{"$f":"IF(JVez!E55=\"\",\"\",JVez!E55)","v":65},{"$f":"IF(AND(JVez!A55=\"\",JVez!B55<>\"\"),\"\",IF(AND(JVez!A55=\"\",JVez!B55=\"\"),\"\",JVez!A55))","v":"Jiříkovský David"},{"$f":"IF(C59=\"\",\"\",JVez!B55)","v":"ÚO Znojmo"},null,null,null,"DNF",null,null,null,null,"DNF",null,"DNF",null,"DNF",null,1,null,7200]
[null,{"$f":"IF(JVez!E56=\"\",\"\",JVez!E56)","v":75},{"$f":"IF(AND(JVez!A56=\"\",JVez!B56<>\"\"),\"\",IF(AND(JVez!A56=\"\",JVez!B56=\"\"),\"\",JVez!A56))","v":"Kinc Michal"},{"$f":"IF(C60=\"\",\"\",JVez!B56)","v":"ÚO Brno - město"},null,null,null,"DNF",null,null,null,null,"DNF",null,"DNF",null,"DNF",null,1,null,7200]
[null,{"$f":"IF(JVez!E57=\"\",\"\",JVez!E57)","v":86},{"$f":"IF(AND(JVez!A57=\"\",JVez!B57<>\"\"),\"\",IF(AND(JVez!A57=\"\",JVez!B57=\"\"),\"\",JVez!A57))","v":"Škaroupka Jiří"},{"$f":"IF(C61=\"\",\"\",JVez!B57)","v":"ÚO Blansko"},null,null,null,"DNF",null,null,null,null,"DNF",null,"DNF",null,"DNF",null,1,null,7200]
[null,{"$f":"IF(JVez!E58=\"\",\"\",JVez!E58)","v":94},{"$f":"IF(AND(JVez!A58=\"\",JVez!B58<>\"\"),\"\",IF(AND(JVez!A58=\"\",JVez!B58=\"\"),\"\",JVez!A58))","v":"Ryšavý Vilém"},{"$f":"IF(C62=\"\",\"\",JVez!B58)","v":"ÚO Pelhřimov"},null,null,null,"DNF",null,null,null,null,"DNF",null,"DNF",null,"DNF",null,1,null,7200]
[null,{"$f":"IF(JVez!E59=\"\",\"\",JVez!E59)","v":105},{"$f":"IF(AND(JVez!A59=\"\",JVez!B59<>\"\"),\"\",IF(AND(JVez!A59=\"\",JVez!B59=\"\"),\"\",JVez!A59))","v":"Seehofner Jakub"},{"$f":"IF(C63=\"\",\"\",JVez!B59)","v":"ÚO Brno - venkov"},null,null,null,"DNF",null,null,null,null,"DNF",null,"DNF",null,"DNF",null,1,null,7200]
[null,{"$f":"IF(JVez!E60=\"\",\"\",JVez!E60)","v":116},{"$f":"IF(AND(JVez!A60=\"\",JVez!B60<>\"\"),\"\",IF(AND(JVez!A60=\"\",JVez!B60=\"\"),\"\",JVez!A60))","v":"Masař Tomáš"},{"$f":"IF(C64=\"\",\"\",JVez!B60)","v":"ÚO Vyškov"},null,null,null,"DNF",null,null,null,null,"DNF",null,"DNF",null,"DNF",null,1,null,7200]
[null,{"$f":"IF(JVez!E61=\"\",\"\",JVez!E61)","v":""},{"$f":"IF(AND(JVez!A61=\"\",JVez!B61<>\"\"),\"\",IF(AND(JVez!A61=\"\",JVez!B61=\"\"),\"\",JVez!A61))","v":""},{"$f":"IF(C65=\"\",\"\",JVez!B61)","v":""},null,null,null,"",null,null,null,null,"",null,"",null,"",null,"",null,9000]
[null,{"$f":"IF(JVez!E62=\"\",\"\",JVez!E62)","v":18},{"$f":"IF(AND(JVez!A62=\"\",JVez!B62<>\"\"),\"\",IF(AND(JVez!A62=\"\",JVez!B62=\"\"),\"\",JVez!A62))","v":"Škapa Miroslav"},{"$f":"IF(C66=\"\",\"\",JVez!B62)","v":"ÚO Žďár nad Sázavou"},null,null,null,"DNF",null,null,null,null,"DNF",null,"DNF",null,"DNF",null,1,null,7200]
[null,{"$f":"IF(JVez!E63=\"\",\"\",JVez!E63)","v":26},{"$f":"IF(AND(JVez!A63=\"\",JVez!B63<>\"\"),\"\",IF(AND(JVez!A63=\"\",JVez!B63=\"\"),\"\",JVez!A63))","v":"Stuchlík Martin"},{"$f":"IF(C67=\"\",\"\",JVez!B63)","v":"ÚO Třebíč"},null,null,null,"DNF",null,null,null,null,"DNF",null,"DNF",null,"DNF",null,1,null,7200]
[null,{"$f":"IF(JVez!E64=\"\",\"\",JVez!E64)","v":37},{"$f":"IF(AND(JVez!A64=\"\",JVez!B64<>\"\"),\"\",IF(AND(JVez!A64=\"\",JVez!B64=\"\"),\"\",JVez!A64))","v":"Barát Michal"},{"$f":"IF(C68=\"\",\"\",JVez!B64)","v":"ÚO Břeclav"},null,null,null,"DNF",null,null,null,null,"DNF",null,"DNF",null,"DNF",null,1,null,7200]
[null,{"$f":"IF(JVez!E65=\"\",\"\",JVez!E65)","v":47},{"$f":"IF(AND(JVez!A65=\"\",JVez!B65<>\"\"),\"\",IF(AND(JVez!A65=\"\",JVez!B65=\"\"),\"\",JVez!A65))","v":"Štumar Michal"},{"$f":"IF(C69=\"\",\"\",JVez!B65)","v":"ÚO Jihlava"},null,null,null,{"$f":"IF($C69=\"\",\"\",IF(OR($E69=\"DNF\",$F69=\"DNF\",$G69=\"DNF\",AND($E69=\"\",$F69=\"\",$G69=\"\")),\"DNF\",IF(OR($E69=\"NP\",$F69=\"NP\",$G69=\"NP\"),\"NP\",IF(ISERROR(MEDIAN($E69:$G69)),\"DNF\",IF(OR($E69=\"X\",$F69=\"X\",$G69=\"X\",$E69=\"\",$F69=\"\",$G69=\"\",$E69=\"x\",$F69=\"x\",$G69=\"x\"),MAX($E69:$G69),MEDIAN($E69:$G69))))))","v":"DNF"},null,null,null,null,{"$f":"IF($C69=\"\",\"\",IF(OR($J69=\"DNF\",$K69=\"DNF\",$L69=\"DNF\",AND($J69=\"\",$K69=\"\",$L69=\"\")),\"DNF\",IF(OR($J69=\"NP\",$K69=\"NP\",$L69=\"NP\"),\"NP\",IF(ISERROR(MEDIAN($J69:$L69)),\"DNF\",IF(OR($J69=\"X\",$K69=\"X\",$L69=\"X\",$J69=\"\",$K69=\"\",$L69=\"\",$J69=\"x\",$K69=\"x\",$L69=\"x\"),MAX($J69:$L69),MEDIAN($J69:$L69))))))","v":"DNF"},null,{"$f":"IF(C69=\"\",\"\",IF(OR(AND(H69=\"NP\",M69=\"NP\"),AND(H69=\"DNF\",M69=\"DNF\")),H69,IF(AND(H69=\"NP\",M69=\"DNF\"),H69,IF(AND(H69=\"DNF\",M69=\"NP\"),M69,MIN(H69,M69)))))","v":"DNF"},null,{"$f":"IF(C69=\"\",\"\",IF(OR(O69=\"NP\",O69=\"DNF\"),O69,RANK(O69,O$5:O$404,1)))","v":"DNF"},null,{"$f":"IF(C69=\"\",\"\",IF(O69=\"NP\",MAX(Q$5:Q$404)+1,IF(O69=\"DNF\",MAX(Q$5:Q$404)+COUNTIF(Q$5:Q$404,\"NP\")+1,RANK(O69,O$5:O$404,1))))","v":1},null,{"$f":"IF($C69=\"\",9000,MAX(H69,M69)+(COUNTIF($H69:$H69,\"NP\")*600)+(COUNTIF($M69:$M69,\"NP\")*600)+(COUNTIF($H69:$H69,\"DNF\")*3600)+(COUNTIF($M69:$M69,\"DNF\")*3600))","v":7200}]
[null,{"$f":"IF(JVez!E66=\"\",\"\",JVez!E66)","v":58},{"$f":"IF(AND(JVez!A66=\"\",JVez!B66<>\"\"),\"\",IF(AND(JVez!A66=\"\",JVez!B66=\"\"),\"\",JVez!A66))","v":"Prchal Jan"},{"$f":"IF(C70=\"\",\"\",JVez!B66)","v":"ÚO Havlíčkův Brod"},null,null,null,"DNF",null,null,null,null,"DNF",null,"DNF",null,"DNF",null,1,null,7200]
[null,{"$f":"IF(JVez!E67=\"\",\"\",JVez!E67)","v":66},{"$f":"IF(AND(JVez!A67=\"\",JVez!B67<>\"\"),\"\",IF(AND(JVez!A67=\"\",JVez!B67=\"\"),\"\",JVez!A67))","v":"Pokorný Martin"},{"$f":"IF(C71=\"\",\"\",JVez!B67)","v":"ÚO Znojmo"},null,null,null,"DNF",null,null,null,null,"DNF",null,"DNF",null,"DNF",null,1,null,7200]
[null,{"$f":"IF(JVez!E68=\"\",\"\",JVez!E68)","v":76},{"$f":"IF(AND(JVez!A68=\"\",JVez!B68<>\"\"),\"\",IF(AND(JVez!A68=\"\",JVez!B68=\"\"),\"\",JVez!A68))","v":"Klíč Miloš"},{"$f":"IF(C72=\"\",\"\",JVez!B68)","v":"ÚO Brno - město"},null,null,null,"DNF",null,null,null,null,"DNF",null,"DNF",null,"DNF",null,1,null,7200]
[null,{"$f":"IF(JVez!E69=\"\",\"\",JVez!E69)","v":87},{"$f":"IF(AND(JVez!A69=\"\",JVez!B69<>\"\"),\"\",IF(AND(JVez!A69=\"\",JVez!B69=\"\"),\"\",JVez!A69))","v":"Zhoř Jaroslav"},{"$f":"IF(C73=\"\",\"\",JVez!B69)","v":"ÚO Blansko"},null,null,null,"DNF",null,null,null,null,"DNF",null,"DNF",null,"DNF",null,1,null,7200]
[null,{"$f":"IF(JVez!E70=\"\",\"\",JVez!E70)","v":93},{"$f":"IF(AND(JVez!A70=\"\",JVez!B70<>\"\"),\"\",IF(AND(JVez!A70=\"\",JVez!B70=\"\"),\"\",JVez!A70))","v":"Janko Vladimír"},{"$f":"IF(C74=\"\",\"\",JVez!B70)","v":"ÚO Pelhřimov"},null,null,null,"DNF",null,null,null,null,"DNF",null,"DNF",null,"DNF",null,1,null,7200]
[null,{"$f":"IF(JVez!E71=\"\",\"\",JVez!E71)","v":106},{"$f":"IF(AND(JVez!A71=\"\",JVez!B71<>\"\"),\"\",IF(AND(JVez!A71=\"\",JVez!B71=\"\"),\"\",JVez!A71))","v":"Antl Vladimír"},{"$f":"IF(C75=\"\",\"\",JVez!B71)","v":"ÚO Brno - venkov"},null,null,null,"DNF",null,null,null,null,"DNF",null,"DNF",null,"DNF",null,1,null,7200]
[null,{"$f":"IF(JVez!E72=\"\",\"\",JVez!E72)","v":117},{"$f":"IF(AND(JVez!A72=\"\",JVez!B72<>\"\"),\"\",IF(AND(JVez!A72=\"\",JVez!B72=\"\"),\"\",JVez!A72))","v":"Pupík Jan"},{"$f":"IF(C76=\"\",\"\",JVez!B72)","v":"ÚO Vyškov"},null,null,null,"DNF",null,null,null,null,"DNF",null,"DNF",null,"DNF",null,1,null,7200]
[null,{"$f":"IF(JVez!E73=\"\",\"\",JVez!E73)","v":7},{"$f":"IF(AND(JVez!A73=\"\",JVez!B73<>\"\"),\"\",IF(AND(JVez!A73=\"\",JVez!B73=\"\"),\"\",JVez!A73))","v":"Kudláč Lukáš"},{"$f":"IF(C77=\"\",\"\",JVez!B73)","v":"ÚO Hodonín"},null,null,null,"DNF",null,null,null,null,"DNF",null,"DNF",null,"DNF",null,1,null,7200]
[null,{"$f":"IF(JVez!E74=\"\",\"\",JVez!E74)","v":15},{"$f":"IF(AND(JVez!A74=\"\",JVez!B74<>\"\"),\"\",IF(AND(JVez!A74=\"\",JVez!B74=\"\"),\"\",JVez!A74))","v":"Řehoř Radim"},{"$f":"IF(C78=\"\",\"\",JVez!B74)","v":"ÚO Žďár nad Sázavou"},null,null,null,"DNF",null,null,null,null,"DNF",null,"DNF",null,"DNF",null,1,null,7200]
[null,{"$f":"IF(JVez!E75=\"\",\"\",JVez!E75)","v":27},{"$f":"IF(AND(JVez!A75=\"\",JVez!B75<>\"\"),\"\",IF(AND(JVez!A75=\"\",JVez!B75=\"\"),\"\",JVez!A75))","v":"Čurda Aleš"},{"$f":"IF(C79=\"\",\"\",JVez!B75)","v":"ÚO Třebíč"},null,null,null,"DNF",null,null,null,null,"DNF",null,"DNF",null,"DNF",null,1,null,7200]
[null,{"$f":"IF(JVez!E76=\"\",\"\",JVez!E76)","v":38},{"$f":"IF(AND(JVez!A76=\"\",JVez!B76<>\"\"),\"\",IF(AND(JVez!A76=\"\",JVez!B76=\"\"),\"\",JVez!A76))","v":"Pospíšil Karel"},{"$f":"IF(C80=\"\",\"\",JVez!B76)","v":"ÚO Břeclav"},null,null,null,"DNF",null,null,null,null,"DNF",null,"DNF",null,"DNF",null,1,null,7200]
[null,{"$f":"IF(JVez!E77=\"\",\"\",JVez!E77)","v":44},{"$f":"IF(AND(JVez!A77=\"\",JVez!B77<>\"\"),\"\",IF(AND(JVez!A77=\"\",JVez!B77=\"\"),\"\",JVez!A77))","v":"Šebesta Pavel"},{"$f":"IF(C81=\"\",\"\",JVez!B77)","v":"ÚO Jihlava"},null,null,null,"DNF",null,null,null,null,"DNF",null,"DNF",null,"DNF",null,1,null,7200]
[null,{"$f":"IF(JVez!E78=\"\",\"\",JVez!E78)","v":59},{"$f":"IF(AND(JVez!A78=\"\",JVez!B78<>\"\"),\"\",IF(AND(JVez!A78=\"\",JVez!B78=\"\"),\"\",JVez!A78))","v":"Stehlík Ondřej"},{"$f":"IF(C82=\"\",\"\",JVez!B78)","v":"ÚO Havlíčkův Brod"},null,null,null,"DNF",null,null,null,null,"DNF",null,"DNF",null,"DNF",null,1,null,7200]
[null,{"$f":"IF(JVez!E79=\"\",\"\",JVez!E79)","v":67},{"$f":"IF(AND(JVez!A79=\"\",JVez!B79<>\"\"),\"\",IF(AND(JVez!A79=\"\",JVez!B79=\"\"),\"\",JVez!A79))","v":"Sarga Aleš"},{"$f":"IF(C83=\"\",\"\",JVez!B79)","v":"ÚO Znojmo"},null,null,null,"DNF",null,null,null,null,"DNF",null,"DNF",null,"DNF",null,1,null,7200]
[null,{"$f":"IF(JVez!E80=\"\",\"\",JVez!E80)","v":79},{"$f":"IF(AND(JVez!A80=\"\",JVez!B80<>\"\"),\"\",IF(AND(JVez!A80=\"\",JVez!B80=\"\"),\"\",JVez!A80))","v":"Hlávka Petr"},{"$f":"IF(C84=\"\",\"\",JVez!B80)","v":"ÚO Brno - město"},null,null,null,"DNF",null,null,null,null,"DNF",null,"DNF",null,"DNF",null,1,null,7200]
[null,{"$f":"IF(JVez!E81=\"\",\"\",JVez!E81)","v":88},{"$f":"IF(AND(JVez!A81=\"\",JVez!B81<>\"\"),\"\",IF(AND(JVez!A81=\"\",JVez!B81=\"\"),\"\",JVez!A81))","v":"Jarůška Marek"},{"$f":"IF(C85=\"\",\"\",JVez!B81)","v":"ÚO Blansko"},null,null,null,"DNF",null,null,null,null,"DNF",null,"DNF",null,"DNF",null,1,null,7200]
[null,{"$f":"IF(JVez!E82=\"\",\"\",JVez!E82)","v":97},{"$f":"IF(AND(JVez!A82=\"\",JVez!B82<>\"\"),\"\",IF(AND(JVez!A82=\"\",JVez!B82=\"\"),\"\",JVez!A82))","v":"Dvořák Martin"},{"$f":"IF(C86=\"\",\"\",JVez!B82)","v":"ÚO Pelhřimov"},null,null,null,"DNF",null,null,null,null,"DNF",null,"DNF",null,"DNF",null,1,null,7200]
[null,{"$f":"IF(JVez!E83=\"\",\"\",JVez!E83)","v":107},{"$f":"IF(AND(JVez!A83=\"\",JVez!B83<>\"\"),\"\",IF(AND(JVez!A83=\"\",JVez!B83=\"\"),\"\",JVez!A83))","v":"Šlachta Roman"},{"$f":"IF(C87=\"\",\"\",JVez!B83)","v":"ÚO Brno - venkov"},null,null,null,"DNF",null,null,null,null,"DNF",null,"DNF",null,"DNF",null,1,null,7200]
[null,{"$f":"IF(JVez!E84=\"\",\"\",JVez!E84)","v":118},{"$f":"IF(AND(JVez!A84=\"\",JVez!B84<>\"\"),\"\",IF(AND(JVez!A84=\"\",JVez!B84=\"\"),\"\",JVez!A84))","v":"Jeřábek Martin"},{"$f":"IF(C88=\"\",\"\",JVez!B84)","v":"ÚO Vyškov"},null,null,null,"DNF",null,null,null,null,"DNF",null,"DNF",null,"DNF",null,1,null,7200]
[null,{"$f":"IF(JVez!E85=\"\",\"\",JVez!E85)","v":8},{"$f":"IF(AND(JVez!A85=\"\",JVez!B85<>\"\"),\"\",IF(AND(JVez!A85=\"\",JVez!B85=\"\"),\"\",JVez!A85))","v":"Slavík Martin"},{"$f":"IF(C89=\"\",\"\",JVez!B85)","v":"ÚO Hodonín"},null,null,null,"DNF",null,null,null,null,"DNF",null,"DNF",null,"DNF",null,1,null,7200]
[null,{"$f":"IF(JVez!E86=\"\",\"\",JVez!E86)","v":12},{"$f":"IF(AND(JVez!A86=\"\",JVez!B86<>\"\"),\"\",IF(AND(JVez!A86=\"\",JVez!B86=\"\"),\"\",JVez!A86))","v":"Kunfürst Michal"},{"$f":"IF(C90=\"\",\"\",JVez!B86)","v":"ÚO Žďár nad Sázavou"},null,null,null,"DNF",null,null,null,null,"DNF",null,"DNF",null,"DNF",null,1,null,7200]
[null,{"$f":"IF(JVez!E87=\"\",\"\",JVez!E87)","v":30},{"$f":"IF(AND(JVez!A87=\"\",JVez!B87<>\"\"),\"\",IF(AND(JVez!A87=\"\",JVez!B87=\"\"),\"\",JVez!A87))","v":"Šťastný Libor"},{"$f":"IF(C91=\"\",\"\",JVez!B87)","v":"ÚO Třebíč"},null,null,null,"DNF",null,null,null,null,"DNF",null,"DNF",null,"DNF",null,1,null,7200]
[null,{"$f":"IF(JVez!E88=\"\",\"\",JVez!E88)","v":39},{"$f":"IF(AND(JVez!A88=\"\",JVez!B88<>\"\"),\"\",IF(AND(JVez!A88=\"\",JVez!B88=\"\"),\"\",JVez!A88))","v":"Kaňa Jakub"},{"$f":"IF(C92=\"\",\"\",JVez!B88)","v":"ÚO Břeclav"},null,null,null,"DNF",null,null,null,null,"DNF",null,"DNF",null,"DNF",null,1,null,7200]
[null,{"$f":"IF(JVez!E89=\"\",\"\",JVez!E89)","v":""},{"$f":"IF(AND(JVez!A89=\"\",JVez!B89<>\"\"),\"\",IF(AND(JVez!A89=\"\",JVez!B89=\"\"),\"\",JVez!A89))","v":""},{"$f":"IF(C93=\"\",\"\",JVez!B89)","v":""},null,null,null,"",null,null,null,null,"",null,"",null,"",null,"",null,9000]
[null,{"$f":"IF(JVez!E90=\"\",\"\",JVez!E90)","v":""},{"$f":"IF(AND(JVez!A90=\"\",JVez!B90<>\"\"),\"\",IF(AND(JVez!A90=\"\",JVez!B90=\"\"),\"\",JVez!A90))","v":""},{"$f":"IF(C94=\"\",\"\",JVez!B90)","v":""},null,null,null,"",null,null,null,null,"",null,"",null,"",null,"",null,9000]
[null,{"$f":"IF(JVez!E91=\"\",\"\",JVez!E91)","v":""},{"$f":"IF(AND(JVez!A91=\"\",JVez!B91<>\"\"),\"\",IF(AND(JVez!A91=\"\",JVez!B91=\"\"),\"\",JVez!A91))","v":""},{"$f":"IF(C95=\"\",\"\",JVez!B91)","v":""},null,null,null,"",null,null,null,null,"",null,"",null,"",null,"",null,9000]
[null,{"$f":"IF(JVez!E92=\"\",\"\",JVez!E92)","v":77},{"$f":"IF(AND(JVez!A92=\"\",JVez!B92<>\"\"),\"\",IF(AND(JVez!A92=\"\",JVez!B92=\"\"),\"\",JVez!A92))","v":"Minařík David"},{"$f":"IF(C96=\"\",\"\",JVez!B92)","v":"ÚO Brno - město"},null,null,null,"DNF",null,null,null,null,"DNF",null,"DNF",null,"DNF",null,1,null,7200]
[null,{"$f":"IF(JVez!E93=\"\",\"\",JVez!E93)","v":89},{"$f":"IF(AND(JVez!A93=\"\",JVez!B93<>\"\"),\"\",IF(AND(JVez!A93=\"\",JVez!B93=\"\"),\"\",JVez!A93))","v":"Pěnča Josef"},{"$f":"IF(C97=\"\",\"\",JVez!B93)","v":"ÚO Blansko"},null,null,null,"DNF",null,null,null,null,"DNF",null,"DNF",null,"DNF",null,1,null,7200]
[null,{"$f":"IF(JVez!E94=\"\",\"\",JVez!E94)","v":""},{"$f":"IF(AND(JVez!A94=\"\",JVez!B94<>\"\"),\"\",IF(AND(JVez!A94=\"\",JVez!B94=\"\"),\"\",JVez!A94))","v":""},{"$f":"IF(C98=\"\",\"\",JVez!B94)","v":""},null,null,null,"",null,null,null,null,"",null,"",null,"",null,"",null,9000]
[null,{"$f":"IF(JVez!E95=\"\",\"\",JVez!E95)","v":108},{"$f":"IF(AND(JVez!A95=\"\",JVez!B95<>\"\"),\"\",IF(AND(JVez!A95=\"\",JVez!B95=\"\"),\"\",JVez!A95))","v":"Podloučka Pavel"},{"$f":"IF(C99=\"\",\"\",JVez!B95)","v":"ÚO Brno - venkov"},null,null,null,"DNF",null,null,null,null,"DNF",null,"DNF",null,"DNF",null,1,null,7200]
[null,{"$f":"IF(JVez!E96=\"\",\"\",JVez!E96)","v":119},{"$f":"IF(AND(JVez!A96=\"\",JVez!B96<>\"\"),\"\",IF(AND(JVez!A96=\"\",JVez!B96=\"\"),\"\",JVez!A96))","v":"Rajci Miroslav"},{"$f":"IF(C100=\"\",\"\",JVez!B96)","v":"ÚO Vyškov"},null,null,null,"DNF",null,null,null,null,"DNF",null,"DNF",null,"DNF",null,1,null,7200]
[null,{"$f":"IF(JVez!E97=\"\",\"\",JVez!E97)","v":""},{"$f":"IF(AND(JVez!A97=\"\",JVez!B97<>\"\"),\"\",IF(AND(JVez!A97=\"\",JVez!B97=\"\"),\"\",JVez!A97))","v":""},{"$f":"IF(C101=\"\",\"\",JVez!B97)","v":""},null,null,null,"",null,null,null,null,"",null,"",null,"",null,"",null,9000]
[null,{"$f":"IF(JVez!E98=\"\",\"\",JVez!E98)","v":""},{"$f":"IF(AND(JVez!A98=\"\",JVez!B98<>\"\"),\"\",IF(AND(JVez!A98=\"\",JVez!B98=\"\"),\"\",JVez!A98))","v":""},{"$f":"IF(C102=\"\",\"\",JVez!B98)","v":""},null,null,null,"",null,null,null,null,"",null,"",null,"",null,"",null,9000]
[null,{"$f":"IF(JVez!E99=\"\",\"\",JVez!E99)","v":""},{"$f":"IF(AND(JVez!A99=\"\",JVez!B99<>\"\"),\"\",IF(AND(JVez!A99=\"\",JVez!B99=\"\"),\"\",JVez!A99))","v":""},{"$f":"IF(C103=\"\",\"\",JVez!B99)","v":""},null,null,null,"",null,null,null,null,"",null,"",null,"",null,"",null,9000]
[null,{"$f":"IF(JVez!E100=\"\",\"\",JVez!E100)","v":""},{"$f":"IF(AND(JVez!A100=\"\",JVez!B100<>\"\"),\"\",IF(AND(JVez!A100=\"\",JVez!B100=\"\"),\"\",JVez!A100))","v":""},{"$f":"IF(C104=\"\",\"\",JVez!B100)","v":""},null,null,null,"",null,null,null,null,"",null,"",null,"",null,"",null,9000]
[null,{"$f":"IF(JVez!E101=\"\",\"\",JVez!E101)","v":""},{"$f":"IF(AND(JVez!A101=\"\",JVez!B101<>\"\"),\"\",IF(AND(JVez!A101=\"\",JVez!B101=\"\"),\"\",JVez!A101))","v":""},{"$f":"IF(C105=\"\",\"\",JVez!B101)","v":""},null,null,null,"",null,null,null,null,"",null,"",null,"",null,"",null,9000]
[null,{"$f":"IF(JVez!E102=\"\",\"\",JVez!E102)","v":""},{"$f":"IF(AND(JVez!A102=\"\",JVez!B102<>\"\"),\"\",IF(AND(JVez!A102=\"\",JVez!B102=\"\"),\"\",JVez!A102))","v":""},{"$f":"IF(C106=\"\",\"\",JVez!B102)","v":""},null,null,null,"",null,null,null,null,"",null,"",null,"",null,"",null,9000]
[null,{"$f":"IF(JVez!E103=\"\",\"\",JVez!E103)","v":""},{"$f":"IF(AND(JVez!A103=\"\",JVez!B103<>\"\"),\"\",IF(AND(JVez!A103=\"\",JVez!B103=\"\"),\"\",JVez!A103))","v":""},{"$f":"IF(C107=\"\",\"\",JVez!B103)","v":""},null,null,null,"",null,null,null,null,"",null,"",null,"",null,"",null,9000]
[null,{"$f":"IF(JVez!E104=\"\",\"\",JVez!E104)","v":""},{"$f":"IF(AND(JVez!A104=\"\",JVez!B104<>\"\"),\"\",IF(AND(JVez!A104=\"\",JVez!B104=\"\"),\"\",JVez!A104))","v":""},{"$f":"IF(C108=\"\",\"\",JVez!B104)","v":""},null,null,null,"",null,null,null,null,"",null,"",null,"",null,"",null,9000]
[null,{"$f":"IF(JVez!E105=\"\",\"\",JVez!E105)","v":""},{"$f":"IF(AND(JVez!A105=\"\",JVez!B105<>\"\"),\"\",IF(AND(JVez!A105=\"\",JVez!B105=\"\"),\"\",JVez!A105))","v":""},{"$f":"IF(C109=\"\",\"\",JVez!B105)","v":""},null,null,null,"",null,null,null,null,"",null,"",null,"",null,"",null,9000]
[null,{"$f":"IF(JVez!E106=\"\",\"\",JVez!E106)","v":""},{"$f":"IF(AND(JVez!A106=\"\",JVez!B106<>\"\"),\"\",IF(AND(JVez!A106=\"\",JVez!B106=\"\"),\"\",JVez!A106))","v":""},{"$f":"IF(C110=\"\",\"\",JVez!B106)","v":""},null,null,null,"",null,null,null,null,"",null,"",null,"",null,"",null,9000]
[null,{"$f":"IF(JVez!E107=\"\",\"\",JVez!E107)","v":""},{"$f":"IF(AND(JVez!A107=\"\",JVez!B107<>\"\"),\"\",IF(AND(JVez!A107=\"\",JVez!B107=\"\"),\"\",JVez!A107))","v":""},{"$f":"IF(C111=\"\",\"\",JVez!B107)","v":""},null,null,null,"",null,null,null,null,"",null,"",null,"",null,"",null,9000]
[null,{"$f":"IF(JVez!E108=\"\",\"\",JVez!E108)","v":""},{"$f":"IF(AND(JVez!A108=\"\",JVez!B108<>\"\"),\"\",IF(AND(JVez!A108=\"\",JVez!B108=\"\"),\"\",JVez!A108))","v":""},{"$f":"IF(C112=\"\",\"\",JVez!B108)","v":""},null,null,null,"",null,null,null,null,"",null,"",null,"",null,"",null,9000]
[null,{"$f":"IF(JVez!E109=\"\",\"\",JVez!E109)","v":""},{"$f":"IF(AND(JVez!A109=\"\",JVez!B109<>\"\"),\"\",IF(AND(JVez!A109=\"\",JVez!B109=\"\"),\"\",JVez!A109))","v":""},{"$f":"IF(C113=\"\",\"\",JVez!B109)","v":""},null,null,null,"",null,null,null,null,"",null,"",null,"",null,"",null,9000]
[null,{"$f":"IF(JVez!E110=\"\",\"\",JVez!E110)","v":""},{"$f":"IF(AND(JVez!A110=\"\",JVez!B110<>\"\"),\"\",IF(AND(JVez!A110=\"\",JVez!B110=\"\"),\"\",JVez!A110))","v":""},{"$f":"IF(C114=\"\",\"\",JVez!B110)","v":""},null,null,null,"",null,null,null,null,"",null,"",null,"",null,"",null,9000]
[null,{"$f":"IF(JVez!E111=\"\",\"\",JVez!E111)","v":""},{"$f":"IF(AND(JVez!A111=\"\",JVez!B111<>\"\"),\"\",IF(AND(JVez!A111=\"\",JVez!B111=\"\"),\"\",JVez!A111))","v":""},{"$f":"IF(C115=\"\",\"\",JVez!B111)","v":""},null,null,null,"",null,null,null,null,"",null,"",null,"",null,"",null,9000]
[null,{"$f":"IF(JVez!E112=\"\",\"\",JVez!E112)","v":""},{"$f":"IF(AND(JVez!A112=\"\",JVez!B112<>\"\"),\"\",IF(AND(JVez!A112=\"\",JVez!B112=\"\"),\"\",JVez!A112))","v":""},{"$f":"IF(C116=\"\",\"\",JVez!B112)","v":""},null,null,null,"",null,null,null,null,"",null,"",null,"",null,"",null,9000]
[null,{"$f":"IF(JVez!E113=\"\",\"\",JVez!E113)","v":""},{"$f":"IF(AND(JVez!A113=\"\",JVez!B113<>\"\"),\"\",IF(AND(JVez!A113=\"\",JVez!B113=\"\"),\"\",JVez!A113))","v":""},{"$f":"IF(C117=\"\",\"\",JVez!B113)","v":""},null,null,null,"",null,null,null,null,"",null,"",null,"",null,"",null,9000]
[null,{"$f":"IF(JVez!E114=\"\",\"\",JVez!E114)","v":""},{"$f":"IF(AND(JVez!A114=\"\",JVez!B114<>\"\"),\"\",IF(AND(JVez!A114=\"\",JVez!B114=\"\"),\"\",JVez!A114))","v":""},{"$f":"IF(C118=\"\",\"\",JVez!B114)","v":""},null,null,null,"",null,null,null,null,"",null,"",null,"",null,"",null,9000]
[null,{"$f":"IF(JVez!E115=\"\",\"\",JVez!E115)","v":""},{"$f":"IF(AND(JVez!A115=\"\",JVez!B115<>\"\"),\"\",IF(AND(JVez!A115=\"\",JVez!B115=\"\"),\"\",JVez!A115))","v":""},{"$f":"IF(C119=\"\",\"\",JVez!B115)","v":""},null,null,null,"",null,null,null,null,"",null,"",null,"",null,"",null,9000]
[null,{"$f":"IF(JVez!E116=\"\",\"\",JVez!E116)","v":""},{"$f":"IF(AND(JVez!A116=\"\",JVez!B116<>\"\"),\"\",IF(AND(JVez!A116=\"\",JVez!B116=\"\"),\"\",JVez!A116))","v":""},{"$f":"IF(C120=\"\",\"\",JVez!B116)","v":""},null,null,null,"",null,null,null,null,"",null,"",null,"",null,"",null,9000]
[null,{"$f":"IF(JVez!E117=\"\",\"\",JVez!E117)","v":""},{"$f":"IF(AND(JVez!A117=\"\",JVez!B117<>\"\"),\"\",IF(AND(JVez!A117=\"\",JVez!B117=\"\"),\"\",JVez!A117))","v":""},{"$f":"IF(C121=\"\",\"\",JVez!B117)","v":""},null,null,null,"",null,null,null,null,"",null,"",null,"",null,"",null,9000]
[null,{"$f":"IF(JVez!E118=\"\",\"\",JVez!E118)","v":""},{"$f":"IF(AND(JVez!A118=\"\",JVez!B118<>\"\"),\"\",IF(AND(JVez!A118=\"\",JVez!B118=\"\"),\"\",JVez!A118))","v":""},{"$f":"IF(C122=\"\",\"\",JVez!B118)","v":""},null,null,null,"",null,null,null,null,"",null,"",null,"",null,"",null,9000]
[null,{"$f":"IF(JVez!E119=\"\",\"\",JVez!E119)","v":""},{"$f":"IF(AND(JVez!A119=\"\",JVez!B119<>\"\"),\"\",IF(AND(JVez!A119=\"\",JVez!B119=\"\"),\"\",JVez!A119))","v":""},{"$f":"IF(C123=\"\",\"\",JVez!B119)","v":""},null,null,null,"",null,null,null,null,"",null,"",null,"",null,"",null,9000]
[null,{"$f":"IF(JVez!E120=\"\",\"\",JVez!E120)","v":""},{"$f":"IF(AND(JVez!A120=\"\",JVez!B120<>\"\"),\"\",IF(AND(JVez!A120=\"\",JVez!B120=\"\"),\"\",JVez!A120))","v":""},{"$f":"IF(C124=\"\",\"\",JVez!B120)","v":""},null,null,null,"",null,null,null,null,"",null,"",null,"",null,"",null,9000]
[null,{"$f":"IF(JVez!E121=\"\",\"\",JVez!E121)","v":""},{"$f":"IF(AND(JVez!A121=\"\",JVez!B121<>\"\"),\"\",IF(AND(JVez!A121=\"\",JVez!B121=\"\"),\"\",JVez!A121))","v":""},{"$f":"IF(C125=\"\",\"\",JVez!B121)","v":""},null,null,null,"",null,null,null,null,"",null,"",null,"",null,"",null,9000]
[null,{"$f":"IF(JVez!E122=\"\",\"\",JVez!E122)","v":""},{"$f":"IF(AND(JVez!A122=\"\",JVez!B122<>\"\"),\"\",IF(AND(JVez!A122=\"\",JVez!B122=\"\"),\"\",JVez!A122))","v":""},{"$f":"IF(C126=\"\",\"\",JVez!B122)","v":""},null,null,null,"",null,null,null,null,"",null,"",null,"",null,"",null,9000]
[null,{"$f":"IF(JVez!E123=\"\",\"\",JVez!E123)","v":""},{"$f":"IF(AND(JVez!A123=\"\",JVez!B123<>\"\"),\"\",IF(AND(JVez!A123=\"\",JVez!B123=\"\"),\"\",JVez!A123))","v":""},{"$f":"IF(C127=\"\",\"\",JVez!B123)","v":""},null,null,null,"",null,null,null,null,"",null,"",null,"",null,"",null,9000]
[null,{"$f":"IF(JVez!E124=\"\",\"\",JVez!E124)","v":""},{"$f":"IF(AND(JVez!A124=\"\",JVez!B124<>\"\"),\"\",IF(AND(JVez!A124=\"\",JVez!B124=\"\"),\"\",JVez!A124))","v":""},{"$f":"IF(C128=\"\",\"\",JVez!B124)","v":""},null,null,null,"",null,null,null,null,"",null,"",null,"",null,"",null,9000]
[null,{"$f":"IF(JVez!E125=\"\",\"\",JVez!E125)","v":""},{"$f":"IF(AND(JVez!A125=\"\",JVez!B125<>\"\"),\"\",IF(AND(JVez!A125=\"\",JVez!B125=\"\"),\"\",JVez!A125))","v":""},{"$f":"IF(C129=\"\",\"\",JVez!B125)","v":""},null,null,null,"",null,null,null,null,"",null,"",null,"",null,"",null,9000]
[null,{"$f":"IF(JVez!E126=\"\",\"\",JVez!E126)","v":""},{"$f":"IF(AND(JVez!A126=\"\",JVez!B126<>\"\"),\"\",IF(AND(JVez!A126=\"\",JVez!B126=\"\"),\"\",JVez!A126))","v":""},{"$f":"IF(C130=\"\",\"\",JVez!B126)","v":""},null,null,null,"",null,null,null,null,"",null,"",null,"",null,"",null,9000]
[null,{"$f":"IF(JVez!E127=\"\",\"\",JVez!E127)","v":""},{"$f":"IF(AND(JVez!A127=\"\",JVez!B127<>\"\"),\"\",IF(AND(JVez!A127=\"\",JVez!B127=\"\"),\"\",JVez!A127))","v":""},{"$f":"IF(C131=\"\",\"\",JVez!B127)","v":""},null,null,null,"",null,null,null,null,"",null,"",null,"",null,"",null,9000]
[null,{"$f":"IF(JVez!E128=\"\",\"\",JVez!E128)","v":""},{"$f":"IF(AND(JVez!A128=\"\",JVez!B128<>\"\"),\"\",IF(AND(JVez!A128=\"\",JVez!B128=\"\"),\"\",JVez!A128))","v":""},{"$f":"IF(C132=\"\",\"\",JVez!B128)","v":""},null,null,null,"",null,null,null,null,"",null,"",null,"",null,"",null,9000]
[null,{"$f":"IF(JVez!E129=\"\",\"\",JVez!E129)","v":""},{"$f":"IF(AND(JVez!A129=\"\",JVez!B129<>\"\"),\"\",IF(AND(JVez!A129=\"\",JVez!B129=\"\"),\"\",JVez!A129))","v":""},{"$f":"IF(C133=\"\",\"\",JVez!B129)","v":""},null,null,null,{"$f":"IF($C133=\"\",\"\",IF(OR($E133=\"DNF\",$F133=\"DNF\",$G133=\"DNF\",AND($E133=\"\",$F133=\"\",$G133=\"\")),\"DNF\",IF(OR($E133=\"NP\",$F133=\"NP\",$G133=\"NP\"),\"NP\",IF(ISERROR(MEDIAN($E133:$G133)),\"DNF\",IF(OR($E133=\"X\",$F133=\"X\",$G133=\"X\",$E133=\"\",$F133=\"\",$G133=\"\",$E133=\"x\",$F133=\"x\",$G133=\"x\"),MAX($E133:$G133),MEDIAN($E133:$G133))))))","v":""},null,null,null,null,{"$f":"IF($C133=\"\",\"\",IF(OR($J133=\"DNF\",$K133=\"DNF\",$L133=\"DNF\",AND($J133=\"\",$K133=\"\",$L133=\"\")),\"DNF\",IF(OR($J133=\"NP\",$K133=\"NP\",$L133=\"NP\"),\"NP\",IF(ISERROR(MEDIAN($J133:$L133)),\"DNF\",IF(OR($J133=\"X\",$K133=\"X\",$L133=\"X\",$J133=\"\",$K133=\"\",$L133=\"\",$J133=\"x\",$K133=\"x\",$L133=\"x\"),MAX($J133:$L133),MEDIAN($J133:$L133))))))","v":""},null,{"$f":"IF(C133=\"\",\"\",IF(OR(AND(H133=\"NP\",M133=\"NP\"),AND(H133=\"DNF\",M133=\"DNF\")),H133,IF(AND(H133=\"NP\",M133=\"DNF\"),H133,IF(AND(H133=\"DNF\",M133=\"NP\"),M133,MIN(H133,M133)))))","v":""},null,{"$f":"IF(C133=\"\",\"\",IF(OR(O133=\"NP\",O133=\"DNF\"),O133,RANK(O133,O$5:O$404,1)))","v":""},null,{"$f":"IF(C133=\"\",\"\",IF(O133=\"NP\",MAX(Q$5:Q$404)+1,IF(O133=\"DNF\",MAX(Q$5:Q$404)+COUNTIF(Q$5:Q$404,\"NP\")+1,RANK(O133,O$5:O$404,1))))","v":""},null,{"$f":"IF($C133=\"\",9000,MAX(H133,M133)+(COUNTIF($H133:$H133,\"NP\")*600)+(COUNTIF($M133:$M133,\"NP\")*600)+(COUNTIF($H133:$H133,\"DNF\")*3600)+(COUNTIF($M133:$M133,\"DNF\")*3600))","v":9000}]
[null,{"$f":"IF(JVez!E130=\"\",\"\",JVez!E130)","v":""},{"$f":"IF(AND(JVez!A130=\"\",JVez!B130<>\"\"),\"\",IF(AND(JVez!A130=\"\",JVez!B130=\"\"),\"\",JVez!A130))","v":""},{"$f":"IF(C134=\"\",\"\",JVez!B130)","v":""},null,null,null,"",null,null,null,null,"",null,"",null,"",null,"",null,9000]
[null,{"$f":"IF(JVez!E131=\"\",\"\",JVez!E131)","v":""},{"$f":"IF(AND(JVez!A131=\"\",JVez!B131<>\"\"),\"\",IF(AND(JVez!A131=\"\",JVez!B131=\"\"),\"\",JVez!A131))","v":""},{"$f":"IF(C135=\"\",\"\",JVez!B131)","v":""},null,null,null,"",null,null,null,null,"",null,"",null,"",null,"",null,9000]
[null,{"$f":"IF(JVez!E132=\"\",\"\",JVez!E132)","v":""},{"$f":"IF(AND(JVez!A132=\"\",JVez!B132<>\"\"),\"\",IF(AND(JVez!A132=\"\",JVez!B132=\"\"),\"\",JVez!A132))","v":""},{"$f":"IF(C136=\"\",\"\",JVez!B132)","v":""},null,null,null,"",null,null,null,null,"",null,"",null,"",null,"",null,9000]
[null,{"$f":"IF(JVez!E133=\"\",\"\",JVez!E133)","v":""},{"$f":"IF(AND(JVez!A133=\"\",JVez!B133<>\"\"),\"\",IF(AND(JVez!A133=\"\",JVez!B133=\"\"),\"\",JVez!A133))","v":""},{"$f":"IF(C137=\"\",\"\",JVez!B133)","v":""},null,null,null,"",null,null,null,null,"",null,"",null,"",null,"",null,9000]
[null,{"$f":"IF(JVez!E134=\"\",\"\",JVez!E134)","v":""},{"$f":"IF(AND(JVez!A134=\"\",JVez!B134<>\"\"),\"\",IF(AND(JVez!A134=\"\",JVez!B134=\"\"),\"\",JVez!A134))","v":""},{"$f":"IF(C138=\"\",\"\",JVez!B134)","v":""},null,null,null,"",null,null,null,null,"",null,"",null,"",null,"",null,9000]
[null,{"$f":"IF(JVez!E135=\"\",\"\",JVez!E135)","v":""},{"$f":"IF(AND(JVez!A135=\"\",JVez!B135<>\"\"),\"\",IF(AND(JVez!A135=\"\",JVez!B135=\"\"),\"\",JVez!A135))","v":""},{"$f":"IF(C139=\"\",\"\",JVez!B135)","v":""},null,null,null,"",null,null,null,null,"",null,"",null,"",null,"",null,9000]
[null,{"$f":"IF(JVez!E136=\"\",\"\",JVez!E136)","v":""},{"$f":"IF(AND(JVez!A136=\"\",JVez!B136<>\"\"),\"\",IF(AND(JVez!A136=\"\",JVez!B136=\"\"),\"\",JVez!A136))","v":""},{"$f":"IF(C140=\"\",\"\",JVez!B136)","v":""},null,null,null,"",null,null,null,null,"",null,"",null,"",null,"",null,9000]
[null,{"$f":"IF(JVez!E137=\"\",\"\",JVez!E137)","v":""},{"$f":"IF(AND(JVez!A137=\"\",JVez!B137<>\"\"),\"\",IF(AND(JVez!A137=\"\",JVez!B137=\"\"),\"\",JVez!A137))","v":""},{"$f":"IF(C141=\"\",\"\",JVez!B137)","v":""},null,null,null,"",null,null,null,null,"",null,"",null,"",null,"",null,9000]
[null,{"$f":"IF(JVez!E138=\"\",\"\",JVez!E138)","v":""},{"$f":"IF(AND(JVez!A138=\"\",JVez!B138<>\"\"),\"\",IF(AND(JVez!A138=\"\",JVez!B138=\"\"),\"\",JVez!A138))","v":""},{"$f":"IF(C142=\"\",\"\",JVez!B138)","v":""},null,null,null,"",null,null,null,null,"",null,"",null,"",null,"",null,9000]
[null,{"$f":"IF(JVez!E139=\"\",\"\",JVez!E139)","v":""},{"$f":"IF(AND(JVez!A139=\"\",JVez!B139<>\"\"),\"\",IF(AND(JVez!A139=\"\",JVez!B139=\"\"),\"\",JVez!A139))","v":""},{"$f":"IF(C143=\"\",\"\",JVez!B139)","v":""},null,null,null,"",null,null,null,null,"",null,"",null,"",null,"",null,9000]
[null,{"$f":"IF(JVez!E140=\"\",\"\",JVez!E140)","v":""},{"$f":"IF(AND(JVez!A140=\"\",JVez!B140<>\"\"),\"\",IF(AND(JVez!A140=\"\",JVez!B140=\"\"),\"\",JVez!A140))","v":""},{"$f":"IF(C144=\"\",\"\",JVez!B140)","v":""},null,null,null,"",null,null,null,null,"",null,"",null,"",null,"",null,9000]
[null,{"$f":"IF(JVez!E141=\"\",\"\",JVez!E141)","v":""},{"$f":"IF(AND(JVez!A141=\"\",JVez!B141<>\"\"),\"\",IF(AND(JVez!A141=\"\",JVez!B141=\"\"),\"\",JVez!A141))","v":""},{"$f":"IF(C145=\"\",\"\",JVez!B141)","v":""},null,null,null,"",null,null,null,null,"",null,"",null,"",null,"",null,9000]
[null,{"$f":"IF(JVez!E142=\"\",\"\",JVez!E142)","v":""},{"$f":"IF(AND(JVez!A142=\"\",JVez!B142<>\"\"),\"\",IF(AND(JVez!A142=\"\",JVez!B142=\"\"),\"\",JVez!A142))","v":""},{"$f":"IF(C146=\"\",\"\",JVez!B142)","v":""},null,null,null,"",null,null,null,null,"",null,"",null,"",null,"",null,9000]
[null,{"$f":"IF(JVez!E143=\"\",\"\",JVez!E143)","v":""},{"$f":"IF(AND(JVez!A143=\"\",JVez!B143<>\"\"),\"\",IF(AND(JVez!A143=\"\",JVez!B143=\"\"),\"\",JVez!A143))","v":""},{"$f":"IF(C147=\"\",\"\",JVez!B143)","v":""},null,null,null,"",null,null,null,null,"",null,"",null,"",null,"",null,9000]
[null,{"$f":"IF(JVez!E144=\"\",\"\",JVez!E144)","v":""},{"$f":"IF(AND(JVez!A144=\"\",JVez!B144<>\"\"),\"\",IF(AND(JVez!A144=\"\",JVez!B144=\"\"),\"\",JVez!A144))","v":""},{"$f":"IF(C148=\"\",\"\",JVez!B144)","v":""},null,null,null,"",null,null,null,null,"",null,"",null,"",null,"",null,9000]
[null,{"$f":"IF(JVez!E145=\"\",\"\",JVez!E145)","v":""},{"$f":"IF(AND(JVez!A145=\"\",JVez!B145<>\"\"),\"\",IF(AND(JVez!A145=\"\",JVez!B145=\"\"),\"\",JVez!A145))","v":""},{"$f":"IF(C149=\"\",\"\",JVez!B145)","v":""},null,null,null,"",null,null,null,null,"",null,"",null,"",null,"",null,9000]
[null,{"$f":"IF(JVez!E146=\"\",\"\",JVez!E146)","v":""},{"$f":"IF(AND(JVez!A146=\"\",JVez!B146<>\"\"),\"\",IF(AND(JVez!A146=\"\",JVez!B146=\"\"),\"\",JVez!A146))","v":""},{"$f":"IF(C150=\"\",\"\",JVez!B146)","v":""},null,null,null,"",null,null,null,null,"",null,"",null,"",null,"",null,9000]
[null,{"$f":"IF(JVez!E147=\"\",\"\",JVez!E147)","v":""},{"$f":"IF(AND(JVez!A147=\"\",JVez!B147<>\"\"),\"\",IF(AND(JVez!A147=\"\",JVez!B147=\"\"),\"\",JVez!A147))","v":""},{"$f":"IF(C151=\"\",\"\",JVez!B147)","v":""},null,null,null,"",null,null,null,null,"",null,"",null,"",null,"",null,9000]
[null,{"$f":"IF(JVez!E148=\"\",\"\",JVez!E148)","v":""},{"$f":"IF(AND(JVez!A148=\"\",JVez!B148<>\"\"),\"\",IF(AND(JVez!A148=\"\",JVez!B148=\"\"),\"\",JVez!A148))","v":""},{"$f":"IF(C152=\"\",\"\",JVez!B148)","v":""},null,null,null,"",null,null,null,null,"",null,"",null,"",null,"",null,9000]
[null,{"$f":"IF(JVez!E149=\"\",\"\",JVez!E149)","v":""},{"$f":"IF(AND(JVez!A149=\"\",JVez!B149<>\"\"),\"\",IF(AND(JVez!A149=\"\",JVez!B149=\"\"),\"\",JVez!A149))","v":""},{"$f":"IF(C153=\"\",\"\",JVez!B149)","v":""},null,null,null,"",null,null,null,null,"",null,"",null,"",null,"",null,9000]
[null,{"$f":"IF(JVez!E150=\"\",\"\",JVez!E150)","v":""},{"$f":"IF(AND(JVez!A150=\"\",JVez!B150<>\"\"),\"\",IF(AND(JVez!A150=\"\",JVez!B150=\"\"),\"\",JVez!A150))","v":""},{"$f":"IF(C154=\"\",\"\",JVez!B150)","v":""},null,null,null,"",null,null,null,null,"",null,"",null,"",null,"",null,9000]
[null,{"$f":"IF(JVez!E151=\"\",\"\",JVez!E151)","v":""},{"$f":"IF(AND(JVez!A151=\"\",JVez!B151<>\"\"),\"\",IF(AND(JVez!A151=\"\",JVez!B151=\"\"),\"\",JVez!A151))","v":""},{"$f":"IF(C155=\"\",\"\",JVez!B151)","v":""},null,null,null,"",null,null,null,null,"",null,"",null,"",null,"",null,9000]
[null,{"$f":"IF(JVez!E152=\"\",\"\",JVez!E152)","v":""},{"$f":"IF(AND(JVez!A152=\"\",JVez!B152<>\"\"),\"\",IF(AND(JVez!A152=\"\",JVez!B152=\"\"),\"\",JVez!A152))","v":""},{"$f":"IF(C156=\"\",\"\",JVez!B152)","v":""},null,null,null,"",null,null,null,null,"",null,"",null,"",null,"",null,9000]
[null,{"$f":"IF(JVez!E153=\"\",\"\",JVez!E153)","v":""},{"$f":"IF(AND(JVez!A153=\"\",JVez!B153<>\"\"),\"\",IF(AND(JVez!A153=\"\",JVez!B153=\"\"),\"\",JVez!A153))","v":""},{"$f":"IF(C157=\"\",\"\",JVez!B153)","v":""},null,null,null,"",null,null,null,null,"",null,"",null,"",null,"",null,9000]
[null,{"$f":"IF(JVez!E154=\"\",\"\",JVez!E154)","v":""},{"$f":"IF(AND(JVez!A154=\"\",JVez!B154<>\"\"),\"\",IF(AND(JVez!A154=\"\",JVez!B154=\"\"),\"\",JVez!A154))","v":""},{"$f":"IF(C158=\"\",\"\",JVez!B154)","v":""},null,null,null,"",null,null,null,null,"",null,"",null,"",null,"",null,9000]
[null,{"$f":"IF(JVez!E155=\"\",\"\",JVez!E155)","v":""},{"$f":"IF(AND(JVez!A155=\"\",JVez!B155<>\"\"),\"\",IF(AND(JVez!A155=\"\",JVez!B155=\"\"),\"\",JVez!A155))","v":""},{"$f":"IF(C159=\"\",\"\",JVez!B155)","v":""},null,null,null,"",null,null,null,null,"",null,"",null,"",null,"",null,9000]
[null,{"$f":"IF(JVez!E156=\"\",\"\",JVez!E156)","v":""},{"$f":"IF(AND(JVez!A156=\"\",JVez!B156<>\"\"),\"\",IF(AND(JVez!A156=\"\",JVez!B156=\"\"),\"\",JVez!A156))","v":""},{"$f":"IF(C160=\"\",\"\",JVez!B156)","v":""},null,null,null,"",null,null,null,null,"",null,"",null,"",null,"",null,9000]
[null,{"$f":"IF(JVez!E157=\"\",\"\",JVez!E157)","v":""},{"$f":"IF(AND(JVez!A157=\"\",JVez!B157<>\"\"),\"\",IF(AND(JVez!A157=\"\",JVez!B157=\"\"),\"\",JVez!A157))","v":""},{"$f":"IF(C161=\"\",\"\",JVez!B157)","v":""},null,null,null,"",null,null,null,null,"",null,"",null,"",null,"",null,9000]
[null,{"$f":"IF(JVez!E158=\"\",\"\",JVez!E158)","v":""},{"$f":"IF(AND(JVez!A158=\"\",JVez!B158<>\"\"),\"\",IF(AND(JVez!A158=\"\",JVez!B158=\"\"),\"\",JVez!A158))","v":""},{"$f":"IF(C162=\"\",\"\",JVez!B158)","v":""},null,null,null,"",null,null,null,null,"",null,"",null,"",null,"",null,9000]
[null,{"$f":"IF(JVez!E159=\"\",\"\",JVez!E159)","v":""},{"$f":"IF(AND(JVez!A159=\"\",JVez!B159<>\"\"),\"\",IF(AND(JVez!A159=\"\",JVez!B159=\"\"),\"\",JVez!A159))","v":""},{"$f":"IF(C163=\"\",\"\",JVez!B159)","v":""},null,null,null,"",null,null,null,null,"",null,"",null,"",null,"",null,9000]
[null,{"$f":"IF(JVez!E160=\"\",\"\",JVez!E160)","v":""},{"$f":"IF(AND(JVez!A160=\"\",JVez!B160<>\"\"),\"\",IF(AND(JVez!A160=\"\",JVez!B160=\"\"),\"\",JVez!A160))","v":""},{"$f":"IF(C164=\"\",\"\",JVez!B160)","v":""},null,null,null,"",null,null,null,null,"",null,"",null,"",null,"",null,9000]
[null,{"$f":"IF(JVez!E161=\"\",\"\",JVez!E161)","v":""},{"$f":"IF(AND(JVez!A161=\"\",JVez!B161<>\"\"),\"\",IF(AND(JVez!A161=\"\",JVez!B161=\"\"),\"\",JVez!A161))","v":""},{"$f":"IF(C165=\"\",\"\",JVez!B161)","v":""},null,null,null,"",null,null,null,null,"",null,"",null,"",null,"",null,9000]
[null,{"$f":"IF(JVez!E162=\"\",\"\",JVez!E162)","v":""},{"$f":"IF(AND(JVez!A162=\"\",JVez!B162<>\"\"),\"\",IF(AND(JVez!A162=\"\",JVez!B162=\"\"),\"\",JVez!A162))","v":""},{"$f":"IF(C166=\"\",\"\",JVez!B162)","v":""},null,null,null,"",null,null,null,null,"",null,"",null,"",null,"",null,9000]
[null,{"$f":"IF(JVez!E163=\"\",\"\",JVez!E163)","v":""},{"$f":"IF(AND(JVez!A163=\"\",JVez!B163<>\"\"),\"\",IF(AND(JVez!A163=\"\",JVez!B163=\"\"),\"\",JVez!A163))","v":""},{"$f":"IF(C167=\"\",\"\",JVez!B163)","v":""},null,null,null,"",null,null,null,null,"",null,"",null,"",null,"",null,9000]
[null,{"$f":"IF(JVez!E164=\"\",\"\",JVez!E164)","v":""},{"$f":"IF(AND(JVez!A164=\"\",JVez!B164<>\"\"),\"\",IF(AND(JVez!A164=\"\",JVez!B164=\"\"),\"\",JVez!A164))","v":""},{"$f":"IF(C168=\"\",\"\",JVez!B164)","v":""},null,null,null,"",null,null,null,null,"",null,"",null,"",null,"",null,9000]
[null,{"$f":"IF(JVez!E165=\"\",\"\",JVez!E165)","v":""},{"$f":"IF(AND(JVez!A165=\"\",JVez!B165<>\"\"),\"\",IF(AND(JVez!A165=\"\",JVez!B165=\"\"),\"\",JVez!A165))","v":""},{"$f":"IF(C169=\"\",\"\",JVez!B165)","v":""},null,null,null,"",null,null,null,null,"",null,"",null,"",null,"",null,9000]
[null,{"$f":"IF(JVez!E166=\"\",\"\",JVez!E166)","v":""},{"$f":"IF(AND(JVez!A166=\"\",JVez!B166<>\"\"),\"\",IF(AND(JVez!A166=\"\",JVez!B166=\"\"),\"\",JVez!A166))","v":""},{"$f":"IF(C170=\"\",\"\",JVez!B166)","v":""},null,null,null,"",null,null,null,null,"",null,"",null,"",null,"",null,9000]
[null,{"$f":"IF(JVez!E167=\"\",\"\",JVez!E167)","v":""},{"$f":"IF(AND(JVez!A167=\"\",JVez!B167<>\"\"),\"\",IF(AND(JVez!A167=\"\",JVez!B167=\"\"),\"\",JVez!A167))","v":""},{"$f":"IF(C171=\"\",\"\",JVez!B167)","v":""},null,null,null,"",null,null,null,null,"",null,"",null,"",null,"",null,9000]
[null,{"$f":"IF(JVez!E168=\"\",\"\",JVez!E168)","v":""},{"$f":"IF(AND(JVez!A168=\"\",JVez!B168<>\"\"),\"\",IF(AND(JVez!A168=\"\",JVez!B168=\"\"),\"\",JVez!A168))","v":""},{"$f":"IF(C172=\"\",\"\",JVez!B168)","v":""},null,null,null,"",null,null,null,null,"",null,"",null,"",null,"",null,9000]
[null,{"$f":"IF(JVez!E169=\"\",\"\",JVez!E169)","v":""},{"$f":"IF(AND(JVez!A169=\"\",JVez!B169<>\"\"),\"\",IF(AND(JVez!A169=\"\",JVez!B169=\"\"),\"\",JVez!A169))","v":""},{"$f":"IF(C173=\"\",\"\",JVez!B169)","v":""},null,null,null,"",null,null,null,null,"",null,"",null,"",null,"",null,9000]
[null,{"$f":"IF(JVez!E170=\"\",\"\",JVez!E170)","v":""},{"$f":"IF(AND(JVez!A170=\"\",JVez!B170<>\"\"),\"\",IF(AND(JVez!A170=\"\",JVez!B170=\"\"),\"\",JVez!A170))","v":""},{"$f":"IF(C174=\"\",\"\",JVez!B170)","v":""},null,null,null,"",null,null,null,null,"",null,"",null,"",null,"",null,9000]
[null,{"$f":"IF(JVez!E171=\"\",\"\",JVez!E171)","v":""},{"$f":"IF(AND(JVez!A171=\"\",JVez!B171<>\"\"),\"\",IF(AND(JVez!A171=\"\",JVez!B171=\"\"),\"\",JVez!A171))","v":""},{"$f":"IF(C175=\"\",\"\",JVez!B171)","v":""},null,null,null,"",null,null,null,null,"",null,"",null,"",null,"",null,9000]
[null,{"$f":"IF(JVez!E172=\"\",\"\",JVez!E172)","v":""},{"$f":"IF(AND(JVez!A172=\"\",JVez!B172<>\"\"),\"\",IF(AND(JVez!A172=\"\",JVez!B172=\"\"),\"\",JVez!A172))","v":""},{"$f":"IF(C176=\"\",\"\",JVez!B172)","v":""},null,null,null,"",null,null,null,null,"",null,"",null,"",null,"",null,9000]
[null,{"$f":"IF(JVez!E173=\"\",\"\",JVez!E173)","v":""},{"$f":"IF(AND(JVez!A173=\"\",JVez!B173<>\"\"),\"\",IF(AND(JVez!A173=\"\",JVez!B173=\"\"),\"\",JVez!A173))","v":""},{"$f":"IF(C177=\"\",\"\",JVez!B173)","v":""},null,null,null,"",null,null,null,null,"",null,"",null,"",null,"",null,9000]
[null,{"$f":"IF(JVez!E174=\"\",\"\",JVez!E174)","v":""},{"$f":"IF(AND(JVez!A174=\"\",JVez!B174<>\"\"),\"\",IF(AND(JVez!A174=\"\",JVez!B174=\"\"),\"\",JVez!A174))","v":""},{"$f":"IF(C178=\"\",\"\",JVez!B174)","v":""},null,null,null,"",null,null,null,null,"",null,"",null,"",null,"",null,9000]
[null,{"$f":"IF(JVez!E175=\"\",\"\",JVez!E175)","v":""},{"$f":"IF(AND(JVez!A175=\"\",JVez!B175<>\"\"),\"\",IF(AND(JVez!A175=\"\",JVez!B175=\"\"),\"\",JVez!A175))","v":""},{"$f":"IF(C179=\"\",\"\",JVez!B175)","v":""},null,null,null,"",null,null,null,null,"",null,"",null,"",null,"",null,9000]
[null,{"$f":"IF(JVez!E176=\"\",\"\",JVez!E176)","v":""},{"$f":"IF(AND(JVez!A176=\"\",JVez!B176<>\"\"),\"\",IF(AND(JVez!A176=\"\",JVez!B176=\"\"),\"\",JVez!A176))","v":""},{"$f":"IF(C180=\"\",\"\",JVez!B176)","v":""},null,null,null,"",null,null,null,null,"",null,"",null,"",null,"",null,9000]
[null,{"$f":"IF(JVez!E177=\"\",\"\",JVez!E177)","v":""},{"$f":"IF(AND(JVez!A177=\"\",JVez!B177<>\"\"),\"\",IF(AND(JVez!A177=\"\",JVez!B177=\"\"),\"\",JVez!A177))","v":""},{"$f":"IF(C181=\"\",\"\",JVez!B177)","v":""},null,null,null,"",null,null,null,null,"",null,"",null,"",null,"",null,9000]
[null,{"$f":"IF(JVez!E178=\"\",\"\",JVez!E178)","v":""},{"$f":"IF(AND(JVez!A178=\"\",JVez!B178<>\"\"),\"\",IF(AND(JVez!A178=\"\",JVez!B178=\"\"),\"\",JVez!A178))","v":""},{"$f":"IF(C182=\"\",\"\",JVez!B178)","v":""},null,null,null,"",null,null,null,null,"",null,"",null,"",null,"",null,9000]
[null,{"$f":"IF(JVez!E179=\"\",\"\",JVez!E179)","v":""},{"$f":"IF(AND(JVez!A179=\"\",JVez!B179<>\"\"),\"\",IF(AND(JVez!A179=\"\",JVez!B179=\"\"),\"\",JVez!A179))","v":""},{"$f":"IF(C183=\"\",\"\",JVez!B179)","v":""},null,null,null,"",null,null,null,null,"",null,"",null,"",null,"",null,9000]
[null,{"$f":"IF(JVez!E180=\"\",\"\",JVez!E180)","v":""},{"$f":"IF(AND(JVez!A180=\"\",JVez!B180<>\"\"),\"\",IF(AND(JVez!A180=\"\",JVez!B180=\"\"),\"\",JVez!A180))","v":""},{"$f":"IF(C184=\"\",\"\",JVez!B180)","v":""},null,null,null,"",null,null,null,null,"",null,"",null,"",null,"",null,9000]
[null,{"$f":"IF(JVez!E181=\"\",\"\",JVez!E181)","v":""},{"$f":"IF(AND(JVez!A181=\"\",JVez!B181<>\"\"),\"\",IF(AND(JVez!A181=\"\",JVez!B181=\"\"),\"\",JVez!A181))","v":""},{"$f":"IF(C185=\"\",\"\",JVez!B181)","v":""},null,null,null,"",null,null,null,null,"",null,"",null,"",null,"",null,9000]
[null,{"$f":"IF(JVez!E182=\"\",\"\",JVez!E182)","v":""},{"$f":"IF(AND(JVez!A182=\"\",JVez!B182<>\"\"),\"\",IF(AND(JVez!A182=\"\",JVez!B182=\"\"),\"\",JVez!A182))","v":""},{"$f":"IF(C186=\"\",\"\",JVez!B182)","v":""},null,null,null,"",null,null,null,null,"",null,"",null,"",null,"",null,9000]
[null,{"$f":"IF(JVez!E183=\"\",\"\",JVez!E183)","v":""},{"$f":"IF(AND(JVez!A183=\"\",JVez!B183<>\"\"),\"\",IF(AND(JVez!A183=\"\",JVez!B183=\"\"),\"\",JVez!A183))","v":""},{"$f":"IF(C187=\"\",\"\",JVez!B183)","v":""},null,null,null,"",null,null,null,null,"",null,"",null,"",null,"",null,9000]
[null,{"$f":"IF(JVez!E184=\"\",\"\",JVez!E184)","v":""},{"$f":"IF(AND(JVez!A184=\"\",JVez!B184<>\"\"),\"\",IF(AND(JVez!A184=\"\",JVez!B184=\"\"),\"\",JVez!A184))","v":""},{"$f":"IF(C188=\"\",\"\",JVez!B184)","v":""},null,null,null,"",null,null,null,null,"",null,"",null,"",null,"",null,9000]
[null,{"$f":"IF(JVez!E185=\"\",\"\",JVez!E185)","v":""},{"$f":"IF(AND(JVez!A185=\"\",JVez!B185<>\"\"),\"\",IF(AND(JVez!A185=\"\",JVez!B185=\"\"),\"\",JVez!A185))","v":""},{"$f":"IF(C189=\"\",\"\",JVez!B185)","v":""},null,null,null,"",null,null,null,null,"",null,"",null,"",null,"",null,9000]
[null,{"$f":"IF(JVez!E186=\"\",\"\",JVez!E186)","v":""},{"$f":"IF(AND(JVez!A186=\"\",JVez!B186<>\"\"),\"\",IF(AND(JVez!A186=\"\",JVez!B186=\"\"),\"\",JVez!A186))","v":""},{"$f":"IF(C190=\"\",\"\",JVez!B186)","v":""},null,null,null,"",null,null,null,null,"",null,"",null,"",null,"",null,9000]
[null,{"$f":"IF(JVez!E187=\"\",\"\",JVez!E187)","v":""},{"$f":"IF(AND(JVez!A187=\"\",JVez!B187<>\"\"),\"\",IF(AND(JVez!A187=\"\",JVez!B187=\"\"),\"\",JVez!A187))","v":""},{"$f":"IF(C191=\"\",\"\",JVez!B187)","v":""},null,null,null,"",null,null,null,null,"",null,"",null,"",null,"",null,9000]
[null,{"$f":"IF(JVez!E188=\"\",\"\",JVez!E188)","v":""},{"$f":"IF(AND(JVez!A188=\"\",JVez!B188<>\"\"),\"\",IF(AND(JVez!A188=\"\",JVez!B188=\"\"),\"\",JVez!A188))","v":""},{"$f":"IF(C192=\"\",\"\",JVez!B188)","v":""},null,null,null,"",null,null,null,null,"",null,"",null,"",null,"",null,9000]
[null,{"$f":"IF(JVez!E189=\"\",\"\",JVez!E189)","v":""},{"$f":"IF(AND(JVez!A189=\"\",JVez!B189<>\"\"),\"\",IF(AND(JVez!A189=\"\",JVez!B189=\"\"),\"\",JVez!A189))","v":""},{"$f":"IF(C193=\"\",\"\",JVez!B189)","v":""},null,null,null,"",null,null,null,null,"",null,"",null,"",null,"",null,9000]
[null,{"$f":"IF(JVez!E190=\"\",\"\",JVez!E190)","v":""},{"$f":"IF(AND(JVez!A190=\"\",JVez!B190<>\"\"),\"\",IF(AND(JVez!A190=\"\",JVez!B190=\"\"),\"\",JVez!A190))","v":""},{"$f":"IF(C194=\"\",\"\",JVez!B190)","v":""},null,null,null,"",null,null,null,null,"",null,"",null,"",null,"",null,9000]
[null,{"$f":"IF(JVez!E191=\"\",\"\",JVez!E191)","v":""},{"$f":"IF(AND(JVez!A191=\"\",JVez!B191<>\"\"),\"\",IF(AND(JVez!A191=\"\",JVez!B191=\"\"),\"\",JVez!A191))","v":""},{"$f":"IF(C195=\"\",\"\",JVez!B191)","v":""},null,null,null,"",null,null,null,null,"",null,"",null,"",null,"",null,9000]
[null,{"$f":"IF(JVez!E192=\"\",\"\",JVez!E192)","v":""},{"$f":"IF(AND(JVez!A192=\"\",JVez!B192<>\"\"),\"\",IF(AND(JVez!A192=\"\",JVez!B192=\"\"),\"\",JVez!A192))","v":""},{"$f":"IF(C196=\"\",\"\",JVez!B192)","v":""},null,null,null,"",null,null,null,null,"",null,"",null,"",null,"",null,9000]
[null,{"$f":"IF(JVez!E193=\"\",\"\",JVez!E193)","v":""},{"$f":"IF(AND(JVez!A193=\"\",JVez!B193<>\"\"),\"\",IF(AND(JVez!A193=\"\",JVez!B193=\"\"),\"\",JVez!A193))","v":""},{"$f":"IF(C197=\"\",\"\",JVez!B193)","v":""},null,null,null,{"$f":"IF($C197=\"\",\"\",IF(OR($E197=\"DNF\",$F197=\"DNF\",$G197=\"DNF\",AND($E197=\"\",$F197=\"\",$G197=\"\")),\"DNF\",IF(OR($E197=\"NP\",$F197=\"NP\",$G197=\"NP\"),\"NP\",IF(ISERROR(MEDIAN($E197:$G197)),\"DNF\",IF(OR($E197=\"X\",$F197=\"X\",$G197=\"X\",$E197=\"\",$F197=\"\",$G197=\"\",$E197=\"x\",$F197=\"x\",$G197=\"x\"),MAX($E197:$G197),MEDIAN($E197:$G197))))))","v":""},null,null,null,null,{"$f":"IF($C197=\"\",\"\",IF(OR($J197=\"DNF\",$K197=\"DNF\",$L197=\"DNF\",AND($J197=\"\",$K197=\"\",$L197=\"\")),\"DNF\",IF(OR($J197=\"NP\",$K197=\"NP\",$L197=\"NP\"),\"NP\",IF(ISERROR(MEDIAN($J197:$L197)),\"DNF\",IF(OR($J197=\"X\",$K197=\"X\",$L197=\"X\",$J197=\"\",$K197=\"\",$L197=\"\",$J197=\"x\",$K197=\"x\",$L197=\"x\"),MAX($J197:$L197),MEDIAN($J197:$L197))))))","v":""},null,{"$f":"IF(C197=\"\",\"\",IF(OR(AND(H197=\"NP\",M197=\"NP\"),AND(H197=\"DNF\",M197=\"DNF\")),H197,IF(AND(H197=\"NP\",M197=\"DNF\"),H197,IF(AND(H197=\"DNF\",M197=\"NP\"),M197,MIN(H197,M197)))))","v":""},null,{"$f":"IF(C197=\"\",\"\",IF(OR(O197=\"NP\",O197=\"DNF\"),O197,RANK(O197,O$5:O$404,1)))","v":""},null,{"$f":"IF(C197=\"\",\"\",IF(O197=\"NP\",MAX(Q$5:Q$404)+1,IF(O197=\"DNF\",MAX(Q$5:Q$404)+COUNTIF(Q$5:Q$404,\"NP\")+1,RANK(O197,O$5:O$404,1))))","v":""},null,{"$f":"IF($C197=\"\",9000,MAX(H197,M197)+(COUNTIF($H197:$H197,\"NP\")*600)+(COUNTIF($M197:$M197,\"NP\")*600)+(COUNTIF($H197:$H197,\"DNF\")*3600)+(COUNTIF($M197:$M197,\"DNF\")*3600))","v":9000}]
[null,{"$f":"IF(JVez!E194=\"\",\"\",JVez!E194)","v":""},{"$f":"IF(AND(JVez!A194=\"\",JVez!B194<>\"\"),\"\",IF(AND(JVez!A194=\"\",JVez!B194=\"\"),\"\",JVez!A194))","v":""},{"$f":"IF(C198=\"\",\"\",JVez!B194)","v":""},null,null,null,"",null,null,null,null,"",null,"",null,"",null,"",null,9000]
[null,{"$f":"IF(JVez!E195=\"\",\"\",JVez!E195)","v":""},{"$f":"IF(AND(JVez!A195=\"\",JVez!B195<>\"\"),\"\",IF(AND(JVez!A195=\"\",JVez!B195=\"\"),\"\",JVez!A195))","v":""},{"$f":"IF(C199=\"\",\"\",JVez!B195)","v":""},null,null,null,"",null,null,null,null,"",null,"",null,"",null,"",null,9000]
[null,{"$f":"IF(JVez!E196=\"\",\"\",JVez!E196)","v":""},{"$f":"IF(AND(JVez!A196=\"\",JVez!B196<>\"\"),\"\",IF(AND(JVez!A196=\"\",JVez!B196=\"\"),\"\",JVez!A196))","v":""},{"$f":"IF(C200=\"\",\"\",JVez!B196)","v":""},null,null,null,"",null,null,null,null,"",null,"",null,"",null,"",null,9000]
[null,{"$f":"IF(JVez!E197=\"\",\"\",JVez!E197)","v":""},{"$f":"IF(AND(JVez!A197=\"\",JVez!B197<>\"\"),\"\",IF(AND(JVez!A197=\"\",JVez!B197=\"\"),\"\",JVez!A197))","v":""},{"$f":"IF(C201=\"\",\"\",JVez!B197)","v":""},null,null,null,"",null,null,null,null,"",null,"",null,"",null,"",null,9000]
[null,{"$f":"IF(JVez!E198=\"\",\"\",JVez!E198)","v":""},{"$f":"IF(AND(JVez!A198=\"\",JVez!B198<>\"\"),\"\",IF(AND(JVez!A198=\"\",JVez!B198=\"\"),\"\",JVez!A198))","v":""},{"$f":"IF(C202=\"\",\"\",JVez!B198)","v":""},null,null,null,"",null,null,null,null,"",null,"",null,"",null,"",null,9000]
[null,{"$f":"IF(JVez!E199=\"\",\"\",JVez!E199)","v":""},{"$f":"IF(AND(JVez!A199=\"\",JVez!B199<>\"\"),\"\",IF(AND(JVez!A199=\"\",JVez!B199=\"\"),\"\",JVez!A199))","v":""},{"$f":"IF(C203=\"\",\"\",JVez!B199)","v":""},null,null,null,"",null,null,null,null,"",null,"",null,"",null,"",null,9000]
[null,{"$f":"IF(JVez!E200=\"\",\"\",JVez!E200)","v":""},{"$f":"IF(AND(JVez!A200=\"\",JVez!B200<>\"\"),\"\",IF(AND(JVez!A200=\"\",JVez!B200=\"\"),\"\",JVez!A200))","v":""},{"$f":"IF(C204=\"\",\"\",JVez!B200)","v":""},null,null,null,"",null,null,null,null,"",null,"",null,"",null,"",null,9000]
[null,{"$f":"IF(JVez!E201=\"\",\"\",JVez!E201)","v":""},{"$f":"IF(AND(JVez!A201=\"\",JVez!B201<>\"\"),\"\",IF(AND(JVez!A201=\"\",JVez!B201=\"\"),\"\",JVez!A201))","v":""},{"$f":"IF(C205=\"\",\"\",JVez!B201)","v":""},null,null,null,"",null,null,null,null,"",null,"",null,"",null,"",null,9000]
[null,{"$f":"IF(JVez!E202=\"\",\"\",JVez!E202)","v":""},{"$f":"IF(AND(JVez!A202=\"\",JVez!B202<>\"\"),\"\",IF(AND(JVez!A202=\"\",JVez!B202=\"\"),\"\",JVez!A202))","v":""},{"$f":"IF(C206=\"\",\"\",JVez!B202)","v":""},null,null,null,"",null,null,null,null,"",null,"",null,"",null,"",null,9000]
[null,{"$f":"IF(JVez!E203=\"\",\"\",JVez!E203)","v":""},{"$f":"IF(AND(JVez!A203=\"\",JVez!B203<>\"\"),\"\",IF(AND(JVez!A203=\"\",JVez!B203=\"\"),\"\",JVez!A203))","v":""},{"$f":"IF(C207=\"\",\"\",JVez!B203)","v":""},null,null,null,"",null,null,null,null,"",null,"",null,"",null,"",null,9000]
[null,{"$f":"IF(JVez!E204=\"\",\"\",JVez!E204)","v":""},{"$f":"IF(AND(JVez!A204=\"\",JVez!B204<>\"\"),\"\",IF(AND(JVez!A204=\"\",JVez!B204=\"\"),\"\",JVez!A204))","v":""},{"$f":"IF(C208=\"\",\"\",JVez!B204)","v":""},null,null,null,"",null,null,null,null,"",null,"",null,"",null,"",null,9000]
[null,{"$f":"IF(JVez!E205=\"\",\"\",JVez!E205)","v":""},{"$f":"IF(AND(JVez!A205=\"\",JVez!B205<>\"\"),\"\",IF(AND(JVez!A205=\"\",JVez!B205=\"\"),\"\",JVez!A205))","v":""},{"$f":"IF(C209=\"\",\"\",JVez!B205)","v":""},null,null,null,"",null,null,null,null,"",null,"",null,"",null,"",null,9000]
[null,{"$f":"IF(JVez!E206=\"\",\"\",JVez!E206)","v":""},{"$f":"IF(AND(JVez!A206=\"\",JVez!B206<>\"\"),\"\",IF(AND(JVez!A206=\"\",JVez!B206=\"\"),\"\",JVez!A206))","v":""},{"$f":"IF(C210=\"\",\"\",JVez!B206)","v":""},null,null,null,"",null,null,null,null,"",null,"",null,"",null,"",null,9000]
[null,{"$f":"IF(JVez!E207=\"\",\"\",JVez!E207)","v":""},{"$f":"IF(AND(JVez!A207=\"\",JVez!B207<>\"\"),\"\",IF(AND(JVez!A207=\"\",JVez!B207=\"\"),\"\",JVez!A207))","v":""},{"$f":"IF(C211=\"\",\"\",JVez!B207)","v":""},null,null,null,"",null,null,null,null,"",null,"",null,"",null,"",null,9000]
[null,{"$f":"IF(JVez!E208=\"\",\"\",JVez!E208)","v":""},{"$f":"IF(AND(JVez!A208=\"\",JVez!B208<>\"\"),\"\",IF(AND(JVez!A208=\"\",JVez!B208=\"\"),\"\",JVez!A208))","v":""},{"$f":"IF(C212=\"\",\"\",JVez!B208)","v":""},null,null,null,"",null,null,null,null,"",null,"",null,"",null,"",null,9000]
[null,{"$f":"IF(JVez!E209=\"\",\"\",JVez!E209)","v":""},{"$f":"IF(AND(JVez!A209=\"\",JVez!B209<>\"\"),\"\",IF(AND(JVez!A209=\"\",JVez!B209=\"\"),\"\",JVez!A209))","v":""},{"$f":"IF(C213=\"\",\"\",JVez!B209)","v":""},null,null,null,"",null,null,null,null,"",null,"",null,"",null,"",null,9000]
[null,{"$f":"IF(JVez!E210=\"\",\"\",JVez!E210)","v":""},{"$f":"IF(AND(JVez!A210=\"\",JVez!B210<>\"\"),\"\",IF(AND(JVez!A210=\"\",JVez!B210=\"\"),\"\",JVez!A210))","v":""},{"$f":"IF(C214=\"\",\"\",JVez!B210)","v":""},null,null,null,"",null,null,null,null,"",null,"",null,"",null,"",null,9000]
[null,{"$f":"IF(JVez!E211=\"\",\"\",JVez!E211)","v":""},{"$f":"IF(AND(JVez!A211=\"\",JVez!B211<>\"\"),\"\",IF(AND(JVez!A211=\"\",JVez!B211=\"\"),\"\",JVez!A211))","v":""},{"$f":"IF(C215=\"\",\"\",JVez!B211)","v":""},null,null,null,"",null,null,null,null,"",null,"",null,"",null,"",null,9000]
[null,{"$f":"IF(JVez!E212=\"\",\"\",JVez!E212)","v":""},{"$f":"IF(AND(JVez!A212=\"\",JVez!B212<>\"\"),\"\",IF(AND(JVez!A212=\"\",JVez!B212=\"\"),\"\",JVez!A212))","v":""},{"$f":"IF(C216=\"\",\"\",JVez!B212)","v":""},null,null,null,"",null,null,null,null,"",null,"",null,"",null,"",null,9000]
[null,{"$f":"IF(JVez!E213=\"\",\"\",JVez!E213)","v":""},{"$f":"IF(AND(JVez!A213=\"\",JVez!B213<>\"\"),\"\",IF(AND(JVez!A213=\"\",JVez!B213=\"\"),\"\",JVez!A213))","v":""},{"$f":"IF(C217=\"\",\"\",JVez!B213)","v":""},null,null,null,"",null,null,null,null,"",null,"",null,"",null,"",null,9000]
[null,{"$f":"IF(JVez!E214=\"\",\"\",JVez!E214)","v":""},{"$f":"IF(AND(JVez!A214=\"\",JVez!B214<>\"\"),\"\",IF(AND(JVez!A214=\"\",JVez!B214=\"\"),\"\",JVez!A214))","v":""},{"$f":"IF(C218=\"\",\"\",JVez!B214)","v":""},null,null,null,"",null,null,null,null,"",null,"",null,"",null,"",null,9000]
[null,{"$f":"IF(JVez!E215=\"\",\"\",JVez!E215)","v":""},{"$f":"IF(AND(JVez!A215=\"\",JVez!B215<>\"\"),\"\",IF(AND(JVez!A215=\"\",JVez!B215=\"\"),\"\",JVez!A215))","v":""},{"$f":"IF(C219=\"\",\"\",JVez!B215)","v":""},null,null,null,"",null,null,null,null,"",null,"",null,"",null,"",null,9000]
[null,{"$f":"IF(JVez!E216=\"\",\"\",JVez!E216)","v":""},{"$f":"IF(AND(JVez!A216=\"\",JVez!B216<>\"\"),\"\",IF(AND(JVez!A216=\"\",JVez!B216=\"\"),\"\",JVez!A216))","v":""},{"$f":"IF(C220=\"\",\"\",JVez!B216)","v":""},null,null,null,"",null,null,null,null,"",null,"",null,"",null,"",null,9000]
[null,{"$f":"IF(JVez!E217=\"\",\"\",JVez!E217)","v":""},{"$f":"IF(AND(JVez!A217=\"\",JVez!B217<>\"\"),\"\",IF(AND(JVez!A217=\"\",JVez!B217=\"\"),\"\",JVez!A217))","v":""},{"$f":"IF(C221=\"\",\"\",JVez!B217)","v":""},null,null,null,"",null,null,null,null,"",null,"",null,"",null,"",null,9000]
[null,{"$f":"IF(JVez!E218=\"\",\"\",JVez!E218)","v":""},{"$f":"IF(AND(JVez!A218=\"\",JVez!B218<>\"\"),\"\",IF(AND(JVez!A218=\"\",JVez!B218=\"\"),\"\",JVez!A218))","v":""},{"$f":"IF(C222=\"\",\"\",JVez!B218)","v":""},null,null,null,"",null,null,null,null,"",null,"",null,"",null,"",null,9000]
[null,{"$f":"IF(JVez!E219=\"\",\"\",JVez!E219)","v":""},{"$f":"IF(AND(JVez!A219=\"\",JVez!B219<>\"\"),\"\",IF(AND(JVez!A219=\"\",JVez!B219=\"\"),\"\",JVez!A219))","v":""},{"$f":"IF(C223=\"\",\"\",JVez!B219)","v":""},null,null,null,"",null,null,null,null,"",null,"",null,"",null,"",null,9000]
[null,{"$f":"IF(JVez!E220=\"\",\"\",JVez!E220)","v":""},{"$f":"IF(AND(JVez!A220=\"\",JVez!B220<>\"\"),\"\",IF(AND(JVez!A220=\"\",JVez!B220=\"\"),\"\",JVez!A220))","v":""},{"$f":"IF(C224=\"\",\"\",JVez!B220)","v":""},null,null,null,"",null,null,null,null,"",null,"",null,"",null,"",null,9000]
[null,{"$f":"IF(JVez!E221=\"\",\"\",JVez!E221)","v":""},{"$f":"IF(AND(JVez!A221=\"\",JVez!B221<>\"\"),\"\",IF(AND(JVez!A221=\"\",JVez!B221=\"\"),\"\",JVez!A221))","v":""},{"$f":"IF(C225=\"\",\"\",JVez!B221)","v":""},null,null,null,"",null,null,null,null,"",null,"",null,"",null,"",null,9000]
[null,{"$f":"IF(JVez!E222=\"\",\"\",JVez!E222)","v":""},{"$f":"IF(AND(JVez!A222=\"\",JVez!B222<>\"\"),\"\",IF(AND(JVez!A222=\"\",JVez!B222=\"\"),\"\",JVez!A222))","v":""},{"$f":"IF(C226=\"\",\"\",JVez!B222)","v":""},null,null,null,"",null,null,null,null,"",null,"",null,"",null,"",null,9000]
[null,{"$f":"IF(JVez!E223=\"\",\"\",JVez!E223)","v":""},{"$f":"IF(AND(JVez!A223=\"\",JVez!B223<>\"\"),\"\",IF(AND(JVez!A223=\"\",JVez!B223=\"\"),\"\",JVez!A223))","v":""},{"$f":"IF(C227=\"\",\"\",JVez!B223)","v":""},null,null,null,"",null,null,null,null,"",null,"",null,"",null,"",null,9000]
[null,{"$f":"IF(JVez!E224=\"\",\"\",JVez!E224)","v":""},{"$f":"IF(AND(JVez!A224=\"\",JVez!B224<>\"\"),\"\",IF(AND(JVez!A224=\"\",JVez!B224=\"\"),\"\",JVez!A224))","v":""},{"$f":"IF(C228=\"\",\"\",JVez!B224)","v":""},null,null,null,"",null,null,null,null,"",null,"",null,"",null,"",null,9000]
[null,{"$f":"IF(JVez!E225=\"\",\"\",JVez!E225)","v":""},{"$f":"IF(AND(JVez!A225=\"\",JVez!B225<>\"\"),\"\",IF(AND(JVez!A225=\"\",JVez!B225=\"\"),\"\",JVez!A225))","v":""},{"$f":"IF(C229=\"\",\"\",JVez!B225)","v":""},null,null,null,"",null,null,null,null,"",null,"",null,"",null,"",null,9000]
[null,{"$f":"IF(JVez!E226=\"\",\"\",JVez!E226)","v":""},{"$f":"IF(AND(JVez!A226=\"\",JVez!B226<>\"\"),\"\",IF(AND(JVez!A226=\"\",JVez!B226=\"\"),\"\",JVez!A226))","v":""},{"$f":"IF(C230=\"\",\"\",JVez!B226)","v":""},null,null,null,"",null,null,null,null,"",null,"",null,"",null,"",null,9000]
[null,{"$f":"IF(JVez!E227=\"\",\"\",JVez!E227)","v":""},{"$f":"IF(AND(JVez!A227=\"\",JVez!B227<>\"\"),\"\",IF(AND(JVez!A227=\"\",JVez!B227=\"\"),\"\",JVez!A227))","v":""},{"$f":"IF(C231=\"\",\"\",JVez!B227)","v":""},null,null,null,"",null,null,null,null,"",null,"",null,"",null,"",null,9000]
[null,{"$f":"IF(JVez!E228=\"\",\"\",JVez!E228)","v":""},{"$f":"IF(AND(JVez!A228=\"\",JVez!B228<>\"\"),\"\",IF(AND(JVez!A228=\"\",JVez!B228=\"\"),\"\",JVez!A228))","v":""},{"$f":"IF(C232=\"\",\"\",JVez!B228)","v":""},null,null,null,"",null,null,null,null,"",null,"",null,"",null,"",null,9000]
[null,{"$f":"IF(JVez!E229=\"\",\"\",JVez!E229)","v":""},{"$f":"IF(AND(JVez!A229=\"\",JVez!B229<>\"\"),\"\",IF(AND(JVez!A229=\"\",JVez!B229=\"\"),\"\",JVez!A229))","v":""},{"$f":"IF(C233=\"\",\"\",JVez!B229)","v":""},null,null,null,"",null,null,null,null,"",null,"",null,"",null,"",null,9000]
[null,{"$f":"IF(JVez!E230=\"\",\"\",JVez!E230)","v":""},{"$f":"IF(AND(JVez!A230=\"\",JVez!B230<>\"\"),\"\",IF(AND(JVez!A230=\"\",JVez!B230=\"\"),\"\",JVez!A230))","v":""},{"$f":"IF(C234=\"\",\"\",JVez!B230)","v":""},null,null,null,"",null,null,null,null,"",null,"",null,"",null,"",null,9000]
[null,{"$f":"IF(JVez!E231=\"\",\"\",JVez!E231)","v":""},{"$f":"IF(AND(JVez!A231=\"\",JVez!B231<>\"\"),\"\",IF(AND(JVez!A231=\"\",JVez!B231=\"\"),\"\",JVez!A231))","v":""},{"$f":"IF(C235=\"\",\"\",JVez!B231)","v":""},null,null,null,"",null,null,null,null,"",null,"",null,"",null,"",null,9000]
[null,{"$f":"IF(JVez!E232=\"\",\"\",JVez!E232)","v":""},{"$f":"IF(AND(JVez!A232=\"\",JVez!B232<>\"\"),\"\",IF(AND(JVez!A232=\"\",JVez!B232=\"\"),\"\",JVez!A232))","v":""},{"$f":"IF(C236=\"\",\"\",JVez!B232)","v":""},null,null,null,"",null,null,null,null,"",null,"",null,"",null,"",null,9000]
[null,{"$f":"IF(JVez!E233=\"\",\"\",JVez!E233)","v":""},{"$f":"IF(AND(JVez!A233=\"\",JVez!B233<>\"\"),\"\",IF(AND(JVez!A233=\"\",JVez!B233=\"\"),\"\",JVez!A233))","v":""},{"$f":"IF(C237=\"\",\"\",JVez!B233)","v":""},null,null,null,"",null,null,null,null,"",null,"",null,"",null,"",null,9000]
[null,{"$f":"IF(JVez!E234=\"\",\"\",JVez!E234)","v":""},{"$f":"IF(AND(JVez!A234=\"\",JVez!B234<>\"\"),\"\",IF(AND(JVez!A234=\"\",JVez!B234=\"\"),\"\",JVez!A234))","v":""},{"$f":"IF(C238=\"\",\"\",JVez!B234)","v":""},null,null,null,"",null,null,null,null,"",null,"",null,"",null,"",null,9000]
[null,{"$f":"IF(JVez!E235=\"\",\"\",JVez!E235)","v":""},{"$f":"IF(AND(JVez!A235=\"\",JVez!B235<>\"\"),\"\",IF(AND(JVez!A235=\"\",JVez!B235=\"\"),\"\",JVez!A235))","v":""},{"$f":"IF(C239=\"\",\"\",JVez!B235)","v":""},null,null,null,"",null,null,null,null,"",null,"",null,"",null,"",null,9000]
[null,{"$f":"IF(JVez!E236=\"\",\"\",JVez!E236)","v":""},{"$f":"IF(AND(JVez!A236=\"\",JVez!B236<>\"\"),\"\",IF(AND(JVez!A236=\"\",JVez!B236=\"\"),\"\",JVez!A236))","v":""},{"$f":"IF(C240=\"\",\"\",JVez!B236)","v":""},null,null,null,"",null,null,null,null,"",null,"",null,"",null,"",null,9000]
[null,{"$f":"IF(JVez!E237=\"\",\"\",JVez!E237)","v":""},{"$f":"IF(AND(JVez!A237=\"\",JVez!B237<>\"\"),\"\",IF(AND(JVez!A237=\"\",JVez!B237=\"\"),\"\",JVez!A237))","v":""},{"$f":"IF(C241=\"\",\"\",JVez!B237)","v":""},null,null,null,"",null,null,null,null,"",null,"",null,"",null,"",null,9000]
[null,{"$f":"IF(JVez!E238=\"\",\"\",JVez!E238)","v":""},{"$f":"IF(AND(JVez!A238=\"\",JVez!B238<>\"\"),\"\",IF(AND(JVez!A238=\"\",JVez!B238=\"\"),\"\",JVez!A238))","v":""},{"$f":"IF(C242=\"\",\"\",JVez!B238)","v":""},null,null,null,"",null,null,null,null,"",null,"",null,"",null,"",null,9000]
[null,{"$f":"IF(JVez!E239=\"\",\"\",JVez!E239)","v":""},{"$f":"IF(AND(JVez!A239=\"\",JVez!B239<>\"\"),\"\",IF(AND(JVez!A239=\"\",JVez!B239=\"\"),\"\",JVez!A239))","v":""},{"$f":"IF(C243=\"\",\"\",JVez!B239)","v":""},null,null,null,"",null,null,null,null,"",null,"",null,"",null,"",null,9000]
[null,{"$f":"IF(JVez!E240=\"\",\"\",JVez!E240)","v":""},{"$f":"IF(AND(JVez!A240=\"\",JVez!B240<>\"\"),\"\",IF(AND(JVez!A240=\"\",JVez!B240=\"\"),\"\",JVez!A240))","v":""},{"$f":"IF(C244=\"\",\"\",JVez!B240)","v":""},null,null,null,"",null,null,null,null,"",null,"",null,"",null,"",null,9000]
[null,{"$f":"IF(JVez!E241=\"\",\"\",JVez!E241)","v":""},{"$f":"IF(AND(JVez!A241=\"\",JVez!B241<>\"\"),\"\",IF(AND(JVez!A241=\"\",JVez!B241=\"\"),\"\",JVez!A241))","v":""},{"$f":"IF(C245=\"\",\"\",JVez!B241)","v":""},null,null,null,"",null,null,null,null,"",null,"",null,"",null,"",null,9000]
[null,{"$f":"IF(JVez!E242=\"\",\"\",JVez!E242)","v":""},{"$f":"IF(AND(JVez!A242=\"\",JVez!B242<>\"\"),\"\",IF(AND(JVez!A242=\"\",JVez!B242=\"\"),\"\",JVez!A242))","v":""},{"$f":"IF(C246=\"\",\"\",JVez!B242)","v":""},null,null,null,"",null,null,null,null,"",null,"",null,"",null,"",null,9000]
[null,{"$f":"IF(JVez!E243=\"\",\"\",JVez!E243)","v":""},{"$f":"IF(AND(JVez!A243=\"\",JVez!B243<>\"\"),\"\",IF(AND(JVez!A243=\"\",JVez!B243=\"\"),\"\",JVez!A243))","v":""},{"$f":"IF(C247=\"\",\"\",JVez!B243)","v":""},null,null,null,"",null,null,null,null,"",null,"",null,"",null,"",null,9000]
[null,{"$f":"IF(JVez!E244=\"\",\"\",JVez!E244)","v":""},{"$f":"IF(AND(JVez!A244=\"\",JVez!B244<>\"\"),\"\",IF(AND(JVez!A244=\"\",JVez!B244=\"\"),\"\",JVez!A244))","v":""},{"$f":"IF(C248=\"\",\"\",JVez!B244)","v":""},null,null,null,"",null,null,null,null,"",null,"",null,"",null,"",null,9000]
[null,{"$f":"IF(JVez!E245=\"\",\"\",JVez!E245)","v":""},{"$f":"IF(AND(JVez!A245=\"\",JVez!B245<>\"\"),\"\",IF(AND(JVez!A245=\"\",JVez!B245=\"\"),\"\",JVez!A245))","v":""},{"$f":"IF(C249=\"\",\"\",JVez!B245)","v":""},null,null,null,"",null,null,null,null,"",null,"",null,"",null,"",null,9000]
[null,{"$f":"IF(JVez!E246=\"\",\"\",JVez!E246)","v":""},{"$f":"IF(AND(JVez!A246=\"\",JVez!B246<>\"\"),\"\",IF(AND(JVez!A246=\"\",JVez!B246=\"\"),\"\",JVez!A246))","v":""},{"$f":"IF(C250=\"\",\"\",JVez!B246)","v":""},null,null,null,"",null,null,null,null,"",null,"",null,"",null,"",null,9000]
[null,{"$f":"IF(JVez!E247=\"\",\"\",JVez!E247)","v":""},{"$f":"IF(AND(JVez!A247=\"\",JVez!B247<>\"\"),\"\",IF(AND(JVez!A247=\"\",JVez!B247=\"\"),\"\",JVez!A247))","v":""},{"$f":"IF(C251=\"\",\"\",JVez!B247)","v":""},null,null,null,"",null,null,null,null,"",null,"",null,"",null,"",null,9000]
[null,{"$f":"IF(JVez!E248=\"\",\"\",JVez!E248)","v":""},{"$f":"IF(AND(JVez!A248=\"\",JVez!B248<>\"\"),\"\",IF(AND(JVez!A248=\"\",JVez!B248=\"\"),\"\",JVez!A248))","v":""},{"$f":"IF(C252=\"\",\"\",JVez!B248)","v":""},null,null,null,"",null,null,null,null,"",null,"",null,"",null,"",null,9000]
[null,{"$f":"IF(JVez!E249=\"\",\"\",JVez!E249)","v":""},{"$f":"IF(AND(JVez!A249=\"\",JVez!B249<>\"\"),\"\",IF(AND(JVez!A249=\"\",JVez!B249=\"\"),\"\",JVez!A249))","v":""},{"$f":"IF(C253=\"\",\"\",JVez!B249)","v":""},null,null,null,"",null,null,null,null,"",null,"",null,"",null,"",null,9000]
[null,{"$f":"IF(JVez!E250=\"\",\"\",JVez!E250)","v":""},{"$f":"IF(AND(JVez!A250=\"\",JVez!B250<>\"\"),\"\",IF(AND(JVez!A250=\"\",JVez!B250=\"\"),\"\",JVez!A250))","v":""},{"$f":"IF(C254=\"\",\"\",JVez!B250)","v":""},null,null,null,"",null,null,null,null,"",null,"",null,"",null,"",null,9000]
[null,{"$f":"IF(JVez!E251=\"\",\"\",JVez!E251)","v":""},{"$f":"IF(AND(JVez!A251=\"\",JVez!B251<>\"\"),\"\",IF(AND(JVez!A251=\"\",JVez!B251=\"\"),\"\",JVez!A251))","v":""},{"$f":"IF(C255=\"\",\"\",JVez!B251)","v":""},null,null,null,"",null,null,null,null,"",null,"",null,"",null,"",null,9000]
[null,{"$f":"IF(JVez!E252=\"\",\"\",JVez!E252)","v":""},{"$f":"IF(AND(JVez!A252=\"\",JVez!B252<>\"\"),\"\",IF(AND(JVez!A252=\"\",JVez!B252=\"\"),\"\",JVez!A252))","v":""},{"$f":"IF(C256=\"\",\"\",JVez!B252)","v":""},null,null,null,"",null,null,null,null,"",null,"",null,"",null,"",null,9000]
[null,{"$f":"IF(JVez!E253=\"\",\"\",JVez!E253)","v":""},{"$f":"IF(AND(JVez!A253=\"\",JVez!B253<>\"\"),\"\",IF(AND(JVez!A253=\"\",JVez!B253=\"\"),\"\",JVez!A253))","v":""},{"$f":"IF(C257=\"\",\"\",JVez!B253)","v":""},null,null,null,"",null,null,null,null,"",null,"",null,"",null,"",null,9000]
[null,{"$f":"IF(JVez!E254=\"\",\"\",JVez!E254)","v":""},{"$f":"IF(AND(JVez!A254=\"\",JVez!B254<>\"\"),\"\",IF(AND(JVez!A254=\"\",JVez!B254=\"\"),\"\",JVez!A254))","v":""},{"$f":"IF(C258=\"\",\"\",JVez!B254)","v":""},null,null,null,"",null,null,null,null,"",null,"",null,"",null,"",null,9000]
[null,{"$f":"IF(JVez!E255=\"\",\"\",JVez!E255)","v":""},{"$f":"IF(AND(JVez!A255=\"\",JVez!B255<>\"\"),\"\",IF(AND(JVez!A255=\"\",JVez!B255=\"\"),\"\",JVez!A255))","v":""},{"$f":"IF(C259=\"\",\"\",JVez!B255)","v":""},null,null,null,"",null,null,null,null,"",null,"",null,"",null,"",null,9000]
[null,{"$f":"IF(JVez!E256=\"\",\"\",JVez!E256)","v":""},{"$f":"IF(AND(JVez!A256=\"\",JVez!B256<>\"\"),\"\",IF(AND(JVez!A256=\"\",JVez!B256=\"\"),\"\",JVez!A256))","v":""},{"$f":"IF(C260=\"\",\"\",JVez!B256)","v":""},null,null,null,"",null,null,null,null,"",null,"",null,"",null,"",null,9000]
[null,{"$f":"IF(JVez!E257=\"\",\"\",JVez!E257)","v":""},{"$f":"IF(AND(JVez!A257=\"\",JVez!B257<>\"\"),\"\",IF(AND(JVez!A257=\"\",JVez!B257=\"\"),\"\",JVez!A257))","v":""},{"$f":"IF(C261=\"\",\"\",JVez!B257)","v":""},null,null,null,{"$f":"IF($C261=\"\",\"\",IF(OR($E261=\"DNF\",$F261=\"DNF\",$G261=\"DNF\",AND($E261=\"\",$F261=\"\",$G261=\"\")),\"DNF\",IF(OR($E261=\"NP\",$F261=\"NP\",$G261=\"NP\"),\"NP\",IF(ISERROR(MEDIAN($E261:$G261)),\"DNF\",IF(OR($E261=\"X\",$F261=\"X\",$G261=\"X\",$E261=\"\",$F261=\"\",$G261=\"\",$E261=\"x\",$F261=\"x\",$G261=\"x\"),MAX($E261:$G261),MEDIAN($E261:$G261))))))","v":""},null,null,null,null,{"$f":"IF($C261=\"\",\"\",IF(OR($J261=\"DNF\",$K261=\"DNF\",$L261=\"DNF\",AND($J261=\"\",$K261=\"\",$L261=\"\")),\"DNF\",IF(OR($J261=\"NP\",$K261=\"NP\",$L261=\"NP\"),\"NP\",IF(ISERROR(MEDIAN($J261:$L261)),\"DNF\",IF(OR($J261=\"X\",$K261=\"X\",$L261=\"X\",$J261=\"\",$K261=\"\",$L261=\"\",$J261=\"x\",$K261=\"x\",$L261=\"x\"),MAX($J261:$L261),MEDIAN($J261:$L261))))))","v":""},null,{"$f":"IF(C261=\"\",\"\",IF(OR(AND(H261=\"NP\",M261=\"NP\"),AND(H261=\"DNF\",M261=\"DNF\")),H261,IF(AND(H261=\"NP\",M261=\"DNF\"),H261,IF(AND(H261=\"DNF\",M261=\"NP\"),M261,MIN(H261,M261)))))","v":""},null,{"$f":"IF(C261=\"\",\"\",IF(OR(O261=\"NP\",O261=\"DNF\"),O261,RANK(O261,O$5:O$404,1)))","v":""},null,{"$f":"IF(C261=\"\",\"\",IF(O261=\"NP\",MAX(Q$5:Q$404)+1,IF(O261=\"DNF\",MAX(Q$5:Q$404)+COUNTIF(Q$5:Q$404,\"NP\")+1,RANK(O261,O$5:O$404,1))))","v":""},null,{"$f":"IF($C261=\"\",9000,MAX(H261,M261)+(COUNTIF($H261:$H261,\"NP\")*600)+(COUNTIF($M261:$M261,\"NP\")*600)+(COUNTIF($H261:$H261,\"DNF\")*3600)+(COUNTIF($M261:$M261,\"DNF\")*3600))","v":9000}]
[null,{"$f":"IF(JVez!E258=\"\",\"\",JVez!E258)","v":""},{"$f":"IF(AND(JVez!A258=\"\",JVez!B258<>\"\"),\"\",IF(AND(JVez!A258=\"\",JVez!B258=\"\"),\"\",JVez!A258))","v":""},{"$f":"IF(C262=\"\",\"\",JVez!B258)","v":""},null,null,null,"",null,null,null,null,"",null,"",null,"",null,"",null,9000]
[null,{"$f":"IF(JVez!E259=\"\",\"\",JVez!E259)","v":""},{"$f":"IF(AND(JVez!A259=\"\",JVez!B259<>\"\"),\"\",IF(AND(JVez!A259=\"\",JVez!B259=\"\"),\"\",JVez!A259))","v":""},{"$f":"IF(C263=\"\",\"\",JVez!B259)","v":""},null,null,null,"",null,null,null,null,"",null,"",null,"",null,"",null,9000]
[null,{"$f":"IF(JVez!E260=\"\",\"\",JVez!E260)","v":""},{"$f":"IF(AND(JVez!A260=\"\",JVez!B260<>\"\"),\"\",IF(AND(JVez!A260=\"\",JVez!B260=\"\"),\"\",JVez!A260))","v":""},{"$f":"IF(C264=\"\",\"\",JVez!B260)","v":""},null,null,null,"",null,null,null,null,"",null,"",null,"",null,"",null,9000]
[null,{"$f":"IF(JVez!E261=\"\",\"\",JVez!E261)","v":""},{"$f":"IF(AND(JVez!A261=\"\",JVez!B261<>\"\"),\"\",IF(AND(JVez!A261=\"\",JVez!B261=\"\"),\"\",JVez!A261))","v":""},{"$f":"IF(C265=\"\",\"\",JVez!B261)","v":""},null,null,null,"",null,null,null,null,"",null,"",null,"",null,"",null,9000]
[null,{"$f":"IF(JVez!E262=\"\",\"\",JVez!E262)","v":""},{"$f":"IF(AND(JVez!A262=\"\",JVez!B262<>\"\"),\"\",IF(AND(JVez!A262=\"\",JVez!B262=\"\"),\"\",JVez!A262))","v":""},{"$f":"IF(C266=\"\",\"\",JVez!B262)","v":""},null,null,null,"",null,null,null,null,"",null,"",null,"",null,"",null,9000]
[null,{"$f":"IF(JVez!E263=\"\",\"\",JVez!E263)","v":""},{"$f":"IF(AND(JVez!A263=\"\",JVez!B263<>\"\"),\"\",IF(AND(JVez!A263=\"\",JVez!B263=\"\"),\"\",JVez!A263))","v":""},{"$f":"IF(C267=\"\",\"\",JVez!B263)","v":""},null,null,null,"",null,null,null,null,"",null,"",null,"",null,"",null,9000]
[null,{"$f":"IF(JVez!E264=\"\",\"\",JVez!E264)","v":""},{"$f":"IF(AND(JVez!A264=\"\",JVez!B264<>\"\"),\"\",IF(AND(JVez!A264=\"\",JVez!B264=\"\"),\"\",JVez!A264))","v":""},{"$f":"IF(C268=\"\",\"\",JVez!B264)","v":""},null,null,null,"",null,null,null,null,"",null,"",null,"",null,"",null,9000]
[null,{"$f":"IF(JVez!E265=\"\",\"\",JVez!E265)","v":""},{"$f":"IF(AND(JVez!A265=\"\",JVez!B265<>\"\"),\"\",IF(AND(JVez!A265=\"\",JVez!B265=\"\"),\"\",JVez!A265))","v":""},{"$f":"IF(C269=\"\",\"\",JVez!B265)","v":""},null,null,null,"",null,null,null,null,"",null,"",null,"",null,"",null,9000]
[null,{"$f":"IF(JVez!E266=\"\",\"\",JVez!E266)","v":""},{"$f":"IF(AND(JVez!A266=\"\",JVez!B266<>\"\"),\"\",IF(AND(JVez!A266=\"\",JVez!B266=\"\"),\"\",JVez!A266))","v":""},{"$f":"IF(C270=\"\",\"\",JVez!B266)","v":""},null,null,null,"",null,null,null,null,"",null,"",null,"",null,"",null,9000]
[null,{"$f":"IF(JVez!E267=\"\",\"\",JVez!E267)","v":""},{"$f":"IF(AND(JVez!A267=\"\",JVez!B267<>\"\"),\"\",IF(AND(JVez!A267=\"\",JVez!B267=\"\"),\"\",JVez!A267))","v":""},{"$f":"IF(C271=\"\",\"\",JVez!B267)","v":""},null,null,null,"",null,null,null,null,"",null,"",null,"",null,"",null,9000]
[null,{"$f":"IF(JVez!E268=\"\",\"\",JVez!E268)","v":""},{"$f":"IF(AND(JVez!A268=\"\",JVez!B268<>\"\"),\"\",IF(AND(JVez!A268=\"\",JVez!B268=\"\"),\"\",JVez!A268))","v":""},{"$f":"IF(C272=\"\",\"\",JVez!B268)","v":""},null,null,null,"",null,null,null,null,"",null,"",null,"",null,"",null,9000]
[null,{"$f":"IF(JVez!E269=\"\",\"\",JVez!E269)","v":""},{"$f":"IF(AND(JVez!A269=\"\",JVez!B269<>\"\"),\"\",IF(AND(JVez!A269=\"\",JVez!B269=\"\"),\"\",JVez!A269))","v":""},{"$f":"IF(C273=\"\",\"\",JVez!B269)","v":""},null,null,null,"",null,null,null,null,"",null,"",null,"",null,"",null,9000]
[null,{"$f":"IF(JVez!E270=\"\",\"\",JVez!E270)","v":""},{"$f":"IF(AND(JVez!A270=\"\",JVez!B270<>\"\"),\"\",IF(AND(JVez!A270=\"\",JVez!B270=\"\"),\"\",JVez!A270))","v":""},{"$f":"IF(C274=\"\",\"\",JVez!B270)","v":""},null,null,null,"",null,null,null,null,"",null,"",null,"",null,"",null,9000]
[null,{"$f":"IF(JVez!E271=\"\",\"\",JVez!E271)","v":""},{"$f":"IF(AND(JVez!A271=\"\",JVez!B271<>\"\"),\"\",IF(AND(JVez!A271=\"\",JVez!B271=\"\"),\"\",JVez!A271))","v":""},{"$f":"IF(C275=\"\",\"\",JVez!B271)","v":""},null,null,null,"",null,null,null,null,"",null,"",null,"",null,"",null,9000]
[null,{"$f":"IF(JVez!E272=\"\",\"\",JVez!E272)","v":""},{"$f":"IF(AND(JVez!A272=\"\",JVez!B272<>\"\"),\"\",IF(AND(JVez!A272=\"\",JVez!B272=\"\"),\"\",JVez!A272))","v":""},{"$f":"IF(C276=\"\",\"\",JVez!B272)","v":""},null,null,null,"",null,null,null,null,"",null,"",null,"",null,"",null,9000]
[null,{"$f":"IF(JVez!E273=\"\",\"\",JVez!E273)","v":""},{"$f":"IF(AND(JVez!A273=\"\",JVez!B273<>\"\"),\"\",IF(AND(JVez!A273=\"\",JVez!B273=\"\"),\"\",JVez!A273))","v":""},{"$f":"IF(C277=\"\",\"\",JVez!B273)","v":""},null,null,null,"",null,null,null,null,"",null,"",null,"",null,"",null,9000]
[null,{"$f":"IF(JVez!E274=\"\",\"\",JVez!E274)","v":""},{"$f":"IF(AND(JVez!A274=\"\",JVez!B274<>\"\"),\"\",IF(AND(JVez!A274=\"\",JVez!B274=\"\"),\"\",JVez!A274))","v":""},{"$f":"IF(C278=\"\",\"\",JVez!B274)","v":""},null,null,null,"",null,null,null,null,"",null,"",null,"",null,"",null,9000]
[null,{"$f":"IF(JVez!E275=\"\",\"\",JVez!E275)","v":""},{"$f":"IF(AND(JVez!A275=\"\",JVez!B275<>\"\"),\"\",IF(AND(JVez!A275=\"\",JVez!B275=\"\"),\"\",JVez!A275))","v":""},{"$f":"IF(C279=\"\",\"\",JVez!B275)","v":""},null,null,null,"",null,null,null,null,"",null,"",null,"",null,"",null,9000]
[null,{"$f":"IF(JVez!E276=\"\",\"\",JVez!E276)","v":""},{"$f":"IF(AND(JVez!A276=\"\",JVez!B276<>\"\"),\"\",IF(AND(JVez!A276=\"\",JVez!B276=\"\"),\"\",JVez!A276))","v":""},{"$f":"IF(C280=\"\",\"\",JVez!B276)","v":""},null,null,null,"",null,null,null,null,"",null,"",null,"",null,"",null,9000]
[null,{"$f":"IF(JVez!E277=\"\",\"\",JVez!E277)","v":""},{"$f":"IF(AND(JVez!A277=\"\",JVez!B277<>\"\"),\"\",IF(AND(JVez!A277=\"\",JVez!B277=\"\"),\"\",JVez!A277))","v":""},{"$f":"IF(C281=\"\",\"\",JVez!B277)","v":""},null,null,null,"",null,null,null,null,"",null,"",null,"",null,"",null,9000]
[null,{"$f":"IF(JVez!E278=\"\",\"\",JVez!E278)","v":""},{"$f":"IF(AND(JVez!A278=\"\",JVez!B278<>\"\"),\"\",IF(AND(JVez!A278=\"\",JVez!B278=\"\"),\"\",JVez!A278))","v":""},{"$f":"IF(C282=\"\",\"\",JVez!B278)","v":""},null,null,null,"",null,null,null,null,"",null,"",null,"",null,"",null,9000]
[null,{"$f":"IF(JVez!E279=\"\",\"\",JVez!E279)","v":""},{"$f":"IF(AND(JVez!A279=\"\",JVez!B279<>\"\"),\"\",IF(AND(JVez!A279=\"\",JVez!B279=\"\"),\"\",JVez!A279))","v":""},{"$f":"IF(C283=\"\",\"\",JVez!B279)","v":""},null,null,null,"",null,null,null,null,"",null,"",null,"",null,"",null,9000]
[null,{"$f":"IF(JVez!E280=\"\",\"\",JVez!E280)","v":""},{"$f":"IF(AND(JVez!A280=\"\",JVez!B280<>\"\"),\"\",IF(AND(JVez!A280=\"\",JVez!B280=\"\"),\"\",JVez!A280))","v":""},{"$f":"IF(C284=\"\",\"\",JVez!B280)","v":""},null,null,null,"",null,null,null,null,"",null,"",null,"",null,"",null,9000]
[null,{"$f":"IF(JVez!E281=\"\",\"\",JVez!E281)","v":""},{"$f":"IF(AND(JVez!A281=\"\",JVez!B281<>\"\"),\"\",IF(AND(JVez!A281=\"\",JVez!B281=\"\"),\"\",JVez!A281))","v":""},{"$f":"IF(C285=\"\",\"\",JVez!B281)","v":""},null,null,null,"",null,null,null,null,"",null,"",null,"",null,"",null,9000]
[null,{"$f":"IF(JVez!E282=\"\",\"\",JVez!E282)","v":""},{"$f":"IF(AND(JVez!A282=\"\",JVez!B282<>\"\"),\"\",IF(AND(JVez!A282=\"\",JVez!B282=\"\"),\"\",JVez!A282))","v":""},{"$f":"IF(C286=\"\",\"\",JVez!B282)","v":""},null,null,null,"",null,null,null,null,"",null,"",null,"",null,"",null,9000]
[null,{"$f":"IF(JVez!E283=\"\",\"\",JVez!E283)","v":""},{"$f":"IF(AND(JVez!A283=\"\",JVez!B283<>\"\"),\"\",IF(AND(JVez!A283=\"\",JVez!B283=\"\"),\"\",JVez!A283))","v":""},{"$f":"IF(C287=\"\",\"\",JVez!B283)","v":""},null,null,null,"",null,null,null,null,"",null,"",null,"",null,"",null,9000]
[null,{"$f":"IF(JVez!E284=\"\",\"\",JVez!E284)","v":""},{"$f":"IF(AND(JVez!A284=\"\",JVez!B284<>\"\"),\"\",IF(AND(JVez!A284=\"\",JVez!B284=\"\"),\"\",JVez!A284))","v":""},{"$f":"IF(C288=\"\",\"\",JVez!B284)","v":""},null,null,null,"",null,null,null,null,"",null,"",null,"",null,"",null,9000]
[null,{"$f":"IF(JVez!E285=\"\",\"\",JVez!E285)","v":""},{"$f":"IF(AND(JVez!A285=\"\",JVez!B285<>\"\"),\"\",IF(AND(JVez!A285=\"\",JVez!B285=\"\"),\"\",JVez!A285))","v":""},{"$f":"IF(C289=\"\",\"\",JVez!B285)","v":""},null,null,null,"",null,null,null,null,"",null,"",null,"",null,"",null,9000]
[null,{"$f":"IF(JVez!E286=\"\",\"\",JVez!E286)","v":""},{"$f":"IF(AND(JVez!A286=\"\",JVez!B286<>\"\"),\"\",IF(AND(JVez!A286=\"\",JVez!B286=\"\"),\"\",JVez!A286))","v":""},{"$f":"IF(C290=\"\",\"\",JVez!B286)","v":""},null,null,null,"",null,null,null,null,"",null,"",null,"",null,"",null,9000]
[null,{"$f":"IF(JVez!E287=\"\",\"\",JVez!E287)","v":""},{"$f":"IF(AND(JVez!A287=\"\",JVez!B287<>\"\"),\"\",IF(AND(JVez!A287=\"\",JVez!B287=\"\"),\"\",JVez!A287))","v":""},{"$f":"IF(C291=\"\",\"\",JVez!B287)","v":""},null,null,null,"",null,null,null,null,"",null,"",null,"",null,"",null,9000]
[null,{"$f":"IF(JVez!E288=\"\",\"\",JVez!E288)","v":""},{"$f":"IF(AND(JVez!A288=\"\",JVez!B288<>\"\"),\"\",IF(AND(JVez!A288=\"\",JVez!B288=\"\"),\"\",JVez!A288))","v":""},{"$f":"IF(C292=\"\",\"\",JVez!B288)","v":""},null,null,null,"",null,null,null,null,"",null,"",null,"",null,"",null,9000]
[null,{"$f":"IF(JVez!E289=\"\",\"\",JVez!E289)","v":""},{"$f":"IF(AND(JVez!A289=\"\",JVez!B289<>\"\"),\"\",IF(AND(JVez!A289=\"\",JVez!B289=\"\"),\"\",JVez!A289))","v":""},{"$f":"IF(C293=\"\",\"\",JVez!B289)","v":""},null,null,null,"",null,null,null,null,"",null,"",null,"",null,"",null,9000]
[null,{"$f":"IF(JVez!E290=\"\",\"\",JVez!E290)","v":""},{"$f":"IF(AND(JVez!A290=\"\",JVez!B290<>\"\"),\"\",IF(AND(JVez!A290=\"\",JVez!B290=\"\"),\"\",JVez!A290))","v":""},{"$f":"IF(C294=\"\",\"\",JVez!B290)","v":""},null,null,null,"",null,null,null,null,"",null,"",null,"",null,"",null,9000]
[null,{"$f":"IF(JVez!E291=\"\",\"\",JVez!E291)","v":""},{"$f":"IF(AND(JVez!A291=\"\",JVez!B291<>\"\"),\"\",IF(AND(JVez!A291=\"\",JVez!B291=\"\"),\"\",JVez!A291))","v":""},{"$f":"IF(C295=\"\",\"\",JVez!B291)","v":""},null,null,null,"",null,null,null,null,"",null,"",null,"",null,"",null,9000]
[null,{"$f":"IF(JVez!E292=\"\",\"\",JVez!E292)","v":""},{"$f":"IF(AND(JVez!A292=\"\",JVez!B292<>\"\"),\"\",IF(AND(JVez!A292=\"\",JVez!B292=\"\"),\"\",JVez!A292))","v":""},{"$f":"IF(C296=\"\",\"\",JVez!B292)","v":""},null,null,null,"",null,null,null,null,"",null,"",null,"",null,"",null,9000]
[null,{"$f":"IF(JVez!E293=\"\",\"\",JVez!E293)","v":""},{"$f":"IF(AND(JVez!A293=\"\",JVez!B293<>\"\"),\"\",IF(AND(JVez!A293=\"\",JVez!B293=\"\"),\"\",JVez!A293))","v":""},{"$f":"IF(C297=\"\",\"\",JVez!B293)","v":""},null,null,null,"",null,null,null,null,"",null,"",null,"",null,"",null,9000]
[null,{"$f":"IF(JVez!E294=\"\",\"\",JVez!E294)","v":""},{"$f":"IF(AND(JVez!A294=\"\",JVez!B294<>\"\"),\"\",IF(AND(JVez!A294=\"\",JVez!B294=\"\"),\"\",JVez!A294))","v":""},{"$f":"IF(C298=\"\",\"\",JVez!B294)","v":""},null,null,null,"",null,null,null,null,"",null,"",null,"",null,"",null,9000]
[null,{"$f":"IF(JVez!E295=\"\",\"\",JVez!E295)","v":""},{"$f":"IF(AND(JVez!A295=\"\",JVez!B295<>\"\"),\"\",IF(AND(JVez!A295=\"\",JVez!B295=\"\"),\"\",JVez!A295))","v":""},{"$f":"IF(C299=\"\",\"\",JVez!B295)","v":""},null,null,null,"",null,null,null,null,"",null,"",null,"",null,"",null,9000]
[null,{"$f":"IF(JVez!E296=\"\",\"\",JVez!E296)","v":""},{"$f":"IF(AND(JVez!A296=\"\",JVez!B296<>\"\"),\"\",IF(AND(JVez!A296=\"\",JVez!B296=\"\"),\"\",JVez!A296))","v":""},{"$f":"IF(C300=\"\",\"\",JVez!B296)","v":""},null,null,null,"",null,null,null,null,"",null,"",null,"",null,"",null,9000]
[null,{"$f":"IF(JVez!E297=\"\",\"\",JVez!E297)","v":""},{"$f":"IF(AND(JVez!A297=\"\",JVez!B297<>\"\"),\"\",IF(AND(JVez!A297=\"\",JVez!B297=\"\"),\"\",JVez!A297))","v":""},{"$f":"IF(C301=\"\",\"\",JVez!B297)","v":""},null,null,null,"",null,null,null,null,"",null,"",null,"",null,"",null,9000]
[null,{"$f":"IF(JVez!E298=\"\",\"\",JVez!E298)","v":""},{"$f":"IF(AND(JVez!A298=\"\",JVez!B298<>\"\"),\"\",IF(AND(JVez!A298=\"\",JVez!B298=\"\"),\"\",JVez!A298))","v":""},{"$f":"IF(C302=\"\",\"\",JVez!B298)","v":""},null,null,null,"",null,null,null,null,"",null,"",null,"",null,"",null,9000]
[null,{"$f":"IF(JVez!E299=\"\",\"\",JVez!E299)","v":""},{"$f":"IF(AND(JVez!A299=\"\",JVez!B299<>\"\"),\"\",IF(AND(JVez!A299=\"\",JVez!B299=\"\"),\"\",JVez!A299))","v":""},{"$f":"IF(C303=\"\",\"\",JVez!B299)","v":""},null,null,null,"",null,null,null,null,"",null,"",null,"",null,"",null,9000]
[null,{"$f":"IF(JVez!E300=\"\",\"\",JVez!E300)","v":""},{"$f":"IF(AND(JVez!A300=\"\",JVez!B300<>\"\"),\"\",IF(AND(JVez!A300=\"\",JVez!B300=\"\"),\"\",JVez!A300))","v":""},{"$f":"IF(C304=\"\",\"\",JVez!B300)","v":""},null,null,null,"",null,null,null,null,"",null,"",null,"",null,"",null,9000]
[null,{"$f":"IF(JVez!E301=\"\",\"\",JVez!E301)","v":""},{"$f":"IF(AND(JVez!A301=\"\",JVez!B301<>\"\"),\"\",IF(AND(JVez!A301=\"\",JVez!B301=\"\"),\"\",JVez!A301))","v":""},{"$f":"IF(C305=\"\",\"\",JVez!B301)","v":""},null,null,null,"",null,null,null,null,"",null,"",null,"",null,"",null,9000]
[null,{"$f":"IF(JVez!E302=\"\",\"\",JVez!E302)","v":""},{"$f":"IF(AND(JVez!A302=\"\",JVez!B302<>\"\"),\"\",IF(AND(JVez!A302=\"\",JVez!B302=\"\"),\"\",JVez!A302))","v":""},{"$f":"IF(C306=\"\",\"\",JVez!B302)","v":""},null,null,null,"",null,null,null,null,"",null,"",null,"",null,"",null,9000]
[null,{"$f":"IF(JVez!E303=\"\",\"\",JVez!E303)","v":""},{"$f":"IF(AND(JVez!A303=\"\",JVez!B303<>\"\"),\"\",IF(AND(JVez!A303=\"\",JVez!B303=\"\"),\"\",JVez!A303))","v":""},{"$f":"IF(C307=\"\",\"\",JVez!B303)","v":""},null,null,null,"",null,null,null,null,"",null,"",null,"",null,"",null,9000]
[null,{"$f":"IF(JVez!E304=\"\",\"\",JVez!E304)","v":""},{"$f":"IF(AND(JVez!A304=\"\",JVez!B304<>\"\"),\"\",IF(AND(JVez!A304=\"\",JVez!B304=\"\"),\"\",JVez!A304))","v":""},{"$f":"IF(C308=\"\",\"\",JVez!B304)","v":""},null,null,null,"",null,null,null,null,"",null,"",null,"",null,"",null,9000]
[null,{"$f":"IF(JVez!E305=\"\",\"\",JVez!E305)","v":""},{"$f":"IF(AND(JVez!A305=\"\",JVez!B305<>\"\"),\"\",IF(AND(JVez!A305=\"\",JVez!B305=\"\"),\"\",JVez!A305))","v":""},{"$f":"IF(C309=\"\",\"\",JVez!B305)","v":""},null,null,null,"",null,null,null,null,"",null,"",null,"",null,"",null,9000]
[null,{"$f":"IF(JVez!E306=\"\",\"\",JVez!E306)","v":""},{"$f":"IF(AND(JVez!A306=\"\",JVez!B306<>\"\"),\"\",IF(AND(JVez!A306=\"\",JVez!B306=\"\"),\"\",JVez!A306))","v":""},{"$f":"IF(C310=\"\",\"\",JVez!B306)","v":""},null,null,null,"",null,null,null,null,"",null,"",null,"",null,"",null,9000]
[null,{"$f":"IF(JVez!E307=\"\",\"\",JVez!E307)","v":""},{"$f":"IF(AND(JVez!A307=\"\",JVez!B307<>\"\"),\"\",IF(AND(JVez!A307=\"\",JVez!B307=\"\"),\"\",JVez!A307))","v":""},{"$f":"IF(C311=\"\",\"\",JVez!B307)","v":""},null,null,null,"",null,null,null,null,"",null,"",null,"",null,"",null,9000]
[null,{"$f":"IF(JVez!E308=\"\",\"\",JVez!E308)","v":""},{"$f":"IF(AND(JVez!A308=\"\",JVez!B308<>\"\"),\"\",IF(AND(JVez!A308=\"\",JVez!B308=\"\"),\"\",JVez!A308))","v":""},{"$f":"IF(C312=\"\",\"\",JVez!B308)","v":""},null,null,null,"",null,null,null,null,"",null,"",null,"",null,"",null,9000]
[null,{"$f":"IF(JVez!E309=\"\",\"\",JVez!E309)","v":""},{"$f":"IF(AND(JVez!A309=\"\",JVez!B309<>\"\"),\"\",IF(AND(JVez!A309=\"\",JVez!B309=\"\"),\"\",JVez!A309))","v":""},{"$f":"IF(C313=\"\",\"\",JVez!B309)","v":""},null,null,null,"",null,null,null,null,"",null,"",null,"",null,"",null,9000]
[null,{"$f":"IF(JVez!E310=\"\",\"\",JVez!E310)","v":""},{"$f":"IF(AND(JVez!A310=\"\",JVez!B310<>\"\"),\"\",IF(AND(JVez!A310=\"\",JVez!B310=\"\"),\"\",JVez!A310))","v":""},{"$f":"IF(C314=\"\",\"\",JVez!B310)","v":""},null,null,null,"",null,null,null,null,"",null,"",null,"",null,"",null,9000]
[null,{"$f":"IF(JVez!E311=\"\",\"\",JVez!E311)","v":""},{"$f":"IF(AND(JVez!A311=\"\",JVez!B311<>\"\"),\"\",IF(AND(JVez!A311=\"\",JVez!B311=\"\"),\"\",JVez!A311))","v":""},{"$f":"IF(C315=\"\",\"\",JVez!B311)","v":""},null,null,null,"",null,null,null,null,"",null,"",null,"",null,"",null,9000]
[null,{"$f":"IF(JVez!E312=\"\",\"\",JVez!E312)","v":""},{"$f":"IF(AND(JVez!A312=\"\",JVez!B312<>\"\"),\"\",IF(AND(JVez!A312=\"\",JVez!B312=\"\"),\"\",JVez!A312))","v":""},{"$f":"IF(C316=\"\",\"\",JVez!B312)","v":""},null,null,null,"",null,null,null,null,"",null,"",null,"",null,"",null,9000]
[null,{"$f":"IF(JVez!E313=\"\",\"\",JVez!E313)","v":""},{"$f":"IF(AND(JVez!A313=\"\",JVez!B313<>\"\"),\"\",IF(AND(JVez!A313=\"\",JVez!B313=\"\"),\"\",JVez!A313))","v":""},{"$f":"IF(C317=\"\",\"\",JVez!B313)","v":""},null,null,null,"",null,null,null,null,"",null,"",null,"",null,"",null,9000]
[null,{"$f":"IF(JVez!E314=\"\",\"\",JVez!E314)","v":""},{"$f":"IF(AND(JVez!A314=\"\",JVez!B314<>\"\"),\"\",IF(AND(JVez!A314=\"\",JVez!B314=\"\"),\"\",JVez!A314))","v":""},{"$f":"IF(C318=\"\",\"\",JVez!B314)","v":""},null,null,null,"",null,null,null,null,"",null,"",null,"",null,"",null,9000]
[null,{"$f":"IF(JVez!E315=\"\",\"\",JVez!E315)","v":""},{"$f":"IF(AND(JVez!A315=\"\",JVez!B315<>\"\"),\"\",IF(AND(JVez!A315=\"\",JVez!B315=\"\"),\"\",JVez!A315))","v":""},{"$f":"IF(C319=\"\",\"\",JVez!B315)","v":""},null,null,null,"",null,null,null,null,"",null,"",null,"",null,"",null,9000]
[null,{"$f":"IF(JVez!E316=\"\",\"\",JVez!E316)","v":""},{"$f":"IF(AND(JVez!A316=\"\",JVez!B316<>\"\"),\"\",IF(AND(JVez!A316=\"\",JVez!B316=\"\"),\"\",JVez!A316))","v":""},{"$f":"IF(C320=\"\",\"\",JVez!B316)","v":""},null,null,null,"",null,null,null,null,"",null,"",null,"",null,"",null,9000]
[null,{"$f":"IF(JVez!E317=\"\",\"\",JVez!E317)","v":""},{"$f":"IF(AND(JVez!A317=\"\",JVez!B317<>\"\"),\"\",IF(AND(JVez!A317=\"\",JVez!B317=\"\"),\"\",JVez!A317))","v":""},{"$f":"IF(C321=\"\",\"\",JVez!B317)","v":""},null,null,null,"",null,null,null,null,"",null,"",null,"",null,"",null,9000]
[null,{"$f":"IF(JVez!E318=\"\",\"\",JVez!E318)","v":""},{"$f":"IF(AND(JVez!A318=\"\",JVez!B318<>\"\"),\"\",IF(AND(JVez!A318=\"\",JVez!B318=\"\"),\"\",JVez!A318))","v":""},{"$f":"IF(C322=\"\",\"\",JVez!B318)","v":""},null,null,null,"",null,null,null,null,"",null,"",null,"",null,"",null,9000]
[null,{"$f":"IF(JVez!E319=\"\",\"\",JVez!E319)","v":""},{"$f":"IF(AND(JVez!A319=\"\",JVez!B319<>\"\"),\"\",IF(AND(JVez!A319=\"\",JVez!B319=\"\"),\"\",JVez!A319))","v":""},{"$f":"IF(C323=\"\",\"\",JVez!B319)","v":""},null,null,null,"",null,null,null,null,"",null,"",null,"",null,"",null,9000]
[null,{"$f":"IF(JVez!E320=\"\",\"\",JVez!E320)","v":""},{"$f":"IF(AND(JVez!A320=\"\",JVez!B320<>\"\"),\"\",IF(AND(JVez!A320=\"\",JVez!B320=\"\"),\"\",JVez!A320))","v":""},{"$f":"IF(C324=\"\",\"\",JVez!B320)","v":""},null,null,null,"",null,null,null,null,"",null,"",null,"",null,"",null,9000]
[null,{"$f":"IF(JVez!E321=\"\",\"\",JVez!E321)","v":""},{"$f":"IF(AND(JVez!A321=\"\",JVez!B321<>\"\"),\"\",IF(AND(JVez!A321=\"\",JVez!B321=\"\"),\"\",JVez!A321))","v":""},{"$f":"IF(C325=\"\",\"\",JVez!B321)","v":""},null,null,null,{"$f":"IF($C325=\"\",\"\",IF(OR($E325=\"DNF\",$F325=\"DNF\",$G325=\"DNF\",AND($E325=\"\",$F325=\"\",$G325=\"\")),\"DNF\",IF(OR($E325=\"NP\",$F325=\"NP\",$G325=\"NP\"),\"NP\",IF(ISERROR(MEDIAN($E325:$G325)),\"DNF\",IF(OR($E325=\"X\",$F325=\"X\",$G325=\"X\",$E325=\"\",$F325=\"\",$G325=\"\",$E325=\"x\",$F325=\"x\",$G325=\"x\"),MAX($E325:$G325),MEDIAN($E325:$G325))))))","v":""},null,null,null,null,{"$f":"IF($C325=\"\",\"\",IF(OR($J325=\"DNF\",$K325=\"DNF\",$L325=\"DNF\",AND($J325=\"\",$K325=\"\",$L325=\"\")),\"DNF\",IF(OR($J325=\"NP\",$K325=\"NP\",$L325=\"NP\"),\"NP\",IF(ISERROR(MEDIAN($J325:$L325)),\"DNF\",IF(OR($J325=\"X\",$K325=\"X\",$L325=\"X\",$J325=\"\",$K325=\"\",$L325=\"\",$J325=\"x\",$K325=\"x\",$L325=\"x\"),MAX($J325:$L325),MEDIAN($J325:$L325))))))","v":""},null,{"$f":"IF(C325=\"\",\"\",IF(OR(AND(H325=\"NP\",M325=\"NP\"),AND(H325=\"DNF\",M325=\"DNF\")),H325,IF(AND(H325=\"NP\",M325=\"DNF\"),H325,IF(AND(H325=\"DNF\",M325=\"NP\"),M325,MIN(H325,M325)))))","v":""},null,{"$f":"IF(C325=\"\",\"\",IF(OR(O325=\"NP\",O325=\"DNF\"),O325,RANK(O325,O$5:O$404,1)))","v":""},null,{"$f":"IF(C325=\"\",\"\",IF(O325=\"NP\",MAX(Q$5:Q$404)+1,IF(O325=\"DNF\",MAX(Q$5:Q$404)+COUNTIF(Q$5:Q$404,\"NP\")+1,RANK(O325,O$5:O$404,1))))","v":""},null,{"$f":"IF($C325=\"\",9000,MAX(H325,M325)+(COUNTIF($H325:$H325,\"NP\")*600)+(COUNTIF($M325:$M325,\"NP\")*600)+(COUNTIF($H325:$H325,\"DNF\")*3600)+(COUNTIF($M325:$M325,\"DNF\")*3600))","v":9000}]
[null,{"$f":"IF(JVez!E322=\"\",\"\",JVez!E322)","v":""},{"$f":"IF(AND(JVez!A322=\"\",JVez!B322<>\"\"),\"\",IF(AND(JVez!A322=\"\",JVez!B322=\"\"),\"\",JVez!A322))","v":""},{"$f":"IF(C326=\"\",\"\",JVez!B322)","v":""},null,null,null,"",null,null,null,null,"",null,"",null,"",null,"",null,9000]
[null,{"$f":"IF(JVez!E323=\"\",\"\",JVez!E323)","v":""},{"$f":"IF(AND(JVez!A323=\"\",JVez!B323<>\"\"),\"\",IF(AND(JVez!A323=\"\",JVez!B323=\"\"),\"\",JVez!A323))","v":""},{"$f":"IF(C327=\"\",\"\",JVez!B323)","v":""},null,null,null,"",null,null,null,null,"",null,"",null,"",null,"",null,9000]
[null,{"$f":"IF(JVez!E324=\"\",\"\",JVez!E324)","v":""},{"$f":"IF(AND(JVez!A324=\"\",JVez!B324<>\"\"),\"\",IF(AND(JVez!A324=\"\",JVez!B324=\"\"),\"\",JVez!A324))","v":""},{"$f":"IF(C328=\"\",\"\",JVez!B324)","v":""},null,null,null,"",null,null,null,null,"",null,"",null,"",null,"",null,9000]
[null,{"$f":"IF(JVez!E325=\"\",\"\",JVez!E325)","v":""},{"$f":"IF(AND(JVez!A325=\"\",JVez!B325<>\"\"),\"\",IF(AND(JVez!A325=\"\",JVez!B325=\"\"),\"\",JVez!A325))","v":""},{"$f":"IF(C329=\"\",\"\",JVez!B325)","v":""},null,null,null,"",null,null,null,null,"",null,"",null,"",null,"",null,9000]
[null,{"$f":"IF(JVez!E326=\"\",\"\",JVez!E326)","v":""},{"$f":"IF(AND(JVez!A326=\"\",JVez!B326<>\"\"),\"\",IF(AND(JVez!A326=\"\",JVez!B326=\"\"),\"\",JVez!A326))","v":""},{"$f":"IF(C330=\"\",\"\",JVez!B326)","v":""},null,null,null,"",null,null,null,null,"",null,"",null,"",null,"",null,9000]
[null,{"$f":"IF(JVez!E327=\"\",\"\",JVez!E327)","v":""},{"$f":"IF(AND(JVez!A327=\"\",JVez!B327<>\"\"),\"\",IF(AND(JVez!A327=\"\",JVez!B327=\"\"),\"\",JVez!A327))","v":""},{"$f":"IF(C331=\"\",\"\",JVez!B327)","v":""},null,null,null,"",null,null,null,null,"",null,"",null,"",null,"",null,9000]
[null,{"$f":"IF(JVez!E328=\"\",\"\",JVez!E328)","v":""},{"$f":"IF(AND(JVez!A328=\"\",JVez!B328<>\"\"),\"\",IF(AND(JVez!A328=\"\",JVez!B328=\"\"),\"\",JVez!A328))","v":""},{"$f":"IF(C332=\"\",\"\",JVez!B328)","v":""},null,null,null,"",null,null,null,null,"",null,"",null,"",null,"",null,9000]
[null,{"$f":"IF(JVez!E329=\"\",\"\",JVez!E329)","v":""},{"$f":"IF(AND(JVez!A329=\"\",JVez!B329<>\"\"),\"\",IF(AND(JVez!A329=\"\",JVez!B329=\"\"),\"\",JVez!A329))","v":""},{"$f":"IF(C333=\"\",\"\",JVez!B329)","v":""},null,null,null,"",null,null,null,null,"",null,"",null,"",null,"",null,9000]
[null,{"$f":"IF(JVez!E330=\"\",\"\",JVez!E330)","v":""},{"$f":"IF(AND(JVez!A330=\"\",JVez!B330<>\"\"),\"\",IF(AND(JVez!A330=\"\",JVez!B330=\"\"),\"\",JVez!A330))","v":""},{"$f":"IF(C334=\"\",\"\",JVez!B330)","v":""},null,null,null,"",null,null,null,null,"",null,"",null,"",null,"",null,9000]
[null,{"$f":"IF(JVez!E331=\"\",\"\",JVez!E331)","v":""},{"$f":"IF(AND(JVez!A331=\"\",JVez!B331<>\"\"),\"\",IF(AND(JVez!A331=\"\",JVez!B331=\"\"),\"\",JVez!A331))","v":""},{"$f":"IF(C335=\"\",\"\",JVez!B331)","v":""},null,null,null,"",null,null,null,null,"",null,"",null,"",null,"",null,9000]
[null,{"$f":"IF(JVez!E332=\"\",\"\",JVez!E332)","v":""},{"$f":"IF(AND(JVez!A332=\"\",JVez!B332<>\"\"),\"\",IF(AND(JVez!A332=\"\",JVez!B332=\"\"),\"\",JVez!A332))","v":""},{"$f":"IF(C336=\"\",\"\",JVez!B332)","v":""},null,null,null,"",null,null,null,null,"",null,"",null,"",null,"",null,9000]
[null,{"$f":"IF(JVez!E333=\"\",\"\",JVez!E333)","v":""},{"$f":"IF(AND(JVez!A333=\"\",JVez!B333<>\"\"),\"\",IF(AND(JVez!A333=\"\",JVez!B333=\"\"),\"\",JVez!A333))","v":""},{"$f":"IF(C337=\"\",\"\",JVez!B333)","v":""},null,null,null,"",null,null,null,null,"",null,"",null,"",null,"",null,9000]
[null,{"$f":"IF(JVez!E334=\"\",\"\",JVez!E334)","v":""},{"$f":"IF(AND(JVez!A334=\"\",JVez!B334<>\"\"),\"\",IF(AND(JVez!A334=\"\",JVez!B334=\"\"),\"\",JVez!A334))","v":""},{"$f":"IF(C338=\"\",\"\",JVez!B334)","v":""},null,null,null,"",null,null,null,null,"",null,"",null,"",null,"",null,9000]
[null,{"$f":"IF(JVez!E335=\"\",\"\",JVez!E335)","v":""},{"$f":"IF(AND(JVez!A335=\"\",JVez!B335<>\"\"),\"\",IF(AND(JVez!A335=\"\",JVez!B335=\"\"),\"\",JVez!A335))","v":""},{"$f":"IF(C339=\"\",\"\",JVez!B335)","v":""},null,null,null,"",null,null,null,null,"",null,"",null,"",null,"",null,9000]
[null,{"$f":"IF(JVez!E336=\"\",\"\",JVez!E336)","v":""},{"$f":"IF(AND(JVez!A336=\"\",JVez!B336<>\"\"),\"\",IF(AND(JVez!A336=\"\",JVez!B336=\"\"),\"\",JVez!A336))","v":""},{"$f":"IF(C340=\"\",\"\",JVez!B336)","v":""},null,null,null,"",null,null,null,null,"",null,"",null,"",null,"",null,9000]
[null,{"$f":"IF(JVez!E337=\"\",\"\",JVez!E337)","v":""},{"$f":"IF(AND(JVez!A337=\"\",JVez!B337<>\"\"),\"\",IF(AND(JVez!A337=\"\",JVez!B337=\"\"),\"\",JVez!A337))","v":""},{"$f":"IF(C341=\"\",\"\",JVez!B337)","v":""},null,null,null,"",null,null,null,null,"",null,"",null,"",null,"",null,9000]
[null,{"$f":"IF(JVez!E338=\"\",\"\",JVez!E338)","v":""},{"$f":"IF(AND(JVez!A338=\"\",JVez!B338<>\"\"),\"\",IF(AND(JVez!A338=\"\",JVez!B338=\"\"),\"\",JVez!A338))","v":""},{"$f":"IF(C342=\"\",\"\",JVez!B338)","v":""},null,null,null,"",null,null,null,null,"",null,"",null,"",null,"",null,9000]
[null,{"$f":"IF(JVez!E339=\"\",\"\",JVez!E339)","v":""},{"$f":"IF(AND(JVez!A339=\"\",JVez!B339<>\"\"),\"\",IF(AND(JVez!A339=\"\",JVez!B339=\"\"),\"\",JVez!A339))","v":""},{"$f":"IF(C343=\"\",\"\",JVez!B339)","v":""},null,null,null,"",null,null,null,null,"",null,"",null,"",null,"",null,9000]
[null,{"$f":"IF(JVez!E340=\"\",\"\",JVez!E340)","v":""},{"$f":"IF(AND(JVez!A340=\"\",JVez!B340<>\"\"),\"\",IF(AND(JVez!A340=\"\",JVez!B340=\"\"),\"\",JVez!A340))","v":""},{"$f":"IF(C344=\"\",\"\",JVez!B340)","v":""},null,null,null,"",null,null,null,null,"",null,"",null,"",null,"",null,9000]
[null,{"$f":"IF(JVez!E341=\"\",\"\",JVez!E341)","v":""},{"$f":"IF(AND(JVez!A341=\"\",JVez!B341<>\"\"),\"\",IF(AND(JVez!A341=\"\",JVez!B341=\"\"),\"\",JVez!A341))","v":""},{"$f":"IF(C345=\"\",\"\",JVez!B341)","v":""},null,null,null,"",null,null,null,null,"",null,"",null,"",null,"",null,9000]
[null,{"$f":"IF(JVez!E342=\"\",\"\",JVez!E342)","v":""},{"$f":"IF(AND(JVez!A342=\"\",JVez!B342<>\"\"),\"\",IF(AND(JVez!A342=\"\",JVez!B342=\"\"),\"\",JVez!A342))","v":""},{"$f":"IF(C346=\"\",\"\",JVez!B342)","v":""},null,null,null,"",null,null,null,null,"",null,"",null,"",null,"",null,9000]
[null,{"$f":"IF(JVez!E343=\"\",\"\",JVez!E343)","v":""},{"$f":"IF(AND(JVez!A343=\"\",JVez!B343<>\"\"),\"\",IF(AND(JVez!A343=\"\",JVez!B343=\"\"),\"\",JVez!A343))","v":""},{"$f":"IF(C347=\"\",\"\",JVez!B343)","v":""},null,null,null,"",null,null,null,null,"",null,"",null,"",null,"",null,9000]
[null,{"$f":"IF(JVez!E344=\"\",\"\",JVez!E344)","v":""},{"$f":"IF(AND(JVez!A344=\"\",JVez!B344<>\"\"),\"\",IF(AND(JVez!A344=\"\",JVez!B344=\"\"),\"\",JVez!A344))","v":""},{"$f":"IF(C348=\"\",\"\",JVez!B344)","v":""},null,null,null,"",null,null,null,null,"",null,"",null,"",null,"",null,9000]
[null,{"$f":"IF(JVez!E345=\"\",\"\",JVez!E345)","v":""},{"$f":"IF(AND(JVez!A345=\"\",JVez!B345<>\"\"),\"\",IF(AND(JVez!A345=\"\",JVez!B345=\"\"),\"\",JVez!A345))","v":""},{"$f":"IF(C349=\"\",\"\",JVez!B345)","v":""},null,null,null,"",null,null,null,null,"",null,"",null,"",null,"",null,9000]
[null,{"$f":"IF(JVez!E346=\"\",\"\",JVez!E346)","v":""},{"$f":"IF(AND(JVez!A346=\"\",JVez!B346<>\"\"),\"\",IF(AND(JVez!A346=\"\",JVez!B346=\"\"),\"\",JVez!A346))","v":""},{"$f":"IF(C350=\"\",\"\",JVez!B346)","v":""},null,null,null,"",null,null,null,null,"",null,"",null,"",null,"",null,9000]
[null,{"$f":"IF(JVez!E347=\"\",\"\",JVez!E347)","v":""},{"$f":"IF(AND(JVez!A347=\"\",JVez!B347<>\"\"),\"\",IF(AND(JVez!A347=\"\",JVez!B347=\"\"),\"\",JVez!A347))","v":""},{"$f":"IF(C351=\"\",\"\",JVez!B347)","v":""},null,null,null,"",null,null,null,null,"",null,"",null,"",null,"",null,9000]
[null,{"$f":"IF(JVez!E348=\"\",\"\",JVez!E348)","v":""},{"$f":"IF(AND(JVez!A348=\"\",JVez!B348<>\"\"),\"\",IF(AND(JVez!A348=\"\",JVez!B348=\"\"),\"\",JVez!A348))","v":""},{"$f":"IF(C352=\"\",\"\",JVez!B348)","v":""},null,null,null,"",null,null,null,null,"",null,"",null,"",null,"",null,9000]
[null,{"$f":"IF(JVez!E349=\"\",\"\",JVez!E349)","v":""},{"$f":"IF(AND(JVez!A349=\"\",JVez!B349<>\"\"),\"\",IF(AND(JVez!A349=\"\",JVez!B349=\"\"),\"\",JVez!A349))","v":""},{"$f":"IF(C353=\"\",\"\",JVez!B349)","v":""},null,null,null,"",null,null,null,null,"",null,"",null,"",null,"",null,9000]
[null,{"$f":"IF(JVez!E350=\"\",\"\",JVez!E350)","v":""},{"$f":"IF(AND(JVez!A350=\"\",JVez!B350<>\"\"),\"\",IF(AND(JVez!A350=\"\",JVez!B350=\"\"),\"\",JVez!A350))","v":""},{"$f":"IF(C354=\"\",\"\",JVez!B350)","v":""},null,null,null,"",null,null,null,null,"",null,"",null,"",null,"",null,9000]
[null,{"$f":"IF(JVez!E351=\"\",\"\",JVez!E351)","v":""},{"$f":"IF(AND(JVez!A351=\"\",JVez!B351<>\"\"),\"\",IF(AND(JVez!A351=\"\",JVez!B351=\"\"),\"\",JVez!A351))","v":""},{"$f":"IF(C355=\"\",\"\",JVez!B351)","v":""},null,null,null,"",null,null,null,null,"",null,"",null,"",null,"",null,9000]
[null,{"$f":"IF(JVez!E352=\"\",\"\",JVez!E352)","v":""},{"$f":"IF(AND(JVez!A352=\"\",JVez!B352<>\"\"),\"\",IF(AND(JVez!A352=\"\",JVez!B352=\"\"),\"\",JVez!A352))","v":""},{"$f":"IF(C356=\"\",\"\",JVez!B352)","v":""},null,null,null,"",null,null,null,null,"",null,"",null,"",null,"",null,9000]
[null,{"$f":"IF(JVez!E353=\"\",\"\",JVez!E353)","v":""},{"$f":"IF(AND(JVez!A353=\"\",JVez!B353<>\"\"),\"\",IF(AND(JVez!A353=\"\",JVez!B353=\"\"),\"\",JVez!A353))","v":""},{"$f":"IF(C357=\"\",\"\",JVez!B353)","v":""},null,null,null,"",null,null,null,null,"",null,"",null,"",null,"",null,9000]
[null,{"$f":"IF(JVez!E354=\"\",\"\",JVez!E354)","v":""},{"$f":"IF(AND(JVez!A354=\"\",JVez!B354<>\"\"),\"\",IF(AND(JVez!A354=\"\",JVez!B354=\"\"),\"\",JVez!A354))","v":""},{"$f":"IF(C358=\"\",\"\",JVez!B354)","v":""},null,null,null,"",null,null,null,null,"",null,"",null,"",null,"",null,9000]
[null,{"$f":"IF(JVez!E355=\"\",\"\",JVez!E355)","v":""},{"$f":"IF(AND(JVez!A355=\"\",JVez!B355<>\"\"),\"\",IF(AND(JVez!A355=\"\",JVez!B355=\"\"),\"\",JVez!A355))","v":""},{"$f":"IF(C359=\"\",\"\",JVez!B355)","v":""},null,null,null,"",null,null,null,null,"",null,"",null,"",null,"",null,9000]
[null,{"$f":"IF(JVez!E356=\"\",\"\",JVez!E356)","v":""},{"$f":"IF(AND(JVez!A356=\"\",JVez!B356<>\"\"),\"\",IF(AND(JVez!A356=\"\",JVez!B356=\"\"),\"\",JVez!A356))","v":""},{"$f":"IF(C360=\"\",\"\",JVez!B356)","v":""},null,null,null,"",null,null,null,null,"",null,"",null,"",null,"",null,9000]
[null,{"$f":"IF(JVez!E357=\"\",\"\",JVez!E357)","v":""},{"$f":"IF(AND(JVez!A357=\"\",JVez!B357<>\"\"),\"\",IF(AND(JVez!A357=\"\",JVez!B357=\"\"),\"\",JVez!A357))","v":""},{"$f":"IF(C361=\"\",\"\",JVez!B357)","v":""},null,null,null,"",null,null,null,null,"",null,"",null,"",null,"",null,9000]
[null,{"$f":"IF(JVez!E358=\"\",\"\",JVez!E358)","v":""},{"$f":"IF(AND(JVez!A358=\"\",JVez!B358<>\"\"),\"\",IF(AND(JVez!A358=\"\",JVez!B358=\"\"),\"\",JVez!A358))","v":""},{"$f":"IF(C362=\"\",\"\",JVez!B358)","v":""},null,null,null,"",null,null,null,null,"",null,"",null,"",null,"",null,9000]
[null,{"$f":"IF(JVez!E359=\"\",\"\",JVez!E359)","v":""},{"$f":"IF(AND(JVez!A359=\"\",JVez!B359<>\"\"),\"\",IF(AND(JVez!A359=\"\",JVez!B359=\"\"),\"\",JVez!A359))","v":""},{"$f":"IF(C363=\"\",\"\",JVez!B359)","v":""},null,null,null,"",null,null,null,null,"",null,"",null,"",null,"",null,9000]
[null,{"$f":"IF(JVez!E360=\"\",\"\",JVez!E360)","v":""},{"$f":"IF(AND(JVez!A360=\"\",JVez!B360<>\"\"),\"\",IF(AND(JVez!A360=\"\",JVez!B360=\"\"),\"\",JVez!A360))","v":""},{"$f":"IF(C364=\"\",\"\",JVez!B360)","v":""},null,null,null,"",null,null,null,null,"",null,"",null,"",null,"",null,9000]
[null,{"$f":"IF(JVez!E361=\"\",\"\",JVez!E361)","v":""},{"$f":"IF(AND(JVez!A361=\"\",JVez!B361<>\"\"),\"\",IF(AND(JVez!A361=\"\",JVez!B361=\"\"),\"\",JVez!A361))","v":""},{"$f":"IF(C365=\"\",\"\",JVez!B361)","v":""},null,null,null,"",null,null,null,null,"",null,"",null,"",null,"",null,9000]
[null,{"$f":"IF(JVez!E362=\"\",\"\",JVez!E362)","v":""},{"$f":"IF(AND(JVez!A362=\"\",JVez!B362<>\"\"),\"\",IF(AND(JVez!A362=\"\",JVez!B362=\"\"),\"\",JVez!A362))","v":""},{"$f":"IF(C366=\"\",\"\",JVez!B362)","v":""},null,null,null,"",null,null,null,null,"",null,"",null,"",null,"",null,9000]
[null,{"$f":"IF(JVez!E363=\"\",\"\",JVez!E363)","v":""},{"$f":"IF(AND(JVez!A363=\"\",JVez!B363<>\"\"),\"\",IF(AND(JVez!A363=\"\",JVez!B363=\"\"),\"\",JVez!A363))","v":""},{"$f":"IF(C367=\"\",\"\",JVez!B363)","v":""},null,null,null,"",null,null,null,null,"",null,"",null,"",null,"",null,9000]
[null,{"$f":"IF(JVez!E364=\"\",\"\",JVez!E364)","v":""},{"$f":"IF(AND(JVez!A364=\"\",JVez!B364<>\"\"),\"\",IF(AND(JVez!A364=\"\",JVez!B364=\"\"),\"\",JVez!A364))","v":""},{"$f":"IF(C368=\"\",\"\",JVez!B364)","v":""},null,null,null,"",null,null,null,null,"",null,"",null,"",null,"",null,9000]
[null,{"$f":"IF(JVez!E365=\"\",\"\",JVez!E365)","v":""},{"$f":"IF(AND(JVez!A365=\"\",JVez!B365<>\"\"),\"\",IF(AND(JVez!A365=\"\",JVez!B365=\"\"),\"\",JVez!A365))","v":""},{"$f":"IF(C369=\"\",\"\",JVez!B365)","v":""},null,null,null,"",null,null,null,null,"",null,"",null,"",null,"",null,9000]
[null,{"$f":"IF(JVez!E366=\"\",\"\",JVez!E366)","v":""},{"$f":"IF(AND(JVez!A366=\"\",JVez!B366<>\"\"),\"\",IF(AND(JVez!A366=\"\",JVez!B366=\"\"),\"\",JVez!A366))","v":""},{"$f":"IF(C370=\"\",\"\",JVez!B366)","v":""},null,null,null,"",null,null,null,null,"",null,"",null,"",null,"",null,9000]
[null,{"$f":"IF(JVez!E367=\"\",\"\",JVez!E367)","v":""},{"$f":"IF(AND(JVez!A367=\"\",JVez!B367<>\"\"),\"\",IF(AND(JVez!A367=\"\",JVez!B367=\"\"),\"\",JVez!A367))","v":""},{"$f":"IF(C371=\"\",\"\",JVez!B367)","v":""},null,null,null,"",null,null,null,null,"",null,"",null,"",null,"",null,9000]
[null,{"$f":"IF(JVez!E368=\"\",\"\",JVez!E368)","v":""},{"$f":"IF(AND(JVez!A368=\"\",JVez!B368<>\"\"),\"\",IF(AND(JVez!A368=\"\",JVez!B368=\"\"),\"\",JVez!A368))","v":""},{"$f":"IF(C372=\"\",\"\",JVez!B368)","v":""},null,null,null,"",null,null,null,null,"",null,"",null,"",null,"",null,9000]
[null,{"$f":"IF(JVez!E369=\"\",\"\",JVez!E369)","v":""},{"$f":"IF(AND(JVez!A369=\"\",JVez!B369<>\"\"),\"\",IF(AND(JVez!A369=\"\",JVez!B369=\"\"),\"\",JVez!A369))","v":""},{"$f":"IF(C373=\"\",\"\",JVez!B369)","v":""},null,null,null,"",null,null,null,null,"",null,"",null,"",null,"",null,9000]
[null,{"$f":"IF(JVez!E370=\"\",\"\",JVez!E370)","v":""},{"$f":"IF(AND(JVez!A370=\"\",JVez!B370<>\"\"),\"\",IF(AND(JVez!A370=\"\",JVez!B370=\"\"),\"\",JVez!A370))","v":""},{"$f":"IF(C374=\"\",\"\",JVez!B370)","v":""},null,null,null,"",null,null,null,null,"",null,"",null,"",null,"",null,9000]
[null,{"$f":"IF(JVez!E371=\"\",\"\",JVez!E371)","v":""},{"$f":"IF(AND(JVez!A371=\"\",JVez!B371<>\"\"),\"\",IF(AND(JVez!A371=\"\",JVez!B371=\"\"),\"\",JVez!A371))","v":""},{"$f":"IF(C375=\"\",\"\",JVez!B371)","v":""},null,null,null,"",null,null,null,null,"",null,"",null,"",null,"",null,9000]
[null,{"$f":"IF(JVez!E372=\"\",\"\",JVez!E372)","v":""},{"$f":"IF(AND(JVez!A372=\"\",JVez!B372<>\"\"),\"\",IF(AND(JVez!A372=\"\",JVez!B372=\"\"),\"\",JVez!A372))","v":""},{"$f":"IF(C376=\"\",\"\",JVez!B372)","v":""},null,null,null,"",null,null,null,null,"",null,"",null,"",null,"",null,9000]
[null,{"$f":"IF(JVez!E373=\"\",\"\",JVez!E373)","v":""},{"$f":"IF(AND(JVez!A373=\"\",JVez!B373<>\"\"),\"\",IF(AND(JVez!A373=\"\",JVez!B373=\"\"),\"\",JVez!A373))","v":""},{"$f":"IF(C377=\"\",\"\",JVez!B373)","v":""},null,null,null,"",null,null,null,null,"",null,"",null,"",null,"",null,9000]
[null,{"$f":"IF(JVez!E374=\"\",\"\",JVez!E374)","v":""},{"$f":"IF(AND(JVez!A374=\"\",JVez!B374<>\"\"),\"\",IF(AND(JVez!A374=\"\",JVez!B374=\"\"),\"\",JVez!A374))","v":""},{"$f":"IF(C378=\"\",\"\",JVez!B374)","v":""},null,null,null,"",null,null,null,null,"",null,"",null,"",null,"",null,9000]
[null,{"$f":"IF(JVez!E375=\"\",\"\",JVez!E375)","v":""},{"$f":"IF(AND(JVez!A375=\"\",JVez!B375<>\"\"),\"\",IF(AND(JVez!A375=\"\",JVez!B375=\"\"),\"\",JVez!A375))","v":""},{"$f":"IF(C379=\"\",\"\",JVez!B375)","v":""},null,null,null,"",null,null,null,null,"",null,"",null,"",null,"",null,9000]
[null,{"$f":"IF(JVez!E376=\"\",\"\",JVez!E376)","v":""},{"$f":"IF(AND(JVez!A376=\"\",JVez!B376<>\"\"),\"\",IF(AND(JVez!A376=\"\",JVez!B376=\"\"),\"\",JVez!A376))","v":""},{"$f":"IF(C380=\"\",\"\",JVez!B376)","v":""},null,null,null,"",null,null,null,null,"",null,"",null,"",null,"",null,9000]
[null,{"$f":"IF(JVez!E377=\"\",\"\",JVez!E377)","v":""},{"$f":"IF(AND(JVez!A377=\"\",JVez!B377<>\"\"),\"\",IF(AND(JVez!A377=\"\",JVez!B377=\"\"),\"\",JVez!A377))","v":""},{"$f":"IF(C381=\"\",\"\",JVez!B377)","v":""},null,null,null,"",null,null,null,null,"",null,"",null,"",null,"",null,9000]
[null,{"$f":"IF(JVez!E378=\"\",\"\",JVez!E378)","v":""},{"$f":"IF(AND(JVez!A378=\"\",JVez!B378<>\"\"),\"\",IF(AND(JVez!A378=\"\",JVez!B378=\"\"),\"\",JVez!A378))","v":""},{"$f":"IF(C382=\"\",\"\",JVez!B378)","v":""},null,null,null,"",null,null,null,null,"",null,"",null,"",null,"",null,9000]
[null,{"$f":"IF(JVez!E379=\"\",\"\",JVez!E379)","v":""},{"$f":"IF(AND(JVez!A379=\"\",JVez!B379<>\"\"),\"\",IF(AND(JVez!A379=\"\",JVez!B379=\"\"),\"\",JVez!A379))","v":""},{"$f":"IF(C383=\"\",\"\",JVez!B379)","v":""},null,null,null,"",null,null,null,null,"",null,"",null,"",null,"",null,9000]
[null,{"$f":"IF(JVez!E380=\"\",\"\",JVez!E380)","v":""},{"$f":"IF(AND(JVez!A380=\"\",JVez!B380<>\"\"),\"\",IF(AND(JVez!A380=\"\",JVez!B380=\"\"),\"\",JVez!A380))","v":""},{"$f":"IF(C384=\"\",\"\",JVez!B380)","v":""},null,null,null,"",null,null,null,null,"",null,"",null,"",null,"",null,9000]
[null,{"$f":"IF(JVez!E381=\"\",\"\",JVez!E381)","v":""},{"$f":"IF(AND(JVez!A381=\"\",JVez!B381<>\"\"),\"\",IF(AND(JVez!A381=\"\",JVez!B381=\"\"),\"\",JVez!A381))","v":""},{"$f":"IF(C385=\"\",\"\",JVez!B381)","v":""},null,null,null,"",null,null,null,null,"",null,"",null,"",null,"",null,9000]
[null,{"$f":"IF(JVez!E382=\"\",\"\",JVez!E382)","v":""},{"$f":"IF(AND(JVez!A382=\"\",JVez!B382<>\"\"),\"\",IF(AND(JVez!A382=\"\",JVez!B382=\"\"),\"\",JVez!A382))","v":""},{"$f":"IF(C386=\"\",\"\",JVez!B382)","v":""},null,null,null,"",null,null,null,null,"",null,"",null,"",null,"",null,9000]
[null,{"$f":"IF(JVez!E383=\"\",\"\",JVez!E383)","v":""},{"$f":"IF(AND(JVez!A383=\"\",JVez!B383<>\"\"),\"\",IF(AND(JVez!A383=\"\",JVez!B383=\"\"),\"\",JVez!A383))","v":""},{"$f":"IF(C387=\"\",\"\",JVez!B383)","v":""},null,null,null,"",null,null,null,null,"",null,"",null,"",null,"",null,9000]
[null,{"$f":"IF(JVez!E384=\"\",\"\",JVez!E384)","v":""},{"$f":"IF(AND(JVez!A384=\"\",JVez!B384<>\"\"),\"\",IF(AND(JVez!A384=\"\",JVez!B384=\"\"),\"\",JVez!A384))","v":""},{"$f":"IF(C388=\"\",\"\",JVez!B384)","v":""},null,null,null,"",null,null,null,null,"",null,"",null,"",null,"",null,9000]
[null,{"$f":"IF(JVez!E385=\"\",\"\",JVez!E385)","v":""},{"$f":"IF(AND(JVez!A385=\"\",JVez!B385<>\"\"),\"\",IF(AND(JVez!A385=\"\",JVez!B385=\"\"),\"\",JVez!A385))","v":""},{"$f":"IF(C389=\"\",\"\",JVez!B385)","v":""},null,null,null,{"$f":"IF($C389=\"\",\"\",IF(OR($E389=\"DNF\",$F389=\"DNF\",$G389=\"DNF\",AND($E389=\"\",$F389=\"\",$G389=\"\")),\"DNF\",IF(OR($E389=\"NP\",$F389=\"NP\",$G389=\"NP\"),\"NP\",IF(ISERROR(MEDIAN($E389:$G389)),\"DNF\",IF(OR($E389=\"X\",$F389=\"X\",$G389=\"X\",$E389=\"\",$F389=\"\",$G389=\"\",$E389=\"x\",$F389=\"x\",$G389=\"x\"),MAX($E389:$G389),MEDIAN($E389:$G389))))))","v":""},null,null,null,null,{"$f":"IF($C389=\"\",\"\",IF(OR($J389=\"DNF\",$K389=\"DNF\",$L389=\"DNF\",AND($J389=\"\",$K389=\"\",$L389=\"\")),\"DNF\",IF(OR($J389=\"NP\",$K389=\"NP\",$L389=\"NP\"),\"NP\",IF(ISERROR(MEDIAN($J389:$L389)),\"DNF\",IF(OR($J389=\"X\",$K389=\"X\",$L389=\"X\",$J389=\"\",$K389=\"\",$L389=\"\",$J389=\"x\",$K389=\"x\",$L389=\"x\"),MAX($J389:$L389),MEDIAN($J389:$L389))))))","v":""},null,{"$f":"IF(C389=\"\",\"\",IF(OR(AND(H389=\"NP\",M389=\"NP\"),AND(H389=\"DNF\",M389=\"DNF\")),H389,IF(AND(H389=\"NP\",M389=\"DNF\"),H389,IF(AND(H389=\"DNF\",M389=\"NP\"),M389,MIN(H389,M389)))))","v":""},null,{"$f":"IF(C389=\"\",\"\",IF(OR(O389=\"NP\",O389=\"DNF\"),O389,RANK(O389,O$5:O$404,1)))","v":""},null,{"$f":"IF(C389=\"\",\"\",IF(O389=\"NP\",MAX(Q$5:Q$404)+1,IF(O389=\"DNF\",MAX(Q$5:Q$404)+COUNTIF(Q$5:Q$404,\"NP\")+1,RANK(O389,O$5:O$404,1))))","v":""},null,{"$f":"IF($C389=\"\",9000,MAX(H389,M389)+(COUNTIF($H389:$H389,\"NP\")*600)+(COUNTIF($M389:$M389,\"NP\")*600)+(COUNTIF($H389:$H389,\"DNF\")*3600)+(COUNTIF($M389:$M389,\"DNF\")*3600))","v":9000}]
[null,{"$f":"IF(JVez!E386=\"\",\"\",JVez!E386)","v":""},{"$f":"IF(AND(JVez!A386=\"\",JVez!B386<>\"\"),\"\",IF(AND(JVez!A386=\"\",JVez!B386=\"\"),\"\",JVez!A386))","v":""},{"$f":"IF(C390=\"\",\"\",JVez!B386)","v":""},null,null,null,"",null,null,null,null,"",null,"",null,"",null,"",null,9000]
[null,{"$f":"IF(JVez!E387=\"\",\"\",JVez!E387)","v":""},{"$f":"IF(AND(JVez!A387=\"\",JVez!B387<>\"\"),\"\",IF(AND(JVez!A387=\"\",JVez!B387=\"\"),\"\",JVez!A387))","v":""},{"$f":"IF(C391=\"\",\"\",JVez!B387)","v":""},null,null,null,"",null,null,null,null,"",null,"",null,"",null,"",null,9000]
[null,{"$f":"IF(JVez!E388=\"\",\"\",JVez!E388)","v":""},{"$f":"IF(AND(JVez!A388=\"\",JVez!B388<>\"\"),\"\",IF(AND(JVez!A388=\"\",JVez!B388=\"\"),\"\",JVez!A388))","v":""},{"$f":"IF(C392=\"\",\"\",JVez!B388)","v":""},null,null,null,"",null,null,null,null,"",null,"",null,"",null,"",null,9000]
[null,{"$f":"IF(JVez!E389=\"\",\"\",JVez!E389)","v":""},{"$f":"IF(AND(JVez!A389=\"\",JVez!B389<>\"\"),\"\",IF(AND(JVez!A389=\"\",JVez!B389=\"\"),\"\",JVez!A389))","v":""},{"$f":"IF(C393=\"\",\"\",JVez!B389)","v":""},null,null,null,"",null,null,null,null,"",null,"",null,"",null,"",null,9000]
[null,{"$f":"IF(JVez!E390=\"\",\"\",JVez!E390)","v":""},{"$f":"IF(AND(JVez!A390=\"\",JVez!B390<>\"\"),\"\",IF(AND(JVez!A390=\"\",JVez!B390=\"\"),\"\",JVez!A390))","v":""},{"$f":"IF(C394=\"\",\"\",JVez!B390)","v":""},null,null,null,"",null,null,null,null,"",null,"",null,"",null,"",null,9000]
[null,{"$f":"IF(JVez!E391=\"\",\"\",JVez!E391)","v":""},{"$f":"IF(AND(JVez!A391=\"\",JVez!B391<>\"\"),\"\",IF(AND(JVez!A391=\"\",JVez!B391=\"\"),\"\",JVez!A391))","v":""},{"$f":"IF(C395=\"\",\"\",JVez!B391)","v":""},null,null,null,"",null,null,null,null,"",null,"",null,"",null,"",null,9000]
[null,{"$f":"IF(JVez!E392=\"\",\"\",JVez!E392)","v":""},{"$f":"IF(AND(JVez!A392=\"\",JVez!B392<>\"\"),\"\",IF(AND(JVez!A392=\"\",JVez!B392=\"\"),\"\",JVez!A392))","v":""},{"$f":"IF(C396=\"\",\"\",JVez!B392)","v":""},null,null,null,"",null,null,null,null,"",null,"",null,"",null,"",null,9000]
[null,{"$f":"IF(JVez!E393=\"\",\"\",JVez!E393)","v":""},{"$f":"IF(AND(JVez!A393=\"\",JVez!B393<>\"\"),\"\",IF(AND(JVez!A393=\"\",JVez!B393=\"\"),\"\",JVez!A393))","v":""},{"$f":"IF(C397=\"\",\"\",JVez!B393)","v":""},null,null,null,"",null,null,null,null,"",null,"",null,"",null,"",null,9000]
[null,{"$f":"IF(JVez!E394=\"\",\"\",JVez!E394)","v":""},{"$f":"IF(AND(JVez!A394=\"\",JVez!B394<>\"\"),\"\",IF(AND(JVez!A394=\"\",JVez!B394=\"\"),\"\",JVez!A394))","v":""},{"$f":"IF(C398=\"\",\"\",JVez!B394)","v":""},null,null,null,"",null,null,null,null,"",null,"",null,"",null,"",null,9000]
[null,{"$f":"IF(JVez!E395=\"\",\"\",JVez!E395)","v":""},{"$f":"IF(AND(JVez!A395=\"\",JVez!B395<>\"\"),\"\",IF(AND(JVez!A395=\"\",JVez!B395=\"\"),\"\",JVez!A395))","v":""},{"$f":"IF(C399=\"\",\"\",JVez!B395)","v":""},null,null,null,"",null,null,null,null,"",null,"",null,"",null,"",null,9000]
[null,{"$f":"IF(JVez!E396=\"\",\"\",JVez!E396)","v":""},{"$f":"IF(AND(JVez!A396=\"\",JVez!B396<>\"\"),\"\",IF(AND(JVez!A396=\"\",JVez!B396=\"\"),\"\",JVez!A396))","v":""},{"$f":"IF(C400=\"\",\"\",JVez!B396)","v":""},null,null,null,"",null,null,null,null,"",null,"",null,"",null,"",null,9000]
[null,{"$f":"IF(JVez!E397=\"\",\"\",JVez!E397)","v":""},{"$f":"IF(AND(JVez!A397=\"\",JVez!B397<>\"\"),\"\",IF(AND(JVez!A397=\"\",JVez!B397=\"\"),\"\",JVez!A397))","v":""},{"$f":"IF(C401=\"\",\"\",JVez!B397)","v":""},null,null,null,"",null,null,null,null,"",null,"",null,"",null,"",null,9000]
[null,{"$f":"IF(JVez!E398=\"\",\"\",JVez!E398)","v":""},{"$f":"IF(AND(JVez!A398=\"\",JVez!B398<>\"\"),\"\",IF(AND(JVez!A398=\"\",JVez!B398=\"\"),\"\",JVez!A398))","v":""},{"$f":"IF(C402=\"\",\"\",JVez!B398)","v":""},null,null,null,"",null,null,null,null,"",null,"",null,"",null,"",null,9000]
[null,{"$f":"IF(JVez!E399=\"\",\"\",JVez!E399)","v":""},{"$f":"IF(AND(JVez!A399=\"\",JVez!B399<>\"\"),\"\",IF(AND(JVez!A399=\"\",JVez!B399=\"\"),\"\",JVez!A399))","v":""},{"$f":"IF(C403=\"\",\"\",JVez!B399)","v":""},null,null,null,"",null,null,null,null,"",null,"",null,"",null,"",null,9000]
[null,{"$f":"IF(JVez!E400=\"\",\"\",JVez!E400)","v":""},{"$f":"IF(AND(JVez!A400=\"\",JVez!B400<>\"\"),\"\",IF(AND(JVez!A400=\"\",JVez!B400=\"\"),\"\",JVez!A400))","v":""},{"$f":"IF(C404=\"\",\"\",JVez!B400)","v":""},null,null,null,"",null,null,null,null,"",null,"",null,"",null,"",null,9000]

{"sheet":"V - P","index":16,"n_rows":1,"n_cols":23,"rows_kept":1,"cut":false,"hidden":false,"merged":[]}
[null,1,"Veselý Stanislav","ÚO Hodonín",12,null,null,12,null,null,null,null,"DNF",null,12,null,1,null,1,null,3612,1,{"$f":"COUNT(Q:Q)","v":1}]

{"sheet":"V-P","index":17,"n_rows":484,"n_cols":9,"rows_kept":484,"cut":false,"hidden":false,"merged":[[0,1,0,8],[2,1,2,3],[2,4,2,8],[4,1,4,2],[5,2,6,2],[5,3,6,3],[387,1,387,8],[389,1,389,3],[5,4,6,4],[47,1,47,2],[86,1,86,8],[88,1,88,3],[5,5,6,5],[5,6,6,6],[5,8,6,8],[5,1,6,1],[43,1,43,8],[45,1,45,3],[45,4,45,8],[48,1,49,1],[48,2,49,2],[48,3,49,3],[48,4,49,4],[48,5,49,5],[48,6,49,6],[48,8,49,8],[129,1,129,8],[131,1,131,3],[131,4,131,8],[133,1,133,2],[134,5,135,5],[134,6,135,6],[134,8,135,8],[88,4,88,8],[90,1,90,2],[91,1,92,1],[91,2,92,2],[91,3,92,3],[91,4,92,4],[91,5,92,5],[91,6,92,6],[91,8,92,8],[176,1,176,2],[177,1,178,1],[177,2,178,2],[177,3,178,3],[177,4,178,4],[177,5,178,5],[172,1,172,8],[134,1,135,1],[134,2,135,2],[134,3,135,3],[134,4,135,4],[174,1,174,3],[174,4,174,8],[220,5,221,5],[220,6,221,6],[220,8,221,8],[258,1,258,8],[220,1,221,1],[220,2,221,2],[220,3,221,3],[220,4,221,4],[177,6,178,6],[177,8,178,8],[215,1,215,8],[217,1,217,3],[217,4,217,8],[219,1,219,2],[301,1,301,8],[303,1,303,3],[303,4,303,8],[305,1,305,2],[306,5,307,5],[306,6,307,6],[306,8,307,8],[260,1,260,3],[260,4,260,8],[262,1,262,2],[263,1,264,1],[263,2,264,2],[263,3,264,3],[263,4,264,4],[263,5,264,5],[263,6,264,6],[263,8,264,8],[348,1,348,2],[349,1,350,1],[349,2,350,2],[349,3,350,3],[349,4,350,4],[349,5,350,5],[344,1,344,8],[306,1,307,1],[306,2,307,2],[306,3,307,3],[306,4,307,4],[346,1,346,3],[346,4,346,8],[349,6,350,6],[349,8,350,8],[392,8,393,8],[430,1,430,8],[432,1,432,3],[432,4,432,8],[434,1,434,2],[435,5,436,5],[435,6,436,6],[435,8,436,8],[389,4,389,8],[391,1,391,2],[392,1,393,1],[392,2,393,2],[392,3,393,3],[392,4,393,4],[392,5,393,5],[392,6,393,6],[435,1,436,1],[435,2,436,2],[435,3,436,3],[435,4,436,4],[478,6,479,6],[478,8,479,8],[477,1,477,2],[478,1,479,1],[478,2,479,2],[478,3,479,3],[478,4,479,4],[478,5,479,5],[473,1,473,8],[475,1,475,3],[475,4,475,8]]}
[null,"Věž - Pořadí jednotlivců"]
[]
[null,{"$f":"Start!B2","v":"VC ČR v požárním útoku družstev HZS krajů a HZS podniků"},null,null,{"$f":"Start!B3","v":"Petrovice 19.9.2019"}]
[]
[null,{"$f":"Start!$C$5","v":"MUŽI"}]
[null,"Pořadí","Start. číslo","Jméno","kolektiv","čas             I. pokusu","čas            II. pokusu",null,"Výsledný čas"]
[]
[null,{"$f":"IF(AND('V - P'!$C1=\"\",'V - P'!$D1=\"\"),\"\",'V - P'!V1)","v":1},{"$f":"IF(AND('V - P'!$C1=\"\",'V - P'!$D1=\"\"),\"\",'V - P'!B1)","v":1},{"$f":"IF('V - P'!C1=\"\",\"\",'V - P'!C1)","v":"Veselý Stanislav"},{"$f":"IF('V - P'!D1=\"\",\"\",'V - P'!D1)","v":"ÚO Hodonín"},{"$f":"IF('V - P'!H1=\"\",\"\",'V - P'!H1)","v":12},{"$f":"IF('V - P'!M1=\"\",\"\",'V - P'!M1)","v":"DNF"},null,{"$f":"IF('V - P'!O1=\"\",\"\",'V - P'!O1)","v":12}]
[null,{"$f":"IF(AND('V - P'!$C2=\"\",'V - P'!$D2=\"\"),\"\",'V - P'!V2)","v":""},{"$f":"IF(AND('V - P'!$C2=\"\",'V - P'!$D2=\"\"),\"\",'V - P'!B2)","v":""},{"$f":"IF('V - P'!C2=\"\",\"\",'V - P'!C2)","v":""},{"$f":"IF('V - P'!D2=\"\",\"\",'V - P'!D2)","v":""},{"$f":"IF('V - P'!H2=\"\",\"\",'V - P'!H2)","v":""},{"$f":"IF('V - P'!M2=\"\",\"\",'V - P'!M2)","v":""},null,{"$f":"IF('V - P'!O2=\"\",\"\",'V - P'!O2)","v":""}]
[null,{"$f":"IF(AND('V - P'!$C3=\"\",'V - P'!$D3=\"\"),\"\",'V - P'!V3)","v":""},{"$f":"IF(AND('V - P'!$C3=\"\",'V - P'!$D3=\"\"),\"\",'V - P'!B3)","v":""},{"$f":"IF('V - P'!C3=\"\",\"\",'V - P'!C3)","v":""},{"$f":"IF('V - P'!D3=\"\",\"\",'V - P'!D3)","v":""},{"$f":"IF('V - P'!H3=\"\",\"\",'V - P'!H3)","v":""},{"$f":"IF('V - P'!M3=\"\",\"\",'V - P'!M3)","v":""},null,{"$f":"IF('V - P'!O3=\"\",\"\",'V - P'!O3)","v":""}]
[null,{"$f":"IF(AND('V - P'!$C4=\"\",'V - P'!$D4=\"\"),\"\",'V - P'!V4)","v":""},{"$f":"IF(AND('V - P'!$C4=\"\",'V - P'!$D4=\"\"),\"\",'V - P'!B4)","v":""},{"$f":"IF('V - P'!C4=\"\",\"\",'V - P'!C4)","v":""},{"$f":"IF('V - P'!D4=\"\",\"\",'V - P'!D4)","v":""},{"$f":"IF('V - P'!H4=\"\",\"\",'V - P'!H4)","v":""},{"$f":"IF('V - P'!M4=\"\",\"\",'V - P'!M4)","v":""},null,{"$f":"IF('V - P'!O4=\"\",\"\",'V - P'!O4)","v":""}]
[null,{"$f":"IF(AND('V - P'!$C5=\"\",'V - P'!$D5=\"\"),\"\",'V - P'!V5)","v":""},{"$f":"IF(AND('V - P'!$C5=\"\",'V - P'!$D5=\"\"),\"\",'V - P'!B5)","v":""},{"$f":"IF('V - P'!C5=\"\",\"\",'V - P'!C5)","v":""},{"$f":"IF('V - P'!D5=\"\",\"\",'V - P'!D5)","v":""},{"$f":"IF('V - P'!H5=\"\",\"\",'V - P'!H5)","v":""},{"$f":"IF('V - P'!M5=\"\",\"\",'V - P'!M5)","v":""},null,{"$f":"IF('V - P'!O5=\"\",\"\",'V - P'!O5)","v":""}]
[null,{"$f":"IF(AND('V - P'!$C6=\"\",'V - P'!$D6=\"\"),\"\",'V - P'!V6)","v":""},{"$f":"IF(AND('V - P'!$C6=\"\",'V - P'!$D6=\"\"),\"\",'V - P'!B6)","v":""},{"$f":"IF('V - P'!C6=\"\",\"\",'V - P'!C6)","v":""},{"$f":"IF('V - P'!D6=\"\",\"\",'V - P'!D6)","v":""},{"$f":"IF('V - P'!H6=\"\",\"\",'V - P'!H6)","v":""},{"$f":"IF('V - P'!M6=\"\",\"\",'V - P'!M6)","v":""},null,{"$f":"IF('V - P'!O6=\"\",\"\",'V - P'!O6)","v":""}]
[null,{"$f":"IF(AND('V - P'!$C7=\"\",'V - P'!$D7=\"\"),\"\",'V - P'!V7)","v":""},{"$f":"IF(AND('V - P'!$C7=\"\",'V - P'!$D7=\"\"),\"\",'V - P'!B7)","v":""},{"$f":"IF('V - P'!C7=\"\",\"\",'V - P'!C7)","v":""},{"$f":"IF('V - P'!D7=\"\",\"\",'V - P'!D7)","v":""},{"$f":"IF('V - P'!H7=\"\",\"\",'V - P'!H7)","v":""},{"$f":"IF('V - P'!M7=\"\",\"\",'V - P'!M7)","v":""},null,{"$f":"IF('V - P'!O7=\"\",\"\",'V - P'!O7)","v":""}]
[null,{"$f":"IF(AND('V - P'!$C8=\"\",'V - P'!$D8=\"\"),\"\",'V - P'!V8)","v":""},{"$f":"IF(AND('V - P'!$C8=\"\",'V - P'!$D8=\"\"),\"\",'V - P'!B8)","v":""},{"$f":"IF('V - P'!C8=\"\",\"\",'V - P'!C8)","v":""},{"$f":"IF('V - P'!D8=\"\",\"\",'V - P'!D8)","v":""},{"$f":"IF('V - P'!H8=\"\",\"\",'V - P'!H8)","v":""},{"$f":"IF('V - P'!M8=\"\",\"\",'V - P'!M8)","v":""},null,{"$f":"IF('V - P'!O8=\"\",\"\",'V - P'!O8)","v":""}]
[null,{"$f":"IF(AND('V - P'!$C9=\"\",'V - P'!$D9=\"\"),\"\",'V - P'!V9)","v":""},{"$f":"IF(AND('V - P'!$C9=\"\",'V - P'!$D9=\"\"),\"\",'V - P'!B9)","v":""},{"$f":"IF('V - P'!C9=\"\",\"\",'V - P'!C9)","v":""},{"$f":"IF('V - P'!D9=\"\",\"\",'V - P'!D9)","v":""},{"$f":"IF('V - P'!H9=\"\",\"\",'V - P'!H9)","v":""},{"$f":"IF('V - P'!M9=\"\",\"\",'V - P'!M9)","v":""},null,{"$f":"IF('V - P'!O9=\"\",\"\",'V - P'!O9)","v":""}]
[null,{"$f":"IF(AND('V - P'!$C10=\"\",'V - P'!$D10=\"\"),\"\",'V - P'!V10)","v":""},{"$f":"IF(AND('V - P'!$C10=\"\",'V - P'!$D10=\"\"),\"\",'V - P'!B10)","v":""},{"$f":"IF('V - P'!C10=\"\",\"\",'V - P'!C10)","v":""},{"$f":"IF('V - P'!D10=\"\",\"\",'V - P'!D10)","v":""},{"$f":"IF('V - P'!H10=\"\",\"\",'V - P'!H10)","v":""},{"$f":"IF('V - P'!M10=\"\",\"\",'V - P'!M10)","v":""},null,{"$f":"IF('V - P'!O10=\"\",\"\",'V - P'!O10)","v":""}]
[null,{"$f":"IF(AND('V - P'!$C11=\"\",'V - P'!$D11=\"\"),\"\",'V - P'!V11)","v":""},{"$f":"IF(AND('V - P'!$C11=\"\",'V - P'!$D11=\"\"),\"\",'V - P'!B11)","v":""},{"$f":"IF('V - P'!C11=\"\",\"\",'V - P'!C11)","v":""},{"$f":"IF('V - P'!D11=\"\",\"\",'V - P'!D11)","v":""},{"$f":"IF('V - P'!H11=\"\",\"\",'V - P'!H11)","v":""},{"$f":"IF('V - P'!M11=\"\",\"\",'V - P'!M11)","v":""},null,{"$f":"IF('V - P'!O11=\"\",\"\",'V - P'!O11)","v":""}]
[null,{"$f":"IF(AND('V - P'!$C12=\"\",'V - P'!$D12=\"\"),\"\",'V - P'!V12)","v":""},{"$f":"IF(AND('V - P'!$C12=\"\",'V - P'!$D12=\"\"),\"\",'V - P'!B12)","v":""},{"$f":"IF('V - P'!C12=\"\",\"\",'V - P'!C12)","v":""},{"$f":"IF('V - P'!D12=\"\",\"\",'V - P'!D12)","v":""},{"$f":"IF('V - P'!H12=\"\",\"\",'V - P'!H12)","v":""},{"$f":"IF('V - P'!M12=\"\",\"\",'V - P'!M12)","v":""},null,{"$f":"IF('V - P'!O12=\"\",\"\",'V - P'!O12)","v":""}]
[null,{"$f":"IF(AND('V - P'!$C13=\"\",'V - P'!$D13=\"\"),\"\",'V - P'!V13)","v":""},{"$f":"IF(AND('V - P'!$C13=\"\",'V - P'!$D13=\"\"),\"\",'V - P'!B13)","v":""},{"$f":"IF('V - P'!C13=\"\",\"\",'V - P'!C13)","v":""},{"$f":"IF('V - P'!D13=\"\",\"\",'V - P'!D13)","v":""},{"$f":"IF('V - P'!H13=\"\",\"\",'V - P'!H13)","v":""},{"$f":"IF('V - P'!M13=\"\",\"\",'V - P'!M13)","v":""},null,{"$f":"IF('V - P'!O13=\"\",\"\",'V - P'!O13)","v":""}]
[null,{"$f":"IF(AND('V - P'!$C14=\"\",'V - P'!$D14=\"\"),\"\",'V - P'!V14)","v":""},{"$f":"IF(AND('V - P'!$C14=\"\",'V - P'!$D14=\"\"),\"\",'V - P'!B14)","v":""},{"$f":"IF('V - P'!C14=\"\",\"\",'V - P'!C14)","v":""},{"$f":"IF('V - P'!D14=\"\",\"\",'V - P'!D14)","v":""},{"$f":"IF('V - P'!H14=\"\",\"\",'V - P'!H14)","v":""},{"$f":"IF('V - P'!M14=\"\",\"\",'V - P'!M14)","v":""},null,{"$f":"IF('V - P'!O14=\"\",\"\",'V - P'!O14)","v":""}]
[null,{"$f":"IF(AND('V - P'!$C15=\"\",'V - P'!$D15=\"\"),\"\",'V - P'!V15)","v":""},{"$f":"IF(AND('V - P'!$C15=\"\",'V - P'!$D15=\"\"),\"\",'V - P'!B15)","v":""},{"$f":"IF('V - P'!C15=\"\",\"\",'V - P'!C15)","v":""},{"$f":"IF('V - P'!D15=\"\",\"\",'V - P'!D15)","v":""},{"$f":"IF('V - P'!H15=\"\",\"\",'V - P'!H15)","v":""},{"$f":"IF('V - P'!M15=\"\",\"\",'V - P'!M15)","v":""},null,{"$f":"IF('V - P'!O15=\"\",\"\",'V - P'!O15)","v":""}]
[null,{"$f":"IF(AND('V - P'!$C16=\"\",'V - P'!$D16=\"\"),\"\",'V - P'!V16)","v":""},{"$f":"IF(AND('V - P'!$C16=\"\",'V - P'!$D16=\"\"),\"\",'V - P'!B16)","v":""},{"$f":"IF('V - P'!C16=\"\",\"\",'V - P'!C16)","v":""},{"$f":"IF('V - P'!D16=\"\",\"\",'V - P'!D16)","v":""},{"$f":"IF('V - P'!H16=\"\",\"\",'V - P'!H16)","v":""},{"$f":"IF('V - P'!M16=\"\",\"\",'V - P'!M16)","v":""},null,{"$f":"IF('V - P'!O16=\"\",\"\",'V - P'!O16)","v":""}]
[null,{"$f":"IF(AND('V - P'!$C17=\"\",'V - P'!$D17=\"\"),\"\",'V - P'!V17)","v":""},{"$f":"IF(AND('V - P'!$C17=\"\",'V - P'!$D17=\"\"),\"\",'V - P'!B17)","v":""},{"$f":"IF('V - P'!C17=\"\",\"\",'V - P'!C17)","v":""},{"$f":"IF('V - P'!D17=\"\",\"\",'V - P'!D17)","v":""},{"$f":"IF('V - P'!H17=\"\",\"\",'V - P'!H17)","v":""},{"$f":"IF('V - P'!M17=\"\",\"\",'V - P'!M17)","v":""},null,{"$f":"IF('V - P'!O17=\"\",\"\",'V - P'!O17)","v":""}]
[null,{"$f":"IF(AND('V - P'!$C18=\"\",'V - P'!$D18=\"\"),\"\",'V - P'!V18)","v":""},{"$f":"IF(AND('V - P'!$C18=\"\",'V - P'!$D18=\"\"),\"\",'V - P'!B18)","v":""},{"$f":"IF('V - P'!C18=\"\",\"\",'V - P'!C18)","v":""},{"$f":"IF('V - P'!D18=\"\",\"\",'V - P'!D18)","v":""},{"$f":"IF('V - P'!H18=\"\",\"\",'V - P'!H18)","v":""},{"$f":"IF('V - P'!M18=\"\",\"\",'V - P'!M18)","v":""},null,{"$f":"IF('V - P'!O18=\"\",\"\",'V - P'!O18)","v":""}]
[null,{"$f":"IF(AND('V - P'!$C19=\"\",'V - P'!$D19=\"\"),\"\",'V - P'!V19)","v":""},{"$f":"IF(AND('V - P'!$C19=\"\",'V - P'!$D19=\"\"),\"\",'V - P'!B19)","v":""},{"$f":"IF('V - P'!C19=\"\",\"\",'V - P'!C19)","v":""},{"$f":"IF('V - P'!D19=\"\",\"\",'V - P'!D19)","v":""},{"$f":"IF('V - P'!H19=\"\",\"\",'V - P'!H19)","v":""},{"$f":"IF('V - P'!M19=\"\",\"\",'V - P'!M19)","v":""},null,{"$f":"IF('V - P'!O19=\"\",\"\",'V - P'!O19)","v":""}]
[null,{"$f":"IF(AND('V - P'!$C20=\"\",'V - P'!$D20=\"\"),\"\",'V - P'!V20)","v":""},{"$f":"IF(AND('V - P'!$C20=\"\",'V - P'!$D20=\"\"),\"\",'V - P'!B20)","v":""},{"$f":"IF('V - P'!C20=\"\",\"\",'V - P'!C20)","v":""},{"$f":"IF('V - P'!D20=\"\",\"\",'V - P'!D20)","v":""},{"$f":"IF('V - P'!H20=\"\",\"\",'V - P'!H20)","v":""},{"$f":"IF('V - P'!M20=\"\",\"\",'V - P'!M20)","v":""},null,{"$f":"IF('V - P'!O20=\"\",\"\",'V - P'!O20)","v":""}]
[null,{"$f":"IF(AND('V - P'!$C21=\"\",'V - P'!$D21=\"\"),\"\",'V - P'!V21)","v":""},{"$f":"IF(AND('V - P'!$C21=\"\",'V - P'!$D21=\"\"),\"\",'V - P'!B21)","v":""},{"$f":"IF('V - P'!C21=\"\",\"\",'V - P'!C21)","v":""},{"$f":"IF('V - P'!D21=\"\",\"\",'V - P'!D21)","v":""},{"$f":"IF('V - P'!H21=\"\",\"\",'V - P'!H21)","v":""},{"$f":"IF('V - P'!M21=\"\",\"\",'V - P'!M21)","v":""},null,{"$f":"IF('V - P'!O21=\"\",\"\",'V - P'!O21)","v":""}]
[null,{"$f":"IF(AND('V - P'!$C22=\"\",'V - P'!$D22=\"\"),\"\",'V - P'!V22)","v":""},{"$f":"IF(AND('V - P'!$C22=\"\",'V - P'!$D22=\"\"),\"\",'V - P'!B22)","v":""},{"$f":"IF('V - P'!C22=\"\",\"\",'V - P'!C22)","v":""},{"$f":"IF('V - P'!D22=\"\",\"\",'V - P'!D22)","v":""},{"$f":"IF('V - P'!H22=\"\",\"\",'V - P'!H22)","v":""},{"$f":"IF('V - P'!M22=\"\",\"\",'V - P'!M22)","v":""},null,{"$f":"IF('V - P'!O22=\"\",\"\",'V - P'!O22)","v":""}]
[null,{"$f":"IF(AND('V - P'!$C23=\"\",'V - P'!$D23=\"\"),\"\",'V - P'!V23)","v":""},{"$f":"IF(AND('V - P'!$C23=\"\",'V - P'!$D23=\"\"),\"\",'V - P'!B23)","v":""},{"$f":"IF('V - P'!C23=\"\",\"\",'V - P'!C23)","v":""},{"$f":"IF('V - P'!D23=\"\",\"\",'V - P'!D23)","v":""},{"$f":"IF('V - P'!H23=\"\",\"\",'V - P'!H23)","v":""},{"$f":"IF('V - P'!M23=\"\",\"\",'V - P'!M23)","v":""},null,{"$f":"IF('V - P'!O23=\"\",\"\",'V - P'!O23)","v":""}]
[null,{"$f":"IF(AND('V - P'!$C24=\"\",'V - P'!$D24=\"\"),\"\",'V - P'!V24)","v":""},{"$f":"IF(AND('V - P'!$C24=\"\",'V - P'!$D24=\"\"),\"\",'V - P'!B24)","v":""},{"$f":"IF('V - P'!C24=\"\",\"\",'V - P'!C24)","v":""},{"$f":"IF('V - P'!D24=\"\",\"\",'V - P'!D24)","v":""},{"$f":"IF('V - P'!H24=\"\",\"\",'V - P'!H24)","v":""},{"$f":"IF('V - P'!M24=\"\",\"\",'V - P'!M24)","v":""},null,{"$f":"IF('V - P'!O24=\"\",\"\",'V - P'!O24)","v":""}]
[null,{"$f":"IF(AND('V - P'!$C25=\"\",'V - P'!$D25=\"\"),\"\",'V - P'!V25)","v":""},{"$f":"IF(AND('V - P'!$C25=\"\",'V - P'!$D25=\"\"),\"\",'V - P'!B25)","v":""},{"$f":"IF('V - P'!C25=\"\",\"\",'V - P'!C25)","v":""},{"$f":"IF('V - P'!D25=\"\",\"\",'V - P'!D25)","v":""},{"$f":"IF('V - P'!H25=\"\",\"\",'V - P'!H25)","v":""},{"$f":"IF('V - P'!M25=\"\",\"\",'V - P'!M25)","v":""},null,{"$f":"IF('V - P'!O25=\"\",\"\",'V - P'!O25)","v":""}]
[null,{"$f":"IF(AND('V - P'!$C26=\"\",'V - P'!$D26=\"\"),\"\",'V - P'!V26)","v":""},{"$f":"IF(AND('V - P'!$C26=\"\",'V - P'!$D26=\"\"),\"\",'V - P'!B26)","v":""},{"$f":"IF('V - P'!C26=\"\",\"\",'V - P'!C26)","v":""},{"$f":"IF('V - P'!D26=\"\",\"\",'V - P'!D26)","v":""},{"$f":"IF('V - P'!H26=\"\",\"\",'V - P'!H26)","v":""},{"$f":"IF('V - P'!M26=\"\",\"\",'V - P'!M26)","v":""},null,{"$f":"IF('V - P'!O26=\"\",\"\",'V - P'!O26)","v":""}]
[null,{"$f":"IF(AND('V - P'!$C27=\"\",'V - P'!$D27=\"\"),\"\",'V - P'!V27)","v":""},{"$f":"IF(AND('V - P'!$C27=\"\",'V - P'!$D27=\"\"),\"\",'V - P'!B27)","v":""},{"$f":"IF('V - P'!C27=\"\",\"\",'V - P'!C27)","v":""},{"$f":"IF('V - P'!D27=\"\",\"\",'V - P'!D27)","v":""},{"$f":"IF('V - P'!H27=\"\",\"\",'V - P'!H27)","v":""},{"$f":"IF('V - P'!M27=\"\",\"\",'V - P'!M27)","v":""},null,{"$f":"IF('V - P'!O27=\"\",\"\",'V - P'!O27)","v":""}]
[null,{"$f":"IF(AND('V - P'!$C28=\"\",'V - P'!$D28=\"\"),\"\",'V - P'!V28)","v":""},{"$f":"IF(AND('V - P'!$C28=\"\",'V - P'!$D28=\"\"),\"\",'V - P'!B28)","v":""},{"$f":"IF('V - P'!C28=\"\",\"\",'V - P'!C28)","v":""},{"$f":"IF('V - P'!D28=\"\",\"\",'V - P'!D28)","v":""},{"$f":"IF('V - P'!H28=\"\",\"\",'V - P'!H28)","v":""},{"$f":"IF('V - P'!M28=\"\",\"\",'V - P'!M28)","v":""},null,{"$f":"IF('V - P'!O28=\"\",\"\",'V - P'!O28)","v":""}]
[null,{"$f":"IF(AND('V - P'!$C29=\"\",'V - P'!$D29=\"\"),\"\",'V - P'!V29)","v":""},{"$f":"IF(AND('V - P'!$C29=\"\",'V - P'!$D29=\"\"),\"\",'V - P'!B29)","v":""},{"$f":"IF('V - P'!C29=\"\",\"\",'V - P'!C29)","v":""},{"$f":"IF('V - P'!D29=\"\",\"\",'V - P'!D29)","v":""},{"$f":"IF('V - P'!H29=\"\",\"\",'V - P'!H29)","v":""},{"$f":"IF('V - P'!M29=\"\",\"\",'V - P'!M29)","v":""},null,{"$f":"IF('V - P'!O29=\"\",\"\",'V - P'!O29)","v":""}]
[null,{"$f":"IF(AND('V - P'!$C30=\"\",'V - P'!$D30=\"\"),\"\",'V - P'!V30)","v":""},{"$f":"IF(AND('V - P'!$C30=\"\",'V - P'!$D30=\"\"),\"\",'V - P'!B30)","v":""},{"$f":"IF('V - P'!C30=\"\",\"\",'V - P'!C30)","v":""},{"$f":"IF('V - P'!D30=\"\",\"\",'V - P'!D30)","v":""},{"$f":"IF('V - P'!H30=\"\",\"\",'V - P'!H30)","v":""},{"$f":"IF('V - P'!M30=\"\",\"\",'V - P'!M30)","v":""},null,{"$f":"IF('V - P'!O30=\"\",\"\",'V - P'!O30)","v":""}]
[null,{"$f":"IF(AND('V - P'!$C31=\"\",'V - P'!$D31=\"\"),\"\",'V - P'!V31)","v":""},{"$f":"IF(AND('V - P'!$C31=\"\",'V - P'!$D31=\"\"),\"\",'V - P'!B31)","v":""},{"$f":"IF('V - P'!C31=\"\",\"\",'V - P'!C31)","v":""},{"$f":"IF('V - P'!D31=\"\",\"\",'V - P'!D31)","v":""},{"$f":"IF('V - P'!H31=\"\",\"\",'V - P'!H31)","v":""},{"$f":"IF('V - P'!M31=\"\",\"\",'V - P'!M31)","v":""},null,{"$f":"IF('V - P'!O31=\"\",\"\",'V - P'!O31)","v":""}]
[null,{"$f":"IF(AND('V - P'!$C32=\"\",'V - P'!$D32=\"\"),\"\",'V - P'!V32)","v":""},{"$f":"IF(AND('V - P'!$C32=\"\",'V - P'!$D32=\"\"),\"\",'V - P'!B32)","v":""},{"$f":"IF('V - P'!C32=\"\",\"\",'V - P'!C32)","v":""},{"$f":"IF('V - P'!D32=\"\",\"\",'V - P'!D32)","v":""},{"$f":"IF('V - P'!H32=\"\",\"\",'V - P'!H32)","v":""},{"$f":"IF('V - P'!M32=\"\",\"\",'V - P'!M32)","v":""},null,{"$f":"IF('V - P'!O32=\"\",\"\",'V - P'!O32)","v":""}]
[null,{"$f":"IF(AND('V - P'!$C33=\"\",'V - P'!$D33=\"\"),\"\",'V - P'!V33)","v":""},{"$f":"IF(AND('V - P'!$C33=\"\",'V - P'!$D33=\"\"),\"\",'V - P'!B33)","v":""},{"$f":"IF('V - P'!C33=\"\",\"\",'V - P'!C33)","v":""},{"$f":"IF('V - P'!D33=\"\",\"\",'V - P'!D33)","v":""},{"$f":"IF('V - P'!H33=\"\",\"\",'V - P'!H33)","v":""},{"$f":"IF('V - P'!M33=\"\",\"\",'V - P'!M33)","v":""},null,{"$f":"IF('V - P'!O33=\"\",\"\",'V - P'!O33)","v":""}]
[null,{"$f":"IF(AND('V - P'!$C34=\"\",'V - P'!$D34=\"\"),\"\",'V - P'!V34)","v":""},{"$f":"IF(AND('V - P'!$C34=\"\",'V - P'!$D34=\"\"),\"\",'V - P'!B34)","v":""},{"$f":"IF('V - P'!C34=\"\",\"\",'V - P'!C34)","v":""},{"$f":"IF('V - P'!D34=\"\",\"\",'V - P'!D34)","v":""},{"$f":"IF('V - P'!H34=\"\",\"\",'V - P'!H34)","v":""},{"$f":"IF('V - P'!M34=\"\",\"\",'V - P'!M34)","v":""},null,{"$f":"IF('V - P'!O34=\"\",\"\",'V - P'!O34)","v":""}]
[null,{"$f":"IF(AND('V - P'!$C35=\"\",'V - P'!$D35=\"\"),\"\",'V - P'!V35)","v":""},{"$f":"IF(AND('V - P'!$C35=\"\",'V - P'!$D35=\"\"),\"\",'V - P'!B35)","v":""},{"$f":"IF('V - P'!C35=\"\",\"\",'V - P'!C35)","v":""},{"$f":"IF('V - P'!D35=\"\",\"\",'V - P'!D35)","v":""},{"$f":"IF('V - P'!H35=\"\",\"\",'V - P'!H35)","v":""},{"$f":"IF('V - P'!M35=\"\",\"\",'V - P'!M35)","v":""},null,{"$f":"IF('V - P'!O35=\"\",\"\",'V - P'!O35)","v":""}]
[null,{"$f":"IF(AND('V - P'!$C36=\"\",'V - P'!$D36=\"\"),\"\",'V - P'!V36)","v":""},{"$f":"IF(AND('V - P'!$C36=\"\",'V - P'!$D36=\"\"),\"\",'V - P'!B36)","v":""},{"$f":"IF('V - P'!C36=\"\",\"\",'V - P'!C36)","v":""},{"$f":"IF('V - P'!D36=\"\",\"\",'V - P'!D36)","v":""},{"$f":"IF('V - P'!H36=\"\",\"\",'V - P'!H36)","v":""},{"$f":"IF('V - P'!M36=\"\",\"\",'V - P'!M36)","v":""},null,{"$f":"IF('V - P'!O36=\"\",\"\",'V - P'!O36)","v":""}]
[null,{"$f":"B$1","v":"Věž - Pořadí jednotlivců"}]
[]
[null,{"$f":"B$3","v":"VC ČR v požárním útoku družstev HZS krajů a HZS podniků"},null,null,{"$f":"E$3","v":"Petrovice 19.9.2019"}]
[]
[null,{"$f":"Start!$C$5","v":"MUŽI"}]
[null,"Pořadí","Start. číslo","Jméno","kolektiv","čas             I. pokusu","čas            II. pokusu",null,"Výsledný čas"]
[]
[null,{"$f":"IF(AND('V - P'!$C37=\"\",'V - P'!$D37=\"\"),\"\",'V - P'!V37)","v":""},{"$f":"IF(AND('V - P'!$C37=\"\",'V - P'!$D37=\"\"),\"\",'V - P'!B37)","v":""},{"$f":"IF('V - P'!C37=\"\",\"\",'V - P'!C37)","v":""},{"$f":"IF('V - P'!D37=\"\",\"\",'V - P'!D37)","v":""},{"$f":"IF('V - P'!H37=\"\",\"\",'V - P'!H37)","v":""},{"$f":"IF('V - P'!M37=\"\",\"\",'V - P'!M37)","v":""},null,{"$f":"IF('V - P'!O37=\"\",\"\",'V - P'!O37)","v":""}]
[null,{"$f":"IF(AND('V - P'!$C38=\"\",'V - P'!$D38=\"\"),\"\",'V - P'!V38)","v":""},{"$f":"IF(AND('V - P'!$C38=\"\",'V - P'!$D38=\"\"),\"\",'V - P'!B38)","v":""},{"$f":"IF('V - P'!C38=\"\",\"\",'V - P'!C38)","v":""},{"$f":"IF('V - P'!D38=\"\",\"\",'V - P'!D38)","v":""},{"$f":"IF('V - P'!H38=\"\",\"\",'V - P'!H38)","v":""},{"$f":"IF('V - P'!M38=\"\",\"\",'V - P'!M38)","v":""},null,{"$f":"IF('V - P'!O38=\"\",\"\",'V - P'!O38)","v":""}]
[null,{"$f":"IF(AND('V - P'!$C39=\"\",'V - P'!$D39=\"\"),\"\",'V - P'!V39)","v":""},{"$f":"IF(AND('V - P'!$C39=\"\",'V - P'!$D39=\"\"),\"\",'V - P'!B39)","v":""},{"$f":"IF('V - P'!C39=\"\",\"\",'V - P'!C39)","v":""},{"$f":"IF('V - P'!D39=\"\",\"\",'V - P'!D39)","v":""},{"$f":"IF('V - P'!H39=\"\",\"\",'V - P'!H39)","v":""},{"$f":"IF('V - P'!M39=\"\",\"\",'V - P'!M39)","v":""},null,{"$f":"IF('V - P'!O39=\"\",\"\",'V - P'!O39)","v":""}]
[null,{"$f":"IF(AND('V - P'!$C40=\"\",'V - P'!$D40=\"\"),\"\",'V - P'!V40)","v":""},{"$f":"IF(AND('V - P'!$C40=\"\",'V - P'!$D40=\"\"),\"\",'V - P'!B40)","v":""},{"$f":"IF('V - P'!C40=\"\",\"\",'V - P'!C40)","v":""},{"$f":"IF('V - P'!D40=\"\",\"\",'V - P'!D40)","v":""},{"$f":"IF('V - P'!H40=\"\",\"\",'V - P'!H40)","v":""},{"$f":"IF('V - P'!M40=\"\",\"\",'V - P'!M40)","v":""},null,{"$f":"IF('V - P'!O40=\"\",\"\",'V - P'!O40)","v":""}]
[null,{"$f":"IF(AND('V - P'!$C41=\"\",'V - P'!$D41=\"\"),\"\",'V - P'!V41)","v":""},{"$f":"IF(AND('V - P'!$C41=\"\",'V - P'!$D41=\"\"),\"\",'V - P'!B41)","v":""},{"$f":"IF('V - P'!C41=\"\",\"\",'V - P'!C41)","v":""},{"$f":"IF('V - P'!D41=\"\",\"\",'V - P'!D41)","v":""},{"$f":"IF('V - P'!H41=\"\",\"\",'V - P'!H41)","v":""},{"$f":"IF('V - P'!M41=\"\",\"\",'V - P'!M41)","v":""},null,{"$f":"IF('V - P'!O41=\"\",\"\",'V - P'!O41)","v":""}]
[null,{"$f":"IF(AND('V - P'!$C42=\"\",'V - P'!$D42=\"\"),\"\",'V - P'!V42)","v":""},{"$f":"IF(AND('V - P'!$C42=\"\",'V - P'!$D42=\"\"),\"\",'V - P'!B42)","v":""},{"$f":"IF('V - P'!C42=\"\",\"\",'V - P'!C42)","v":""},{"$f":"IF('V - P'!D42=\"\",\"\",'V - P'!D42)","v":""},{"$f":"IF('V - P'!H42=\"\",\"\",'V - P'!H42)","v":""},{"$f":"IF('V - P'!M42=\"\",\"\",'V - P'!M42)","v":""},null,{"$f":"IF('V - P'!O42=\"\",\"\",'V - P'!O42)","v":""}]
[null,{"$f":"IF(AND('V - P'!$C43=\"\",'V - P'!$D43=\"\"),\"\",'V - P'!V43)","v":""},{"$f":"IF(AND('V - P'!$C43=\"\",'V - P'!$D43=\"\"),\"\",'V - P'!B43)","v":""},{"$f":"IF('V - P'!C43=\"\",\"\",'V - P'!C43)","v":""},{"$f":"IF('V - P'!D43=\"\",\"\",'V - P'!D43)","v":""},{"$f":"IF('V - P'!H43=\"\",\"\",'V - P'!H43)","v":""},{"$f":"IF('V - P'!M43=\"\",\"\",'V - P'!M43)","v":""},null,{"$f":"IF('V - P'!O43=\"\",\"\",'V - P'!O43)","v":""}]
[null,{"$f":"IF(AND('V - P'!$C44=\"\",'V - P'!$D44=\"\"),\"\",'V - P'!V44)","v":""},{"$f":"IF(AND('V - P'!$C44=\"\",'V - P'!$D44=\"\"),\"\",'V - P'!B44)","v":""},{"$f":"IF('V - P'!C44=\"\",\"\",'V - P'!C44)","v":""},{"$f":"IF('V - P'!D44=\"\",\"\",'V - P'!D44)","v":""},{"$f":"IF('V - P'!H44=\"\",\"\",'V - P'!H44)","v":""},{"$f":"IF('V - P'!M44=\"\",\"\",'V - P'!M44)","v":""},null,{"$f":"IF('V - P'!O44=\"\",\"\",'V - P'!O44)","v":""}]
[null,{"$f":"IF(AND('V - P'!$C45=\"\",'V - P'!$D45=\"\"),\"\",'V - P'!V45)","v":""},{"$f":"IF(AND('V - P'!$C45=\"\",'V - P'!$D45=\"\"),\"\",'V - P'!B45)","v":""},{"$f":"IF('V - P'!C45=\"\",\"\",'V - P'!C45)","v":""},{"$f":"IF('V - P'!D45=\"\",\"\",'V - P'!D45)","v":""},{"$f":"IF('V - P'!H45=\"\",\"\",'V - P'!H45)","v":""},{"$f":"IF('V - P'!M45=\"\",\"\",'V - P'!M45)","v":""},null,{"$f":"IF('V - P'!O45=\"\",\"\",'V - P'!O45)","v":""}]
[null,{"$f":"IF(AND('V - P'!$C46=\"\",'V - P'!$D46=\"\"),\"\",'V - P'!V46)","v":""},{"$f":"IF(AND('V - P'!$C46=\"\",'V - P'!$D46=\"\"),\"\",'V - P'!B46)","v":""},{"$f":"IF('V - P'!C46=\"\",\"\",'V - P'!C46)","v":""},{"$f":"IF('V - P'!D46=\"\",\"\",'V - P'!D46)","v":""},{"$f":"IF('V - P'!H46=\"\",\"\",'V - P'!H46)","v":""},{"$f":"IF('V - P'!M46=\"\",\"\",'V - P'!M46)","v":""},null,{"$f":"IF('V - P'!O46=\"\",\"\",'V - P'!O46)","v":""}]
[null,{"$f":"IF(AND('V - P'!$C47=\"\",'V - P'!$D47=\"\"),\"\",'V - P'!V47)","v":""},{"$f":"IF(AND('V - P'!$C47=\"\",'V - P'!$D47=\"\"),\"\",'V - P'!B47)","v":""},{"$f":"IF('V - P'!C47=\"\",\"\",'V - P'!C47)","v":""},{"$f":"IF('V - P'!D47=\"\",\"\",'V - P'!D47)","v":""},{"$f":"IF('V - P'!H47=\"\",\"\",'V - P'!H47)","v":""},{"$f":"IF('V - P'!M47=\"\",\"\",'V - P'!M47)","v":""},null,{"$f":"IF('V - P'!O47=\"\",\"\",'V - P'!O47)","v":""}]
[null,{"$f":"IF(AND('V - P'!$C48=\"\",'V - P'!$D48=\"\"),\"\",'V - P'!V48)","v":""},{"$f":"IF(AND('V - P'!$C48=\"\",'V - P'!$D48=\"\"),\"\",'V - P'!B48)","v":""},{"$f":"IF('V - P'!C48=\"\",\"\",'V - P'!C48)","v":""},{"$f":"IF('V - P'!D48=\"\",\"\",'V - P'!D48)","v":""},{"$f":"IF('V - P'!H48=\"\",\"\",'V - P'!H48)","v":""},{"$f":"IF('V - P'!M48=\"\",\"\",'V - P'!M48)","v":""},null,{"$f":"IF('V - P'!O48=\"\",\"\",'V - P'!O48)","v":""}]
[null,{"$f":"IF(AND('V - P'!$C49=\"\",'V - P'!$D49=\"\"),\"\",'V - P'!V49)","v":""},{"$f":"IF(AND('V - P'!$C49=\"\",'V - P'!$D49=\"\"),\"\",'V - P'!B49)","v":""},{"$f":"IF('V - P'!C49=\"\",\"\",'V - P'!C49)","v":""},{"$f":"IF('V - P'!D49=\"\",\"\",'V - P'!D49)","v":""},{"$f":"IF('V - P'!H49=\"\",\"\",'V - P'!H49)","v":""},{"$f":"IF('V - P'!M49=\"\",\"\",'V - P'!M49)","v":""},null,{"$f":"IF('V - P'!O49=\"\",\"\",'V - P'!O49)","v":""}]
[null,{"$f":"IF(AND('V - P'!$C50=\"\",'V - P'!$D50=\"\"),\"\",'V - P'!V50)","v":""},{"$f":"IF(AND('V - P'!$C50=\"\",'V - P'!$D50=\"\"),\"\",'V - P'!B50)","v":""},{"$f":"IF('V - P'!C50=\"\",\"\",'V - P'!C50)","v":""},{"$f":"IF('V - P'!D50=\"\",\"\",'V - P'!D50)","v":""},{"$f":"IF('V - P'!H50=\"\",\"\",'V - P'!H50)","v":""},{"$f":"IF('V - P'!M50=\"\",\"\",'V - P'!M50)","v":""},null,{"$f":"IF('V - P'!O50=\"\",\"\",'V - P'!O50)","v":""}]
[null,{"$f":"IF(AND('V - P'!$C51=\"\",'V - P'!$D51=\"\"),\"\",'V - P'!V51)","v":""},{"$f":"IF(AND('V - P'!$C51=\"\",'V - P'!$D51=\"\"),\"\",'V - P'!B51)","v":""},{"$f":"IF('V - P'!C51=\"\",\"\",'V - P'!C51)","v":""},{"$f":"IF('V - P'!D51=\"\",\"\",'V - P'!D51)","v":""},{"$f":"IF('V - P'!H51=\"\",\"\",'V - P'!H51)","v":""},{"$f":"IF('V - P'!M51=\"\",\"\",'V - P'!M51)","v":""},null,{"$f":"IF('V - P'!O51=\"\",\"\",'V - P'!O51)","v":""}]
[null,{"$f":"IF(AND('V - P'!$C52=\"\",'V - P'!$D52=\"\"),\"\",'V - P'!V52)","v":""},{"$f":"IF(AND('V - P'!$C52=\"\",'V - P'!$D52=\"\"),\"\",'V - P'!B52)","v":""},{"$f":"IF('V - P'!C52=\"\",\"\",'V - P'!C52)","v":""},{"$f":"IF('V - P'!D52=\"\",\"\",'V - P'!D52)","v":""},{"$f":"IF('V - P'!H52=\"\",\"\",'V - P'!H52)","v":""},{"$f":"IF('V - P'!M52=\"\",\"\",'V - P'!M52)","v":""},null,{"$f":"IF('V - P'!O52=\"\",\"\",'V - P'!O52)","v":""}]
[null,{"$f":"IF(AND('V - P'!$C53=\"\",'V - P'!$D53=\"\"),\"\",'V - P'!V53)","v":""},{"$f":"IF(AND('V - P'!$C53=\"\",'V - P'!$D53=\"\"),\"\",'V - P'!B53)","v":""},{"$f":"IF('V - P'!C53=\"\",\"\",'V - P'!C53)","v":""},{"$f":"IF('V - P'!D53=\"\",\"\",'V - P'!D53)","v":""},{"$f":"IF('V - P'!H53=\"\",\"\",'V - P'!H53)","v":""},{"$f":"IF('V - P'!M53=\"\",\"\",'V - P'!M53)","v":""},null,{"$f":"IF('V - P'!O53=\"\",\"\",'V - P'!O53)","v":""}]
[null,{"$f":"IF(AND('V - P'!$C54=\"\",'V - P'!$D54=\"\"),\"\",'V - P'!V54)","v":""},{"$f":"IF(AND('V - P'!$C54=\"\",'V - P'!$D54=\"\"),\"\",'V - P'!B54)","v":""},{"$f":"IF('V - P'!C54=\"\",\"\",'V - P'!C54)","v":""},{"$f":"IF('V - P'!D54=\"\",\"\",'V - P'!D54)","v":""},{"$f":"IF('V - P'!H54=\"\",\"\",'V - P'!H54)","v":""},{"$f":"IF('V - P'!M54=\"\",\"\",'V - P'!M54)","v":""},null,{"$f":"IF('V - P'!O54=\"\",\"\",'V - P'!O54)","v":""}]
[null,{"$f":"IF(AND('V - P'!$C55=\"\",'V - P'!$D55=\"\"),\"\",'V - P'!V55)","v":""},{"$f":"IF(AND('V - P'!$C55=\"\",'V - P'!$D55=\"\"),\"\",'V - P'!B55)","v":""},{"$f":"IF('V - P'!C55=\"\",\"\",'V - P'!C55)","v":""},{"$f":"IF('V - P'!D55=\"\",\"\",'V - P'!D55)","v":""},{"$f":"IF('V - P'!H55=\"\",\"\",'V - P'!H55)","v":""},{"$f":"IF('V - P'!M55=\"\",\"\",'V - P'!M55)","v":""},null,{"$f":"IF('V - P'!O55=\"\",\"\",'V - P'!O55)","v":""}]
[null,{"$f":"IF(AND('V - P'!$C56=\"\",'V - P'!$D56=\"\"),\"\",'V - P'!V56)","v":""},{"$f":"IF(AND('V - P'!$C56=\"\",'V - P'!$D56=\"\"),\"\",'V - P'!B56)","v":""},{"$f":"IF('V - P'!C56=\"\",\"\",'V - P'!C56)","v":""},{"$f":"IF('V - P'!D56=\"\",\"\",'V - P'!D56)","v":""},{"$f":"IF('V - P'!H56=\"\",\"\",'V - P'!H56)","v":""},{"$f":"IF('V - P'!M56=\"\",\"\",'V - P'!M56)","v":""},null,{"$f":"IF('V - P'!O56=\"\",\"\",'V - P'!O56)","v":""}]
[null,{"$f":"IF(AND('V - P'!$C57=\"\",'V - P'!$D57=\"\"),\"\",'V - P'!V57)","v":""},{"$f":"IF(AND('V - P'!$C57=\"\",'V - P'!$D57=\"\"),\"\",'V - P'!B57)","v":""},{"$f":"IF('V - P'!C57=\"\",\"\",'V - P'!C57)","v":""},{"$f":"IF('V - P'!D57=\"\",\"\",'V - P'!D57)","v":""},{"$f":"IF('V - P'!H57=\"\",\"\",'V - P'!H57)","v":""},{"$f":"IF('V - P'!M57=\"\",\"\",'V - P'!M57)","v":""},null,{"$f":"IF('V - P'!O57=\"\",\"\",'V - P'!O57)","v":""}]
[null,{"$f":"IF(AND('V - P'!$C58=\"\",'V - P'!$D58=\"\"),\"\",'V - P'!V58)","v":""},{"$f":"IF(AND('V - P'!$C58=\"\",'V - P'!$D58=\"\"),\"\",'V - P'!B58)","v":""},{"$f":"IF('V - P'!C58=\"\",\"\",'V - P'!C58)","v":""},{"$f":"IF('V - P'!D58=\"\",\"\",'V - P'!D58)","v":""},{"$f":"IF('V - P'!H58=\"\",\"\",'V - P'!H58)","v":""},{"$f":"IF('V - P'!M58=\"\",\"\",'V - P'!M58)","v":""},null,{"$f":"IF('V - P'!O58=\"\",\"\",'V - P'!O58)","v":""}]
[null,{"$f":"IF(AND('V - P'!$C59=\"\",'V - P'!$D59=\"\"),\"\",'V - P'!V59)","v":""},{"$f":"IF(AND('V - P'!$C59=\"\",'V - P'!$D59=\"\"),\"\",'V - P'!B59)","v":""},{"$f":"IF('V - P'!C59=\"\",\"\",'V - P'!C59)","v":""},{"$f":"IF('V - P'!D59=\"\",\"\",'V - P'!D59)","v":""},{"$f":"IF('V - P'!H59=\"\",\"\",'V - P'!H59)","v":""},{"$f":"IF('V - P'!M59=\"\",\"\",'V - P'!M59)","v":""},null,{"$f":"IF('V - P'!O59=\"\",\"\",'V - P'!O59)","v":""}]
[null,{"$f":"IF(AND('V - P'!$C60=\"\",'V - P'!$D60=\"\"),\"\",'V - P'!V60)","v":""},{"$f":"IF(AND('V - P'!$C60=\"\",'V - P'!$D60=\"\"),\"\",'V - P'!B60)","v":""},{"$f":"IF('V - P'!C60=\"\",\"\",'V - P'!C60)","v":""},{"$f":"IF('V - P'!D60=\"\",\"\",'V - P'!D60)","v":""},{"$f":"IF('V - P'!H60=\"\",\"\",'V - P'!H60)","v":""},{"$f":"IF('V - P'!M60=\"\",\"\",'V - P'!M60)","v":""},null,{"$f":"IF('V - P'!O60=\"\",\"\",'V - P'!O60)","v":""}]
[null,{"$f":"IF(AND('V - P'!$C61=\"\",'V - P'!$D61=\"\"),\"\",'V - P'!V61)","v":""},{"$f":"IF(AND('V - P'!$C61=\"\",'V - P'!$D61=\"\"),\"\",'V - P'!B61)","v":""},{"$f":"IF('V - P'!C61=\"\",\"\",'V - P'!C61)","v":""},{"$f":"IF('V - P'!D61=\"\",\"\",'V - P'!D61)","v":""},{"$f":"IF('V - P'!H61=\"\",\"\",'V - P'!H61)","v":""},{"$f":"IF('V - P'!M61=\"\",\"\",'V - P'!M61)","v":""},null,{"$f":"IF('V - P'!O61=\"\",\"\",'V - P'!O61)","v":""}]
[null,{"$f":"IF(AND('V - P'!$C62=\"\",'V - P'!$D62=\"\"),\"\",'V - P'!V62)","v":""},{"$f":"IF(AND('V - P'!$C62=\"\",'V - P'!$D62=\"\"),\"\",'V - P'!B62)","v":""},{"$f":"IF('V - P'!C62=\"\",\"\",'V - P'!C62)","v":""},{"$f":"IF('V - P'!D62=\"\",\"\",'V - P'!D62)","v":""},{"$f":"IF('V - P'!H62=\"\",\"\",'V - P'!H62)","v":""},{"$f":"IF('V - P'!M62=\"\",\"\",'V - P'!M62)","v":""},null,{"$f":"IF('V - P'!O62=\"\",\"\",'V - P'!O62)","v":""}]
[null,{"$f":"IF(AND('V - P'!$C63=\"\",'V - P'!$D63=\"\"),\"\",'V - P'!V63)","v":""},{"$f":"IF(AND('V - P'!$C63=\"\",'V - P'!$D63=\"\"),\"\",'V - P'!B63)","v":""},{"$f":"IF('V - P'!C63=\"\",\"\",'V - P'!C63)","v":""},{"$f":"IF('V - P'!D63=\"\",\"\",'V - P'!D63)","v":""},{"$f":"IF('V - P'!H63=\"\",\"\",'V - P'!H63)","v":""},{"$f":"IF('V - P'!M63=\"\",\"\",'V - P'!M63)","v":""},null,{"$f":"IF('V - P'!O63=\"\",\"\",'V - P'!O63)","v":""}]
[null,{"$f":"IF(AND('V - P'!$C64=\"\",'V - P'!$D64=\"\"),\"\",'V - P'!V64)","v":""},{"$f":"IF(AND('V - P'!$C64=\"\",'V - P'!$D64=\"\"),\"\",'V - P'!B64)","v":""},{"$f":"IF('V - P'!C64=\"\",\"\",'V - P'!C64)","v":""},{"$f":"IF('V - P'!D64=\"\",\"\",'V - P'!D64)","v":""},{"$f":"IF('V - P'!H64=\"\",\"\",'V - P'!H64)","v":""},{"$f":"IF('V - P'!M64=\"\",\"\",'V - P'!M64)","v":""},null,{"$f":"IF('V - P'!O64=\"\",\"\",'V - P'!O64)","v":""}]
[null,{"$f":"IF(AND('V - P'!$C65=\"\",'V - P'!$D65=\"\"),\"\",'V - P'!V65)","v":""},{"$f":"IF(AND('V - P'!$C65=\"\",'V - P'!$D65=\"\"),\"\",'V - P'!B65)","v":""},{"$f":"IF('V - P'!C65=\"\",\"\",'V - P'!C65)","v":""},{"$f":"IF('V - P'!D65=\"\",\"\",'V - P'!D65)","v":""},{"$f":"IF('V - P'!H65=\"\",\"\",'V - P'!H65)","v":""},{"$f":"IF('V - P'!M65=\"\",\"\",'V - P'!M65)","v":""},null,{"$f":"IF('V - P'!O65=\"\",\"\",'V - P'!O65)","v":""}]
[null,{"$f":"IF(AND('V - P'!$C66=\"\",'V - P'!$D66=\"\"),\"\",'V - P'!V66)","v":""},{"$f":"IF(AND('V - P'!$C66=\"\",'V - P'!$D66=\"\"),\"\",'V - P'!B66)","v":""},{"$f":"IF('V - P'!C66=\"\",\"\",'V - P'!C66)","v":""},{"$f":"IF('V - P'!D66=\"\",\"\",'V - P'!D66)","v":""},{"$f":"IF('V - P'!H66=\"\",\"\",'V - P'!H66)","v":""},{"$f":"IF('V - P'!M66=\"\",\"\",'V - P'!M66)","v":""},null,{"$f":"IF('V - P'!O66=\"\",\"\",'V - P'!O66)","v":""}]
[null,{"$f":"IF(AND('V - P'!$C67=\"\",'V - P'!$D67=\"\"),\"\",'V - P'!V67)","v":""},{"$f":"IF(AND('V - P'!$C67=\"\",'V - P'!$D67=\"\"),\"\",'V - P'!B67)","v":""},{"$f":"IF('V - P'!C67=\"\",\"\",'V - P'!C67)","v":""},{"$f":"IF('V - P'!D67=\"\",\"\",'V - P'!D67)","v":""},{"$f":"IF('V - P'!H67=\"\",\"\",'V - P'!H67)","v":""},{"$f":"IF('V - P'!M67=\"\",\"\",'V - P'!M67)","v":""},null,{"$f":"IF('V - P'!O67=\"\",\"\",'V - P'!O67)","v":""}]
[null,{"$f":"IF(AND('V - P'!$C68=\"\",'V - P'!$D68=\"\"),\"\",'V - P'!V68)","v":""},{"$f":"IF(AND('V - P'!$C68=\"\",'V - P'!$D68=\"\"),\"\",'V - P'!B68)","v":""},{"$f":"IF('V - P'!C68=\"\",\"\",'V - P'!C68)","v":""},{"$f":"IF('V - P'!D68=\"\",\"\",'V - P'!D68)","v":""},{"$f":"IF('V - P'!H68=\"\",\"\",'V - P'!H68)","v":""},{"$f":"IF('V - P'!M68=\"\",\"\",'V - P'!M68)","v":""},null,{"$f":"IF('V - P'!O68=\"\",\"\",'V - P'!O68)","v":""}]
[null,{"$f":"IF(AND('V - P'!$C69=\"\",'V - P'!$D69=\"\"),\"\",'V - P'!V69)","v":""},{"$f":"IF(AND('V - P'!$C69=\"\",'V - P'!$D69=\"\"),\"\",'V - P'!B69)","v":""},{"$f":"IF('V - P'!C69=\"\",\"\",'V - P'!C69)","v":""},{"$f":"IF('V - P'!D69=\"\",\"\",'V - P'!D69)","v":""},{"$f":"IF('V - P'!H69=\"\",\"\",'V - P'!H69)","v":""},{"$f":"IF('V - P'!M69=\"\",\"\",'V - P'!M69)","v":""},null,{"$f":"IF('V - P'!O69=\"\",\"\",'V - P'!O69)","v":""}]
[null,{"$f":"IF(AND('V - P'!$C70=\"\",'V - P'!$D70=\"\"),\"\",'V - P'!V70)","v":""},{"$f":"IF(AND('V - P'!$C70=\"\",'V - P'!$D70=\"\"),\"\",'V - P'!B70)","v":""},{"$f":"IF('V - P'!C70=\"\",\"\",'V - P'!C70)","v":""},{"$f":"IF('V - P'!D70=\"\",\"\",'V - P'!D70)","v":""},{"$f":"IF('V - P'!H70=\"\",\"\",'V - P'!H70)","v":""},{"$f":"IF('V - P'!M70=\"\",\"\",'V - P'!M70)","v":""},null,{"$f":"IF('V - P'!O70=\"\",\"\",'V - P'!O70)","v":""}]
[null,{"$f":"IF(AND('V - P'!$C71=\"\",'V - P'!$D71=\"\"),\"\",'V - P'!V71)","v":""},{"$f":"IF(AND('V - P'!$C71=\"\",'V - P'!$D71=\"\"),\"\",'V - P'!B71)","v":""},{"$f":"IF('V - P'!C71=\"\",\"\",'V - P'!C71)","v":""},{"$f":"IF('V - P'!D71=\"\",\"\",'V - P'!D71)","v":""},{"$f":"IF('V - P'!H71=\"\",\"\",'V - P'!H71)","v":""},{"$f":"IF('V - P'!M71=\"\",\"\",'V - P'!M71)","v":""},null,{"$f":"IF('V - P'!O71=\"\",\"\",'V - P'!O71)","v":""}]
[null,{"$f":"IF(AND('V - P'!$C72=\"\",'V - P'!$D72=\"\"),\"\",'V - P'!V72)","v":""},{"$f":"IF(AND('V - P'!$C72=\"\",'V - P'!$D72=\"\"),\"\",'V - P'!B72)","v":""},{"$f":"IF('V - P'!C72=\"\",\"\",'V - P'!C72)","v":""},{"$f":"IF('V - P'!D72=\"\",\"\",'V - P'!D72)","v":""},{"$f":"IF('V - P'!H72=\"\",\"\",'V - P'!H72)","v":""},{"$f":"IF('V - P'!M72=\"\",\"\",'V - P'!M72)","v":""},null,{"$f":"IF('V - P'!O72=\"\",\"\",'V - P'!O72)","v":""}]
[null,{"$f":"B$1","v":"Věž - Pořadí jednotlivců"}]
[]
[null,{"$f":"B$3","v":"VC ČR v požárním útoku družstev HZS krajů a HZS podniků"},null,null,{"$f":"E$3","v":"Petrovice 19.9.2019"}]
[]
[null,{"$f":"Start!$C$5","v":"MUŽI"}]
[null,"Pořadí","Start. číslo","Jméno","kolektiv","čas             I. pokusu","čas            II. pokusu",null,"Výsledný čas"]
[]
[null,{"$f":"IF(AND('V - P'!$C73=\"\",'V - P'!$D73=\"\"),\"\",'V - P'!V73)","v":""},{"$f":"IF(AND('V - P'!$C73=\"\",'V - P'!$D73=\"\"),\"\",'V - P'!B73)","v":""},{"$f":"IF('V - P'!C73=\"\",\"\",'V - P'!C73)","v":""},{"$f":"IF('V - P'!D73=\"\",\"\",'V - P'!D73)","v":""},{"$f":"IF('V - P'!H73=\"\",\"\",'V - P'!H73)","v":""},{"$f":"IF('V - P'!M73=\"\",\"\",'V - P'!M73)","v":""},null,{"$f":"IF('V - P'!O73=\"\",\"\",'V - P'!O73)","v":""}]
[null,{"$f":"IF(AND('V - P'!$C74=\"\",'V - P'!$D74=\"\"),\"\",'V - P'!V74)","v":""},{"$f":"IF(AND('V - P'!$C74=\"\",'V - P'!$D74=\"\"),\"\",'V - P'!B74)","v":""},{"$f":"IF('V - P'!C74=\"\",\"\",'V - P'!C74)","v":""},{"$f":"IF('V - P'!D74=\"\",\"\",'V - P'!D74)","v":""},{"$f":"IF('V - P'!H74=\"\",\"\",'V - P'!H74)","v":""},{"$f":"IF('V - P'!M74=\"\",\"\",'V - P'!M74)","v":""},null,{"$f":"IF('V - P'!O74=\"\",\"\",'V - P'!O74)","v":""}]
[null,{"$f":"IF(AND('V - P'!$C75=\"\",'V - P'!$D75=\"\"),\"\",'V - P'!V75)","v":""},{"$f":"IF(AND('V - P'!$C75=\"\",'V - P'!$D75=\"\"),\"\",'V - P'!B75)","v":""},{"$f":"IF('V - P'!C75=\"\",\"\",'V - P'!C75)","v":""},{"$f":"IF('V - P'!D75=\"\",\"\",'V - P'!D75)","v":""},{"$f":"IF('V - P'!H75=\"\",\"\",'V - P'!H75)","v":""},{"$f":"IF('V - P'!M75=\"\",\"\",'V - P'!M75)","v":""},null,{"$f":"IF('V - P'!O75=\"\",\"\",'V - P'!O75)","v":""}]
[null,{"$f":"IF(AND('V - P'!$C76=\"\",'V - P'!$D76=\"\"),\"\",'V - P'!V76)","v":""},{"$f":"IF(AND('V - P'!$C76=\"\",'V - P'!$D76=\"\"),\"\",'V - P'!B76)","v":""},{"$f":"IF('V - P'!C76=\"\",\"\",'V - P'!C76)","v":""},{"$f":"IF('V - P'!D76=\"\",\"\",'V - P'!D76)","v":""},{"$f":"IF('V - P'!H76=\"\",\"\",'V - P'!H76)","v":""},{"$f":"IF('V - P'!M76=\"\",\"\",'V - P'!M76)","v":""},null,{"$f":"IF('V - P'!O76=\"\",\"\",'V - P'!O76)","v":""}]
[null,{"$f":"IF(AND('V - P'!$C77=\"\",'V - P'!$D77=\"\"),\"\",'V - P'!V77)","v":""},{"$f":"IF(AND('V - P'!$C77=\"\",'V - P'!$D77=\"\"),\"\",'V - P'!B77)","v":""},{"$f":"IF('V - P'!C77=\"\",\"\",'V - P'!C77)","v":""},{"$f":"IF('V - P'!D77=\"\",\"\",'V - P'!D77)","v":""},{"$f":"IF('V - P'!H77=\"\",\"\",'V - P'!H77)","v":""},{"$f":"IF('V - P'!M77=\"\",\"\",'V - P'!M77)","v":""},null,{"$f":"IF('V - P'!O77=\"\",\"\",'V - P'!O77)","v":""}]
[null,{"$f":"IF(AND('V - P'!$C78=\"\",'V - P'!$D78=\"\"),\"\",'V - P'!V78)","v":""},{"$f":"IF(AND('V - P'!$C78=\"\",'V - P'!$D78=\"\"),\"\",'V - P'!B78)","v":""},{"$f":"IF('V - P'!C78=\"\",\"\",'V - P'!C78)","v":""},{"$f":"IF('V - P'!D78=\"\",\"\",'V - P'!D78)","v":""},{"$f":"IF('V - P'!H78=\"\",\"\",'V - P'!H78)","v":""},{"$f":"IF('V - P'!M78=\"\",\"\",'V - P'!M78)","v":""},null,{"$f":"IF('V - P'!O78=\"\",\"\",'V - P'!O78)","v":""}]
[null,{"$f":"IF(AND('V - P'!$C79=\"\",'V - P'!$D79=\"\"),\"\",'V - P'!V79)","v":""},{"$f":"IF(AND('V - P'!$C79=\"\",'V - P'!$D79=\"\"),\"\",'V - P'!B79)","v":""},{"$f":"IF('V - P'!C79=\"\",\"\",'V - P'!C79)","v":""},{"$f":"IF('V - P'!D79=\"\",\"\",'V - P'!D79)","v":""},{"$f":"IF('V - P'!H79=\"\",\"\",'V - P'!H79)","v":""},{"$f":"IF('V - P'!M79=\"\",\"\",'V - P'!M79)","v":""},null,{"$f":"IF('V - P'!O79=\"\",\"\",'V - P'!O79)","v":""}]
[null,{"$f":"IF(AND('V - P'!$C80=\"\",'V - P'!$D80=\"\"),\"\",'V - P'!V80)","v":""},{"$f":"IF(AND('V - P'!$C80=\"\",'V - P'!$D80=\"\"),\"\",'V - P'!B80)","v":""},{"$f":"IF('V - P'!C80=\"\",\"\",'V - P'!C80)","v":""},{"$f":"IF('V - P'!D80=\"\",\"\",'V - P'!D80)","v":""},{"$f":"IF('V - P'!H80=\"\",\"\",'V - P'!H80)","v":""},{"$f":"IF('V - P'!M80=\"\",\"\",'V - P'!M80)","v":""},null,{"$f":"IF('V - P'!O80=\"\",\"\",'V - P'!O80)","v":""}]
[null,{"$f":"IF(AND('V - P'!$C81=\"\",'V - P'!$D81=\"\"),\"\",'V - P'!V81)","v":""},{"$f":"IF(AND('V - P'!$C81=\"\",'V - P'!$D81=\"\"),\"\",'V - P'!B81)","v":""},{"$f":"IF('V - P'!C81=\"\",\"\",'V - P'!C81)","v":""},{"$f":"IF('V - P'!D81=\"\",\"\",'V - P'!D81)","v":""},{"$f":"IF('V - P'!H81=\"\",\"\",'V - P'!H81)","v":""},{"$f":"IF('V - P'!M81=\"\",\"\",'V - P'!M81)","v":""},null,{"$f":"IF('V - P'!O81=\"\",\"\",'V - P'!O81)","v":""}]
[null,{"$f":"IF(AND('V - P'!$C82=\"\",'V - P'!$D82=\"\"),\"\",'V - P'!V82)","v":""},{"$f":"IF(AND('V - P'!$C82=\"\",'V - P'!$D82=\"\"),\"\",'V - P'!B82)","v":""},{"$f":"IF('V - P'!C82=\"\",\"\",'V - P'!C82)","v":""},{"$f":"IF('V - P'!D82=\"\",\"\",'V - P'!D82)","v":""},{"$f":"IF('V - P'!H82=\"\",\"\",'V - P'!H82)","v":""},{"$f":"IF('V - P'!M82=\"\",\"\",'V - P'!M82)","v":""},null,{"$f":"IF('V - P'!O82=\"\",\"\",'V - P'!O82)","v":""}]
[null,{"$f":"IF(AND('V - P'!$C83=\"\",'V - P'!$D83=\"\"),\"\",'V - P'!V83)","v":""},{"$f":"IF(AND('V - P'!$C83=\"\",'V - P'!$D83=\"\"),\"\",'V - P'!B83)","v":""},{"$f":"IF('V - P'!C83=\"\",\"\",'V - P'!C83)","v":""},{"$f":"IF('V - P'!D83=\"\",\"\",'V - P'!D83)","v":""},{"$f":"IF('V - P'!H83=\"\",\"\",'V - P'!H83)","v":""},{"$f":"IF('V - P'!M83=\"\",\"\",'V - P'!M83)","v":""},null,{"$f":"IF('V - P'!O83=\"\",\"\",'V - P'!O83)","v":""}]
[null,{"$f":"IF(AND('V - P'!$C84=\"\",'V - P'!$D84=\"\"),\"\",'V - P'!V84)","v":""},{"$f":"IF(AND('V - P'!$C84=\"\",'V - P'!$D84=\"\"),\"\",'V - P'!B84)","v":""},{"$f":"IF('V - P'!C84=\"\",\"\",'V - P'!C84)","v":""},{"$f":"IF('V - P'!D84=\"\",\"\",'V - P'!D84)","v":""},{"$f":"IF('V - P'!H84=\"\",\"\",'V - P'!H84)","v":""},{"$f":"IF('V - P'!M84=\"\",\"\",'V - P'!M84)","v":""},null,{"$f":"IF('V - P'!O84=\"\",\"\",'V - P'!O84)","v":""}]
[null,{"$f":"IF(AND('V - P'!$C85=\"\",'V - P'!$D85=\"\"),\"\",'V - P'!V85)","v":""},{"$f":"IF(AND('V - P'!$C85=\"\",'V - P'!$D85=\"\"),\"\",'V - P'!B85)","v":""},{"$f":"IF('V - P'!C85=\"\",\"\",'V - P'!C85)","v":""},{"$f":"IF('V - P'!D85=\"\",\"\",'V - P'!D85)","v":""},{"$f":"IF('V - P'!H85=\"\",\"\",'V - P'!H85)","v":""},{"$f":"IF('V - P'!M85=\"\",\"\",'V - P'!M85)","v":""},null,{"$f":"IF('V - P'!O85=\"\",\"\",'V - P'!O85)","v":""}]
[null,{"$f":"IF(AND('V - P'!$C86=\"\",'V - P'!$D86=\"\"),\"\",'V - P'!V86)","v":""},{"$f":"IF(AND('V - P'!$C86=\"\",'V - P'!$D86=\"\"),\"\",'V - P'!B86)","v":""},{"$f":"IF('V - P'!C86=\"\",\"\",'V - P'!C86)","v":""},{"$f":"IF('V - P'!D86=\"\",\"\",'V - P'!D86)","v":""},{"$f":"IF('V - P'!H86=\"\",\"\",'V - P'!H86)","v":""},{"$f":"IF('V - P'!M86=\"\",\"\",'V - P'!M86)","v":""},null,{"$f":"IF('V - P'!O86=\"\",\"\",'V - P'!O86)","v":""}]
[null,{"$f":"IF(AND('V - P'!$C87=\"\",'V - P'!$D87=\"\"),\"\",'V - P'!V87)","v":""},{"$f":"IF(AND('V - P'!$C87=\"\",'V - P'!$D87=\"\"),\"\",'V - P'!B87)","v":""},{"$f":"IF('V - P'!C87=\"\",\"\",'V - P'!C87)","v":""},{"$f":"IF('V - P'!D87=\"\",\"\",'V - P'!D87)","v":""},{"$f":"IF('V - P'!H87=\"\",\"\",'V - P'!H87)","v":""},{"$f":"IF('V - P'!M87=\"\",\"\",'V - P'!M87)","v":""},null,{"$f":"IF('V - P'!O87=\"\",\"\",'V - P'!O87)","v":""}]
[null,{"$f":"IF(AND('V - P'!$C88=\"\",'V - P'!$D88=\"\"),\"\",'V - P'!V88)","v":""},{"$f":"IF(AND('V - P'!$C88=\"\",'V - P'!$D88=\"\"),\"\",'V - P'!B88)","v":""},{"$f":"IF('V - P'!C88=\"\",\"\",'V - P'!C88)","v":""},{"$f":"IF('V - P'!D88=\"\",\"\",'V - P'!D88)","v":""},{"$f":"IF('V - P'!H88=\"\",\"\",'V - P'!H88)","v":""},{"$f":"IF('V - P'!M88=\"\",\"\",'V - P'!M88)","v":""},null,{"$f":"IF('V - P'!O88=\"\",\"\",'V - P'!O88)","v":""}]
[null,{"$f":"IF(AND('V - P'!$C89=\"\",'V - P'!$D89=\"\"),\"\",'V - P'!V89)","v":""},{"$f":"IF(AND('V - P'!$C89=\"\",'V - P'!$D89=\"\"),\"\",'V - P'!B89)","v":""},{"$f":"IF('V - P'!C89=\"\",\"\",'V - P'!C89)","v":""},{"$f":"IF('V - P'!D89=\"\",\"\",'V - P'!D89)","v":""},{"$f":"IF('V - P'!H89=\"\",\"\",'V - P'!H89)","v":""},{"$f":"IF('V - P'!M89=\"\",\"\",'V - P'!M89)","v":""},null,{"$f":"IF('V - P'!O89=\"\",\"\",'V - P'!O89)","v":""}]
[null,{"$f":"IF(AND('V - P'!$C90=\"\",'V - P'!$D90=\"\"),\"\",'V - P'!V90)","v":""},{"$f":"IF(AND('V - P'!$C90=\"\",'V - P'!$D90=\"\"),\"\",'V - P'!B90)","v":""},{"$f":"IF('V - P'!C90=\"\",\"\",'V - P'!C90)","v":""},{"$f":"IF('V - P'!D90=\"\",\"\",'V - P'!D90)","v":""},{"$f":"IF('V - P'!H90=\"\",\"\",'V - P'!H90)","v":""},{"$f":"IF('V - P'!M90=\"\",\"\",'V - P'!M90)","v":""},null,{"$f":"IF('V - P'!O90=\"\",\"\",'V - P'!O90)","v":""}]
[null,{"$f":"IF(AND('V - P'!$C91=\"\",'V - P'!$D91=\"\"),\"\",'V - P'!V91)","v":""},{"$f":"IF(AND('V - P'!$C91=\"\",'V - P'!$D91=\"\"),\"\",'V - P'!B91)","v":""},{"$f":"IF('V - P'!C91=\"\",\"\",'V - P'!C91)","v":""},{"$f":"IF('V - P'!D91=\"\",\"\",'V - P'!D91)","v":""},{"$f":"IF('V - P'!H91=\"\",\"\",'V - P'!H91)","v":""},{"$f":"IF('V - P'!M91=\"\",\"\",'V - P'!M91)","v":""},null,{"$f":"IF('V - P'!O91=\"\",\"\",'V - P'!O91)","v":""}]
[null,{"$f":"IF(AND('V - P'!$C92=\"\",'V - P'!$D92=\"\"),\"\",'V - P'!V92)","v":""},{"$f":"IF(AND('V - P'!$C92=\"\",'V - P'!$D92=\"\"),\"\",'V - P'!B92)","v":""},{"$f":"IF('V - P'!C92=\"\",\"\",'V - P'!C92)","v":""},{"$f":"IF('V - P'!D92=\"\",\"\",'V - P'!D92)","v":""},{"$f":"IF('V - P'!H92=\"\",\"\",'V - P'!H92)","v":""},{"$f":"IF('V - P'!M92=\"\",\"\",'V - P'!M92)","v":""},null,{"$f":"IF('V - P'!O92=\"\",\"\",'V - P'!O92)","v":""}]
[null,{"$f":"IF(AND('V - P'!$C93=\"\",'V - P'!$D93=\"\"),\"\",'V - P'!V93)","v":""},{"$f":"IF(AND('V - P'!$C93=\"\",'V - P'!$D93=\"\"),\"\",'V - P'!B93)","v":""},{"$f":"IF('V - P'!C93=\"\",\"\",'V - P'!C93)","v":""},{"$f":"IF('V - P'!D93=\"\",\"\",'V - P'!D93)","v":""},{"$f":"IF('V - P'!H93=\"\",\"\",'V - P'!H93)","v":""},{"$f":"IF('V - P'!M93=\"\",\"\",'V - P'!M93)","v":""},null,{"$f":"IF('V - P'!O93=\"\",\"\",'V - P'!O93)","v":""}]
[null,{"$f":"IF(AND('V - P'!$C94=\"\",'V - P'!$D94=\"\"),\"\",'V - P'!V94)","v":""},{"$f":"IF(AND('V - P'!$C94=\"\",'V - P'!$D94=\"\"),\"\",'V - P'!B94)","v":""},{"$f":"IF('V - P'!C94=\"\",\"\",'V - P'!C94)","v":""},{"$f":"IF('V - P'!D94=\"\",\"\",'V - P'!D94)","v":""},{"$f":"IF('V - P'!H94=\"\",\"\",'V - P'!H94)","v":""},{"$f":"IF('V - P'!M94=\"\",\"\",'V - P'!M94)","v":""},null,{"$f":"IF('V - P'!O94=\"\",\"\",'V - P'!O94)","v":""}]
[null,{"$f":"IF(AND('V - P'!$C95=\"\",'V - P'!$D95=\"\"),\"\",'V - P'!V95)","v":""},{"$f":"IF(AND('V - P'!$C95=\"\",'V - P'!$D95=\"\"),\"\",'V - P'!B95)","v":""},{"$f":"IF('V - P'!C95=\"\",\"\",'V - P'!C95)","v":""},{"$f":"IF('V - P'!D95=\"\",\"\",'V - P'!D95)","v":""},{"$f":"IF('V - P'!H95=\"\",\"\",'V - P'!H95)","v":""},{"$f":"IF('V - P'!M95=\"\",\"\",'V - P'!M95)","v":""},null,{"$f":"IF('V - P'!O95=\"\",\"\",'V - P'!O95)","v":""}]
[null,{"$f":"IF(AND('V - P'!$C96=\"\",'V - P'!$D96=\"\"),\"\",'V - P'!V96)","v":""},{"$f":"IF(AND('V - P'!$C96=\"\",'V - P'!$D96=\"\"),\"\",'V - P'!B96)","v":""},{"$f":"IF('V - P'!C96=\"\",\"\",'V - P'!C96)","v":""},{"$f":"IF('V - P'!D96=\"\",\"\",'V - P'!D96)","v":""},{"$f":"IF('V - P'!H96=\"\",\"\",'V - P'!H96)","v":""},{"$f":"IF('V - P'!M96=\"\",\"\",'V - P'!M96)","v":""},null,{"$f":"IF('V - P'!O96=\"\",\"\",'V - P'!O96)","v":""}]
[null,{"$f":"IF(AND('V - P'!$C97=\"\",'V - P'!$D97=\"\"),\"\",'V - P'!V97)","v":""},{"$f":"IF(AND('V - P'!$C97=\"\",'V - P'!$D97=\"\"),\"\",'V - P'!B97)","v":""},{"$f":"IF('V - P'!C97=\"\",\"\",'V - P'!C97)","v":""},{"$f":"IF('V - P'!D97=\"\",\"\",'V - P'!D97)","v":""},{"$f":"IF('V - P'!H97=\"\",\"\",'V - P'!H97)","v":""},{"$f":"IF('V - P'!M97=\"\",\"\",'V - P'!M97)","v":""},null,{"$f":"IF('V - P'!O97=\"\",\"\",'V - P'!O97)","v":""}]
[null,{"$f":"IF(AND('V - P'!$C98=\"\",'V - P'!$D98=\"\"),\"\",'V - P'!V98)","v":""},{"$f":"IF(AND('V - P'!$C98=\"\",'V - P'!$D98=\"\"),\"\",'V - P'!B98)","v":""},{"$f":"IF('V - P'!C98=\"\",\"\",'V - P'!C98)","v":""},{"$f":"IF('V - P'!D98=\"\",\"\",'V - P'!D98)","v":""},{"$f":"IF('V - P'!H98=\"\",\"\",'V - P'!H98)","v":""},{"$f":"IF('V - P'!M98=\"\",\"\",'V - P'!M98)","v":""},null,{"$f":"IF('V - P'!O98=\"\",\"\",'V - P'!O98)","v":""}]
[null,{"$f":"IF(AND('V - P'!$C99=\"\",'V - P'!$D99=\"\"),\"\",'V - P'!V99)","v":""},{"$f":"IF(AND('V - P'!$C99=\"\",'V - P'!$D99=\"\"),\"\",'V - P'!B99)","v":""},{"$f":"IF('V - P'!C99=\"\",\"\",'V - P'!C99)","v":""},{"$f":"IF('V - P'!D99=\"\",\"\",'V - P'!D99)","v":""},{"$f":"IF('V - P'!H99=\"\",\"\",'V - P'!H99)","v":""},{"$f":"IF('V - P'!M99=\"\",\"\",'V - P'!M99)","v":""},null,{"$f":"IF('V - P'!O99=\"\",\"\",'V - P'!O99)","v":""}]
[null,{"$f":"IF(AND('V - P'!$C100=\"\",'V - P'!$D100=\"\"),\"\",'V - P'!V100)","v":""},{"$f":"IF(AND('V - P'!$C100=\"\",'V - P'!$D100=\"\"),\"\",'V - P'!B100)","v":""},{"$f":"IF('V - P'!C100=\"\",\"\",'V - P'!C100)","v":""},{"$f":"IF('V - P'!D100=\"\",\"\",'V - P'!D100)","v":""},{"$f":"IF('V - P'!H100=\"\",\"\",'V - P'!H100)","v":""},{"$f":"IF('V - P'!M100=\"\",\"\",'V - P'!M100)","v":""},null,{"$f":"IF('V - P'!O100=\"\",\"\",'V - P'!O100)","v":""}]
[null,{"$f":"IF(AND('V - P'!$C101=\"\",'V - P'!$D101=\"\"),\"\",'V - P'!V101)","v":""},{"$f":"IF(AND('V - P'!$C101=\"\",'V - P'!$D101=\"\"),\"\",'V - P'!B101)","v":""},{"$f":"IF('V - P'!C101=\"\",\"\",'V - P'!C101)","v":""},{"$f":"IF('V - P'!D101=\"\",\"\",'V - P'!D101)","v":""},{"$f":"IF('V - P'!H101=\"\",\"\",'V - P'!H101)","v":""},{"$f":"IF('V - P'!M101=\"\",\"\",'V - P'!M101)","v":""},null,{"$f":"IF('V - P'!O101=\"\",\"\",'V - P'!O101)","v":""}]
[null,{"$f":"IF(AND('V - P'!$C102=\"\",'V - P'!$D102=\"\"),\"\",'V - P'!V102)","v":""},{"$f":"IF(AND('V - P'!$C102=\"\",'V - P'!$D102=\"\"),\"\",'V - P'!B102)","v":""},{"$f":"IF('V - P'!C102=\"\",\"\",'V - P'!C102)","v":""},{"$f":"IF('V - P'!D102=\"\",\"\",'V - P'!D102)","v":""},{"$f":"IF('V - P'!H102=\"\",\"\",'V - P'!H102)","v":""},{"$f":"IF('V - P'!M102=\"\",\"\",'V - P'!M102)","v":""},null,{"$f":"IF('V - P'!O102=\"\",\"\",'V - P'!O102)","v":""}]
[null,{"$f":"IF(AND('V - P'!$C103=\"\",'V - P'!$D103=\"\"),\"\",'V - P'!V103)","v":""},{"$f":"IF(AND('V - P'!$C103=\"\",'V - P'!$D103=\"\"),\"\",'V - P'!B103)","v":""},{"$f":"IF('V - P'!C103=\"\",\"\",'V - P'!C103)","v":""},{"$f":"IF('V - P'!D103=\"\",\"\",'V - P'!D103)","v":""},{"$f":"IF('V - P'!H103=\"\",\"\",'V - P'!H103)","v":""},{"$f":"IF('V - P'!M103=\"\",\"\",'V - P'!M103)","v":""},null,{"$f":"IF('V - P'!O103=\"\",\"\",'V - P'!O103)","v":""}]
[null,{"$f":"IF(AND('V - P'!$C104=\"\",'V - P'!$D104=\"\"),\"\",'V - P'!V104)","v":""},{"$f":"IF(AND('V - P'!$C104=\"\",'V - P'!$D104=\"\"),\"\",'V - P'!B104)","v":""},{"$f":"IF('V - P'!C104=\"\",\"\",'V - P'!C104)","v":""},{"$f":"IF('V - P'!D104=\"\",\"\",'V - P'!D104)","v":""},{"$f":"IF('V - P'!H104=\"\",\"\",'V - P'!H104)","v":""},{"$f":"IF('V - P'!M104=\"\",\"\",'V - P'!M104)","v":""},null,{"$f":"IF('V - P'!O104=\"\",\"\",'V - P'!O104)","v":""}]
[null,{"$f":"IF(AND('V - P'!$C105=\"\",'V - P'!$D105=\"\"),\"\",'V - P'!V105)","v":""},{"$f":"IF(AND('V - P'!$C105=\"\",'V - P'!$D105=\"\"),\"\",'V - P'!B105)","v":""},{"$f":"IF('V - P'!C105=\"\",\"\",'V - P'!C105)","v":""},{"$f":"IF('V - P'!D105=\"\",\"\",'V - P'!D105)","v":""},{"$f":"IF('V - P'!H105=\"\",\"\",'V - P'!H105)","v":""},{"$f":"IF('V - P'!M105=\"\",\"\",'V - P'!M105)","v":""},null,{"$f":"IF('V - P'!O105=\"\",\"\",'V - P'!O105)","v":""}]
[null,{"$f":"IF(AND('V - P'!$C106=\"\",'V - P'!$D106=\"\"),\"\",'V - P'!V106)","v":""},{"$f":"IF(AND('V - P'!$C106=\"\",'V - P'!$D106=\"\"),\"\",'V - P'!B106)","v":""},{"$f":"IF('V - P'!C106=\"\",\"\",'V - P'!C106)","v":""},{"$f":"IF('V - P'!D106=\"\",\"\",'V - P'!D106)","v":""},{"$f":"IF('V - P'!H106=\"\",\"\",'V - P'!H106)","v":""},{"$f":"IF('V - P'!M106=\"\",\"\",'V - P'!M106)","v":""},null,{"$f":"IF('V - P'!O106=\"\",\"\",'V - P'!O106)","v":""}]
[null,{"$f":"IF(AND('V - P'!$C107=\"\",'V - P'!$D107=\"\"),\"\",'V - P'!V107)","v":""},{"$f":"IF(AND('V - P'!$C107=\"\",'V - P'!$D107=\"\"),\"\",'V - P'!B107)","v":""},{"$f":"IF('V - P'!C107=\"\",\"\",'V - P'!C107)","v":""},{"$f":"IF('V - P'!D107=\"\",\"\",'V - P'!D107)","v":""},{"$f":"IF('V - P'!H107=\"\",\"\",'V - P'!H107)","v":""},{"$f":"IF('V - P'!M107=\"\",\"\",'V - P'!M107)","v":""},null,{"$f":"IF('V - P'!O107=\"\",\"\",'V - P'!O107)","v":""}]
[null,{"$f":"IF(AND('V - P'!$C108=\"\",'V - P'!$D108=\"\"),\"\",'V - P'!V108)","v":""},{"$f":"IF(AND('V - P'!$C108=\"\",'V - P'!$D108=\"\"),\"\",'V - P'!B108)","v":""},{"$f":"IF('V - P'!C108=\"\",\"\",'V - P'!C108)","v":""},{"$f":"IF('V - P'!D108=\"\",\"\",'V - P'!D108)","v":""},{"$f":"IF('V - P'!H108=\"\",\"\",'V - P'!H108)","v":""},{"$f":"IF('V - P'!M108=\"\",\"\",'V - P'!M108)","v":""},null,{"$f":"IF('V - P'!O108=\"\",\"\",'V - P'!O108)","v":""}]
[null,{"$f":"B$1","v":"Věž - Pořadí jednotlivců"}]
[]
[null,{"$f":"B$3","v":"VC ČR v požárním útoku družstev HZS krajů a HZS podniků"},null,null,{"$f":"E$3","v":"Petrovice 19.9.2019"}]
[]
[null,{"$f":"Start!$C$5","v":"MUŽI"}]
[null,"Pořadí","Start. číslo","Jméno","kolektiv","čas             I. pokusu","čas            II. pokusu",null,"Výsledný čas"]
[]
[null,{"$f":"IF(AND('V - P'!$C109=\"\",'V - P'!$D109=\"\"),\"\",'V - P'!V109)","v":""},{"$f":"IF(AND('V - P'!$C109=\"\",'V - P'!$D109=\"\"),\"\",'V - P'!B109)","v":""},{"$f":"IF('V - P'!C109=\"\",\"\",'V - P'!C109)","v":""},{"$f":"IF('V - P'!D109=\"\",\"\",'V - P'!D109)","v":""},{"$f":"IF('V - P'!H109=\"\",\"\",'V - P'!H109)","v":""},{"$f":"IF('V - P'!M109=\"\",\"\",'V - P'!M109)","v":""},null,{"$f":"IF('V - P'!O109=\"\",\"\",'V - P'!O109)","v":""}]
[null,{"$f":"IF(AND('V - P'!$C110=\"\",'V - P'!$D110=\"\"),\"\",'V - P'!V110)","v":""},{"$f":"IF(AND('V - P'!$C110=\"\",'V - P'!$D110=\"\"),\"\",'V - P'!B110)","v":""},{"$f":"IF('V - P'!C110=\"\",\"\",'V - P'!C110)","v":""},{"$f":"IF('V - P'!D110=\"\",\"\",'V - P'!D110)","v":""},{"$f":"IF('V - P'!H110=\"\",\"\",'V - P'!H110)","v":""},{"$f":"IF('V - P'!M110=\"\",\"\",'V - P'!M110)","v":""},null,{"$f":"IF('V - P'!O110=\"\",\"\",'V - P'!O110)","v":""}]
[null,{"$f":"IF(AND('V - P'!$C111=\"\",'V - P'!$D111=\"\"),\"\",'V - P'!V111)","v":""},{"$f":"IF(AND('V - P'!$C111=\"\",'V - P'!$D111=\"\"),\"\",'V - P'!B111)","v":""},{"$f":"IF('V - P'!C111=\"\",\"\",'V - P'!C111)","v":""},{"$f":"IF('V - P'!D111=\"\",\"\",'V - P'!D111)","v":""},{"$f":"IF('V - P'!H111=\"\",\"\",'V - P'!H111)","v":""},{"$f":"IF('V - P'!M111=\"\",\"\",'V - P'!M111)","v":""},null,{"$f":"IF('V - P'!O111=\"\",\"\",'V - P'!O111)","v":""}]
[null,{"$f":"IF(AND('V - P'!$C112=\"\",'V - P'!$D112=\"\"),\"\",'V - P'!V112)","v":""},{"$f":"IF(AND('V - P'!$C112=\"\",'V - P'!$D112=\"\"),\"\",'V - P'!B112)","v":""},{"$f":"IF('V - P'!C112=\"\",\"\",'V - P'!C112)","v":""},{"$f":"IF('V - P'!D112=\"\",\"\",'V - P'!D112)","v":""},{"$f":"IF('V - P'!H112=\"\",\"\",'V - P'!H112)","v":""},{"$f":"IF('V - P'!M112=\"\",\"\",'V - P'!M112)","v":""},null,{"$f":"IF('V - P'!O112=\"\",\"\",'V - P'!O112)","v":""}]
[null,{"$f":"IF(AND('V - P'!$C113=\"\",'V - P'!$D113=\"\"),\"\",'V - P'!V113)","v":""},{"$f":"IF(AND('V - P'!$C113=\"\",'V - P'!$D113=\"\"),\"\",'V - P'!B113)","v":""},{"$f":"IF('V - P'!C113=\"\",\"\",'V - P'!C113)","v":""},{"$f":"IF('V - P'!D113=\"\",\"\",'V - P'!D113)","v":""},{"$f":"IF('V - P'!H113=\"\",\"\",'V - P'!H113)","v":""},{"$f":"IF('V - P'!M113=\"\",\"\",'V - P'!M113)","v":""},null,{"$f":"IF('V - P'!O113=\"\",\"\",'V - P'!O113)","v":""}]
[null,{"$f":"IF(AND('V - P'!$C114=\"\",'V - P'!$D114=\"\"),\"\",'V - P'!V114)","v":""},{"$f":"IF(AND('V - P'!$C114=\"\",'V - P'!$D114=\"\"),\"\",'V - P'!B114)","v":""},{"$f":"IF('V - P'!C114=\"\",\"\",'V - P'!C114)","v":""},{"$f":"IF('V - P'!D114=\"\",\"\",'V - P'!D114)","v":""},{"$f":"IF('V - P'!H114=\"\",\"\",'V - P'!H114)","v":""},{"$f":"IF('V - P'!M114=\"\",\"\",'V - P'!M114)","v":""},null,{"$f":"IF('V - P'!O114=\"\",\"\",'V - P'!O114)","v":""}]
[null,{"$f":"IF(AND('V - P'!$C115=\"\",'V - P'!$D115=\"\"),\"\",'V - P'!V115)","v":""},{"$f":"IF(AND('V - P'!$C115=\"\",'V - P'!$D115=\"\"),\"\",'V - P'!B115)","v":""},{"$f":"IF('V - P'!C115=\"\",\"\",'V - P'!C115)","v":""},{"$f":"IF('V - P'!D115=\"\",\"\",'V - P'!D115)","v":""},{"$f":"IF('V - P'!H115=\"\",\"\",'V - P'!H115)","v":""},{"$f":"IF('V - P'!M115=\"\",\"\",'V - P'!M115)","v":""},null,{"$f":"IF('V - P'!O115=\"\",\"\",'V - P'!O115)","v":""}]
[null,{"$f":"IF(AND('V - P'!$C116=\"\",'V - P'!$D116=\"\"),\"\",'V - P'!V116)","v":""},{"$f":"IF(AND('V - P'!$C116=\"\",'V - P'!$D116=\"\"),\"\",'V - P'!B116)","v":""},{"$f":"IF('V - P'!C116=\"\",\"\",'V - P'!C116)","v":""},{"$f":"IF('V - P'!D116=\"\",\"\",'V - P'!D116)","v":""},{"$f":"IF('V - P'!H116=\"\",\"\",'V - P'!H116)","v":""},{"$f":"IF('V - P'!M116=\"\",\"\",'V - P'!M116)","v":""},null,{"$f":"IF('V - P'!O116=\"\",\"\",'V - P'!O116)","v":""}]
[null,{"$f":"IF(AND('V - P'!$C117=\"\",'V - P'!$D117=\"\"),\"\",'V - P'!V117)","v":""},{"$f":"IF(AND('V - P'!$C117=\"\",'V - P'!$D117=\"\"),\"\",'V - P'!B117)","v":""},{"$f":"IF('V - P'!C117=\"\",\"\",'V - P'!C117)","v":""},{"$f":"IF('V - P'!D117=\"\",\"\",'V - P'!D117)","v":""},{"$f":"IF('V - P'!H117=\"\",\"\",'V - P'!H117)","v":""},{"$f":"IF('V - P'!M117=\"\",\"\",'V - P'!M117)","v":""},null,{"$f":"IF('V - P'!O117=\"\",\"\",'V - P'!O117)","v":""}]
[null,{"$f":"IF(AND('V - P'!$C118=\"\",'V - P'!$D118=\"\"),\"\",'V - P'!V118)","v":""},{"$f":"IF(AND('V - P'!$C118=\"\",'V - P'!$D118=\"\"),\"\",'V - P'!B118)","v":""},{"$f":"IF('V - P'!C118=\"\",\"\",'V - P'!C118)","v":""},{"$f":"IF('V - P'!D118=\"\",\"\",'V - P'!D118)","v":""},{"$f":"IF('V - P'!H118=\"\",\"\",'V - P'!H118)","v":""},{"$f":"IF('V - P'!M118=\"\",\"\",'V - P'!M118)","v":""},null,{"$f":"IF('V - P'!O118=\"\",\"\",'V - P'!O118)","v":""}]
[null,{"$f":"IF(AND('V - P'!$C119=\"\",'V - P'!$D119=\"\"),\"\",'V - P'!V119)","v":""},{"$f":"IF(AND('V - P'!$C119=\"\",'V - P'!$D119=\"\"),\"\",'V - P'!B119)","v":""},{"$f":"IF('V - P'!C119=\"\",\"\",'V - P'!C119)","v":""},{"$f":"IF('V - P'!D119=\"\",\"\",'V - P'!D119)","v":""},{"$f":"IF('V - P'!H119=\"\",\"\",'V - P'!H119)","v":""},{"$f":"IF('V - P'!M119=\"\",\"\",'V - P'!M119)","v":""},null,{"$f":"IF('V - P'!O119=\"\",\"\",'V - P'!O119)","v":""}]
[null,{"$f":"IF(AND('V - P'!$C120=\"\",'V - P'!$D120=\"\"),\"\",'V - P'!V120)","v":""},{"$f":"IF(AND('V - P'!$C120=\"\",'V - P'!$D120=\"\"),\"\",'V - P'!B120)","v":""},{"$f":"IF('V - P'!C120=\"\",\"\",'V - P'!C120)","v":""},{"$f":"IF('V - P'!D120=\"\",\"\",'V - P'!D120)","v":""},{"$f":"IF('V - P'!H120=\"\",\"\",'V - P'!H120)","v":""},{"$f":"IF('V - P'!M120=\"\",\"\",'V - P'!M120)","v":""},null,{"$f":"IF('V - P'!O120=\"\",\"\",'V - P'!O120)","v":""}]
[null,{"$f":"IF(AND('V - P'!$C121=\"\",'V - P'!$D121=\"\"),\"\",'V - P'!V121)","v":""},{"$f":"IF(AND('V - P'!$C121=\"\",'V - P'!$D121=\"\"),\"\",'V - P'!B121)","v":""},{"$f":"IF('V - P'!C121=\"\",\"\",'V - P'!C121)","v":""},{"$f":"IF('V - P'!D121=\"\",\"\",'V - P'!D121)","v":""},{"$f":"IF('V - P'!H121=\"\",\"\",'V - P'!H121)","v":""},{"$f":"IF('V - P'!M121=\"\",\"\",'V - P'!M121)","v":""},null,{"$f":"IF('V - P'!O121=\"\",\"\",'V - P'!O121)","v":""}]
[null,{"$f":"IF(AND('V - P'!$C122=\"\",'V - P'!$D122=\"\"),\"\",'V - P'!V122)","v":""},{"$f":"IF(AND('V - P'!$C122=\"\",'V - P'!$D122=\"\"),\"\",'V - P'!B122)","v":""},{"$f":"IF('V - P'!C122=\"\",\"\",'V - P'!C122)","v":""},{"$f":"IF('V - P'!D122=\"\",\"\",'V - P'!D122)","v":""},{"$f":"IF('V - P'!H122=\"\",\"\",'V - P'!H122)","v":""},{"$f":"IF('V - P'!M122=\"\",\"\",'V - P'!M122)","v":""},null,{"$f":"IF('V - P'!O122=\"\",\"\",'V - P'!O122)","v":""}]
[null,{"$f":"IF(AND('V - P'!$C123=\"\",'V - P'!$D123=\"\"),\"\",'V - P'!V123)","v":""},{"$f":"IF(AND('V - P'!$C123=\"\",'V - P'!$D123=\"\"),\"\",'V - P'!B123)","v":""},{"$f":"IF('V - P'!C123=\"\",\"\",'V - P'!C123)","v":""},{"$f":"IF('V - P'!D123=\"\",\"\",'V - P'!D123)","v":""},{"$f":"IF('V - P'!H123=\"\",\"\",'V - P'!H123)","v":""},{"$f":"IF('V - P'!M123=\"\",\"\",'V - P'!M123)","v":""},null,{"$f":"IF('V - P'!O123=\"\",\"\",'V - P'!O123)","v":""}]
[null,{"$f":"IF(AND('V - P'!$C124=\"\",'V - P'!$D124=\"\"),\"\",'V - P'!V124)","v":""},{"$f":"IF(AND('V - P'!$C124=\"\",'V - P'!$D124=\"\"),\"\",'V - P'!B124)","v":""},{"$f":"IF('V - P'!C124=\"\",\"\",'V - P'!C124)","v":""},{"$f":"IF('V - P'!D124=\"\",\"\",'V - P'!D124)","v":""},{"$f":"IF('V - P'!H124=\"\",\"\",'V - P'!H124)","v":""},{"$f":"IF('V - P'!M124=\"\",\"\",'V - P'!M124)","v":""},null,{"$f":"IF('V - P'!O124=\"\",\"\",'V - P'!O124)","v":""}]
[null,{"$f":"IF(AND('V - P'!$C125=\"\",'V - P'!$D125=\"\"),\"\",'V - P'!V125)","v":""},{"$f":"IF(AND('V - P'!$C125=\"\",'V - P'!$D125=\"\"),\"\",'V - P'!B125)","v":""},{"$f":"IF('V - P'!C125=\"\",\"\",'V - P'!C125)","v":""},{"$f":"IF('V - P'!D125=\"\",\"\",'V - P'!D125)","v":""},{"$f":"IF('V - P'!H125=\"\",\"\",'V - P'!H125)","v":""},{"$f":"IF('V - P'!M125=\"\",\"\",'V - P'!M125)","v":""},null,{"$f":"IF('V - P'!O125=\"\",\"\",'V - P'!O125)","v":""}]
[null,{"$f":"IF(AND('V - P'!$C126=\"\",'V - P'!$D126=\"\"),\"\",'V - P'!V126)","v":""},{"$f":"IF(AND('V - P'!$C126=\"\",'V - P'!$D126=\"\"),\"\",'V - P'!B126)","v":""},{"$f":"IF('V - P'!C126=\"\",\"\",'V - P'!C126)","v":""},{"$f":"IF('V - P'!D126=\"\",\"\",'V - P'!D126)","v":""},{"$f":"IF('V - P'!H126=\"\",\"\",'V - P'!H126)","v":""},{"$f":"IF('V - P'!M126=\"\",\"\",'V - P'!M126)","v":""},null,{"$f":"IF('V - P'!O126=\"\",\"\",'V - P'!O126)","v":""}]
[null,{"$f":"IF(AND('V - P'!$C127=\"\",'V - P'!$D127=\"\"),\"\",'V - P'!V127)","v":""},{"$f":"IF(AND('V - P'!$C127=\"\",'V - P'!$D127=\"\"),\"\",'V - P'!B127)","v":""},{"$f":"IF('V - P'!C127=\"\",\"\",'V - P'!C127)","v":""},{"$f":"IF('V - P'!D127=\"\",\"\",'V - P'!D127)","v":""},{"$f":"IF('V - P'!H127=\"\",\"\",'V - P'!H127)","v":""},{"$f":"IF('V - P'!M127=\"\",\"\",'V - P'!M127)","v":""},null,{"$f":"IF('V - P'!O127=\"\",\"\",'V - P'!O127)","v":""}]
[null,{"$f":"IF(AND('V - P'!$C128=\"\",'V - P'!$D128=\"\"),\"\",'V - P'!V128)","v":""},{"$f":"IF(AND('V - P'!$C128=\"\",'V - P'!$D128=\"\"),\"\",'V - P'!B128)","v":""},{"$f":"IF('V - P'!C128=\"\",\"\",'V - P'!C128)","v":""},{"$f":"IF('V - P'!D128=\"\",\"\",'V - P'!D128)","v":""},{"$f":"IF('V - P'!H128=\"\",\"\",'V - P'!H128)","v":""},{"$f":"IF('V - P'!M128=\"\",\"\",'V - P'!M128)","v":""},null,{"$f":"IF('V - P'!O128=\"\",\"\",'V - P'!O128)","v":""}]
[null,{"$f":"IF(AND('V - P'!$C129=\"\",'V - P'!$D129=\"\"),\"\",'V - P'!V129)","v":""},{"$f":"IF(AND('V - P'!$C129=\"\",'V - P'!$D129=\"\"),\"\",'V - P'!B129)","v":""},{"$f":"IF('V - P'!C129=\"\",\"\",'V - P'!C129)","v":""},{"$f":"IF('V - P'!D129=\"\",\"\",'V - P'!D129)","v":""},{"$f":"IF('V - P'!H129=\"\",\"\",'V - P'!H129)","v":""},{"$f":"IF('V - P'!M129=\"\",\"\",'V - P'!M129)","v":""},null,{"$f":"IF('V - P'!O129=\"\",\"\",'V - P'!O129)","v":""}]
[null,{"$f":"IF(AND('V - P'!$C130=\"\",'V - P'!$D130=\"\"),\"\",'V - P'!V130)","v":""},{"$f":"IF(AND('V - P'!$C130=\"\",'V - P'!$D130=\"\"),\"\",'V - P'!B130)","v":""},{"$f":"IF('V - P'!C130=\"\",\"\",'V - P'!C130)","v":""},{"$f":"IF('V - P'!D130=\"\",\"\",'V - P'!D130)","v":""},{"$f":"IF('V - P'!H130=\"\",\"\",'V - P'!H130)","v":""},{"$f":"IF('V - P'!M130=\"\",\"\",'V - P'!M130)","v":""},null,{"$f":"IF('V - P'!O130=\"\",\"\",'V - P'!O130)","v":""}]
[null,{"$f":"IF(AND('V - P'!$C131=\"\",'V - P'!$D131=\"\"),\"\",'V - P'!V131)","v":""},{"$f":"IF(AND('V - P'!$C131=\"\",'V - P'!$D131=\"\"),\"\",'V - P'!B131)","v":""},{"$f":"IF('V - P'!C131=\"\",\"\",'V - P'!C131)","v":""},{"$f":"IF('V - P'!D131=\"\",\"\",'V - P'!D131)","v":""},{"$f":"IF('V - P'!H131=\"\",\"\",'V - P'!H131)","v":""},{"$f":"IF('V - P'!M131=\"\",\"\",'V - P'!M131)","v":""},null,{"$f":"IF('V - P'!O131=\"\",\"\",'V - P'!O131)","v":""}]
[null,{"$f":"IF(AND('V - P'!$C132=\"\",'V - P'!$D132=\"\"),\"\",'V - P'!V132)","v":""},{"$f":"IF(AND('V - P'!$C132=\"\",'V - P'!$D132=\"\"),\"\",'V - P'!B132)","v":""},{"$f":"IF('V - P'!C132=\"\",\"\",'V - P'!C132)","v":""},{"$f":"IF('V - P'!D132=\"\",\"\",'V - P'!D132)","v":""},{"$f":"IF('V - P'!H132=\"\",\"\",'V - P'!H132)","v":""},{"$f":"IF('V - P'!M132=\"\",\"\",'V - P'!M132)","v":""},null,{"$f":"IF('V - P'!O132=\"\",\"\",'V - P'!O132)","v":""}]
[null,{"$f":"IF(AND('V - P'!$C133=\"\",'V - P'!$D133=\"\"),\"\",'V - P'!V133)","v":""},{"$f":"IF(AND('V - P'!$C133=\"\",'V - P'!$D133=\"\"),\"\",'V - P'!B133)","v":""},{"$f":"IF('V - P'!C133=\"\",\"\",'V - P'!C133)","v":""},{"$f":"IF('V - P'!D133=\"\",\"\",'V - P'!D133)","v":""},{"$f":"IF('V - P'!H133=\"\",\"\",'V - P'!H133)","v":""},{"$f":"IF('V - P'!M133=\"\",\"\",'V - P'!M133)","v":""},null,{"$f":"IF('V - P'!O133=\"\",\"\",'V - P'!O133)","v":""}]
[null,{"$f":"IF(AND('V - P'!$C134=\"\",'V - P'!$D134=\"\"),\"\",'V - P'!V134)","v":""},{"$f":"IF(AND('V - P'!$C134=\"\",'V - P'!$D134=\"\"),\"\",'V - P'!B134)","v":""},{"$f":"IF('V - P'!C134=\"\",\"\",'V - P'!C134)","v":""},{"$f":"IF('V - P'!D134=\"\",\"\",'V - P'!D134)","v":""},{"$f":"IF('V - P'!H134=\"\",\"\",'V - P'!H134)","v":""},{"$f":"IF('V - P'!M134=\"\",\"\",'V - P'!M134)","v":""},null,{"$f":"IF('V - P'!O134=\"\",\"\",'V - P'!O134)","v":""}]
[null,{"$f":"IF(AND('V - P'!$C135=\"\",'V - P'!$D135=\"\"),\"\",'V - P'!V135)","v":""},{"$f":"IF(AND('V - P'!$C135=\"\",'V - P'!$D135=\"\"),\"\",'V - P'!B135)","v":""},{"$f":"IF('V - P'!C135=\"\",\"\",'V - P'!C135)","v":""},{"$f":"IF('V - P'!D135=\"\",\"\",'V - P'!D135)","v":""},{"$f":"IF('V - P'!H135=\"\",\"\",'V - P'!H135)","v":""},{"$f":"IF('V - P'!M135=\"\",\"\",'V - P'!M135)","v":""},null,{"$f":"IF('V - P'!O135=\"\",\"\",'V - P'!O135)","v":""}]
[null,{"$f":"IF(AND('V - P'!$C136=\"\",'V - P'!$D136=\"\"),\"\",'V - P'!V136)","v":""},{"$f":"IF(AND('V - P'!$C136=\"\",'V - P'!$D136=\"\"),\"\",'V - P'!B136)","v":""},{"$f":"IF('V - P'!C136=\"\",\"\",'V - P'!C136)","v":""},{"$f":"IF('V - P'!D136=\"\",\"\",'V - P'!D136)","v":""},{"$f":"IF('V - P'!H136=\"\",\"\",'V - P'!H136)","v":""},{"$f":"IF('V - P'!M136=\"\",\"\",'V - P'!M136)","v":""},null,{"$f":"IF('V - P'!O136=\"\",\"\",'V - P'!O136)","v":""}]
[null,{"$f":"IF(AND('V - P'!$C137=\"\",'V - P'!$D137=\"\"),\"\",'V - P'!V137)","v":""},{"$f":"IF(AND('V - P'!$C137=\"\",'V - P'!$D137=\"\"),\"\",'V - P'!B137)","v":""},{"$f":"IF('V - P'!C137=\"\",\"\",'V - P'!C137)","v":""},{"$f":"IF('V - P'!D137=\"\",\"\",'V - P'!D137)","v":""},{"$f":"IF('V - P'!H137=\"\",\"\",'V - P'!H137)","v":""},{"$f":"IF('V - P'!M137=\"\",\"\",'V - P'!M137)","v":""},null,{"$f":"IF('V - P'!O137=\"\",\"\",'V - P'!O137)","v":""}]
[null,{"$f":"IF(AND('V - P'!$C138=\"\",'V - P'!$D138=\"\"),\"\",'V - P'!V138)","v":""},{"$f":"IF(AND('V - P'!$C138=\"\",'V - P'!$D138=\"\"),\"\",'V - P'!B138)","v":""},{"$f":"IF('V - P'!C138=\"\",\"\",'V - P'!C138)","v":""},{"$f":"IF('V - P'!D138=\"\",\"\",'V - P'!D138)","v":""},{"$f":"IF('V - P'!H138=\"\",\"\",'V - P'!H138)","v":""},{"$f":"IF('V - P'!M138=\"\",\"\",'V - P'!M138)","v":""},null,{"$f":"IF('V - P'!O138=\"\",\"\",'V - P'!O138)","v":""}]
[null,{"$f":"IF(AND('V - P'!$C139=\"\",'V - P'!$D139=\"\"),\"\",'V - P'!V139)","v":""},{"$f":"IF(AND('V - P'!$C139=\"\",'V - P'!$D139=\"\"),\"\",'V - P'!B139)","v":""},{"$f":"IF('V - P'!C139=\"\",\"\",'V - P'!C139)","v":""},{"$f":"IF('V - P'!D139=\"\",\"\",'V - P'!D139)","v":""},{"$f":"IF('V - P'!H139=\"\",\"\",'V - P'!H139)","v":""},{"$f":"IF('V - P'!M139=\"\",\"\",'V - P'!M139)","v":""},null,{"$f":"IF('V - P'!O139=\"\",\"\",'V - P'!O139)","v":""}]
[null,{"$f":"IF(AND('V - P'!$C140=\"\",'V - P'!$D140=\"\"),\"\",'V - P'!V140)","v":""},{"$f":"IF(AND('V - P'!$C140=\"\",'V - P'!$D140=\"\"),\"\",'V - P'!B140)","v":""},{"$f":"IF('V - P'!C140=\"\",\"\",'V - P'!C140)","v":""},{"$f":"IF('V - P'!D140=\"\",\"\",'V - P'!D140)","v":""},{"$f":"IF('V - P'!H140=\"\",\"\",'V - P'!H140)","v":""},{"$f":"IF('V - P'!M140=\"\",\"\",'V - P'!M140)","v":""},null,{"$f":"IF('V - P'!O140=\"\",\"\",'V - P'!O140)","v":""}]
[null,{"$f":"IF(AND('V - P'!$C141=\"\",'V - P'!$D141=\"\"),\"\",'V - P'!V141)","v":""},{"$f":"IF(AND('V - P'!$C141=\"\",'V - P'!$D141=\"\"),\"\",'V - P'!B141)","v":""},{"$f":"IF('V - P'!C141=\"\",\"\",'V - P'!C141)","v":""},{"$f":"IF('V - P'!D141=\"\",\"\",'V - P'!D141)","v":""},{"$f":"IF('V - P'!H141=\"\",\"\",'V - P'!H141)","v":""},{"$f":"IF('V - P'!M141=\"\",\"\",'V - P'!M141)","v":""},null,{"$f":"IF('V - P'!O141=\"\",\"\",'V - P'!O141)","v":""}]
[null,{"$f":"IF(AND('V - P'!$C142=\"\",'V - P'!$D142=\"\"),\"\",'V - P'!V142)","v":""},{"$f":"IF(AND('V - P'!$C142=\"\",'V - P'!$D142=\"\"),\"\",'V - P'!B142)","v":""},{"$f":"IF('V - P'!C142=\"\",\"\",'V - P'!C142)","v":""},{"$f":"IF('V - P'!D142=\"\",\"\",'V - P'!D142)","v":""},{"$f":"IF('V - P'!H142=\"\",\"\",'V - P'!H142)","v":""},{"$f":"IF('V - P'!M142=\"\",\"\",'V - P'!M142)","v":""},null,{"$f":"IF('V - P'!O142=\"\",\"\",'V - P'!O142)","v":""}]
[null,{"$f":"IF(AND('V - P'!$C143=\"\",'V - P'!$D143=\"\"),\"\",'V - P'!V143)","v":""},{"$f":"IF(AND('V - P'!$C143=\"\",'V - P'!$D143=\"\"),\"\",'V - P'!B143)","v":""},{"$f":"IF('V - P'!C143=\"\",\"\",'V - P'!C143)","v":""},{"$f":"IF('V - P'!D143=\"\",\"\",'V - P'!D143)","v":""},{"$f":"IF('V - P'!H143=\"\",\"\",'V - P'!H143)","v":""},{"$f":"IF('V - P'!M143=\"\",\"\",'V - P'!M143)","v":""},null,{"$f":"IF('V - P'!O143=\"\",\"\",'V - P'!O143)","v":""}]
[null,{"$f":"IF(AND('V - P'!$C144=\"\",'V - P'!$D144=\"\"),\"\",'V - P'!V144)","v":""},{"$f":"IF(AND('V - P'!$C144=\"\",'V - P'!$D144=\"\"),\"\",'V - P'!B144)","v":""},{"$f":"IF('V - P'!C144=\"\",\"\",'V - P'!C144)","v":""},{"$f":"IF('V - P'!D144=\"\",\"\",'V - P'!D144)","v":""},{"$f":"IF('V - P'!H144=\"\",\"\",'V - P'!H144)","v":""},{"$f":"IF('V - P'!M144=\"\",\"\",'V - P'!M144)","v":""},null,{"$f":"IF('V - P'!O144=\"\",\"\",'V - P'!O144)","v":""}]
[null,{"$f":"B$1","v":"Věž - Pořadí jednotlivců"}]
[]
[null,{"$f":"B$3","v":"VC ČR v požárním útoku družstev HZS krajů a HZS podniků"},null,null,{"$f":"E$3","v":"Petrovice 19.9.2019"}]
[]
[null,{"$f":"Start!$C$5","v":"MUŽI"}]
[null,"Pořadí","Start. číslo","Jméno","kolektiv","čas             I. pokusu","čas            II. pokusu",null,"Výsledný čas"]
[]
[null,{"$f":"IF(AND('V - P'!$C145=\"\",'V - P'!$D145=\"\"),\"\",'V - P'!V145)","v":""},{"$f":"IF(AND('V - P'!$C145=\"\",'V - P'!$D145=\"\"),\"\",'V - P'!B145)","v":""},{"$f":"IF('V - P'!C145=\"\",\"\",'V - P'!C145)","v":""},{"$f":"IF('V - P'!D145=\"\",\"\",'V - P'!D145)","v":""},{"$f":"IF('V - P'!H145=\"\",\"\",'V - P'!H145)","v":""},{"$f":"IF('V - P'!M145=\"\",\"\",'V - P'!M145)","v":""},null,{"$f":"IF('V - P'!O145=\"\",\"\",'V - P'!O145)","v":""}]
[null,{"$f":"IF(AND('V - P'!$C146=\"\",'V - P'!$D146=\"\"),\"\",'V - P'!V146)","v":""},{"$f":"IF(AND('V - P'!$C146=\"\",'V - P'!$D146=\"\"),\"\",'V - P'!B146)","v":""},{"$f":"IF('V - P'!C146=\"\",\"\",'V - P'!C146)","v":""},{"$f":"IF('V - P'!D146=\"\",\"\",'V - P'!D146)","v":""},{"$f":"IF('V - P'!H146=\"\",\"\",'V - P'!H146)","v":""},{"$f":"IF('V - P'!M146=\"\",\"\",'V - P'!M146)","v":""},null,{"$f":"IF('V - P'!O146=\"\",\"\",'V - P'!O146)","v":""}]
[null,{"$f":"IF(AND('V - P'!$C147=\"\",'V - P'!$D147=\"\"),\"\",'V - P'!V147)","v":""},{"$f":"IF(AND('V - P'!$C147=\"\",'V - P'!$D147=\"\"),\"\",'V - P'!B147)","v":""},{"$f":"IF('V - P'!C147=\"\",\"\",'V - P'!C147)","v":""},{"$f":"IF('V - P'!D147=\"\",\"\",'V - P'!D147)","v":""},{"$f":"IF('V - P'!H147=\"\",\"\",'V - P'!H147)","v":""},{"$f":"IF('V - P'!M147=\"\",\"\",'V - P'!M147)","v":""},null,{"$f":"IF('V - P'!O147=\"\",\"\",'V - P'!O147)","v":""}]
[null,{"$f":"IF(AND('V - P'!$C148=\"\",'V - P'!$D148=\"\"),\"\",'V - P'!V148)","v":""},{"$f":"IF(AND('V - P'!$C148=\"\",'V - P'!$D148=\"\"),\"\",'V - P'!B148)","v":""},{"$f":"IF('V - P'!C148=\"\",\"\",'V - P'!C148)","v":""},{"$f":"IF('V - P'!D148=\"\",\"\",'V - P'!D148)","v":""},{"$f":"IF('V - P'!H148=\"\",\"\",'V - P'!H148)","v":""},{"$f":"IF('V - P'!M148=\"\",\"\",'V - P'!M148)","v":""},null,{"$f":"IF('V - P'!O148=\"\",\"\",'V - P'!O148)","v":""}]
[null,{"$f":"IF(AND('V - P'!$C149=\"\",'V - P'!$D149=\"\"),\"\",'V - P'!V149)","v":""},{"$f":"IF(AND('V - P'!$C149=\"\",'V - P'!$D149=\"\"),\"\",'V - P'!B149)","v":""},{"$f":"IF('V - P'!C149=\"\",\"\",'V - P'!C149)","v":""},{"$f":"IF('V - P'!D149=\"\",\"\",'V - P'!D149)","v":""},{"$f":"IF('V - P'!H149=\"\",\"\",'V - P'!H149)","v":""},{"$f":"IF('V - P'!M149=\"\",\"\",'V - P'!M149)","v":""},null,{"$f":"IF('V - P'!O149=\"\",\"\",'V - P'!O149)","v":""}]
[null,{"$f":"IF(AND('V - P'!$C150=\"\",'V - P'!$D150=\"\"),\"\",'V - P'!V150)","v":""},{"$f":"IF(AND('V - P'!$C150=\"\",'V - P'!$D150=\"\"),\"\",'V - P'!B150)","v":""},{"$f":"IF('V - P'!C150=\"\",\"\",'V - P'!C150)","v":""},{"$f":"IF('V - P'!D150=\"\",\"\",'V - P'!D150)","v":""},{"$f":"IF('V - P'!H150=\"\",\"\",'V - P'!H150)","v":""},{"$f":"IF('V - P'!M150=\"\",\"\",'V - P'!M150)","v":""},null,{"$f":"IF('V - P'!O150=\"\",\"\",'V - P'!O150)","v":""}]
[null,{"$f":"IF(AND('V - P'!$C151=\"\",'V - P'!$D151=\"\"),\"\",'V - P'!V151)","v":""},{"$f":"IF(AND('V - P'!$C151=\"\",'V - P'!$D151=\"\"),\"\",'V - P'!B151)","v":""},{"$f":"IF('V - P'!C151=\"\",\"\",'V - P'!C151)","v":""},{"$f":"IF('V - P'!D151=\"\",\"\",'V - P'!D151)","v":""},{"$f":"IF('V - P'!H151=\"\",\"\",'V - P'!H151)","v":""},{"$f":"IF('V - P'!M151=\"\",\"\",'V - P'!M151)","v":""},null,{"$f":"IF('V - P'!O151=\"\",\"\",'V - P'!O151)","v":""}]
[null,{"$f":"IF(AND('V - P'!$C152=\"\",'V - P'!$D152=\"\"),\"\",'V - P'!V152)","v":""},{"$f":"IF(AND('V - P'!$C152=\"\",'V - P'!$D152=\"\"),\"\",'V - P'!B152)","v":""},{"$f":"IF('V - P'!C152=\"\",\"\",'V - P'!C152)","v":""},{"$f":"IF('V - P'!D152=\"\",\"\",'V - P'!D152)","v":""},{"$f":"IF('V - P'!H152=\"\",\"\",'V - P'!H152)","v":""},{"$f":"IF('V - P'!M152=\"\",\"\",'V - P'!M152)","v":""},null,{"$f":"IF('V - P'!O152=\"\",\"\",'V - P'!O152)","v":""}]
[null,{"$f":"IF(AND('V - P'!$C153=\"\",'V - P'!$D153=\"\"),\"\",'V - P'!V153)","v":""},{"$f":"IF(AND('V - P'!$C153=\"\",'V - P'!$D153=\"\"),\"\",'V - P'!B153)","v":""},{"$f":"IF('V - P'!C153=\"\",\"\",'V - P'!C153)","v":""},{"$f":"IF('V - P'!D153=\"\",\"\",'V - P'!D153)","v":""},{"$f":"IF('V - P'!H153=\"\",\"\",'V - P'!H153)","v":""},{"$f":"IF('V - P'!M153=\"\",\"\",'V - P'!M153)","v":""},null,{"$f":"IF('V - P'!O153=\"\",\"\",'V - P'!O153)","v":""}]
[null,{"$f":"IF(AND('V - P'!$C154=\"\",'V - P'!$D154=\"\"),\"\",'V - P'!V154)","v":""},{"$f":"IF(AND('V - P'!$C154=\"\",'V - P'!$D154=\"\"),\"\",'V - P'!B154)","v":""},{"$f":"IF('V - P'!C154=\"\",\"\",'V - P'!C154)","v":""},{"$f":"IF('V - P'!D154=\"\",\"\",'V - P'!D154)","v":""},{"$f":"IF('V - P'!H154=\"\",\"\",'V - P'!H154)","v":""},{"$f":"IF('V - P'!M154=\"\",\"\",'V - P'!M154)","v":""},null,{"$f":"IF('V - P'!O154=\"\",\"\",'V - P'!O154)","v":""}]
[null,{"$f":"IF(AND('V - P'!$C155=\"\",'V - P'!$D155=\"\"),\"\",'V - P'!V155)","v":""},{"$f":"IF(AND('V - P'!$C155=\"\",'V - P'!$D155=\"\"),\"\",'V - P'!B155)","v":""},{"$f":"IF('V - P'!C155=\"\",\"\",'V - P'!C155)","v":""},{"$f":"IF('V - P'!D155=\"\",\"\",'V - P'!D155)","v":""},{"$f":"IF('V - P'!H155=\"\",\"\",'V - P'!H155)","v":""},{"$f":"IF('V - P'!M155=\"\",\"\",'V - P'!M155)","v":""},null,{"$f":"IF('V - P'!O155=\"\",\"\",'V - P'!O155)","v":""}]
[null,{"$f":"IF(AND('V - P'!$C156=\"\",'V - P'!$D156=\"\"),\"\",'V - P'!V156)","v":""},{"$f":"IF(AND('V - P'!$C156=\"\",'V - P'!$D156=\"\"),\"\",'V - P'!B156)","v":""},{"$f":"IF('V - P'!C156=\"\",\"\",'V - P'!C156)","v":""},{"$f":"IF('V - P'!D156=\"\",\"\",'V - P'!D156)","v":""},{"$f":"IF('V - P'!H156=\"\",\"\",'V - P'!H156)","v":""},{"$f":"IF('V - P'!M156=\"\",\"\",'V - P'!M156)","v":""},null,{"$f":"IF('V - P'!O156=\"\",\"\",'V - P'!O156)","v":""}]
[null,{"$f":"IF(AND('V - P'!$C157=\"\",'V - P'!$D157=\"\"),\"\",'V - P'!V157)","v":""},{"$f":"IF(AND('V - P'!$C157=\"\",'V - P'!$D157=\"\"),\"\",'V - P'!B157)","v":""},{"$f":"IF('V - P'!C157=\"\",\"\",'V - P'!C157)","v":""},{"$f":"IF('V - P'!D157=\"\",\"\",'V - P'!D157)","v":""},{"$f":"IF('V - P'!H157=\"\",\"\",'V - P'!H157)","v":""},{"$f":"IF('V - P'!M157=\"\",\"\",'V - P'!M157)","v":""},null,{"$f":"IF('V - P'!O157=\"\",\"\",'V - P'!O157)","v":""}]
[null,{"$f":"IF(AND('V - P'!$C158=\"\",'V - P'!$D158=\"\"),\"\",'V - P'!V158)","v":""},{"$f":"IF(AND('V - P'!$C158=\"\",'V - P'!$D158=\"\"),\"\",'V - P'!B158)","v":""},{"$f":"IF('V - P'!C158=\"\",\"\",'V - P'!C158)","v":""},{"$f":"IF('V - P'!D158=\"\",\"\",'V - P'!D158)","v":""},{"$f":"IF('V - P'!H158=\"\",\"\",'V - P'!H158)","v":""},{"$f":"IF('V - P'!M158=\"\",\"\",'V - P'!M158)","v":""},null,{"$f":"IF('V - P'!O158=\"\",\"\",'V - P'!O158)","v":""}]
[null,{"$f":"IF(AND('V - P'!$C159=\"\",'V - P'!$D159=\"\"),\"\",'V - P'!V159)","v":""},{"$f":"IF(AND('V - P'!$C159=\"\",'V - P'!$D159=\"\"),\"\",'V - P'!B159)","v":""},{"$f":"IF('V - P'!C159=\"\",\"\",'V - P'!C159)","v":""},{"$f":"IF('V - P'!D159=\"\",\"\",'V - P'!D159)","v":""},{"$f":"IF('V - P'!H159=\"\",\"\",'V - P'!H159)","v":""},{"$f":"IF('V - P'!M159=\"\",\"\",'V - P'!M159)","v":""},null,{"$f":"IF('V - P'!O159=\"\",\"\",'V - P'!O159)","v":""}]
[null,{"$f":"IF(AND('V - P'!$C160=\"\",'V - P'!$D160=\"\"),\"\",'V - P'!V160)","v":""},{"$f":"IF(AND('V - P'!$C160=\"\",'V - P'!$D160=\"\"),\"\",'V - P'!B160)","v":""},{"$f":"IF('V - P'!C160=\"\",\"\",'V - P'!C160)","v":""},{"$f":"IF('V - P'!D160=\"\",\"\",'V - P'!D160)","v":""},{"$f":"IF('V - P'!H160=\"\",\"\",'V - P'!H160)","v":""},{"$f":"IF('V - P'!M160=\"\",\"\",'V - P'!M160)","v":""},null,{"$f":"IF('V - P'!O160=\"\",\"\",'V - P'!O160)","v":""}]
[null,{"$f":"IF(AND('V - P'!$C161=\"\",'V - P'!$D161=\"\"),\"\",'V - P'!V161)","v":""},{"$f":"IF(AND('V - P'!$C161=\"\",'V - P'!$D161=\"\"),\"\",'V - P'!B161)","v":""},{"$f":"IF('V - P'!C161=\"\",\"\",'V - P'!C161)","v":""},{"$f":"IF('V - P'!D161=\"\",\"\",'V - P'!D161)","v":""},{"$f":"IF('V - P'!H161=\"\",\"\",'V - P'!H161)","v":""},{"$f":"IF('V - P'!M161=\"\",\"\",'V - P'!M161)","v":""},null,{"$f":"IF('V - P'!O161=\"\",\"\",'V - P'!O161)","v":""}]
[null,{"$f":"IF(AND('V - P'!$C162=\"\",'V - P'!$D162=\"\"),\"\",'V - P'!V162)","v":""},{"$f":"IF(AND('V - P'!$C162=\"\",'V - P'!$D162=\"\"),\"\",'V - P'!B162)","v":""},{"$f":"IF('V - P'!C162=\"\",\"\",'V - P'!C162)","v":""},{"$f":"IF('V - P'!D162=\"\",\"\",'V - P'!D162)","v":""},{"$f":"IF('V - P'!H162=\"\",\"\",'V - P'!H162)","v":""},{"$f":"IF('V - P'!M162=\"\",\"\",'V - P'!M162)","v":""},null,{"$f":"IF('V - P'!O162=\"\",\"\",'V - P'!O162)","v":""}]
[null,{"$f":"IF(AND('V - P'!$C163=\"\",'V - P'!$D163=\"\"),\"\",'V - P'!V163)","v":""},{"$f":"IF(AND('V - P'!$C163=\"\",'V - P'!$D163=\"\"),\"\",'V - P'!B163)","v":""},{"$f":"IF('V - P'!C163=\"\",\"\",'V - P'!C163)","v":""},{"$f":"IF('V - P'!D163=\"\",\"\",'V - P'!D163)","v":""},{"$f":"IF('V - P'!H163=\"\",\"\",'V - P'!H163)","v":""},{"$f":"IF('V - P'!M163=\"\",\"\",'V - P'!M163)","v":""},null,{"$f":"IF('V - P'!O163=\"\",\"\",'V - P'!O163)","v":""}]
[null,{"$f":"IF(AND('V - P'!$C164=\"\",'V - P'!$D164=\"\"),\"\",'V - P'!V164)","v":""},{"$f":"IF(AND('V - P'!$C164=\"\",'V - P'!$D164=\"\"),\"\",'V - P'!B164)","v":""},{"$f":"IF('V - P'!C164=\"\",\"\",'V - P'!C164)","v":""},{"$f":"IF('V - P'!D164=\"\",\"\",'V - P'!D164)","v":""},{"$f":"IF('V - P'!H164=\"\",\"\",'V - P'!H164)","v":""},{"$f":"IF('V - P'!M164=\"\",\"\",'V - P'!M164)","v":""},null,{"$f":"IF('V - P'!O164=\"\",\"\",'V - P'!O164)","v":""}]
[null,{"$f":"IF(AND('V - P'!$C165=\"\",'V - P'!$D165=\"\"),\"\",'V - P'!V165)","v":""},{"$f":"IF(AND('V - P'!$C165=\"\",'V - P'!$D165=\"\"),\"\",'V - P'!B165)","v":""},{"$f":"IF('V - P'!C165=\"\",\"\",'V - P'!C165)","v":""},{"$f":"IF('V - P'!D165=\"\",\"\",'V - P'!D165)","v":""},{"$f":"IF('V - P'!H165=\"\",\"\",'V - P'!H165)","v":""},{"$f":"IF('V - P'!M165=\"\",\"\",'V - P'!M165)","v":""},null,{"$f":"IF('V - P'!O165=\"\",\"\",'V - P'!O165)","v":""}]
[null,{"$f":"IF(AND('V - P'!$C166=\"\",'V - P'!$D166=\"\"),\"\",'V - P'!V166)","v":""},{"$f":"IF(AND('V - P'!$C166=\"\",'V - P'!$D166=\"\"),\"\",'V - P'!B166)","v":""},{"$f":"IF('V - P'!C166=\"\",\"\",'V - P'!C166)","v":""},{"$f":"IF('V - P'!D166=\"\",\"\",'V - P'!D166)","v":""},{"$f":"IF('V - P'!H166=\"\",\"\",'V - P'!H166)","v":""},{"$f":"IF('V - P'!M166=\"\",\"\",'V - P'!M166)","v":""},null,{"$f":"IF('V - P'!O166=\"\",\"\",'V - P'!O166)","v":""}]
[null,{"$f":"IF(AND('V - P'!$C167=\"\",'V - P'!$D167=\"\"),\"\",'V - P'!V167)","v":""},{"$f":"IF(AND('V - P'!$C167=\"\",'V - P'!$D167=\"\"),\"\",'V - P'!B167)","v":""},{"$f":"IF('V - P'!C167=\"\",\"\",'V - P'!C167)","v":""},{"$f":"IF('V - P'!D167=\"\",\"\",'V - P'!D167)","v":""},{"$f":"IF('V - P'!H167=\"\",\"\",'V - P'!H167)","v":""},{"$f":"IF('V - P'!M167=\"\",\"\",'V - P'!M167)","v":""},null,{"$f":"IF('V - P'!O167=\"\",\"\",'V - P'!O167)","v":""}]
[null,{"$f":"IF(AND('V - P'!$C168=\"\",'V - P'!$D168=\"\"),\"\",'V - P'!V168)","v":""},{"$f":"IF(AND('V - P'!$C168=\"\",'V - P'!$D168=\"\"),\"\",'V - P'!B168)","v":""},{"$f":"IF('V - P'!C168=\"\",\"\",'V - P'!C168)","v":""},{"$f":"IF('V - P'!D168=\"\",\"\",'V - P'!D168)","v":""},{"$f":"IF('V - P'!H168=\"\",\"\",'V - P'!H168)","v":""},{"$f":"IF('V - P'!M168=\"\",\"\",'V - P'!M168)","v":""},null,{"$f":"IF('V - P'!O168=\"\",\"\",'V - P'!O168)","v":""}]
[null,{"$f":"IF(AND('V - P'!$C169=\"\",'V - P'!$D169=\"\"),\"\",'V - P'!V169)","v":""},{"$f":"IF(AND('V - P'!$C169=\"\",'V - P'!$D169=\"\"),\"\",'V - P'!B169)","v":""},{"$f":"IF('V - P'!C169=\"\",\"\",'V - P'!C169)","v":""},{"$f":"IF('V - P'!D169=\"\",\"\",'V - P'!D169)","v":""},{"$f":"IF('V - P'!H169=\"\",\"\",'V - P'!H169)","v":""},{"$f":"IF('V - P'!M169=\"\",\"\",'V - P'!M169)","v":""},null,{"$f":"IF('V - P'!O169=\"\",\"\",'V - P'!O169)","v":""}]
[null,{"$f":"IF(AND('V - P'!$C170=\"\",'V - P'!$D170=\"\"),\"\",'V - P'!V170)","v":""},{"$f":"IF(AND('V - P'!$C170=\"\",'V - P'!$D170=\"\"),\"\",'V - P'!B170)","v":""},{"$f":"IF('V - P'!C170=\"\",\"\",'V - P'!C170)","v":""},{"$f":"IF('V - P'!D170=\"\",\"\",'V - P'!D170)","v":""},{"$f":"IF('V - P'!H170=\"\",\"\",'V - P'!H170)","v":""},{"$f":"IF('V - P'!M170=\"\",\"\",'V - P'!M170)","v":""},null,{"$f":"IF('V - P'!O170=\"\",\"\",'V - P'!O170)","v":""}]
[null,{"$f":"IF(AND('V - P'!$C171=\"\",'V - P'!$D171=\"\"),\"\",'V - P'!V171)","v":""},{"$f":"IF(AND('V - P'!$C171=\"\",'V - P'!$D171=\"\"),\"\",'V - P'!B171)","v":""},{"$f":"IF('V - P'!C171=\"\",\"\",'V - P'!C171)","v":""},{"$f":"IF('V - P'!D171=\"\",\"\",'V - P'!D171)","v":""},{"$f":"IF('V - P'!H171=\"\",\"\",'V - P'!H171)","v":""},{"$f":"IF('V - P'!M171=\"\",\"\",'V - P'!M171)","v":""},null,{"$f":"IF('V - P'!O171=\"\",\"\",'V - P'!O171)","v":""}]
[null,{"$f":"IF(AND('V - P'!$C172=\"\",'V - P'!$D172=\"\"),\"\",'V - P'!V172)","v":""},{"$f":"IF(AND('V - P'!$C172=\"\",'V - P'!$D172=\"\"),\"\",'V - P'!B172)","v":""},{"$f":"IF('V - P'!C172=\"\",\"\",'V - P'!C172)","v":""},{"$f":"IF('V - P'!D172=\"\",\"\",'V - P'!D172)","v":""},{"$f":"IF('V - P'!H172=\"\",\"\",'V - P'!H172)","v":""},{"$f":"IF('V - P'!M172=\"\",\"\",'V - P'!M172)","v":""},null,{"$f":"IF('V - P'!O172=\"\",\"\",'V - P'!O172)","v":""}]
[null,{"$f":"IF(AND('V - P'!$C173=\"\",'V - P'!$D173=\"\"),\"\",'V - P'!V173)","v":""},{"$f":"IF(AND('V - P'!$C173=\"\",'V - P'!$D173=\"\"),\"\",'V - P'!B173)","v":""},{"$f":"IF('V - P'!C173=\"\",\"\",'V - P'!C173)","v":""},{"$f":"IF('V - P'!D173=\"\",\"\",'V - P'!D173)","v":""},{"$f":"IF('V - P'!H173=\"\",\"\",'V - P'!H173)","v":""},{"$f":"IF('V - P'!M173=\"\",\"\",'V - P'!M173)","v":""},null,{"$f":"IF('V - P'!O173=\"\",\"\",'V - P'!O173)","v":""}]
[null,{"$f":"IF(AND('V - P'!$C174=\"\",'V - P'!$D174=\"\"),\"\",'V - P'!V174)","v":""},{"$f":"IF(AND('V - P'!$C174=\"\",'V - P'!$D174=\"\"),\"\",'V - P'!B174)","v":""},{"$f":"IF('V - P'!C174=\"\",\"\",'V - P'!C174)","v":""},{"$f":"IF('V - P'!D174=\"\",\"\",'V - P'!D174)","v":""},{"$f":"IF('V - P'!H174=\"\",\"\",'V - P'!H174)","v":""},{"$f":"IF('V - P'!M174=\"\",\"\",'V - P'!M174)","v":""},null,{"$f":"IF('V - P'!O174=\"\",\"\",'V - P'!O174)","v":""}]
[null,{"$f":"IF(AND('V - P'!$C175=\"\",'V - P'!$D175=\"\"),\"\",'V - P'!V175)","v":""},{"$f":"IF(AND('V - P'!$C175=\"\",'V - P'!$D175=\"\"),\"\",'V - P'!B175)","v":""},{"$f":"IF('V - P'!C175=\"\",\"\",'V - P'!C175)","v":""},{"$f":"IF('V - P'!D175=\"\",\"\",'V - P'!D175)","v":""},{"$f":"IF('V - P'!H175=\"\",\"\",'V - P'!H175)","v":""},{"$f":"IF('V - P'!M175=\"\",\"\",'V - P'!M175)","v":""},null,{"$f":"IF('V - P'!O175=\"\",\"\",'V - P'!O175)","v":""}]
[null,{"$f":"IF(AND('V - P'!$C176=\"\",'V - P'!$D176=\"\"),\"\",'V - P'!V176)","v":""},{"$f":"IF(AND('V - P'!$C176=\"\",'V - P'!$D176=\"\"),\"\",'V - P'!B176)","v":""},{"$f":"IF('V - P'!C176=\"\",\"\",'V - P'!C176)","v":""},{"$f":"IF('V - P'!D176=\"\",\"\",'V - P'!D176)","v":""},{"$f":"IF('V - P'!H176=\"\",\"\",'V - P'!H176)","v":""},{"$f":"IF('V - P'!M176=\"\",\"\",'V - P'!M176)","v":""},null,{"$f":"IF('V - P'!O176=\"\",\"\",'V - P'!O176)","v":""}]
[null,{"$f":"IF(AND('V - P'!$C177=\"\",'V - P'!$D177=\"\"),\"\",'V - P'!V177)","v":""},{"$f":"IF(AND('V - P'!$C177=\"\",'V - P'!$D177=\"\"),\"\",'V - P'!B177)","v":""},{"$f":"IF('V - P'!C177=\"\",\"\",'V - P'!C177)","v":""},{"$f":"IF('V - P'!D177=\"\",\"\",'V - P'!D177)","v":""},{"$f":"IF('V - P'!H177=\"\",\"\",'V - P'!H177)","v":""},{"$f":"IF('V - P'!M177=\"\",\"\",'V - P'!M177)","v":""},null,{"$f":"IF('V - P'!O177=\"\",\"\",'V - P'!O177)","v":""}]
[null,{"$f":"IF(AND('V - P'!$C178=\"\",'V - P'!$D178=\"\"),\"\",'V - P'!V178)","v":""},{"$f":"IF(AND('V - P'!$C178=\"\",'V - P'!$D178=\"\"),\"\",'V - P'!B178)","v":""},{"$f":"IF('V - P'!C178=\"\",\"\",'V - P'!C178)","v":""},{"$f":"IF('V - P'!D178=\"\",\"\",'V - P'!D178)","v":""},{"$f":"IF('V - P'!H178=\"\",\"\",'V - P'!H178)","v":""},{"$f":"IF('V - P'!M178=\"\",\"\",'V - P'!M178)","v":""},null,{"$f":"IF('V - P'!O178=\"\",\"\",'V - P'!O178)","v":""}]
[null,{"$f":"IF(AND('V - P'!$C179=\"\",'V - P'!$D179=\"\"),\"\",'V - P'!V179)","v":""},{"$f":"IF(AND('V - P'!$C179=\"\",'V - P'!$D179=\"\"),\"\",'V - P'!B179)","v":""},{"$f":"IF('V - P'!C179=\"\",\"\",'V - P'!C179)","v":""},{"$f":"IF('V - P'!D179=\"\",\"\",'V - P'!D179)","v":""},{"$f":"IF('V - P'!H179=\"\",\"\",'V - P'!H179)","v":""},{"$f":"IF('V - P'!M179=\"\",\"\",'V - P'!M179)","v":""},null,{"$f":"IF('V - P'!O179=\"\",\"\",'V - P'!O179)","v":""}]
[null,{"$f":"IF(AND('V - P'!$C180=\"\",'V - P'!$D180=\"\"),\"\",'V - P'!V180)","v":""},{"$f":"IF(AND('V - P'!$C180=\"\",'V - P'!$D180=\"\"),\"\",'V - P'!B180)","v":""},{"$f":"IF('V - P'!C180=\"\",\"\",'V - P'!C180)","v":""},{"$f":"IF('V - P'!D180=\"\",\"\",'V - P'!D180)","v":""},{"$f":"IF('V - P'!H180=\"\",\"\",'V - P'!H180)","v":""},{"$f":"IF('V - P'!M180=\"\",\"\",'V - P'!M180)","v":""},null,{"$f":"IF('V - P'!O180=\"\",\"\",'V - P'!O180)","v":""}]
[null,{"$f":"B$1","v":"Věž - Pořadí jednotlivců"}]
[]
[null,{"$f":"B$3","v":"VC ČR v požárním útoku družstev HZS krajů a HZS podniků"},null,null,{"$f":"E$3","v":"Petrovice 19.9.2019"}]
[]
[null,{"$f":"Start!$C$5","v":"MUŽI"}]
[null,"Pořadí","Start. číslo","Jméno","kolektiv","čas             I. pokusu","čas            II. pokusu",null,"Výsledný čas"]
[]
[null,{"$f":"IF(AND('V - P'!$C181=\"\",'V - P'!$D181=\"\"),\"\",'V - P'!V181)","v":""},{"$f":"IF(AND('V - P'!$C181=\"\",'V - P'!$D181=\"\"),\"\",'V - P'!B181)","v":""},{"$f":"IF('V - P'!C181=\"\",\"\",'V - P'!C181)","v":""},{"$f":"IF('V - P'!D181=\"\",\"\",'V - P'!D181)","v":""},{"$f":"IF('V - P'!H181=\"\",\"\",'V - P'!H181)","v":""},{"$f":"IF('V - P'!M181=\"\",\"\",'V - P'!M181)","v":""},null,{"$f":"IF('V - P'!O181=\"\",\"\",'V - P'!O181)","v":""}]
[null,{"$f":"IF(AND('V - P'!$C182=\"\",'V - P'!$D182=\"\"),\"\",'V - P'!V182)","v":""},{"$f":"IF(AND('V - P'!$C182=\"\",'V - P'!$D182=\"\"),\"\",'V - P'!B182)","v":""},{"$f":"IF('V - P'!C182=\"\",\"\",'V - P'!C182)","v":""},{"$f":"IF('V - P'!D182=\"\",\"\",'V - P'!D182)","v":""},{"$f":"IF('V - P'!H182=\"\",\"\",'V - P'!H182)","v":""},{"$f":"IF('V - P'!M182=\"\",\"\",'V - P'!M182)","v":""},null,{"$f":"IF('V - P'!O182=\"\",\"\",'V - P'!O182)","v":""}]
[null,{"$f":"IF(AND('V - P'!$C183=\"\",'V - P'!$D183=\"\"),\"\",'V - P'!V183)","v":""},{"$f":"IF(AND('V - P'!$C183=\"\",'V - P'!$D183=\"\"),\"\",'V - P'!B183)","v":""},{"$f":"IF('V - P'!C183=\"\",\"\",'V - P'!C183)","v":""},{"$f":"IF('V - P'!D183=\"\",\"\",'V - P'!D183)","v":""},{"$f":"IF('V - P'!H183=\"\",\"\",'V - P'!H183)","v":""},{"$f":"IF('V - P'!M183=\"\",\"\",'V - P'!M183)","v":""},null,{"$f":"IF('V - P'!O183=\"\",\"\",'V - P'!O183)","v":""}]
[null,{"$f":"IF(AND('V - P'!$C184=\"\",'V - P'!$D184=\"\"),\"\",'V - P'!V184)","v":""},{"$f":"IF(AND('V - P'!$C184=\"\",'V - P'!$D184=\"\"),\"\",'V - P'!B184)","v":""},{"$f":"IF('V - P'!C184=\"\",\"\",'V - P'!C184)","v":""},{"$f":"IF('V - P'!D184=\"\",\"\",'V - P'!D184)","v":""},{"$f":"IF('V - P'!H184=\"\",\"\",'V - P'!H184)","v":""},{"$f":"IF('V - P'!M184=\"\",\"\",'V - P'!M184)","v":""},null,{"$f":"IF('V - P'!O184=\"\",\"\",'V - P'!O184)","v":""}]
[null,{"$f":"IF(AND('V - P'!$C185=\"\",'V - P'!$D185=\"\"),\"\",'V - P'!V185)","v":""},{"$f":"IF(AND('V - P'!$C185=\"\",'V - P'!$D185=\"\"),\"\",'V - P'!B185)","v":""},{"$f":"IF('V - P'!C185=\"\",\"\",'V - P'!C185)","v":""},{"$f":"IF('V - P'!D185=\"\",\"\",'V - P'!D185)","v":""},{"$f":"IF('V - P'!H185=\"\",\"\",'V - P'!H185)","v":""},{"$f":"IF('V - P'!M185=\"\",\"\",'V - P'!M185)","v":""},null,{"$f":"IF('V - P'!O185=\"\",\"\",'V - P'!O185)","v":""}]
[null,{"$f":"IF(AND('V - P'!$C186=\"\",'V - P'!$D186=\"\"),\"\",'V - P'!V186)","v":""},{"$f":"IF(AND('V - P'!$C186=\"\",'V - P'!$D186=\"\"),\"\",'V - P'!B186)","v":""},{"$f":"IF('V - P'!C186=\"\",\"\",'V - P'!C186)","v":""},{"$f":"IF('V - P'!D186=\"\",\"\",'V - P'!D186)","v":""},{"$f":"IF('V - P'!H186=\"\",\"\",'V - P'!H186)","v":""},{"$f":"IF('V - P'!M186=\"\",\"\",'V - P'!M186)","v":""},null,{"$f":"IF('V - P'!O186=\"\",\"\",'V - P'!O186)","v":""}]
[null,{"$f":"IF(AND('V - P'!$C187=\"\",'V - P'!$D187=\"\"),\"\",'V - P'!V187)","v":""},{"$f":"IF(AND('V - P'!$C187=\"\",'V - P'!$D187=\"\"),\"\",'V - P'!B187)","v":""},{"$f":"IF('V - P'!C187=\"\",\"\",'V - P'!C187)","v":""},{"$f":"IF('V - P'!D187=\"\",\"\",'V - P'!D187)","v":""},{"$f":"IF('V - P'!H187=\"\",\"\",'V - P'!H187)","v":""},{"$f":"IF('V - P'!M187=\"\",\"\",'V - P'!M187)","v":""},null,{"$f":"IF('V - P'!O187=\"\",\"\",'V - P'!O187)","v":""}]
[null,{"$f":"IF(AND('V - P'!$C188=\"\",'V - P'!$D188=\"\"),\"\",'V - P'!V188)","v":""},{"$f":"IF(AND('V - P'!$C188=\"\",'V - P'!$D188=\"\"),\"\",'V - P'!B188)","v":""},{"$f":"IF('V - P'!C188=\"\",\"\",'V - P'!C188)","v":""},{"$f":"IF('V - P'!D188=\"\",\"\",'V - P'!D188)","v":""},{"$f":"IF('V - P'!H188=\"\",\"\",'V - P'!H188)","v":""},{"$f":"IF('V - P'!M188=\"\",\"\",'V - P'!M188)","v":""},null,{"$f":"IF('V - P'!O188=\"\",\"\",'V - P'!O188)","v":""}]
[null,{"$f":"IF(AND('V - P'!$C189=\"\",'V - P'!$D189=\"\"),\"\",'V - P'!V189)","v":""},{"$f":"IF(AND('V - P'!$C189=\"\",'V - P'!$D189=\"\"),\"\",'V - P'!B189)","v":""},{"$f":"IF('V - P'!C189=\"\",\"\",'V - P'!C189)","v":""},{"$f":"IF('V - P'!D189=\"\",\"\",'V - P'!D189)","v":""},{"$f":"IF('V - P'!H189=\"\",\"\",'V - P'!H189)","v":""},{"$f":"IF('V - P'!M189=\"\",\"\",'V - P'!M189)","v":""},null,{"$f":"IF('V - P'!O189=\"\",\"\",'V - P'!O189)","v":""}]
[null,{"$f":"IF(AND('V - P'!$C190=\"\",'V - P'!$D190=\"\"),\"\",'V - P'!V190)","v":""},{"$f":"IF(AND('V - P'!$C190=\"\",'V - P'!$D190=\"\"),\"\",'V - P'!B190)","v":""},{"$f":"IF('V - P'!C190=\"\",\"\",'V - P'!C190)","v":""},{"$f":"IF('V - P'!D190=\"\",\"\",'V - P'!D190)","v":""},{"$f":"IF('V - P'!H190=\"\",\"\",'V - P'!H190)","v":""},{"$f":"IF('V - P'!M190=\"\",\"\",'V - P'!M190)","v":""},null,{"$f":"IF('V - P'!O190=\"\",\"\",'V - P'!O190)","v":""}]
[null,{"$f":"IF(AND('V - P'!$C191=\"\",'V - P'!$D191=\"\"),\"\",'V - P'!V191)","v":""},{"$f":"IF(AND('V - P'!$C191=\"\",'V - P'!$D191=\"\"),\"\",'V - P'!B191)","v":""},{"$f":"IF('V - P'!C191=\"\",\"\",'V - P'!C191)","v":""},{"$f":"IF('V - P'!D191=\"\",\"\",'V - P'!D191)","v":""},{"$f":"IF('V - P'!H191=\"\",\"\",'V - P'!H191)","v":""},{"$f":"IF('V - P'!M191=\"\",\"\",'V - P'!M191)","v":""},null,{"$f":"IF('V - P'!O191=\"\",\"\",'V - P'!O191)","v":""}]
[null,{"$f":"IF(AND('V - P'!$C192=\"\",'V - P'!$D192=\"\"),\"\",'V - P'!V192)","v":""},{"$f":"IF(AND('V - P'!$C192=\"\",'V - P'!$D192=\"\"),\"\",'V - P'!B192)","v":""},{"$f":"IF('V - P'!C192=\"\",\"\",'V - P'!C192)","v":""},{"$f":"IF('V - P'!D192=\"\",\"\",'V - P'!D192)","v":""},{"$f":"IF('V - P'!H192=\"\",\"\",'V - P'!H192)","v":""},{"$f":"IF('V - P'!M192=\"\",\"\",'V - P'!M192)","v":""},null,{"$f":"IF('V - P'!O192=\"\",\"\",'V - P'!O192)","v":""}]
[null,{"$f":"IF(AND('V - P'!$C193=\"\",'V - P'!$D193=\"\"),\"\",'V - P'!V193)","v":""},{"$f":"IF(AND('V - P'!$C193=\"\",'V - P'!$D193=\"\"),\"\",'V - P'!B193)","v":""},{"$f":"IF('V - P'!C193=\"\",\"\",'V - P'!C193)","v":""},{"$f":"IF('V - P'!D193=\"\",\"\",'V - P'!D193)","v":""},{"$f":"IF('V - P'!H193=\"\",\"\",'V - P'!H193)","v":""},{"$f":"IF('V - P'!M193=\"\",\"\",'V - P'!M193)","v":""},null,{"$f":"IF('V - P'!O193=\"\",\"\",'V - P'!O193)","v":""}]
[null,{"$f":"IF(AND('V - P'!$C194=\"\",'V - P'!$D194=\"\"),\"\",'V - P'!V194)","v":""},{"$f":"IF(AND('V - P'!$C194=\"\",'V - P'!$D194=\"\"),\"\",'V - P'!B194)","v":""},{"$f":"IF('V - P'!C194=\"\",\"\",'V - P'!C194)","v":""},{"$f":"IF('V - P'!D194=\"\",\"\",'V - P'!D194)","v":""},{"$f":"IF('V - P'!H194=\"\",\"\",'V - P'!H194)","v":""},{"$f":"IF('V - P'!M194=\"\",\"\",'V - P'!M194)","v":""},null,{"$f":"IF('V - P'!O194=\"\",\"\",'V - P'!O194)","v":""}]
[null,{"$f":"IF(AND('V - P'!$C195=\"\",'V - P'!$D195=\"\"),\"\",'V - P'!V195)","v":""},{"$f":"IF(AND('V - P'!$C195=\"\",'V - P'!$D195=\"\"),\"\",'V - P'!B195)","v":""},{"$f":"IF('V - P'!C195=\"\",\"\",'V - P'!C195)","v":""},{"$f":"IF('V - P'!D195=\"\",\"\",'V - P'!D195)","v":""},{"$f":"IF('V - P'!H195=\"\",\"\",'V - P'!H195)","v":""},{"$f":"IF('V - P'!M195=\"\",\"\",'V - P'!M195)","v":""},null,{"$f":"IF('V - P'!O195=\"\",\"\",'V - P'!O195)","v":""}]
[null,{"$f":"IF(AND('V - P'!$C196=\"\",'V - P'!$D196=\"\"),\"\",'V - P'!V196)","v":""},{"$f":"IF(AND('V - P'!$C196=\"\",'V - P'!$D196=\"\"),\"\",'V - P'!B196)","v":""},{"$f":"IF('V - P'!C196=\"\",\"\",'V - P'!C196)","v":""},{"$f":"IF('V - P'!D196=\"\",\"\",'V - P'!D196)","v":""},{"$f":"IF('V - P'!H196=\"\",\"\",'V - P'!H196)","v":""},{"$f":"IF('V - P'!M196=\"\",\"\",'V - P'!M196)","v":""},null,{"$f":"IF('V - P'!O196=\"\",\"\",'V - P'!O196)","v":""}]
[null,{"$f":"IF(AND('V - P'!$C197=\"\",'V - P'!$D197=\"\"),\"\",'V - P'!V197)","v":""},{"$f":"IF(AND('V - P'!$C197=\"\",'V - P'!$D197=\"\"),\"\",'V - P'!B197)","v":""},{"$f":"IF('V - P'!C197=\"\",\"\",'V - P'!C197)","v":""},{"$f":"IF('V - P'!D197=\"\",\"\",'V - P'!D197)","v":""},{"$f":"IF('V - P'!H197=\"\",\"\",'V - P'!H197)","v":""},{"$f":"IF('V - P'!M197=\"\",\"\",'V - P'!M197)","v":""},null,{"$f":"IF('V - P'!O197=\"\",\"\",'V - P'!O197)","v":""}]
[null,{"$f":"IF(AND('V - P'!$C198=\"\",'V - P'!$D198=\"\"),\"\",'V - P'!V198)","v":""},{"$f":"IF(AND('V - P'!$C198=\"\",'V - P'!$D198=\"\"),\"\",'V - P'!B198)","v":""},{"$f":"IF('V - P'!C198=\"\",\"\",'V - P'!C198)","v":""},{"$f":"IF('V - P'!D198=\"\",\"\",'V - P'!D198)","v":""},{"$f":"IF('V - P'!H198=\"\",\"\",'V - P'!H198)","v":""},{"$f":"IF('V - P'!M198=\"\",\"\",'V - P'!M198)","v":""},null,{"$f":"IF('V - P'!O198=\"\",\"\",'V - P'!O198)","v":""}]
[null,{"$f":"IF(AND('V - P'!$C199=\"\",'V - P'!$D199=\"\"),\"\",'V - P'!V199)","v":""},{"$f":"IF(AND('V - P'!$C199=\"\",'V - P'!$D199=\"\"),\"\",'V - P'!B199)","v":""},{"$f":"IF('V - P'!C199=\"\",\"\",'V - P'!C199)","v":""},{"$f":"IF('V - P'!D199=\"\",\"\",'V - P'!D199)","v":""},{"$f":"IF('V - P'!H199=\"\",\"\",'V - P'!H199)","v":""},{"$f":"IF('V - P'!M199=\"\",\"\",'V - P'!M199)","v":""},null,{"$f":"IF('V - P'!O199=\"\",\"\",'V - P'!O199)","v":""}]
[null,{"$f":"IF(AND('V - P'!$C200=\"\",'V - P'!$D200=\"\"),\"\",'V - P'!V200)","v":""},{"$f":"IF(AND('V - P'!$C200=\"\",'V - P'!$D200=\"\"),\"\",'V - P'!B200)","v":""},{"$f":"IF('V - P'!C200=\"\",\"\",'V - P'!C200)","v":""},{"$f":"IF('V - P'!D200=\"\",\"\",'V - P'!D200)","v":""},{"$f":"IF('V - P'!H200=\"\",\"\",'V - P'!H200)","v":""},{"$f":"IF('V - P'!M200=\"\",\"\",'V - P'!M200)","v":""},null,{"$f":"IF('V - P'!O200=\"\",\"\",'V - P'!O200)","v":""}]
[null,{"$f":"IF(AND('V - P'!$C201=\"\",'V - P'!$D201=\"\"),\"\",'V - P'!V201)","v":""},{"$f":"IF(AND('V - P'!$C201=\"\",'V - P'!$D201=\"\"),\"\",'V - P'!B201)","v":""},{"$f":"IF('V - P'!C201=\"\",\"\",'V - P'!C201)","v":""},{"$f":"IF('V - P'!D201=\"\",\"\",'V - P'!D201)","v":""},{"$f":"IF('V - P'!H201=\"\",\"\",'V - P'!H201)","v":""},{"$f":"IF('V - P'!M201=\"\",\"\",'V - P'!M201)","v":""},null,{"$f":"IF('V - P'!O201=\"\",\"\",'V - P'!O201)","v":""}]
[null,{"$f":"IF(AND('V - P'!$C202=\"\",'V - P'!$D202=\"\"),\"\",'V - P'!V202)","v":""},{"$f":"IF(AND('V - P'!$C202=\"\",'V - P'!$D202=\"\"),\"\",'V - P'!B202)","v":""},{"$f":"IF('V - P'!C202=\"\",\"\",'V - P'!C202)","v":""},{"$f":"IF('V - P'!D202=\"\",\"\",'V - P'!D202)","v":""},{"$f":"IF('V - P'!H202=\"\",\"\",'V - P'!H202)","v":""},{"$f":"IF('V - P'!M202=\"\",\"\",'V - P'!M202)","v":""},null,{"$f":"IF('V - P'!O202=\"\",\"\",'V - P'!O202)","v":""}]
[null,{"$f":"IF(AND('V - P'!$C203=\"\",'V - P'!$D203=\"\"),\"\",'V - P'!V203)","v":""},{"$f":"IF(AND('V - P'!$C203=\"\",'V - P'!$D203=\"\"),\"\",'V - P'!B203)","v":""},{"$f":"IF('V - P'!C203=\"\",\"\",'V - P'!C203)","v":""},{"$f":"IF('V - P'!D203=\"\",\"\",'V - P'!D203)","v":""},{"$f":"IF('V - P'!H203=\"\",\"\",'V - P'!H203)","v":""},{"$f":"IF('V - P'!M203=\"\",\"\",'V - P'!M203)","v":""},null,{"$f":"IF('V - P'!O203=\"\",\"\",'V - P'!O203)","v":""}]
[null,{"$f":"IF(AND('V - P'!$C204=\"\",'V - P'!$D204=\"\"),\"\",'V - P'!V204)","v":""},{"$f":"IF(AND('V - P'!$C204=\"\",'V - P'!$D204=\"\"),\"\",'V - P'!B204)","v":""},{"$f":"IF('V - P'!C204=\"\",\"\",'V - P'!C204)","v":""},{"$f":"IF('V - P'!D204=\"\",\"\",'V - P'!D204)","v":""},{"$f":"IF('V - P'!H204=\"\",\"\",'V - P'!H204)","v":""},{"$f":"IF('V - P'!M204=\"\",\"\",'V - P'!M204)","v":""},null,{"$f":"IF('V - P'!O204=\"\",\"\",'V - P'!O204)","v":""}]
[null,{"$f":"IF(AND('V - P'!$C205=\"\",'V - P'!$D205=\"\"),\"\",'V - P'!V205)","v":""},{"$f":"IF(AND('V - P'!$C205=\"\",'V - P'!$D205=\"\"),\"\",'V - P'!B205)","v":""},{"$f":"IF('V - P'!C205=\"\",\"\",'V - P'!C205)","v":""},{"$f":"IF('V - P'!D205=\"\",\"\",'V - P'!D205)","v":""},{"$f":"IF('V - P'!H205=\"\",\"\",'V - P'!H205)","v":""},{"$f":"IF('V - P'!M205=\"\",\"\",'V - P'!M205)","v":""},null,{"$f":"IF('V - P'!O205=\"\",\"\",'V - P'!O205)","v":""}]
[null,{"$f":"IF(AND('V - P'!$C206=\"\",'V - P'!$D206=\"\"),\"\",'V - P'!V206)","v":""},{"$f":"IF(AND('V - P'!$C206=\"\",'V - P'!$D206=\"\"),\"\",'V - P'!B206)","v":""},{"$f":"IF('V - P'!C206=\"\",\"\",'V - P'!C206)","v":""},{"$f":"IF('V - P'!D206=\"\",\"\",'V - P'!D206)","v":""},{"$f":"IF('V - P'!H206=\"\",\"\",'V - P'!H206)","v":""},{"$f":"IF('V - P'!M206=\"\",\"\",'V - P'!M206)","v":""},null,{"$f":"IF('V - P'!O206=\"\",\"\",'V - P'!O206)","v":""}]
[null,{"$f":"IF(AND('V - P'!$C207=\"\",'V - P'!$D207=\"\"),\"\",'V - P'!V207)","v":""},{"$f":"IF(AND('V - P'!$C207=\"\",'V - P'!$D207=\"\"),\"\",'V - P'!B207)","v":""},{"$f":"IF('V - P'!C207=\"\",\"\",'V - P'!C207)","v":""},{"$f":"IF('V - P'!D207=\"\",\"\",'V - P'!D207)","v":""},{"$f":"IF('V - P'!H207=\"\",\"\",'V - P'!H207)","v":""},{"$f":"IF('V - P'!M207=\"\",\"\",'V - P'!M207)","v":""},null,{"$f":"IF('V - P'!O207=\"\",\"\",'V - P'!O207)","v":""}]
[null,{"$f":"IF(AND('V - P'!$C208=\"\",'V - P'!$D208=\"\"),\"\",'V - P'!V208)","v":""},{"$f":"IF(AND('V - P'!$C208=\"\",'V - P'!$D208=\"\"),\"\",'V - P'!B208)","v":""},{"$f":"IF('V - P'!C208=\"\",\"\",'V - P'!C208)","v":""},{"$f":"IF('V - P'!D208=\"\",\"\",'V - P'!D208)","v":""},{"$f":"IF('V - P'!H208=\"\",\"\",'V - P'!H208)","v":""},{"$f":"IF('V - P'!M208=\"\",\"\",'V - P'!M208)","v":""},null,{"$f":"IF('V - P'!O208=\"\",\"\",'V - P'!O208)","v":""}]
[null,{"$f":"IF(AND('V - P'!$C209=\"\",'V - P'!$D209=\"\"),\"\",'V - P'!V209)","v":""},{"$f":"IF(AND('V - P'!$C209=\"\",'V - P'!$D209=\"\"),\"\",'V - P'!B209)","v":""},{"$f":"IF('V - P'!C209=\"\",\"\",'V - P'!C209)","v":""},{"$f":"IF('V - P'!D209=\"\",\"\",'V - P'!D209)","v":""},{"$f":"IF('V - P'!H209=\"\",\"\",'V - P'!H209)","v":""},{"$f":"IF('V - P'!M209=\"\",\"\",'V - P'!M209)","v":""},null,{"$f":"IF('V - P'!O209=\"\",\"\",'V - P'!O209)","v":""}]
[null,{"$f":"IF(AND('V - P'!$C210=\"\",'V - P'!$D210=\"\"),\"\",'V - P'!V210)","v":""},{"$f":"IF(AND('V - P'!$C210=\"\",'V - P'!$D210=\"\"),\"\",'V - P'!B210)","v":""},{"$f":"IF('V - P'!C210=\"\",\"\",'V - P'!C210)","v":""},{"$f":"IF('V - P'!D210=\"\",\"\",'V - P'!D210)","v":""},{"$f":"IF('V - P'!H210=\"\",\"\",'V - P'!H210)","v":""},{"$f":"IF('V - P'!M210=\"\",\"\",'V - P'!M210)","v":""},null,{"$f":"IF('V - P'!O210=\"\",\"\",'V - P'!O210)","v":""}]
[null,{"$f":"IF(AND('V - P'!$C211=\"\",'V - P'!$D211=\"\"),\"\",'V - P'!V211)","v":""},{"$f":"IF(AND('V - P'!$C211=\"\",'V - P'!$D211=\"\"),\"\",'V - P'!B211)","v":""},{"$f":"IF('V - P'!C211=\"\",\"\",'V - P'!C211)","v":""},{"$f":"IF('V - P'!D211=\"\",\"\",'V - P'!D211)","v":""},{"$f":"IF('V - P'!H211=\"\",\"\",'V - P'!H211)","v":""},{"$f":"IF('V - P'!M211=\"\",\"\",'V - P'!M211)","v":""},null,{"$f":"IF('V - P'!O211=\"\",\"\",'V - P'!O211)","v":""}]
[null,{"$f":"IF(AND('V - P'!$C212=\"\",'V - P'!$D212=\"\"),\"\",'V - P'!V212)","v":""},{"$f":"IF(AND('V - P'!$C212=\"\",'V - P'!$D212=\"\"),\"\",'V - P'!B212)","v":""},{"$f":"IF('V - P'!C212=\"\",\"\",'V - P'!C212)","v":""},{"$f":"IF('V - P'!D212=\"\",\"\",'V - P'!D212)","v":""},{"$f":"IF('V - P'!H212=\"\",\"\",'V - P'!H212)","v":""},{"$f":"IF('V - P'!M212=\"\",\"\",'V - P'!M212)","v":""},null,{"$f":"IF('V - P'!O212=\"\",\"\",'V - P'!O212)","v":""}]
[null,{"$f":"IF(AND('V - P'!$C213=\"\",'V - P'!$D213=\"\"),\"\",'V - P'!V213)","v":""},{"$f":"IF(AND('V - P'!$C213=\"\",'V - P'!$D213=\"\"),\"\",'V - P'!B213)","v":""},{"$f":"IF('V - P'!C213=\"\",\"\",'V - P'!C213)","v":""},{"$f":"IF('V - P'!D213=\"\",\"\",'V - P'!D213)","v":""},{"$f":"IF('V - P'!H213=\"\",\"\",'V - P'!H213)","v":""},{"$f":"IF('V - P'!M213=\"\",\"\",'V - P'!M213)","v":""},null,{"$f":"IF('V - P'!O213=\"\",\"\",'V - P'!O213)","v":""}]
[null,{"$f":"IF(AND('V - P'!$C214=\"\",'V - P'!$D214=\"\"),\"\",'V - P'!V214)","v":""},{"$f":"IF(AND('V - P'!$C214=\"\",'V - P'!$D214=\"\"),\"\",'V - P'!B214)","v":""},{"$f":"IF('V - P'!C214=\"\",\"\",'V - P'!C214)","v":""},{"$f":"IF('V - P'!D214=\"\",\"\",'V - P'!D214)","v":""},{"$f":"IF('V - P'!H214=\"\",\"\",'V - P'!H214)","v":""},{"$f":"IF('V - P'!M214=\"\",\"\",'V - P'!M214)","v":""},null,{"$f":"IF('V - P'!O214=\"\",\"\",'V - P'!O214)","v":""}]
[null,{"$f":"IF(AND('V - P'!$C215=\"\",'V - P'!$D215=\"\"),\"\",'V - P'!V215)","v":""},{"$f":"IF(AND('V - P'!$C215=\"\",'V - P'!$D215=\"\"),\"\",'V - P'!B215)","v":""},{"$f":"IF('V - P'!C215=\"\",\"\",'V - P'!C215)","v":""},{"$f":"IF('V - P'!D215=\"\",\"\",'V - P'!D215)","v":""},{"$f":"IF('V - P'!H215=\"\",\"\",'V - P'!H215)","v":""},{"$f":"IF('V - P'!M215=\"\",\"\",'V - P'!M215)","v":""},null,{"$f":"IF('V - P'!O215=\"\",\"\",'V - P'!O215)","v":""}]
[null,{"$f":"IF(AND('V - P'!$C216=\"\",'V - P'!$D216=\"\"),\"\",'V - P'!V216)","v":""},{"$f":"IF(AND('V - P'!$C216=\"\",'V - P'!$D216=\"\"),\"\",'V - P'!B216)","v":""},{"$f":"IF('V - P'!C216=\"\",\"\",'V - P'!C216)","v":""},{"$f":"IF('V - P'!D216=\"\",\"\",'V - P'!D216)","v":""},{"$f":"IF('V - P'!H216=\"\",\"\",'V - P'!H216)","v":""},{"$f":"IF('V - P'!M216=\"\",\"\",'V - P'!M216)","v":""},null,{"$f":"IF('V - P'!O216=\"\",\"\",'V - P'!O216)","v":""}]
[null,{"$f":"B$1","v":"Věž - Pořadí jednotlivců"}]
[]
[null,{"$f":"B$3","v":"VC ČR v požárním útoku družstev HZS krajů a HZS podniků"},null,null,{"$f":"E$3","v":"Petrovice 19.9.2019"}]
[]
[null,{"$f":"Start!$C$5","v":"MUŽI"}]
[null,"Pořadí","Start. číslo","Jméno","kolektiv","čas             I. pokusu","čas            II. pokusu",null,"Výsledný čas"]
[]
[null,{"$f":"IF(AND('V - P'!$C217=\"\",'V - P'!$D217=\"\"),\"\",'V - P'!V217)","v":""},{"$f":"IF(AND('V - P'!$C217=\"\",'V - P'!$D217=\"\"),\"\",'V - P'!B217)","v":""},{"$f":"IF('V - P'!C217=\"\",\"\",'V - P'!C217)","v":""},{"$f":"IF('V - P'!D217=\"\",\"\",'V - P'!D217)","v":""},{"$f":"IF('V - P'!H217=\"\",\"\",'V - P'!H217)","v":""},{"$f":"IF('V - P'!M217=\"\",\"\",'V - P'!M217)","v":""},null,{"$f":"IF('V - P'!O217=\"\",\"\",'V - P'!O217)","v":""}]
[null,{"$f":"IF(AND('V - P'!$C218=\"\",'V - P'!$D218=\"\"),\"\",'V - P'!V218)","v":""},{"$f":"IF(AND('V - P'!$C218=\"\",'V - P'!$D218=\"\"),\"\",'V - P'!B218)","v":""},{"$f":"IF('V - P'!C218=\"\",\"\",'V - P'!C218)","v":""},{"$f":"IF('V - P'!D218=\"\",\"\",'V - P'!D218)","v":""},{"$f":"IF('V - P'!H218=\"\",\"\",'V - P'!H218)","v":""},{"$f":"IF('V - P'!M218=\"\",\"\",'V - P'!M218)","v":""},null,{"$f":"IF('V - P'!O218=\"\",\"\",'V - P'!O218)","v":""}]
[null,{"$f":"IF(AND('V - P'!$C219=\"\",'V - P'!$D219=\"\"),\"\",'V - P'!V219)","v":""},{"$f":"IF(AND('V - P'!$C219=\"\",'V - P'!$D219=\"\"),\"\",'V - P'!B219)","v":""},{"$f":"IF('V - P'!C219=\"\",\"\",'V - P'!C219)","v":""},{"$f":"IF('V - P'!D219=\"\",\"\",'V - P'!D219)","v":""},{"$f":"IF('V - P'!H219=\"\",\"\",'V - P'!H219)","v":""},{"$f":"IF('V - P'!M219=\"\",\"\",'V - P'!M219)","v":""},null,{"$f":"IF('V - P'!O219=\"\",\"\",'V - P'!O219)","v":""}]
[null,{"$f":"IF(AND('V - P'!$C220=\"\",'V - P'!$D220=\"\"),\"\",'V - P'!V220)","v":""},{"$f":"IF(AND('V - P'!$C220=\"\",'V - P'!$D220=\"\"),\"\",'V - P'!B220)","v":""},{"$f":"IF('V - P'!C220=\"\",\"\",'V - P'!C220)","v":""},{"$f":"IF('V - P'!D220=\"\",\"\",'V - P'!D220)","v":""},{"$f":"IF('V - P'!H220=\"\",\"\",'V - P'!H220)","v":""},{"$f":"IF('V - P'!M220=\"\",\"\",'V - P'!M220)","v":""},null,{"$f":"IF('V - P'!O220=\"\",\"\",'V - P'!O220)","v":""}]
[null,{"$f":"IF(AND('V - P'!$C221=\"\",'V - P'!$D221=\"\"),\"\",'V - P'!V221)","v":""},{"$f":"IF(AND('V - P'!$C221=\"\",'V - P'!$D221=\"\"),\"\",'V - P'!B221)","v":""},{"$f":"IF('V - P'!C221=\"\",\"\",'V - P'!C221)","v":""},{"$f":"IF('V - P'!D221=\"\",\"\",'V - P'!D221)","v":""},{"$f":"IF('V - P'!H221=\"\",\"\",'V - P'!H221)","v":""},{"$f":"IF('V - P'!M221=\"\",\"\",'V - P'!M221)","v":""},null,{"$f":"IF('V - P'!O221=\"\",\"\",'V - P'!O221)","v":""}]
[null,{"$f":"IF(AND('V - P'!$C222=\"\",'V - P'!$D222=\"\"),\"\",'V - P'!V222)","v":""},{"$f":"IF(AND('V - P'!$C222=\"\",'V - P'!$D222=\"\"),\"\",'V - P'!B222)","v":""},{"$f":"IF('V - P'!C222=\"\",\"\",'V - P'!C222)","v":""},{"$f":"IF('V - P'!D222=\"\",\"\",'V - P'!D222)","v":""},{"$f":"IF('V - P'!H222=\"\",\"\",'V - P'!H222)","v":""},{"$f":"IF('V - P'!M222=\"\",\"\",'V - P'!M222)","v":""},null,{"$f":"IF('V - P'!O222=\"\",\"\",'V - P'!O222)","v":""}]
[null,{"$f":"IF(AND('V - P'!$C223=\"\",'V - P'!$D223=\"\"),\"\",'V - P'!V223)","v":""},{"$f":"IF(AND('V - P'!$C223=\"\",'V - P'!$D223=\"\"),\"\",'V - P'!B223)","v":""},{"$f":"IF('V - P'!C223=\"\",\"\",'V - P'!C223)","v":""},{"$f":"IF('V - P'!D223=\"\",\"\",'V - P'!D223)","v":""},{"$f":"IF('V - P'!H223=\"\",\"\",'V - P'!H223)","v":""},{"$f":"IF('V - P'!M223=\"\",\"\",'V - P'!M223)","v":""},null,{"$f":"IF('V - P'!O223=\"\",\"\",'V - P'!O223)","v":""}]
[null,{"$f":"IF(AND('V - P'!$C224=\"\",'V - P'!$D224=\"\"),\"\",'V - P'!V224)","v":""},{"$f":"IF(AND('V - P'!$C224=\"\",'V - P'!$D224=\"\"),\"\",'V - P'!B224)","v":""},{"$f":"IF('V - P'!C224=\"\",\"\",'V - P'!C224)","v":""},{"$f":"IF('V - P'!D224=\"\",\"\",'V - P'!D224)","v":""},{"$f":"IF('V - P'!H224=\"\",\"\",'V - P'!H224)","v":""},{"$f":"IF('V - P'!M224=\"\",\"\",'V - P'!M224)","v":""},null,{"$f":"IF('V - P'!O224=\"\",\"\",'V - P'!O224)","v":""}]
[null,{"$f":"IF(AND('V - P'!$C225=\"\",'V - P'!$D225=\"\"),\"\",'V - P'!V225)","v":""},{"$f":"IF(AND('V - P'!$C225=\"\",'V - P'!$D225=\"\"),\"\",'V - P'!B225)","v":""},{"$f":"IF('V - P'!C225=\"\",\"\",'V - P'!C225)","v":""},{"$f":"IF('V - P'!D225=\"\",\"\",'V - P'!D225)","v":""},{"$f":"IF('V - P'!H225=\"\",\"\",'V - P'!H225)","v":""},{"$f":"IF('V - P'!M225=\"\",\"\",'V - P'!M225)","v":""},null,{"$f":"IF('V - P'!O225=\"\",\"\",'V - P'!O225)","v":""}]
[null,{"$f":"IF(AND('V - P'!$C226=\"\",'V - P'!$D226=\"\"),\"\",'V - P'!V226)","v":""},{"$f":"IF(AND('V - P'!$C226=\"\",'V - P'!$D226=\"\"),\"\",'V - P'!B226)","v":""},{"$f":"IF('V - P'!C226=\"\",\"\",'V - P'!C226)","v":""},{"$f":"IF('V - P'!D226=\"\",\"\",'V - P'!D226)","v":""},{"$f":"IF('V - P'!H226=\"\",\"\",'V - P'!H226)","v":""},{"$f":"IF('V - P'!M226=\"\",\"\",'V - P'!M226)","v":""},null,{"$f":"IF('V - P'!O226=\"\",\"\",'V - P'!O226)","v":""}]
[null,{"$f":"IF(AND('V - P'!$C227=\"\",'V - P'!$D227=\"\"),\"\",'V - P'!V227)","v":""},{"$f":"IF(AND('V - P'!$C227=\"\",'V - P'!$D227=\"\"),\"\",'V - P'!B227)","v":""},{"$f":"IF('V - P'!C227=\"\",\"\",'V - P'!C227)","v":""},{"$f":"IF('V - P'!D227=\"\",\"\",'V - P'!D227)","v":""},{"$f":"IF('V - P'!H227=\"\",\"\",'V - P'!H227)","v":""},{"$f":"IF('V - P'!M227=\"\",\"\",'V - P'!M227)","v":""},null,{"$f":"IF('V - P'!O227=\"\",\"\",'V - P'!O227)","v":""}]
[null,{"$f":"IF(AND('V - P'!$C228=\"\",'V - P'!$D228=\"\"),\"\",'V - P'!V228)","v":""},{"$f":"IF(AND('V - P'!$C228=\"\",'V - P'!$D228=\"\"),\"\",'V - P'!B228)","v":""},{"$f":"IF('V - P'!C228=\"\",\"\",'V - P'!C228)","v":""},{"$f":"IF('V - P'!D228=\"\",\"\",'V - P'!D228)","v":""},{"$f":"IF('V - P'!H228=\"\",\"\",'V - P'!H228)","v":""},{"$f":"IF('V - P'!M228=\"\",\"\",'V - P'!M228)","v":""},null,{"$f":"IF('V - P'!O228=\"\",\"\",'V - P'!O228)","v":""}]
[null,{"$f":"IF(AND('V - P'!$C229=\"\",'V - P'!$D229=\"\"),\"\",'V - P'!V229)","v":""},{"$f":"IF(AND('V - P'!$C229=\"\",'V - P'!$D229=\"\"),\"\",'V - P'!B229)","v":""},{"$f":"IF('V - P'!C229=\"\",\"\",'V - P'!C229)","v":""},{"$f":"IF('V - P'!D229=\"\",\"\",'V - P'!D229)","v":""},{"$f":"IF('V - P'!H229=\"\",\"\",'V - P'!H229)","v":""},{"$f":"IF('V - P'!M229=\"\",\"\",'V - P'!M229)","v":""},null,{"$f":"IF('V - P'!O229=\"\",\"\",'V - P'!O229)","v":""}]
[null,{"$f":"IF(AND('V - P'!$C230=\"\",'V - P'!$D230=\"\"),\"\",'V - P'!V230)","v":""},{"$f":"IF(AND('V - P'!$C230=\"\",'V - P'!$D230=\"\"),\"\",'V - P'!B230)","v":""},{"$f":"IF('V - P'!C230=\"\",\"\",'V - P'!C230)","v":""},{"$f":"IF('V - P'!D230=\"\",\"\",'V - P'!D230)","v":""},{"$f":"IF('V - P'!H230=\"\",\"\",'V - P'!H230)","v":""},{"$f":"IF('V - P'!M230=\"\",\"\",'V - P'!M230)","v":""},null,{"$f":"IF('V - P'!O230=\"\",\"\",'V - P'!O230)","v":""}]
[null,{"$f":"IF(AND('V - P'!$C231=\"\",'V - P'!$D231=\"\"),\"\",'V - P'!V231)","v":""},{"$f":"IF(AND('V - P'!$C231=\"\",'V - P'!$D231=\"\"),\"\",'V - P'!B231)","v":""},{"$f":"IF('V - P'!C231=\"\",\"\",'V - P'!C231)","v":""},{"$f":"IF('V - P'!D231=\"\",\"\",'V - P'!D231)","v":""},{"$f":"IF('V - P'!H231=\"\",\"\",'V - P'!H231)","v":""},{"$f":"IF('V - P'!M231=\"\",\"\",'V - P'!M231)","v":""},null,{"$f":"IF('V - P'!O231=\"\",\"\",'V - P'!O231)","v":""}]
[null,{"$f":"IF(AND('V - P'!$C232=\"\",'V - P'!$D232=\"\"),\"\",'V - P'!V232)","v":""},{"$f":"IF(AND('V - P'!$C232=\"\",'V - P'!$D232=\"\"),\"\",'V - P'!B232)","v":""},{"$f":"IF('V - P'!C232=\"\",\"\",'V - P'!C232)","v":""},{"$f":"IF('V - P'!D232=\"\",\"\",'V - P'!D232)","v":""},{"$f":"IF('V - P'!H232=\"\",\"\",'V - P'!H232)","v":""},{"$f":"IF('V - P'!M232=\"\",\"\",'V - P'!M232)","v":""},null,{"$f":"IF('V - P'!O232=\"\",\"\",'V - P'!O232)","v":""}]
[null,{"$f":"IF(AND('V - P'!$C233=\"\",'V - P'!$D233=\"\"),\"\",'V - P'!V233)","v":""},{"$f":"IF(AND('V - P'!$C233=\"\",'V - P'!$D233=\"\"),\"\",'V - P'!B233)","v":""},{"$f":"IF('V - P'!C233=\"\",\"\",'V - P'!C233)","v":""},{"$f":"IF('V - P'!D233=\"\",\"\",'V - P'!D233)","v":""},{"$f":"IF('V - P'!H233=\"\",\"\",'V - P'!H233)","v":""},{"$f":"IF('V - P'!M233=\"\",\"\",'V - P'!M233)","v":""},null,{"$f":"IF('V - P'!O233=\"\",\"\",'V - P'!O233)","v":""}]
[null,{"$f":"IF(AND('V - P'!$C234=\"\",'V - P'!$D234=\"\"),\"\",'V - P'!V234)","v":""},{"$f":"IF(AND('V - P'!$C234=\"\",'V - P'!$D234=\"\"),\"\",'V - P'!B234)","v":""},{"$f":"IF('V - P'!C234=\"\",\"\",'V - P'!C234)","v":""},{"$f":"IF('V - P'!D234=\"\",\"\",'V - P'!D234)","v":""},{"$f":"IF('V - P'!H234=\"\",\"\",'V - P'!H234)","v":""},{"$f":"IF('V - P'!M234=\"\",\"\",'V - P'!M234)","v":""},null,{"$f":"IF('V - P'!O234=\"\",\"\",'V - P'!O234)","v":""}]
[null,{"$f":"IF(AND('V - P'!$C235=\"\",'V - P'!$D235=\"\"),\"\",'V - P'!V235)","v":""},{"$f":"IF(AND('V - P'!$C235=\"\",'V - P'!$D235=\"\"),\"\",'V - P'!B235)","v":""},{"$f":"IF('V - P'!C235=\"\",\"\",'V - P'!C235)","v":""},{"$f":"IF('V - P'!D235=\"\",\"\",'V - P'!D235)","v":""},{"$f":"IF('V - P'!H235=\"\",\"\",'V - P'!H235)","v":""},{"$f":"IF('V - P'!M235=\"\",\"\",'V - P'!M235)","v":""},null,{"$f":"IF('V - P'!O235=\"\",\"\",'V - P'!O235)","v":""}]
[null,{"$f":"IF(AND('V - P'!$C236=\"\",'V - P'!$D236=\"\"),\"\",'V - P'!V236)","v":""},{"$f":"IF(AND('V - P'!$C236=\"\",'V - P'!$D236=\"\"),\"\",'V - P'!B236)","v":""},{"$f":"IF('V - P'!C236=\"\",\"\",'V - P'!C236)","v":""},{"$f":"IF('V - P'!D236=\"\",\"\",'V - P'!D236)","v":""},{"$f":"IF('V - P'!H236=\"\",\"\",'V - P'!H236)","v":""},{"$f":"IF('V - P'!M236=\"\",\"\",'V - P'!M236)","v":""},null,{"$f":"IF('V - P'!O236=\"\",\"\",'V - P'!O236)","v":""}]
[null,{"$f":"IF(AND('V - P'!$C237=\"\",'V - P'!$D237=\"\"),\"\",'V - P'!V237)","v":""},{"$f":"IF(AND('V - P'!$C237=\"\",'V - P'!$D237=\"\"),\"\",'V - P'!B237)","v":""},{"$f":"IF('V - P'!C237=\"\",\"\",'V - P'!C237)","v":""},{"$f":"IF('V - P'!D237=\"\",\"\",'V - P'!D237)","v":""},{"$f":"IF('V - P'!H237=\"\",\"\",'V - P'!H237)","v":""},{"$f":"IF('V - P'!M237=\"\",\"\",'V - P'!M237)","v":""},null,{"$f":"IF('V - P'!O237=\"\",\"\",'V - P'!O237)","v":""}]
[null,{"$f":"IF(AND('V - P'!$C238=\"\",'V - P'!$D238=\"\"),\"\",'V - P'!V238)","v":""},{"$f":"IF(AND('V - P'!$C238=\"\",'V - P'!$D238=\"\"),\"\",'V - P'!B238)","v":""},{"$f":"IF('V - P'!C238=\"\",\"\",'V - P'!C238)","v":""},{"$f":"IF('V - P'!D238=\"\",\"\",'V - P'!D238)","v":""},{"$f":"IF('V - P'!H238=\"\",\"\",'V - P'!H238)","v":""},{"$f":"IF('V - P'!M238=\"\",\"\",'V - P'!M238)","v":""},null,{"$f":"IF('V - P'!O238=\"\",\"\",'V - P'!O238)","v":""}]
[null,{"$f":"IF(AND('V - P'!$C239=\"\",'V - P'!$D239=\"\"),\"\",'V - P'!V239)","v":""},{"$f":"IF(AND('V - P'!$C239=\"\",'V - P'!$D239=\"\"),\"\",'V - P'!B239)","v":""},{"$f":"IF('V - P'!C239=\"\",\"\",'V - P'!C239)","v":""},{"$f":"IF('V - P'!D239=\"\",\"\",'V - P'!D239)","v":""},{"$f":"IF('V - P'!H239=\"\",\"\",'V - P'!H239)","v":""},{"$f":"IF('V - P'!M239=\"\",\"\",'V - P'!M239)","v":""},null,{"$f":"IF('V - P'!O239=\"\",\"\",'V - P'!O239)","v":""}]
[null,{"$f":"IF(AND('V - P'!$C240=\"\",'V - P'!$D240=\"\"),\"\",'V - P'!V240)","v":""},{"$f":"IF(AND('V - P'!$C240=\"\",'V - P'!$D240=\"\"),\"\",'V - P'!B240)","v":""},{"$f":"IF('V - P'!C240=\"\",\"\",'V - P'!C240)","v":""},{"$f":"IF('V - P'!D240=\"\",\"\",'V - P'!D240)","v":""},{"$f":"IF('V - P'!H240=\"\",\"\",'V - P'!H240)","v":""},{"$f":"IF('V - P'!M240=\"\",\"\",'V - P'!M240)","v":""},null,{"$f":"IF('V - P'!O240=\"\",\"\",'V - P'!O240)","v":""}]
[null,{"$f":"IF(AND('V - P'!$C241=\"\",'V - P'!$D241=\"\"),\"\",'V - P'!V241)","v":""},{"$f":"IF(AND('V - P'!$C241=\"\",'V - P'!$D241=\"\"),\"\",'V - P'!B241)","v":""},{"$f":"IF('V - P'!C241=\"\",\"\",'V - P'!C241)","v":""},{"$f":"IF('V - P'!D241=\"\",\"\",'V - P'!D241)","v":""},{"$f":"IF('V - P'!H241=\"\",\"\",'V - P'!H241)","v":""},{"$f":"IF('V - P'!M241=\"\",\"\",'V - P'!M241)","v":""},null,{"$f":"IF('V - P'!O241=\"\",\"\",'V - P'!O241)","v":""}]
[null,{"$f":"IF(AND('V - P'!$C242=\"\",'V - P'!$D242=\"\"),\"\",'V - P'!V242)","v":""},{"$f":"IF(AND('V - P'!$C242=\"\",'V - P'!$D242=\"\"),\"\",'V - P'!B242)","v":""},{"$f":"IF('V - P'!C242=\"\",\"\",'V - P'!C242)","v":""},{"$f":"IF('V - P'!D242=\"\",\"\",'V - P'!D242)","v":""},{"$f":"IF('V - P'!H242=\"\",\"\",'V - P'!H242)","v":""},{"$f":"IF('V - P'!M242=\"\",\"\",'V - P'!M242)","v":""},null,{"$f":"IF('V - P'!O242=\"\",\"\",'V - P'!O242)","v":""}]
[null,{"$f":"IF(AND('V - P'!$C243=\"\",'V - P'!$D243=\"\"),\"\",'V - P'!V243)","v":""},{"$f":"IF(AND('V - P'!$C243=\"\",'V - P'!$D243=\"\"),\"\",'V - P'!B243)","v":""},{"$f":"IF('V - P'!C243=\"\",\"\",'V - P'!C243)","v":""},{"$f":"IF('V - P'!D243=\"\",\"\",'V - P'!D243)","v":""},{"$f":"IF('V - P'!H243=\"\",\"\",'V - P'!H243)","v":""},{"$f":"IF('V - P'!M243=\"\",\"\",'V - P'!M243)","v":""},null,{"$f":"IF('V - P'!O243=\"\",\"\",'V - P'!O243)","v":""}]
[null,{"$f":"IF(AND('V - P'!$C244=\"\",'V - P'!$D244=\"\"),\"\",'V - P'!V244)","v":""},{"$f":"IF(AND('V - P'!$C244=\"\",'V - P'!$D244=\"\"),\"\",'V - P'!B244)","v":""},{"$f":"IF('V - P'!C244=\"\",\"\",'V - P'!C244)","v":""},{"$f":"IF('V - P'!D244=\"\",\"\",'V - P'!D244)","v":""},{"$f":"IF('V - P'!H244=\"\",\"\",'V - P'!H244)","v":""},{"$f":"IF('V - P'!M244=\"\",\"\",'V - P'!M244)","v":""},null,{"$f":"IF('V - P'!O244=\"\",\"\",'V - P'!O244)","v":""}]
[null,{"$f":"IF(AND('V - P'!$C245=\"\",'V - P'!$D245=\"\"),\"\",'V - P'!V245)","v":""},{"$f":"IF(AND('V - P'!$C245=\"\",'V - P'!$D245=\"\"),\"\",'V - P'!B245)","v":""},{"$f":"IF('V - P'!C245=\"\",\"\",'V - P'!C245)","v":""},{"$f":"IF('V - P'!D245=\"\",\"\",'V - P'!D245)","v":""},{"$f":"IF('V - P'!H245=\"\",\"\",'V - P'!H245)","v":""},{"$f":"IF('V - P'!M245=\"\",\"\",'V - P'!M245)","v":""},null,{"$f":"IF('V - P'!O245=\"\",\"\",'V - P'!O245)","v":""}]
[null,{"$f":"IF(AND('V - P'!$C246=\"\",'V - P'!$D246=\"\"),\"\",'V - P'!V246)","v":""},{"$f":"IF(AND('V - P'!$C246=\"\",'V - P'!$D246=\"\"),\"\",'V - P'!B246)","v":""},{"$f":"IF('V - P'!C246=\"\",\"\",'V - P'!C246)","v":""},{"$f":"IF('V - P'!D246=\"\",\"\",'V - P'!D246)","v":""},{"$f":"IF('V - P'!H246=\"\",\"\",'V - P'!H246)","v":""},{"$f":"IF('V - P'!M246=\"\",\"\",'V - P'!M246)","v":""},null,{"$f":"IF('V - P'!O246=\"\",\"\",'V - P'!O246)","v":""}]
[null,{"$f":"IF(AND('V - P'!$C247=\"\",'V - P'!$D247=\"\"),\"\",'V - P'!V247)","v":""},{"$f":"IF(AND('V - P'!$C247=\"\",'V - P'!$D247=\"\"),\"\",'V - P'!B247)","v":""},{"$f":"IF('V - P'!C247=\"\",\"\",'V - P'!C247)","v":""},{"$f":"IF('V - P'!D247=\"\",\"\",'V - P'!D247)","v":""},{"$f":"IF('V - P'!H247=\"\",\"\",'V - P'!H247)","v":""},{"$f":"IF('V - P'!M247=\"\",\"\",'V - P'!M247)","v":""},null,{"$f":"IF('V - P'!O247=\"\",\"\",'V - P'!O247)","v":""}]
[null,{"$f":"IF(AND('V - P'!$C248=\"\",'V - P'!$D248=\"\"),\"\",'V - P'!V248)","v":""},{"$f":"IF(AND('V - P'!$C248=\"\",'V - P'!$D248=\"\"),\"\",'V - P'!B248)","v":""},{"$f":"IF('V - P'!C248=\"\",\"\",'V - P'!C248)","v":""},{"$f":"IF('V - P'!D248=\"\",\"\",'V - P'!D248)","v":""},{"$f":"IF('V - P'!H248=\"\",\"\",'V - P'!H248)","v":""},{"$f":"IF('V - P'!M248=\"\",\"\",'V - P'!M248)","v":""},null,{"$f":"IF('V - P'!O248=\"\",\"\",'V - P'!O248)","v":""}]
[null,{"$f":"IF(AND('V - P'!$C249=\"\",'V - P'!$D249=\"\"),\"\",'V - P'!V249)","v":""},{"$f":"IF(AND('V - P'!$C249=\"\",'V - P'!$D249=\"\"),\"\",'V - P'!B249)","v":""},{"$f":"IF('V - P'!C249=\"\",\"\",'V - P'!C249)","v":""},{"$f":"IF('V - P'!D249=\"\",\"\",'V - P'!D249)","v":""},{"$f":"IF('V - P'!H249=\"\",\"\",'V - P'!H249)","v":""},{"$f":"IF('V - P'!M249=\"\",\"\",'V - P'!M249)","v":""},null,{"$f":"IF('V - P'!O249=\"\",\"\",'V - P'!O249)","v":""}]
[null,{"$f":"IF(AND('V - P'!$C250=\"\",'V - P'!$D250=\"\"),\"\",'V - P'!V250)","v":""},{"$f":"IF(AND('V - P'!$C250=\"\",'V - P'!$D250=\"\"),\"\",'V - P'!B250)","v":""},{"$f":"IF('V - P'!C250=\"\",\"\",'V - P'!C250)","v":""},{"$f":"IF('V - P'!D250=\"\",\"\",'V - P'!D250)","v":""},{"$f":"IF('V - P'!H250=\"\",\"\",'V - P'!H250)","v":""},{"$f":"IF('V - P'!M250=\"\",\"\",'V - P'!M250)","v":""},null,{"$f":"IF('V - P'!O250=\"\",\"\",'V - P'!O250)","v":""}]
[null,{"$f":"IF(AND('V - P'!$C251=\"\",'V - P'!$D251=\"\"),\"\",'V - P'!V251)","v":""},{"$f":"IF(AND('V - P'!$C251=\"\",'V - P'!$D251=\"\"),\"\",'V - P'!B251)","v":""},{"$f":"IF('V - P'!C251=\"\",\"\",'V - P'!C251)","v":""},{"$f":"IF('V - P'!D251=\"\",\"\",'V - P'!D251)","v":""},{"$f":"IF('V - P'!H251=\"\",\"\",'V - P'!H251)","v":""},{"$f":"IF('V - P'!M251=\"\",\"\",'V - P'!M251)","v":""},null,{"$f":"IF('V - P'!O251=\"\",\"\",'V - P'!O251)","v":""}]
[null,{"$f":"IF(AND('V - P'!$C252=\"\",'V - P'!$D252=\"\"),\"\",'V - P'!V252)","v":""},{"$f":"IF(AND('V - P'!$C252=\"\",'V - P'!$D252=\"\"),\"\",'V - P'!B252)","v":""},{"$f":"IF('V - P'!C252=\"\",\"\",'V - P'!C252)","v":""},{"$f":"IF('V - P'!D252=\"\",\"\",'V - P'!D252)","v":""},{"$f":"IF('V - P'!H252=\"\",\"\",'V - P'!H252)","v":""},{"$f":"IF('V - P'!M252=\"\",\"\",'V - P'!M252)","v":""},null,{"$f":"IF('V - P'!O252=\"\",\"\",'V - P'!O252)","v":""}]
[null,{"$f":"B$1","v":"Věž - Pořadí jednotlivců"}]
[]
[null,{"$f":"B$3","v":"VC ČR v požárním útoku družstev HZS krajů a HZS podniků"},null,null,{"$f":"E$3","v":"Petrovice 19.9.2019"}]
[]
[null,{"$f":"Start!$C$5","v":"MUŽI"}]
[null,"Pořadí","Start. číslo","Jméno","kolektiv","čas             I. pokusu","čas            II. pokusu",null,"Výsledný čas"]
[]
[null,{"$f":"IF(AND('V - P'!$C253=\"\",'V - P'!$D253=\"\"),\"\",'V - P'!V253)","v":""},{"$f":"IF(AND('V - P'!$C253=\"\",'V - P'!$D253=\"\"),\"\",'V - P'!B253)","v":""},{"$f":"IF('V - P'!C253=\"\",\"\",'V - P'!C253)","v":""},{"$f":"IF('V - P'!D253=\"\",\"\",'V - P'!D253)","v":""},{"$f":"IF('V - P'!H253=\"\",\"\",'V - P'!H253)","v":""},{"$f":"IF('V - P'!M253=\"\",\"\",'V - P'!M253)","v":""},null,{"$f":"IF('V - P'!O253=\"\",\"\",'V - P'!O253)","v":""}]
[null,{"$f":"IF(AND('V - P'!$C254=\"\",'V - P'!$D254=\"\"),\"\",'V - P'!V254)","v":""},{"$f":"IF(AND('V - P'!$C254=\"\",'V - P'!$D254=\"\"),\"\",'V - P'!B254)","v":""},{"$f":"IF('V - P'!C254=\"\",\"\",'V - P'!C254)","v":""},{"$f":"IF('V - P'!D254=\"\",\"\",'V - P'!D254)","v":""},{"$f":"IF('V - P'!H254=\"\",\"\",'V - P'!H254)","v":""},{"$f":"IF('V - P'!M254=\"\",\"\",'V - P'!M254)","v":""},null,{"$f":"IF('V - P'!O254=\"\",\"\",'V - P'!O254)","v":""}]
[null,{"$f":"IF(AND('V - P'!$C255=\"\",'V - P'!$D255=\"\"),\"\",'V - P'!V255)","v":""},{"$f":"IF(AND('V - P'!$C255=\"\",'V - P'!$D255=\"\"),\"\",'V - P'!B255)","v":""},{"$f":"IF('V - P'!C255=\"\",\"\",'V - P'!C255)","v":""},{"$f":"IF('V - P'!D255=\"\",\"\",'V - P'!D255)","v":""},{"$f":"IF('V - P'!H255=\"\",\"\",'V - P'!H255)","v":""},{"$f":"IF('V - P'!M255=\"\",\"\",'V - P'!M255)","v":""},null,{"$f":"IF('V - P'!O255=\"\",\"\",'V - P'!O255)","v":""}]
[null,{"$f":"IF(AND('V - P'!$C256=\"\",'V - P'!$D256=\"\"),\"\",'V - P'!V256)","v":""},{"$f":"IF(AND('V - P'!$C256=\"\",'V - P'!$D256=\"\"),\"\",'V - P'!B256)","v":""},{"$f":"IF('V - P'!C256=\"\",\"\",'V - P'!C256)","v":""},{"$f":"IF('V - P'!D256=\"\",\"\",'V - P'!D256)","v":""},{"$f":"IF('V - P'!H256=\"\",\"\",'V - P'!H256)","v":""},{"$f":"IF('V - P'!M256=\"\",\"\",'V - P'!M256)","v":""},null,{"$f":"IF('V - P'!O256=\"\",\"\",'V - P'!O256)","v":""}]
[null,{"$f":"IF(AND('V - P'!$C257=\"\",'V - P'!$D257=\"\"),\"\",'V - P'!V257)","v":""},{"$f":"IF(AND('V - P'!$C257=\"\",'V - P'!$D257=\"\"),\"\",'V - P'!B257)","v":""},{"$f":"IF('V - P'!C257=\"\",\"\",'V - P'!C257)","v":""},{"$f":"IF('V - P'!D257=\"\",\"\",'V - P'!D257)","v":""},{"$f":"IF('V - P'!H257=\"\",\"\",'V - P'!H257)","v":""},{"$f":"IF('V - P'!M257=\"\",\"\",'V - P'!M257)","v":""},null,{"$f":"IF('V - P'!O257=\"\",\"\",'V - P'!O257)","v":""}]
[null,{"$f":"IF(AND('V - P'!$C258=\"\",'V - P'!$D258=\"\"),\"\",'V - P'!V258)","v":""},{"$f":"IF(AND('V - P'!$C258=\"\",'V - P'!$D258=\"\"),\"\",'V - P'!B258)","v":""},{"$f":"IF('V - P'!C258=\"\",\"\",'V - P'!C258)","v":""},{"$f":"IF('V - P'!D258=\"\",\"\",'V - P'!D258)","v":""},{"$f":"IF('V - P'!H258=\"\",\"\",'V - P'!H258)","v":""},{"$f":"IF('V - P'!M258=\"\",\"\",'V - P'!M258)","v":""},null,{"$f":"IF('V - P'!O258=\"\",\"\",'V - P'!O258)","v":""}]
[null,{"$f":"IF(AND('V - P'!$C259=\"\",'V - P'!$D259=\"\"),\"\",'V - P'!V259)","v":""},{"$f":"IF(AND('V - P'!$C259=\"\",'V - P'!$D259=\"\"),\"\",'V - P'!B259)","v":""},{"$f":"IF('V - P'!C259=\"\",\"\",'V - P'!C259)","v":""},{"$f":"IF('V - P'!D259=\"\",\"\",'V - P'!D259)","v":""},{"$f":"IF('V - P'!H259=\"\",\"\",'V - P'!H259)","v":""},{"$f":"IF('V - P'!M259=\"\",\"\",'V - P'!M259)","v":""},null,{"$f":"IF('V - P'!O259=\"\",\"\",'V - P'!O259)","v":""}]
[null,{"$f":"IF(AND('V - P'!$C260=\"\",'V - P'!$D260=\"\"),\"\",'V - P'!V260)","v":""},{"$f":"IF(AND('V - P'!$C260=\"\",'V - P'!$D260=\"\"),\"\",'V - P'!B260)","v":""},{"$f":"IF('V - P'!C260=\"\",\"\",'V - P'!C260)","v":""},{"$f":"IF('V - P'!D260=\"\",\"\",'V - P'!D260)","v":""},{"$f":"IF('V - P'!H260=\"\",\"\",'V - P'!H260)","v":""},{"$f":"IF('V - P'!M260=\"\",\"\",'V - P'!M260)","v":""},null,{"$f":"IF('V - P'!O260=\"\",\"\",'V - P'!O260)","v":""}]
[null,{"$f":"IF(AND('V - P'!$C261=\"\",'V - P'!$D261=\"\"),\"\",'V - P'!V261)","v":""},{"$f":"IF(AND('V - P'!$C261=\"\",'V - P'!$D261=\"\"),\"\",'V - P'!B261)","v":""},{"$f":"IF('V - P'!C261=\"\",\"\",'V - P'!C261)","v":""},{"$f":"IF('V - P'!D261=\"\",\"\",'V - P'!D261)","v":""},{"$f":"IF('V - P'!H261=\"\",\"\",'V - P'!H261)","v":""},{"$f":"IF('V - P'!M261=\"\",\"\",'V - P'!M261)","v":""},null,{"$f":"IF('V - P'!O261=\"\",\"\",'V - P'!O261)","v":""}]
[null,{"$f":"IF(AND('V - P'!$C262=\"\",'V - P'!$D262=\"\"),\"\",'V - P'!V262)","v":""},{"$f":"IF(AND('V - P'!$C262=\"\",'V - P'!$D262=\"\"),\"\",'V - P'!B262)","v":""},{"$f":"IF('V - P'!C262=\"\",\"\",'V - P'!C262)","v":""},{"$f":"IF('V - P'!D262=\"\",\"\",'V - P'!D262)","v":""},{"$f":"IF('V - P'!H262=\"\",\"\",'V - P'!H262)","v":""},{"$f":"IF('V - P'!M262=\"\",\"\",'V - P'!M262)","v":""},null,{"$f":"IF('V - P'!O262=\"\",\"\",'V - P'!O262)","v":""}]
[null,{"$f":"IF(AND('V - P'!$C263=\"\",'V - P'!$D263=\"\"),\"\",'V - P'!V263)","v":""},{"$f":"IF(AND('V - P'!$C263=\"\",'V - P'!$D263=\"\"),\"\",'V - P'!B263)","v":""},{"$f":"IF('V - P'!C263=\"\",\"\",'V - P'!C263)","v":""},{"$f":"IF('V - P'!D263=\"\",\"\",'V - P'!D263)","v":""},{"$f":"IF('V - P'!H263=\"\",\"\",'V - P'!H263)","v":""},{"$f":"IF('V - P'!M263=\"\",\"\",'V - P'!M263)","v":""},null,{"$f":"IF('V - P'!O263=\"\",\"\",'V - P'!O263)","v":""}]
[null,{"$f":"IF(AND('V - P'!$C264=\"\",'V - P'!$D264=\"\"),\"\",'V - P'!V264)","v":""},{"$f":"IF(AND('V - P'!$C264=\"\",'V - P'!$D264=\"\"),\"\",'V - P'!B264)","v":""},{"$f":"IF('V - P'!C264=\"\",\"\",'V - P'!C264)","v":""},{"$f":"IF('V - P'!D264=\"\",\"\",'V - P'!D264)","v":""},{"$f":"IF('V - P'!H264=\"\",\"\",'V - P'!H264)","v":""},{"$f":"IF('V - P'!M264=\"\",\"\",'V - P'!M264)","v":""},null,{"$f":"IF('V - P'!O264=\"\",\"\",'V - P'!O264)","v":""}]
[null,{"$f":"IF(AND('V - P'!$C265=\"\",'V - P'!$D265=\"\"),\"\",'V - P'!V265)","v":""},{"$f":"IF(AND('V - P'!$C265=\"\",'V - P'!$D265=\"\"),\"\",'V - P'!B265)","v":""},{"$f":"IF('V - P'!C265=\"\",\"\",'V - P'!C265)","v":""},{"$f":"IF('V - P'!D265=\"\",\"\",'V - P'!D265)","v":""},{"$f":"IF('V - P'!H265=\"\",\"\",'V - P'!H265)","v":""},{"$f":"IF('V - P'!M265=\"\",\"\",'V - P'!M265)","v":""},null,{"$f":"IF('V - P'!O265=\"\",\"\",'V - P'!O265)","v":""}]
[null,{"$f":"IF(AND('V - P'!$C266=\"\",'V - P'!$D266=\"\"),\"\",'V - P'!V266)","v":""},{"$f":"IF(AND('V - P'!$C266=\"\",'V - P'!$D266=\"\"),\"\",'V - P'!B266)","v":""},{"$f":"IF('V - P'!C266=\"\",\"\",'V - P'!C266)","v":""},{"$f":"IF('V - P'!D266=\"\",\"\",'V - P'!D266)","v":""},{"$f":"IF('V - P'!H266=\"\",\"\",'V - P'!H266)","v":""},{"$f":"IF('V - P'!M266=\"\",\"\",'V - P'!M266)","v":""},null,{"$f":"IF('V - P'!O266=\"\",\"\",'V - P'!O266)","v":""}]
[null,{"$f":"IF(AND('V - P'!$C267=\"\",'V - P'!$D267=\"\"),\"\",'V - P'!V267)","v":""},{"$f":"IF(AND('V - P'!$C267=\"\",'V - P'!$D267=\"\"),\"\",'V - P'!B267)","v":""},{"$f":"IF('V - P'!C267=\"\",\"\",'V - P'!C267)","v":""},{"$f":"IF('V - P'!D267=\"\",\"\",'V - P'!D267)","v":""},{"$f":"IF('V - P'!H267=\"\",\"\",'V - P'!H267)","v":""},{"$f":"IF('V - P'!M267=\"\",\"\",'V - P'!M267)","v":""},null,{"$f":"IF('V - P'!O267=\"\",\"\",'V - P'!O267)","v":""}]
[null,{"$f":"IF(AND('V - P'!$C268=\"\",'V - P'!$D268=\"\"),\"\",'V - P'!V268)","v":""},{"$f":"IF(AND('V - P'!$C268=\"\",'V - P'!$D268=\"\"),\"\",'V - P'!B268)","v":""},{"$f":"IF('V - P'!C268=\"\",\"\",'V - P'!C268)","v":""},{"$f":"IF('V - P'!D268=\"\",\"\",'V - P'!D268)","v":""},{"$f":"IF('V - P'!H268=\"\",\"\",'V - P'!H268)","v":""},{"$f":"IF('V - P'!M268=\"\",\"\",'V - P'!M268)","v":""},null,{"$f":"IF('V - P'!O268=\"\",\"\",'V - P'!O268)","v":""}]
[null,{"$f":"IF(AND('V - P'!$C269=\"\",'V - P'!$D269=\"\"),\"\",'V - P'!V269)","v":""},{"$f":"IF(AND('V - P'!$C269=\"\",'V - P'!$D269=\"\"),\"\",'V - P'!B269)","v":""},{"$f":"IF('V - P'!C269=\"\",\"\",'V - P'!C269)","v":""},{"$f":"IF('V - P'!D269=\"\",\"\",'V - P'!D269)","v":""},{"$f":"IF('V - P'!H269=\"\",\"\",'V - P'!H269)","v":""},{"$f":"IF('V - P'!M269=\"\",\"\",'V - P'!M269)","v":""},null,{"$f":"IF('V - P'!O269=\"\",\"\",'V - P'!O269)","v":""}]
[null,{"$f":"IF(AND('V - P'!$C270=\"\",'V - P'!$D270=\"\"),\"\",'V - P'!V270)","v":""},{"$f":"IF(AND('V - P'!$C270=\"\",'V - P'!$D270=\"\"),\"\",'V - P'!B270)","v":""},{"$f":"IF('V - P'!C270=\"\",\"\",'V - P'!C270)","v":""},{"$f":"IF('V - P'!D270=\"\",\"\",'V - P'!D270)","v":""},{"$f":"IF('V - P'!H270=\"\",\"\",'V - P'!H270)","v":""},{"$f":"IF('V - P'!M270=\"\",\"\",'V - P'!M270)","v":""},null,{"$f":"IF('V - P'!O270=\"\",\"\",'V - P'!O270)","v":""}]
[null,{"$f":"IF(AND('V - P'!$C271=\"\",'V - P'!$D271=\"\"),\"\",'V - P'!V271)","v":""},{"$f":"IF(AND('V - P'!$C271=\"\",'V - P'!$D271=\"\"),\"\",'V - P'!B271)","v":""},{"$f":"IF('V - P'!C271=\"\",\"\",'V - P'!C271)","v":""},{"$f":"IF('V - P'!D271=\"\",\"\",'V - P'!D271)","v":""},{"$f":"IF('V - P'!H271=\"\",\"\",'V - P'!H271)","v":""},{"$f":"IF('V - P'!M271=\"\",\"\",'V - P'!M271)","v":""},null,{"$f":"IF('V - P'!O271=\"\",\"\",'V - P'!O271)","v":""}]
[null,{"$f":"IF(AND('V - P'!$C272=\"\",'V - P'!$D272=\"\"),\"\",'V - P'!V272)","v":""},{"$f":"IF(AND('V - P'!$C272=\"\",'V - P'!$D272=\"\"),\"\",'V - P'!B272)","v":""},{"$f":"IF('V - P'!C272=\"\",\"\",'V - P'!C272)","v":""},{"$f":"IF('V - P'!D272=\"\",\"\",'V - P'!D272)","v":""},{"$f":"IF('V - P'!H272=\"\",\"\",'V - P'!H272)","v":""},{"$f":"IF('V - P'!M272=\"\",\"\",'V - P'!M272)","v":""},null,{"$f":"IF('V - P'!O272=\"\",\"\",'V - P'!O272)","v":""}]
[null,{"$f":"IF(AND('V - P'!$C273=\"\",'V - P'!$D273=\"\"),\"\",'V - P'!V273)","v":""},{"$f":"IF(AND('V - P'!$C273=\"\",'V - P'!$D273=\"\"),\"\",'V - P'!B273)","v":""},{"$f":"IF('V - P'!C273=\"\",\"\",'V - P'!C273)","v":""},{"$f":"IF('V - P'!D273=\"\",\"\",'V - P'!D273)","v":""},{"$f":"IF('V - P'!H273=\"\",\"\",'V - P'!H273)","v":""},{"$f":"IF('V - P'!M273=\"\",\"\",'V - P'!M273)","v":""},null,{"$f":"IF('V - P'!O273=\"\",\"\",'V - P'!O273)","v":""}]
[null,{"$f":"IF(AND('V - P'!$C274=\"\",'V - P'!$D274=\"\"),\"\",'V - P'!V274)","v":""},{"$f":"IF(AND('V - P'!$C274=\"\",'V - P'!$D274=\"\"),\"\",'V - P'!B274)","v":""},{"$f":"IF('V - P'!C274=\"\",\"\",'V - P'!C274)","v":""},{"$f":"IF('V - P'!D274=\"\",\"\",'V - P'!D274)","v":""},{"$f":"IF('V - P'!H274=\"\",\"\",'V - P'!H274)","v":""},{"$f":"IF('V - P'!M274=\"\",\"\",'V - P'!M274)","v":""},null,{"$f":"IF('V - P'!O274=\"\",\"\",'V - P'!O274)","v":""}]
[null,{"$f":"IF(AND('V - P'!$C275=\"\",'V - P'!$D275=\"\"),\"\",'V - P'!V275)","v":""},{"$f":"IF(AND('V - P'!$C275=\"\",'V - P'!$D275=\"\"),\"\",'V - P'!B275)","v":""},{"$f":"IF('V - P'!C275=\"\",\"\",'V - P'!C275)","v":""},{"$f":"IF('V - P'!D275=\"\",\"\",'V - P'!D275)","v":""},{"$f":"IF('V - P'!H275=\"\",\"\",'V - P'!H275)","v":""},{"$f":"IF('V - P'!M275=\"\",\"\",'V - P'!M275)","v":""},null,{"$f":"IF('V - P'!O275=\"\",\"\",'V - P'!O275)","v":""}]
[null,{"$f":"IF(AND('V - P'!$C276=\"\",'V - P'!$D276=\"\"),\"\",'V - P'!V276)","v":""},{"$f":"IF(AND('V - P'!$C276=\"\",'V - P'!$D276=\"\"),\"\",'V - P'!B276)","v":""},{"$f":"IF('V - P'!C276=\"\",\"\",'V - P'!C276)","v":""},{"$f":"IF('V - P'!D276=\"\",\"\",'V - P'!D276)","v":""},{"$f":"IF('V - P'!H276=\"\",\"\",'V - P'!H276)","v":""},{"$f":"IF('V - P'!M276=\"\",\"\",'V - P'!M276)","v":""},null,{"$f":"IF('V - P'!O276=\"\",\"\",'V - P'!O276)","v":""}]
[null,{"$f":"IF(AND('V - P'!$C277=\"\",'V - P'!$D277=\"\"),\"\",'V - P'!V277)","v":""},{"$f":"IF(AND('V - P'!$C277=\"\",'V - P'!$D277=\"\"),\"\",'V - P'!B277)","v":""},{"$f":"IF('V - P'!C277=\"\",\"\",'V - P'!C277)","v":""},{"$f":"IF('V - P'!D277=\"\",\"\",'V - P'!D277)","v":""},{"$f":"IF('V - P'!H277=\"\",\"\",'V - P'!H277)","v":""},{"$f":"IF('V - P'!M277=\"\",\"\",'V - P'!M277)","v":""},null,{"$f":"IF('V - P'!O277=\"\",\"\",'V - P'!O277)","v":""}]
[null,{"$f":"IF(AND('V - P'!$C278=\"\",'V - P'!$D278=\"\"),\"\",'V - P'!V278)","v":""},{"$f":"IF(AND('V - P'!$C278=\"\",'V - P'!$D278=\"\"),\"\",'V - P'!B278)","v":""},{"$f":"IF('V - P'!C278=\"\",\"\",'V - P'!C278)","v":""},{"$f":"IF('V - P'!D278=\"\",\"\",'V - P'!D278)","v":""},{"$f":"IF('V - P'!H278=\"\",\"\",'V - P'!H278)","v":""},{"$f":"IF('V - P'!M278=\"\",\"\",'V - P'!M278)","v":""},null,{"$f":"IF('V - P'!O278=\"\",\"\",'V - P'!O278)","v":""}]
[null,{"$f":"IF(AND('V - P'!$C279=\"\",'V - P'!$D279=\"\"),\"\",'V - P'!V279)","v":""},{"$f":"IF(AND('V - P'!$C279=\"\",'V - P'!$D279=\"\"),\"\",'V - P'!B279)","v":""},{"$f":"IF('V - P'!C279=\"\",\"\",'V - P'!C279)","v":""},{"$f":"IF('V - P'!D279=\"\",\"\",'V - P'!D279)","v":""},{"$f":"IF('V - P'!H279=\"\",\"\",'V - P'!H279)","v":""},{"$f":"IF('V - P'!M279=\"\",\"\",'V - P'!M279)","v":""},null,{"$f":"IF('V - P'!O279=\"\",\"\",'V - P'!O279)","v":""}]
[null,{"$f":"IF(AND('V - P'!$C280=\"\",'V - P'!$D280=\"\"),\"\",'V - P'!V280)","v":""},{"$f":"IF(AND('V - P'!$C280=\"\",'V - P'!$D280=\"\"),\"\",'V - P'!B280)","v":""},{"$f":"IF('V - P'!C280=\"\",\"\",'V - P'!C280)","v":""},{"$f":"IF('V - P'!D280=\"\",\"\",'V - P'!D280)","v":""},{"$f":"IF('V - P'!H280=\"\",\"\",'V - P'!H280)","v":""},{"$f":"IF('V - P'!M280=\"\",\"\",'V - P'!M280)","v":""},null,{"$f":"IF('V - P'!O280=\"\",\"\",'V - P'!O280)","v":""}]
[null,{"$f":"IF(AND('V - P'!$C281=\"\",'V - P'!$D281=\"\"),\"\",'V - P'!V281)","v":""},{"$f":"IF(AND('V - P'!$C281=\"\",'V - P'!$D281=\"\"),\"\",'V - P'!B281)","v":""},{"$f":"IF('V - P'!C281=\"\",\"\",'V - P'!C281)","v":""},{"$f":"IF('V - P'!D281=\"\",\"\",'V - P'!D281)","v":""},{"$f":"IF('V - P'!H281=\"\",\"\",'V - P'!H281)","v":""},{"$f":"IF('V - P'!M281=\"\",\"\",'V - P'!M281)","v":""},null,{"$f":"IF('V - P'!O281=\"\",\"\",'V - P'!O281)","v":""}]
[null,{"$f":"IF(AND('V - P'!$C282=\"\",'V - P'!$D282=\"\"),\"\",'V - P'!V282)","v":""},{"$f":"IF(AND('V - P'!$C282=\"\",'V - P'!$D282=\"\"),\"\",'V - P'!B282)","v":""},{"$f":"IF('V - P'!C282=\"\",\"\",'V - P'!C282)","v":""},{"$f":"IF('V - P'!D282=\"\",\"\",'V - P'!D282)","v":""},{"$f":"IF('V - P'!H282=\"\",\"\",'V - P'!H282)","v":""},{"$f":"IF('V - P'!M282=\"\",\"\",'V - P'!M282)","v":""},null,{"$f":"IF('V - P'!O282=\"\",\"\",'V - P'!O282)","v":""}]
[null,{"$f":"IF(AND('V - P'!$C283=\"\",'V - P'!$D283=\"\"),\"\",'V - P'!V283)","v":""},{"$f":"IF(AND('V - P'!$C283=\"\",'V - P'!$D283=\"\"),\"\",'V - P'!B283)","v":""},{"$f":"IF('V - P'!C283=\"\",\"\",'V - P'!C283)","v":""},{"$f":"IF('V - P'!D283=\"\",\"\",'V - P'!D283)","v":""},{"$f":"IF('V - P'!H283=\"\",\"\",'V - P'!H283)","v":""},{"$f":"IF('V - P'!M283=\"\",\"\",'V - P'!M283)","v":""},null,{"$f":"IF('V - P'!O283=\"\",\"\",'V - P'!O283)","v":""}]
[null,{"$f":"IF(AND('V - P'!$C284=\"\",'V - P'!$D284=\"\"),\"\",'V - P'!V284)","v":""},{"$f":"IF(AND('V - P'!$C284=\"\",'V - P'!$D284=\"\"),\"\",'V - P'!B284)","v":""},{"$f":"IF('V - P'!C284=\"\",\"\",'V - P'!C284)","v":""},{"$f":"IF('V - P'!D284=\"\",\"\",'V - P'!D284)","v":""},{"$f":"IF('V - P'!H284=\"\",\"\",'V - P'!H284)","v":""},{"$f":"IF('V - P'!M284=\"\",\"\",'V - P'!M284)","v":""},null,{"$f":"IF('V - P'!O284=\"\",\"\",'V - P'!O284)","v":""}]
[null,{"$f":"IF(AND('V - P'!$C285=\"\",'V - P'!$D285=\"\"),\"\",'V - P'!V285)","v":""},{"$f":"IF(AND('V - P'!$C285=\"\",'V - P'!$D285=\"\"),\"\",'V - P'!B285)","v":""},{"$f":"IF('V - P'!C285=\"\",\"\",'V - P'!C285)","v":""},{"$f":"IF('V - P'!D285=\"\",\"\",'V - P'!D285)","v":""},{"$f":"IF('V - P'!H285=\"\",\"\",'V - P'!H285)","v":""},{"$f":"IF('V - P'!M285=\"\",\"\",'V - P'!M285)","v":""},null,{"$f":"IF('V - P'!O285=\"\",\"\",'V - P'!O285)","v":""}]
[null,{"$f":"IF(AND('V - P'!$C286=\"\",'V - P'!$D286=\"\"),\"\",'V - P'!V286)","v":""},{"$f":"IF(AND('V - P'!$C286=\"\",'V - P'!$D286=\"\"),\"\",'V - P'!B286)","v":""},{"$f":"IF('V - P'!C286=\"\",\"\",'V - P'!C286)","v":""},{"$f":"IF('V - P'!D286=\"\",\"\",'V - P'!D286)","v":""},{"$f":"IF('V - P'!H286=\"\",\"\",'V - P'!H286)","v":""},{"$f":"IF('V - P'!M286=\"\",\"\",'V - P'!M286)","v":""},null,{"$f":"IF('V - P'!O286=\"\",\"\",'V - P'!O286)","v":""}]
[null,{"$f":"IF(AND('V - P'!$C287=\"\",'V - P'!$D287=\"\"),\"\",'V - P'!V287)","v":""},{"$f":"IF(AND('V - P'!$C287=\"\",'V - P'!$D287=\"\"),\"\",'V - P'!B287)","v":""},{"$f":"IF('V - P'!C287=\"\",\"\",'V - P'!C287)","v":""},{"$f":"IF('V - P'!D287=\"\",\"\",'V - P'!D287)","v":""},{"$f":"IF('V - P'!H287=\"\",\"\",'V - P'!H287)","v":""},{"$f":"IF('V - P'!M287=\"\",\"\",'V - P'!M287)","v":""},null,{"$f":"IF('V - P'!O287=\"\",\"\",'V - P'!O287)","v":""}]
[null,{"$f":"IF(AND('V - P'!$C288=\"\",'V - P'!$D288=\"\"),\"\",'V - P'!V288)","v":""},{"$f":"IF(AND('V - P'!$C288=\"\",'V - P'!$D288=\"\"),\"\",'V - P'!B288)","v":""},{"$f":"IF('V - P'!C288=\"\",\"\",'V - P'!C288)","v":""},{"$f":"IF('V - P'!D288=\"\",\"\",'V - P'!D288)","v":""},{"$f":"IF('V - P'!H288=\"\",\"\",'V - P'!H288)","v":""},{"$f":"IF('V - P'!M288=\"\",\"\",'V - P'!M288)","v":""},null,{"$f":"IF('V - P'!O288=\"\",\"\",'V - P'!O288)","v":""}]
[null,{"$f":"B$1","v":"Věž - Pořadí jednotlivců"}]
[]
[null,{"$f":"B$3","v":"VC ČR v požárním útoku družstev HZS krajů a HZS podniků"},null,null,{"$f":"E$3","v":"Petrovice 19.9.2019"}]
[]
[null,{"$f":"Start!$C$5","v":"MUŽI"}]
[null,"Pořadí","Start. číslo","Jméno","kolektiv","čas             I. pokusu","čas            II. pokusu",null,"Výsledný čas"]
[]
[null,{"$f":"IF(AND('V - P'!$C289=\"\",'V - P'!$D289=\"\"),\"\",'V - P'!V289)","v":""},{"$f":"IF(AND('V - P'!$C289=\"\",'V - P'!$D289=\"\"),\"\",'V - P'!B289)","v":""},{"$f":"IF('V - P'!C289=\"\",\"\",'V - P'!C289)","v":""},{"$f":"IF('V - P'!D289=\"\",\"\",'V - P'!D289)","v":""},{"$f":"IF('V - P'!H289=\"\",\"\",'V - P'!H289)","v":""},{"$f":"IF('V - P'!M289=\"\",\"\",'V - P'!M289)","v":""},null,{"$f":"IF('V - P'!O289=\"\",\"\",'V - P'!O289)","v":""}]
[null,{"$f":"IF(AND('V - P'!$C290=\"\",'V - P'!$D290=\"\"),\"\",'V - P'!V290)","v":""},{"$f":"IF(AND('V - P'!$C290=\"\",'V - P'!$D290=\"\"),\"\",'V - P'!B290)","v":""},{"$f":"IF('V - P'!C290=\"\",\"\",'V - P'!C290)","v":""},{"$f":"IF('V - P'!D290=\"\",\"\",'V - P'!D290)","v":""},{"$f":"IF('V - P'!H290=\"\",\"\",'V - P'!H290)","v":""},{"$f":"IF('V - P'!M290=\"\",\"\",'V - P'!M290)","v":""},null,{"$f":"IF('V - P'!O290=\"\",\"\",'V - P'!O290)","v":""}]
[null,{"$f":"IF(AND('V - P'!$C291=\"\",'V - P'!$D291=\"\"),\"\",'V - P'!V291)","v":""},{"$f":"IF(AND('V - P'!$C291=\"\",'V - P'!$D291=\"\"),\"\",'V - P'!B291)","v":""},{"$f":"IF('V - P'!C291=\"\",\"\",'V - P'!C291)","v":""},{"$f":"IF('V - P'!D291=\"\",\"\",'V - P'!D291)","v":""},{"$f":"IF('V - P'!H291=\"\",\"\",'V - P'!H291)","v":""},{"$f":"IF('V - P'!M291=\"\",\"\",'V - P'!M291)","v":""},null,{"$f":"IF('V - P'!O291=\"\",\"\",'V - P'!O291)","v":""}]
[null,{"$f":"IF(AND('V - P'!$C292=\"\",'V - P'!$D292=\"\"),\"\",'V - P'!V292)","v":""},{"$f":"IF(AND('V - P'!$C292=\"\",'V - P'!$D292=\"\"),\"\",'V - P'!B292)","v":""},{"$f":"IF('V - P'!C292=\"\",\"\",'V - P'!C292)","v":""},{"$f":"IF('V - P'!D292=\"\",\"\",'V - P'!D292)","v":""},{"$f":"IF('V - P'!H292=\"\",\"\",'V - P'!H292)","v":""},{"$f":"IF('V - P'!M292=\"\",\"\",'V - P'!M292)","v":""},null,{"$f":"IF('V - P'!O292=\"\",\"\",'V - P'!O292)","v":""}]
[null,{"$f":"IF(AND('V - P'!$C293=\"\",'V - P'!$D293=\"\"),\"\",'V - P'!V293)","v":""},{"$f":"IF(AND('V - P'!$C293=\"\",'V - P'!$D293=\"\"),\"\",'V - P'!B293)","v":""},{"$f":"IF('V - P'!C293=\"\",\"\",'V - P'!C293)","v":""},{"$f":"IF('V - P'!D293=\"\",\"\",'V - P'!D293)","v":""},{"$f":"IF('V - P'!H293=\"\",\"\",'V - P'!H293)","v":""},{"$f":"IF('V - P'!M293=\"\",\"\",'V - P'!M293)","v":""},null,{"$f":"IF('V - P'!O293=\"\",\"\",'V - P'!O293)","v":""}]
[null,{"$f":"IF(AND('V - P'!$C294=\"\",'V - P'!$D294=\"\"),\"\",'V - P'!V294)","v":""},{"$f":"IF(AND('V - P'!$C294=\"\",'V - P'!$D294=\"\"),\"\",'V - P'!B294)","v":""},{"$f":"IF('V - P'!C294=\"\",\"\",'V - P'!C294)","v":""},{"$f":"IF('V - P'!D294=\"\",\"\",'V - P'!D294)","v":""},{"$f":"IF('V - P'!H294=\"\",\"\",'V - P'!H294)","v":""},{"$f":"IF('V - P'!M294=\"\",\"\",'V - P'!M294)","v":""},null,{"$f":"IF('V - P'!O294=\"\",\"\",'V - P'!O294)","v":""}]
[null,{"$f":"IF(AND('V - P'!$C295=\"\",'V - P'!$D295=\"\"),\"\",'V - P'!V295)","v":""},{"$f":"IF(AND('V - P'!$C295=\"\",'V - P'!$D295=\"\"),\"\",'V - P'!B295)","v":""},{"$f":"IF('V - P'!C295=\"\",\"\",'V - P'!C295)","v":""},{"$f":"IF('V - P'!D295=\"\",\"\",'V - P'!D295)","v":""},{"$f":"IF('V - P'!H295=\"\",\"\",'V - P'!H295)","v":""},{"$f":"IF('V - P'!M295=\"\",\"\",'V - P'!M295)","v":""},null,{"$f":"IF('V - P'!O295=\"\",\"\",'V - P'!O295)","v":""}]
[null,{"$f":"IF(AND('V - P'!$C296=\"\",'V - P'!$D296=\"\"),\"\",'V - P'!V296)","v":""},{"$f":"IF(AND('V - P'!$C296=\"\",'V - P'!$D296=\"\"),\"\",'V - P'!B296)","v":""},{"$f":"IF('V - P'!C296=\"\",\"\",'V - P'!C296)","v":""},{"$f":"IF('V - P'!D296=\"\",\"\",'V - P'!D296)","v":""},{"$f":"IF('V - P'!H296=\"\",\"\",'V - P'!H296)","v":""},{"$f":"IF('V - P'!M296=\"\",\"\",'V - P'!M296)","v":""},null,{"$f":"IF('V - P'!O296=\"\",\"\",'V - P'!O296)","v":""}]
[null,{"$f":"IF(AND('V - P'!$C297=\"\",'V - P'!$D297=\"\"),\"\",'V - P'!V297)","v":""},{"$f":"IF(AND('V - P'!$C297=\"\",'V - P'!$D297=\"\"),\"\",'V - P'!B297)","v":""},{"$f":"IF('V - P'!C297=\"\",\"\",'V - P'!C297)","v":""},{"$f":"IF('V - P'!D297=\"\",\"\",'V - P'!D297)","v":""},{"$f":"IF('V - P'!H297=\"\",\"\",'V - P'!H297)","v":""},{"$f":"IF('V - P'!M297=\"\",\"\",'V - P'!M297)","v":""},null,{"$f":"IF('V - P'!O297=\"\",\"\",'V - P'!O297)","v":""}]
[null,{"$f":"IF(AND('V - P'!$C298=\"\",'V - P'!$D298=\"\"),\"\",'V - P'!V298)","v":""},{"$f":"IF(AND('V - P'!$C298=\"\",'V - P'!$D298=\"\"),\"\",'V - P'!B298)","v":""},{"$f":"IF('V - P'!C298=\"\",\"\",'V - P'!C298)","v":""},{"$f":"IF('V - P'!D298=\"\",\"\",'V - P'!D298)","v":""},{"$f":"IF('V - P'!H298=\"\",\"\",'V - P'!H298)","v":""},{"$f":"IF('V - P'!M298=\"\",\"\",'V - P'!M298)","v":""},null,{"$f":"IF('V - P'!O298=\"\",\"\",'V - P'!O298)","v":""}]
[null,{"$f":"IF(AND('V - P'!$C299=\"\",'V - P'!$D299=\"\"),\"\",'V - P'!V299)","v":""},{"$f":"IF(AND('V - P'!$C299=\"\",'V - P'!$D299=\"\"),\"\",'V - P'!B299)","v":""},{"$f":"IF('V - P'!C299=\"\",\"\",'V - P'!C299)","v":""},{"$f":"IF('V - P'!D299=\"\",\"\",'V - P'!D299)","v":""},{"$f":"IF('V - P'!H299=\"\",\"\",'V - P'!H299)","v":""},{"$f":"IF('V - P'!M299=\"\",\"\",'V - P'!M299)","v":""},null,{"$f":"IF('V - P'!O299=\"\",\"\",'V - P'!O299)","v":""}]
[null,{"$f":"IF(AND('V - P'!$C300=\"\",'V - P'!$D300=\"\"),\"\",'V - P'!V300)","v":""},{"$f":"IF(AND('V - P'!$C300=\"\",'V - P'!$D300=\"\"),\"\",'V - P'!B300)","v":""},{"$f":"IF('V - P'!C300=\"\",\"\",'V - P'!C300)","v":""},{"$f":"IF('V - P'!D300=\"\",\"\",'V - P'!D300)","v":""},{"$f":"IF('V - P'!H300=\"\",\"\",'V - P'!H300)","v":""},{"$f":"IF('V - P'!M300=\"\",\"\",'V - P'!M300)","v":""},null,{"$f":"IF('V - P'!O300=\"\",\"\",'V - P'!O300)","v":""}]
[null,{"$f":"IF(AND('V - P'!$C301=\"\",'V - P'!$D301=\"\"),\"\",'V - P'!V301)","v":""},{"$f":"IF(AND('V - P'!$C301=\"\",'V - P'!$D301=\"\"),\"\",'V - P'!B301)","v":""},{"$f":"IF('V - P'!C301=\"\",\"\",'V - P'!C301)","v":""},{"$f":"IF('V - P'!D301=\"\",\"\",'V - P'!D301)","v":""},{"$f":"IF('V - P'!H301=\"\",\"\",'V - P'!H301)","v":""},{"$f":"IF('V - P'!M301=\"\",\"\",'V - P'!M301)","v":""},null,{"$f":"IF('V - P'!O301=\"\",\"\",'V - P'!O301)","v":""}]
[null,{"$f":"IF(AND('V - P'!$C302=\"\",'V - P'!$D302=\"\"),\"\",'V - P'!V302)","v":""},{"$f":"IF(AND('V - P'!$C302=\"\",'V - P'!$D302=\"\"),\"\",'V - P'!B302)","v":""},{"$f":"IF('V - P'!C302=\"\",\"\",'V - P'!C302)","v":""},{"$f":"IF('V - P'!D302=\"\",\"\",'V - P'!D302)","v":""},{"$f":"IF('V - P'!H302=\"\",\"\",'V - P'!H302)","v":""},{"$f":"IF('V - P'!M302=\"\",\"\",'V - P'!M302)","v":""},null,{"$f":"IF('V - P'!O302=\"\",\"\",'V - P'!O302)","v":""}]
[null,{"$f":"IF(AND('V - P'!$C303=\"\",'V - P'!$D303=\"\"),\"\",'V - P'!V303)","v":""},{"$f":"IF(AND('V - P'!$C303=\"\",'V - P'!$D303=\"\"),\"\",'V - P'!B303)","v":""},{"$f":"IF('V - P'!C303=\"\",\"\",'V - P'!C303)","v":""},{"$f":"IF('V - P'!D303=\"\",\"\",'V - P'!D303)","v":""},{"$f":"IF('V - P'!H303=\"\",\"\",'V - P'!H303)","v":""},{"$f":"IF('V - P'!M303=\"\",\"\",'V - P'!M303)","v":""},null,{"$f":"IF('V - P'!O303=\"\",\"\",'V - P'!O303)","v":""}]
[null,{"$f":"IF(AND('V - P'!$C304=\"\",'V - P'!$D304=\"\"),\"\",'V - P'!V304)","v":""},{"$f":"IF(AND('V - P'!$C304=\"\",'V - P'!$D304=\"\"),\"\",'V - P'!B304)","v":""},{"$f":"IF('V - P'!C304=\"\",\"\",'V - P'!C304)","v":""},{"$f":"IF('V - P'!D304=\"\",\"\",'V - P'!D304)","v":""},{"$f":"IF('V - P'!H304=\"\",\"\",'V - P'!H304)","v":""},{"$f":"IF('V - P'!M304=\"\",\"\",'V - P'!M304)","v":""},null,{"$f":"IF('V - P'!O304=\"\",\"\",'V - P'!O304)","v":""}]
[null,{"$f":"IF(AND('V - P'!$C305=\"\",'V - P'!$D305=\"\"),\"\",'V - P'!V305)","v":""},{"$f":"IF(AND('V - P'!$C305=\"\",'V - P'!$D305=\"\"),\"\",'V - P'!B305)","v":""},{"$f":"IF('V - P'!C305=\"\",\"\",'V - P'!C305)","v":""},{"$f":"IF('V - P'!D305=\"\",\"\",'V - P'!D305)","v":""},{"$f":"IF('V - P'!H305=\"\",\"\",'V - P'!H305)","v":""},{"$f":"IF('V - P'!M305=\"\",\"\",'V - P'!M305)","v":""},null,{"$f":"IF('V - P'!O305=\"\",\"\",'V - P'!O305)","v":""}]
[null,{"$f":"IF(AND('V - P'!$C306=\"\",'V - P'!$D306=\"\"),\"\",'V - P'!V306)","v":""},{"$f":"IF(AND('V - P'!$C306=\"\",'V - P'!$D306=\"\"),\"\",'V - P'!B306)","v":""},{"$f":"IF('V - P'!C306=\"\",\"\",'V - P'!C306)","v":""},{"$f":"IF('V - P'!D306=\"\",\"\",'V - P'!D306)","v":""},{"$f":"IF('V - P'!H306=\"\",\"\",'V - P'!H306)","v":""},{"$f":"IF('V - P'!M306=\"\",\"\",'V - P'!M306)","v":""},null,{"$f":"IF('V - P'!O306=\"\",\"\",'V - P'!O306)","v":""}]
[null,{"$f":"IF(AND('V - P'!$C307=\"\",'V - P'!$D307=\"\"),\"\",'V - P'!V307)","v":""},{"$f":"IF(AND('V - P'!$C307=\"\",'V - P'!$D307=\"\"),\"\",'V - P'!B307)","v":""},{"$f":"IF('V - P'!C307=\"\",\"\",'V - P'!C307)","v":""},{"$f":"IF('V - P'!D307=\"\",\"\",'V - P'!D307)","v":""},{"$f":"IF('V - P'!H307=\"\",\"\",'V - P'!H307)","v":""},{"$f":"IF('V - P'!M307=\"\",\"\",'V - P'!M307)","v":""},null,{"$f":"IF('V - P'!O307=\"\",\"\",'V - P'!O307)","v":""}]
[null,{"$f":"IF(AND('V - P'!$C308=\"\",'V - P'!$D308=\"\"),\"\",'V - P'!V308)","v":""},{"$f":"IF(AND('V - P'!$C308=\"\",'V - P'!$D308=\"\"),\"\",'V - P'!B308)","v":""},{"$f":"IF('V - P'!C308=\"\",\"\",'V - P'!C308)","v":""},{"$f":"IF('V - P'!D308=\"\",\"\",'V - P'!D308)","v":""},{"$f":"IF('V - P'!H308=\"\",\"\",'V - P'!H308)","v":""},{"$f":"IF('V - P'!M308=\"\",\"\",'V - P'!M308)","v":""},null,{"$f":"IF('V - P'!O308=\"\",\"\",'V - P'!O308)","v":""}]
[null,{"$f":"IF(AND('V - P'!$C309=\"\",'V - P'!$D309=\"\"),\"\",'V - P'!V309)","v":""},{"$f":"IF(AND('V - P'!$C309=\"\",'V - P'!$D309=\"\"),\"\",'V - P'!B309)","v":""},{"$f":"IF('V - P'!C309=\"\",\"\",'V - P'!C309)","v":""},{"$f":"IF('V - P'!D309=\"\",\"\",'V - P'!D309)","v":""},{"$f":"IF('V - P'!H309=\"\",\"\",'V - P'!H309)","v":""},{"$f":"IF('V - P'!M309=\"\",\"\",'V - P'!M309)","v":""},null,{"$f":"IF('V - P'!O309=\"\",\"\",'V - P'!O309)","v":""}]
[null,{"$f":"IF(AND('V - P'!$C310=\"\",'V - P'!$D310=\"\"),\"\",'V - P'!V310)","v":""},{"$f":"IF(AND('V - P'!$C310=\"\",'V - P'!$D310=\"\"),\"\",'V - P'!B310)","v":""},{"$f":"IF('V - P'!C310=\"\",\"\",'V - P'!C310)","v":""},{"$f":"IF('V - P'!D310=\"\",\"\",'V - P'!D310)","v":""},{"$f":"IF('V - P'!H310=\"\",\"\",'V - P'!H310)","v":""},{"$f":"IF('V - P'!M310=\"\",\"\",'V - P'!M310)","v":""},null,{"$f":"IF('V - P'!O310=\"\",\"\",'V - P'!O310)","v":""}]
[null,{"$f":"IF(AND('V - P'!$C311=\"\",'V - P'!$D311=\"\"),\"\",'V - P'!V311)","v":""},{"$f":"IF(AND('V - P'!$C311=\"\",'V - P'!$D311=\"\"),\"\",'V - P'!B311)","v":""},{"$f":"IF('V - P'!C311=\"\",\"\",'V - P'!C311)","v":""},{"$f":"IF('V - P'!D311=\"\",\"\",'V - P'!D311)","v":""},{"$f":"IF('V - P'!H311=\"\",\"\",'V - P'!H311)","v":""},{"$f":"IF('V - P'!M311=\"\",\"\",'V - P'!M311)","v":""},null,{"$f":"IF('V - P'!O311=\"\",\"\",'V - P'!O311)","v":""}]
[null,{"$f":"IF(AND('V - P'!$C312=\"\",'V - P'!$D312=\"\"),\"\",'V - P'!V312)","v":""},{"$f":"IF(AND('V - P'!$C312=\"\",'V - P'!$D312=\"\"),\"\",'V - P'!B312)","v":""},{"$f":"IF('V - P'!C312=\"\",\"\",'V - P'!C312)","v":""},{"$f":"IF('V - P'!D312=\"\",\"\",'V - P'!D312)","v":""},{"$f":"IF('V - P'!H312=\"\",\"\",'V - P'!H312)","v":""},{"$f":"IF('V - P'!M312=\"\",\"\",'V - P'!M312)","v":""},null,{"$f":"IF('V - P'!O312=\"\",\"\",'V - P'!O312)","v":""}]
[null,{"$f":"IF(AND('V - P'!$C313=\"\",'V - P'!$D313=\"\"),\"\",'V - P'!V313)","v":""},{"$f":"IF(AND('V - P'!$C313=\"\",'V - P'!$D313=\"\"),\"\",'V - P'!B313)","v":""},{"$f":"IF('V - P'!C313=\"\",\"\",'V - P'!C313)","v":""},{"$f":"IF('V - P'!D313=\"\",\"\",'V - P'!D313)","v":""},{"$f":"IF('V - P'!H313=\"\",\"\",'V - P'!H313)","v":""},{"$f":"IF('V - P'!M313=\"\",\"\",'V - P'!M313)","v":""},null,{"$f":"IF('V - P'!O313=\"\",\"\",'V - P'!O313)","v":""}]
[null,{"$f":"IF(AND('V - P'!$C314=\"\",'V - P'!$D314=\"\"),\"\",'V - P'!V314)","v":""},{"$f":"IF(AND('V - P'!$C314=\"\",'V - P'!$D314=\"\"),\"\",'V - P'!B314)","v":""},{"$f":"IF('V - P'!C314=\"\",\"\",'V - P'!C314)","v":""},{"$f":"IF('V - P'!D314=\"\",\"\",'V - P'!D314)","v":""},{"$f":"IF('V - P'!H314=\"\",\"\",'V - P'!H314)","v":""},{"$f":"IF('V - P'!M314=\"\",\"\",'V - P'!M314)","v":""},null,{"$f":"IF('V - P'!O314=\"\",\"\",'V - P'!O314)","v":""}]
[null,{"$f":"IF(AND('V - P'!$C315=\"\",'V - P'!$D315=\"\"),\"\",'V - P'!V315)","v":""},{"$f":"IF(AND('V - P'!$C315=\"\",'V - P'!$D315=\"\"),\"\",'V - P'!B315)","v":""},{"$f":"IF('V - P'!C315=\"\",\"\",'V - P'!C315)","v":""},{"$f":"IF('V - P'!D315=\"\",\"\",'V - P'!D315)","v":""},{"$f":"IF('V - P'!H315=\"\",\"\",'V - P'!H315)","v":""},{"$f":"IF('V - P'!M315=\"\",\"\",'V - P'!M315)","v":""},null,{"$f":"IF('V - P'!O315=\"\",\"\",'V - P'!O315)","v":""}]
[null,{"$f":"IF(AND('V - P'!$C316=\"\",'V - P'!$D316=\"\"),\"\",'V - P'!V316)","v":""},{"$f":"IF(AND('V - P'!$C316=\"\",'V - P'!$D316=\"\"),\"\",'V - P'!B316)","v":""},{"$f":"IF('V - P'!C316=\"\",\"\",'V - P'!C316)","v":""},{"$f":"IF('V - P'!D316=\"\",\"\",'V - P'!D316)","v":""},{"$f":"IF('V - P'!H316=\"\",\"\",'V - P'!H316)","v":""},{"$f":"IF('V - P'!M316=\"\",\"\",'V - P'!M316)","v":""},null,{"$f":"IF('V - P'!O316=\"\",\"\",'V - P'!O316)","v":""}]
[null,{"$f":"IF(AND('V - P'!$C317=\"\",'V - P'!$D317=\"\"),\"\",'V - P'!V317)","v":""},{"$f":"IF(AND('V - P'!$C317=\"\",'V - P'!$D317=\"\"),\"\",'V - P'!B317)","v":""},{"$f":"IF('V - P'!C317=\"\",\"\",'V - P'!C317)","v":""},{"$f":"IF('V - P'!D317=\"\",\"\",'V - P'!D317)","v":""},{"$f":"IF('V - P'!H317=\"\",\"\",'V - P'!H317)","v":""},{"$f":"IF('V - P'!M317=\"\",\"\",'V - P'!M317)","v":""},null,{"$f":"IF('V - P'!O317=\"\",\"\",'V - P'!O317)","v":""}]
[null,{"$f":"IF(AND('V - P'!$C318=\"\",'V - P'!$D318=\"\"),\"\",'V - P'!V318)","v":""},{"$f":"IF(AND('V - P'!$C318=\"\",'V - P'!$D318=\"\"),\"\",'V - P'!B318)","v":""},{"$f":"IF('V - P'!C318=\"\",\"\",'V - P'!C318)","v":""},{"$f":"IF('V - P'!D318=\"\",\"\",'V - P'!D318)","v":""},{"$f":"IF('V - P'!H318=\"\",\"\",'V - P'!H318)","v":""},{"$f":"IF('V - P'!M318=\"\",\"\",'V - P'!M318)","v":""},null,{"$f":"IF('V - P'!O318=\"\",\"\",'V - P'!O318)","v":""}]
[null,{"$f":"IF(AND('V - P'!$C319=\"\",'V - P'!$D319=\"\"),\"\",'V - P'!V319)","v":""},{"$f":"IF(AND('V - P'!$C319=\"\",'V - P'!$D319=\"\"),\"\",'V - P'!B319)","v":""},{"$f":"IF('V - P'!C319=\"\",\"\",'V - P'!C319)","v":""},{"$f":"IF('V - P'!D319=\"\",\"\",'V - P'!D319)","v":""},{"$f":"IF('V - P'!H319=\"\",\"\",'V - P'!H319)","v":""},{"$f":"IF('V - P'!M319=\"\",\"\",'V - P'!M319)","v":""},null,{"$f":"IF('V - P'!O319=\"\",\"\",'V - P'!O319)","v":""}]
[null,{"$f":"IF(AND('V - P'!$C320=\"\",'V - P'!$D320=\"\"),\"\",'V - P'!V320)","v":""},{"$f":"IF(AND('V - P'!$C320=\"\",'V - P'!$D320=\"\"),\"\",'V - P'!B320)","v":""},{"$f":"IF('V - P'!C320=\"\",\"\",'V - P'!C320)","v":""},{"$f":"IF('V - P'!D320=\"\",\"\",'V - P'!D320)","v":""},{"$f":"IF('V - P'!H320=\"\",\"\",'V - P'!H320)","v":""},{"$f":"IF('V - P'!M320=\"\",\"\",'V - P'!M320)","v":""},null,{"$f":"IF('V - P'!O320=\"\",\"\",'V - P'!O320)","v":""}]
[null,{"$f":"IF(AND('V - P'!$C321=\"\",'V - P'!$D321=\"\"),\"\",'V - P'!V321)","v":""},{"$f":"IF(AND('V - P'!$C321=\"\",'V - P'!$D321=\"\"),\"\",'V - P'!B321)","v":""},{"$f":"IF('V - P'!C321=\"\",\"\",'V - P'!C321)","v":""},{"$f":"IF('V - P'!D321=\"\",\"\",'V - P'!D321)","v":""},{"$f":"IF('V - P'!H321=\"\",\"\",'V - P'!H321)","v":""},{"$f":"IF('V - P'!M321=\"\",\"\",'V - P'!M321)","v":""},null,{"$f":"IF('V - P'!O321=\"\",\"\",'V - P'!O321)","v":""}]
[null,{"$f":"IF(AND('V - P'!$C322=\"\",'V - P'!$D322=\"\"),\"\",'V - P'!V322)","v":""},{"$f":"IF(AND('V - P'!$C322=\"\",'V - P'!$D322=\"\"),\"\",'V - P'!B322)","v":""},{"$f":"IF('V - P'!C322=\"\",\"\",'V - P'!C322)","v":""},{"$f":"IF('V - P'!D322=\"\",\"\",'V - P'!D322)","v":""},{"$f":"IF('V - P'!H322=\"\",\"\",'V - P'!H322)","v":""},{"$f":"IF('V - P'!M322=\"\",\"\",'V - P'!M322)","v":""},null,{"$f":"IF('V - P'!O322=\"\",\"\",'V - P'!O322)","v":""}]
[null,{"$f":"IF(AND('V - P'!$C323=\"\",'V - P'!$D323=\"\"),\"\",'V - P'!V323)","v":""},{"$f":"IF(AND('V - P'!$C323=\"\",'V - P'!$D323=\"\"),\"\",'V - P'!B323)","v":""},{"$f":"IF('V - P'!C323=\"\",\"\",'V - P'!C323)","v":""},{"$f":"IF('V - P'!D323=\"\",\"\",'V - P'!D323)","v":""},{"$f":"IF('V - P'!H323=\"\",\"\",'V - P'!H323)","v":""},{"$f":"IF('V - P'!M323=\"\",\"\",'V - P'!M323)","v":""},null,{"$f":"IF('V - P'!O323=\"\",\"\",'V - P'!O323)","v":""}]
[null,{"$f":"IF(AND('V - P'!$C324=\"\",'V - P'!$D324=\"\"),\"\",'V - P'!V324)","v":""},{"$f":"IF(AND('V - P'!$C324=\"\",'V - P'!$D324=\"\"),\"\",'V - P'!B324)","v":""},{"$f":"IF('V - P'!C324=\"\",\"\",'V - P'!C324)","v":""},{"$f":"IF('V - P'!D324=\"\",\"\",'V - P'!D324)","v":""},{"$f":"IF('V - P'!H324=\"\",\"\",'V - P'!H324)","v":""},{"$f":"IF('V - P'!M324=\"\",\"\",'V - P'!M324)","v":""},null,{"$f":"IF('V - P'!O324=\"\",\"\",'V - P'!O324)","v":""}]
[null,{"$f":"B$1","v":"Věž - Pořadí jednotlivců"}]
[]
[null,{"$f":"B$3","v":"VC ČR v požárním útoku družstev HZS krajů a HZS podniků"},null,null,{"$f":"E$3","v":"Petrovice 19.9.2019"}]
[]
[null,{"$f":"Start!$C$5","v":"MUŽI"}]
[null,"Pořadí","Start. číslo","Jméno","kolektiv","čas             I. pokusu","čas            II. pokusu",null,"Výsledný čas"]
[]
[null,{"$f":"IF(AND('V - P'!$C325=\"\",'V - P'!$D325=\"\"),\"\",'V - P'!V325)","v":""},{"$f":"IF(AND('V - P'!$C325=\"\",'V - P'!$D325=\"\"),\"\",'V - P'!B325)","v":""},{"$f":"IF('V - P'!C325=\"\",\"\",'V - P'!C325)","v":""},{"$f":"IF('V - P'!D325=\"\",\"\",'V - P'!D325)","v":""},{"$f":"IF('V - P'!H325=\"\",\"\",'V - P'!H325)","v":""},{"$f":"IF('V - P'!M325=\"\",\"\",'V - P'!M325)","v":""},null,{"$f":"IF('V - P'!O325=\"\",\"\",'V - P'!O325)","v":""}]
[null,{"$f":"IF(AND('V - P'!$C326=\"\",'V - P'!$D326=\"\"),\"\",'V - P'!V326)","v":""},{"$f":"IF(AND('V - P'!$C326=\"\",'V - P'!$D326=\"\"),\"\",'V - P'!B326)","v":""},{"$f":"IF('V - P'!C326=\"\",\"\",'V - P'!C326)","v":""},{"$f":"IF('V - P'!D326=\"\",\"\",'V - P'!D326)","v":""},{"$f":"IF('V - P'!H326=\"\",\"\",'V - P'!H326)","v":""},{"$f":"IF('V - P'!M326=\"\",\"\",'V - P'!M326)","v":""},null,{"$f":"IF('V - P'!O326=\"\",\"\",'V - P'!O326)","v":""}]
[null,{"$f":"IF(AND('V - P'!$C327=\"\",'V - P'!$D327=\"\"),\"\",'V - P'!V327)","v":""},{"$f":"IF(AND('V - P'!$C327=\"\",'V - P'!$D327=\"\"),\"\",'V - P'!B327)","v":""},{"$f":"IF('V - P'!C327=\"\",\"\",'V - P'!C327)","v":""},{"$f":"IF('V - P'!D327=\"\",\"\",'V - P'!D327)","v":""},{"$f":"IF('V - P'!H327=\"\",\"\",'V - P'!H327)","v":""},{"$f":"IF('V - P'!M327=\"\",\"\",'V - P'!M327)","v":""},null,{"$f":"IF('V - P'!O327=\"\",\"\",'V - P'!O327)","v":""}]
[null,{"$f":"IF(AND('V - P'!$C328=\"\",'V - P'!$D328=\"\"),\"\",'V - P'!V328)","v":""},{"$f":"IF(AND('V - P'!$C328=\"\",'V - P'!$D328=\"\"),\"\",'V - P'!B328)","v":""},{"$f":"IF('V - P'!C328=\"\",\"\",'V - P'!C328)","v":""},{"$f":"IF('V - P'!D328=\"\",\"\",'V - P'!D328)","v":""},{"$f":"IF('V - P'!H328=\"\",\"\",'V - P'!H328)","v":""},{"$f":"IF('V - P'!M328=\"\",\"\",'V - P'!M328)","v":""},null,{"$f":"IF('V - P'!O328=\"\",\"\",'V - P'!O328)","v":""}]
[null,{"$f":"IF(AND('V - P'!$C329=\"\",'V - P'!$D329=\"\"),\"\",'V - P'!V329)","v":""},{"$f":"IF(AND('V - P'!$C329=\"\",'V - P'!$D329=\"\"),\"\",'V - P'!B329)","v":""},{"$f":"IF('V - P'!C329=\"\",\"\",'V - P'!C329)","v":""},{"$f":"IF('V - P'!D329=\"\",\"\",'V - P'!D329)","v":""},{"$f":"IF('V - P'!H329=\"\",\"\",'V - P'!H329)","v":""},{"$f":"IF('V - P'!M329=\"\",\"\",'V - P'!M329)","v":""},null,{"$f":"IF('V - P'!O329=\"\",\"\",'V - P'!O329)","v":""}]
[null,{"$f":"IF(AND('V - P'!$C330=\"\",'V - P'!$D330=\"\"),\"\",'V - P'!V330)","v":""},{"$f":"IF(AND('V - P'!$C330=\"\",'V - P'!$D330=\"\"),\"\",'V - P'!B330)","v":""},{"$f":"IF('V - P'!C330=\"\",\"\",'V - P'!C330)","v":""},{"$f":"IF('V - P'!D330=\"\",\"\",'V - P'!D330)","v":""},{"$f":"IF('V - P'!H330=\"\",\"\",'V - P'!H330)","v":""},{"$f":"IF('V - P'!M330=\"\",\"\",'V - P'!M330)","v":""},null,{"$f":"IF('V - P'!O330=\"\",\"\",'V - P'!O330)","v":""}]
[null,{"$f":"IF(AND('V - P'!$C331=\"\",'V - P'!$D331=\"\"),\"\",'V - P'!V331)","v":""},{"$f":"IF(AND('V - P'!$C331=\"\",'V - P'!$D331=\"\"),\"\",'V - P'!B331)","v":""},{"$f":"IF('V - P'!C331=\"\",\"\",'V - P'!C331)","v":""},{"$f":"IF('V - P'!D331=\"\",\"\",'V - P'!D331)","v":""},{"$f":"IF('V - P'!H331=\"\",\"\",'V - P'!H331)","v":""},{"$f":"IF('V - P'!M331=\"\",\"\",'V - P'!M331)","v":""},null,{"$f":"IF('V - P'!O331=\"\",\"\",'V - P'!O331)","v":""}]
[null,{"$f":"IF(AND('V - P'!$C332=\"\",'V - P'!$D332=\"\"),\"\",'V - P'!V332)","v":""},{"$f":"IF(AND('V - P'!$C332=\"\",'V - P'!$D332=\"\"),\"\",'V - P'!B332)","v":""},{"$f":"IF('V - P'!C332=\"\",\"\",'V - P'!C332)","v":""},{"$f":"IF('V - P'!D332=\"\",\"\",'V - P'!D332)","v":""},{"$f":"IF('V - P'!H332=\"\",\"\",'V - P'!H332)","v":""},{"$f":"IF('V - P'!M332=\"\",\"\",'V - P'!M332)","v":""},null,{"$f":"IF('V - P'!O332=\"\",\"\",'V - P'!O332)","v":""}]
[null,{"$f":"IF(AND('V - P'!$C333=\"\",'V - P'!$D333=\"\"),\"\",'V - P'!V333)","v":""},{"$f":"IF(AND('V - P'!$C333=\"\",'V - P'!$D333=\"\"),\"\",'V - P'!B333)","v":""},{"$f":"IF('V - P'!C333=\"\",\"\",'V - P'!C333)","v":""},{"$f":"IF('V - P'!D333=\"\",\"\",'V - P'!D333)","v":""},{"$f":"IF('V - P'!H333=\"\",\"\",'V - P'!H333)","v":""},{"$f":"IF('V - P'!M333=\"\",\"\",'V - P'!M333)","v":""},null,{"$f":"IF('V - P'!O333=\"\",\"\",'V - P'!O333)","v":""}]
[null,{"$f":"IF(AND('V - P'!$C334=\"\",'V - P'!$D334=\"\"),\"\",'V - P'!V334)","v":""},{"$f":"IF(AND('V - P'!$C334=\"\",'V - P'!$D334=\"\"),\"\",'V - P'!B334)","v":""},{"$f":"IF('V - P'!C334=\"\",\"\",'V - P'!C334)","v":""},{"$f":"IF('V - P'!D334=\"\",\"\",'V - P'!D334)","v":""},{"$f":"IF('V - P'!H334=\"\",\"\",'V - P'!H334)","v":""},{"$f":"IF('V - P'!M334=\"\",\"\",'V - P'!M334)","v":""},null,{"$f":"IF('V - P'!O334=\"\",\"\",'V - P'!O334)","v":""}]
[null,{"$f":"IF(AND('V - P'!$C335=\"\",'V - P'!$D335=\"\"),\"\",'V - P'!V335)","v":""},{"$f":"IF(AND('V - P'!$C335=\"\",'V - P'!$D335=\"\"),\"\",'V - P'!B335)","v":""},{"$f":"IF('V - P'!C335=\"\",\"\",'V - P'!C335)","v":""},{"$f":"IF('V - P'!D335=\"\",\"\",'V - P'!D335)","v":""},{"$f":"IF('V - P'!H335=\"\",\"\",'V - P'!H335)","v":""},{"$f":"IF('V - P'!M335=\"\",\"\",'V - P'!M335)","v":""},null,{"$f":"IF('V - P'!O335=\"\",\"\",'V - P'!O335)","v":""}]
[null,{"$f":"IF(AND('V - P'!$C336=\"\",'V - P'!$D336=\"\"),\"\",'V - P'!V336)","v":""},{"$f":"IF(AND('V - P'!$C336=\"\",'V - P'!$D336=\"\"),\"\",'V - P'!B336)","v":""},{"$f":"IF('V - P'!C336=\"\",\"\",'V - P'!C336)","v":""},{"$f":"IF('V - P'!D336=\"\",\"\",'V - P'!D336)","v":""},{"$f":"IF('V - P'!H336=\"\",\"\",'V - P'!H336)","v":""},{"$f":"IF('V - P'!M336=\"\",\"\",'V - P'!M336)","v":""},null,{"$f":"IF('V - P'!O336=\"\",\"\",'V - P'!O336)","v":""}]
[null,{"$f":"IF(AND('V - P'!$C337=\"\",'V - P'!$D337=\"\"),\"\",'V - P'!V337)","v":""},{"$f":"IF(AND('V - P'!$C337=\"\",'V - P'!$D337=\"\"),\"\",'V - P'!B337)","v":""},{"$f":"IF('V - P'!C337=\"\",\"\",'V - P'!C337)","v":""},{"$f":"IF('V - P'!D337=\"\",\"\",'V - P'!D337)","v":""},{"$f":"IF('V - P'!H337=\"\",\"\",'V - P'!H337)","v":""},{"$f":"IF('V - P'!M337=\"\",\"\",'V - P'!M337)","v":""},null,{"$f":"IF('V - P'!O337=\"\",\"\",'V - P'!O337)","v":""}]
[null,{"$f":"IF(AND('V - P'!$C338=\"\",'V - P'!$D338=\"\"),\"\",'V - P'!V338)","v":""},{"$f":"IF(AND('V - P'!$C338=\"\",'V - P'!$D338=\"\"),\"\",'V - P'!B338)","v":""},{"$f":"IF('V - P'!C338=\"\",\"\",'V - P'!C338)","v":""},{"$f":"IF('V - P'!D338=\"\",\"\",'V - P'!D338)","v":""},{"$f":"IF('V - P'!H338=\"\",\"\",'V - P'!H338)","v":""},{"$f":"IF('V - P'!M338=\"\",\"\",'V - P'!M338)","v":""},null,{"$f":"IF('V - P'!O338=\"\",\"\",'V - P'!O338)","v":""}]
[null,{"$f":"IF(AND('V - P'!$C339=\"\",'V - P'!$D339=\"\"),\"\",'V - P'!V339)","v":""},{"$f":"IF(AND('V - P'!$C339=\"\",'V - P'!$D339=\"\"),\"\",'V - P'!B339)","v":""},{"$f":"IF('V - P'!C339=\"\",\"\",'V - P'!C339)","v":""},{"$f":"IF('V - P'!D339=\"\",\"\",'V - P'!D339)","v":""},{"$f":"IF('V - P'!H339=\"\",\"\",'V - P'!H339)","v":""},{"$f":"IF('V - P'!M339=\"\",\"\",'V - P'!M339)","v":""},null,{"$f":"IF('V - P'!O339=\"\",\"\",'V - P'!O339)","v":""}]
[null,{"$f":"IF(AND('V - P'!$C340=\"\",'V - P'!$D340=\"\"),\"\",'V - P'!V340)","v":""},{"$f":"IF(AND('V - P'!$C340=\"\",'V - P'!$D340=\"\"),\"\",'V - P'!B340)","v":""},{"$f":"IF('V - P'!C340=\"\",\"\",'V - P'!C340)","v":""},{"$f":"IF('V - P'!D340=\"\",\"\",'V - P'!D340)","v":""},{"$f":"IF('V - P'!H340=\"\",\"\",'V - P'!H340)","v":""},{"$f":"IF('V - P'!M340=\"\",\"\",'V - P'!M340)","v":""},null,{"$f":"IF('V - P'!O340=\"\",\"\",'V - P'!O340)","v":""}]
[null,{"$f":"IF(AND('V - P'!$C341=\"\",'V - P'!$D341=\"\"),\"\",'V - P'!V341)","v":""},{"$f":"IF(AND('V - P'!$C341=\"\",'V - P'!$D341=\"\"),\"\",'V - P'!B341)","v":""},{"$f":"IF('V - P'!C341=\"\",\"\",'V - P'!C341)","v":""},{"$f":"IF('V - P'!D341=\"\",\"\",'V - P'!D341)","v":""},{"$f":"IF('V - P'!H341=\"\",\"\",'V - P'!H341)","v":""},{"$f":"IF('V - P'!M341=\"\",\"\",'V - P'!M341)","v":""},null,{"$f":"IF('V - P'!O341=\"\",\"\",'V - P'!O341)","v":""}]
[null,{"$f":"IF(AND('V - P'!$C342=\"\",'V - P'!$D342=\"\"),\"\",'V - P'!V342)","v":""},{"$f":"IF(AND('V - P'!$C342=\"\",'V - P'!$D342=\"\"),\"\",'V - P'!B342)","v":""},{"$f":"IF('V - P'!C342=\"\",\"\",'V - P'!C342)","v":""},{"$f":"IF('V - P'!D342=\"\",\"\",'V - P'!D342)","v":""},{"$f":"IF('V - P'!H342=\"\",\"\",'V - P'!H342)","v":""},{"$f":"IF('V - P'!M342=\"\",\"\",'V - P'!M342)","v":""},null,{"$f":"IF('V - P'!O342=\"\",\"\",'V - P'!O342)","v":""}]
[null,{"$f":"IF(AND('V - P'!$C343=\"\",'V - P'!$D343=\"\"),\"\",'V - P'!V343)","v":""},{"$f":"IF(AND('V - P'!$C343=\"\",'V - P'!$D343=\"\"),\"\",'V - P'!B343)","v":""},{"$f":"IF('V - P'!C343=\"\",\"\",'V - P'!C343)","v":""},{"$f":"IF('V - P'!D343=\"\",\"\",'V - P'!D343)","v":""},{"$f":"IF('V - P'!H343=\"\",\"\",'V - P'!H343)","v":""},{"$f":"IF('V - P'!M343=\"\",\"\",'V - P'!M343)","v":""},null,{"$f":"IF('V - P'!O343=\"\",\"\",'V - P'!O343)","v":""}]
[null,{"$f":"IF(AND('V - P'!$C344=\"\",'V - P'!$D344=\"\"),\"\",'V - P'!V344)","v":""},{"$f":"IF(AND('V - P'!$C344=\"\",'V - P'!$D344=\"\"),\"\",'V - P'!B344)","v":""},{"$f":"IF('V - P'!C344=\"\",\"\",'V - P'!C344)","v":""},{"$f":"IF('V - P'!D344=\"\",\"\",'V - P'!D344)","v":""},{"$f":"IF('V - P'!H344=\"\",\"\",'V - P'!H344)","v":""},{"$f":"IF('V - P'!M344=\"\",\"\",'V - P'!M344)","v":""},null,{"$f":"IF('V - P'!O344=\"\",\"\",'V - P'!O344)","v":""}]
[null,{"$f":"IF(AND('V - P'!$C345=\"\",'V - P'!$D345=\"\"),\"\",'V - P'!V345)","v":""},{"$f":"IF(AND('V - P'!$C345=\"\",'V - P'!$D345=\"\"),\"\",'V - P'!B345)","v":""},{"$f":"IF('V - P'!C345=\"\",\"\",'V - P'!C345)","v":""},{"$f":"IF('V - P'!D345=\"\",\"\",'V - P'!D345)","v":""},{"$f":"IF('V - P'!H345=\"\",\"\",'V - P'!H345)","v":""},{"$f":"IF('V - P'!M345=\"\",\"\",'V - P'!M345)","v":""},null,{"$f":"IF('V - P'!O345=\"\",\"\",'V - P'!O345)","v":""}]
[null,{"$f":"IF(AND('V - P'!$C346=\"\",'V - P'!$D346=\"\"),\"\",'V - P'!V346)","v":""},{"$f":"IF(AND('V - P'!$C346=\"\",'V - P'!$D346=\"\"),\"\",'V - P'!B346)","v":""},{"$f":"IF('V - P'!C346=\"\",\"\",'V - P'!C346)","v":""},{"$f":"IF('V - P'!D346=\"\",\"\",'V - P'!D346)","v":""},{"$f":"IF('V - P'!H346=\"\",\"\",'V - P'!H346)","v":""},{"$f":"IF('V - P'!M346=\"\",\"\",'V - P'!M346)","v":""},null,{"$f":"IF('V - P'!O346=\"\",\"\",'V - P'!O346)","v":""}]
[null,{"$f":"IF(AND('V - P'!$C347=\"\",'V - P'!$D347=\"\"),\"\",'V - P'!V347)","v":""},{"$f":"IF(AND('V - P'!$C347=\"\",'V - P'!$D347=\"\"),\"\",'V - P'!B347)","v":""},{"$f":"IF('V - P'!C347=\"\",\"\",'V - P'!C347)","v":""},{"$f":"IF('V - P'!D347=\"\",\"\",'V - P'!D347)","v":""},{"$f":"IF('V - P'!H347=\"\",\"\",'V - P'!H347)","v":""},{"$f":"IF('V - P'!M347=\"\",\"\",'V - P'!M347)","v":""},null,{"$f":"IF('V - P'!O347=\"\",\"\",'V - P'!O347)","v":""}]
[null,{"$f":"IF(AND('V - P'!$C348=\"\",'V - P'!$D348=\"\"),\"\",'V - P'!V348)","v":""},{"$f":"IF(AND('V - P'!$C348=\"\",'V - P'!$D348=\"\"),\"\",'V - P'!B348)","v":""},{"$f":"IF('V - P'!C348=\"\",\"\",'V - P'!C348)","v":""},{"$f":"IF('V - P'!D348=\"\",\"\",'V - P'!D348)","v":""},{"$f":"IF('V - P'!H348=\"\",\"\",'V - P'!H348)","v":""},{"$f":"IF('V - P'!M348=\"\",\"\",'V - P'!M348)","v":""},null,{"$f":"IF('V - P'!O348=\"\",\"\",'V - P'!O348)","v":""}]
[null,{"$f":"IF(AND('V - P'!$C349=\"\",'V - P'!$D349=\"\"),\"\",'V - P'!V349)","v":""},{"$f":"IF(AND('V - P'!$C349=\"\",'V - P'!$D349=\"\"),\"\",'V - P'!B349)","v":""},{"$f":"IF('V - P'!C349=\"\",\"\",'V - P'!C349)","v":""},{"$f":"IF('V - P'!D349=\"\",\"\",'V - P'!D349)","v":""},{"$f":"IF('V - P'!H349=\"\",\"\",'V - P'!H349)","v":""},{"$f":"IF('V - P'!M349=\"\",\"\",'V - P'!M349)","v":""},null,{"$f":"IF('V - P'!O349=\"\",\"\",'V - P'!O349)","v":""}]
[null,{"$f":"IF(AND('V - P'!$C350=\"\",'V - P'!$D350=\"\"),\"\",'V - P'!V350)","v":""},{"$f":"IF(AND('V - P'!$C350=\"\",'V - P'!$D350=\"\"),\"\",'V - P'!B350)","v":""},{"$f":"IF('V - P'!C350=\"\",\"\",'V - P'!C350)","v":""},{"$f":"IF('V - P'!D350=\"\",\"\",'V - P'!D350)","v":""},{"$f":"IF('V - P'!H350=\"\",\"\",'V - P'!H350)","v":""},{"$f":"IF('V - P'!M350=\"\",\"\",'V - P'!M350)","v":""},null,{"$f":"IF('V - P'!O350=\"\",\"\",'V - P'!O350)","v":""}]
[null,{"$f":"IF(AND('V - P'!$C351=\"\",'V - P'!$D351=\"\"),\"\",'V - P'!V351)","v":""},{"$f":"IF(AND('V - P'!$C351=\"\",'V - P'!$D351=\"\"),\"\",'V - P'!B351)","v":""},{"$f":"IF('V - P'!C351=\"\",\"\",'V - P'!C351)","v":""},{"$f":"IF('V - P'!D351=\"\",\"\",'V - P'!D351)","v":""},{"$f":"IF('V - P'!H351=\"\",\"\",'V - P'!H351)","v":""},{"$f":"IF('V - P'!M351=\"\",\"\",'V - P'!M351)","v":""},null,{"$f":"IF('V - P'!O351=\"\",\"\",'V - P'!O351)","v":""}]
[null,{"$f":"IF(AND('V - P'!$C352=\"\",'V - P'!$D352=\"\"),\"\",'V - P'!V352)","v":""},{"$f":"IF(AND('V - P'!$C352=\"\",'V - P'!$D352=\"\"),\"\",'V - P'!B352)","v":""},{"$f":"IF('V - P'!C352=\"\",\"\",'V - P'!C352)","v":""},{"$f":"IF('V - P'!D352=\"\",\"\",'V - P'!D352)","v":""},{"$f":"IF('V - P'!H352=\"\",\"\",'V - P'!H352)","v":""},{"$f":"IF('V - P'!M352=\"\",\"\",'V - P'!M352)","v":""},null,{"$f":"IF('V - P'!O352=\"\",\"\",'V - P'!O352)","v":""}]
[null,{"$f":"IF(AND('V - P'!$C353=\"\",'V - P'!$D353=\"\"),\"\",'V - P'!V353)","v":""},{"$f":"IF(AND('V - P'!$C353=\"\",'V - P'!$D353=\"\"),\"\",'V - P'!B353)","v":""},{"$f":"IF('V - P'!C353=\"\",\"\",'V - P'!C353)","v":""},{"$f":"IF('V - P'!D353=\"\",\"\",'V - P'!D353)","v":""},{"$f":"IF('V - P'!H353=\"\",\"\",'V - P'!H353)","v":""},{"$f":"IF('V - P'!M353=\"\",\"\",'V - P'!M353)","v":""},null,{"$f":"IF('V - P'!O353=\"\",\"\",'V - P'!O353)","v":""}]
[null,{"$f":"IF(AND('V - P'!$C354=\"\",'V - P'!$D354=\"\"),\"\",'V - P'!V354)","v":""},{"$f":"IF(AND('V - P'!$C354=\"\",'V - P'!$D354=\"\"),\"\",'V - P'!B354)","v":""},{"$f":"IF('V - P'!C354=\"\",\"\",'V - P'!C354)","v":""},{"$f":"IF('V - P'!D354=\"\",\"\",'V - P'!D354)","v":""},{"$f":"IF('V - P'!H354=\"\",\"\",'V - P'!H354)","v":""},{"$f":"IF('V - P'!M354=\"\",\"\",'V - P'!M354)","v":""},null,{"$f":"IF('V - P'!O354=\"\",\"\",'V - P'!O354)","v":""}]
[null,{"$f":"IF(AND('V - P'!$C355=\"\",'V - P'!$D355=\"\"),\"\",'V - P'!V355)","v":""},{"$f":"IF(AND('V - P'!$C355=\"\",'V - P'!$D355=\"\"),\"\",'V - P'!B355)","v":""},{"$f":"IF('V - P'!C355=\"\",\"\",'V - P'!C355)","v":""},{"$f":"IF('V - P'!D355=\"\",\"\",'V - P'!D355)","v":""},{"$f":"IF('V - P'!H355=\"\",\"\",'V - P'!H355)","v":""},{"$f":"IF('V - P'!M355=\"\",\"\",'V - P'!M355)","v":""},null,{"$f":"IF('V - P'!O355=\"\",\"\",'V - P'!O355)","v":""}]
[null,{"$f":"IF(AND('V - P'!$C356=\"\",'V - P'!$D356=\"\"),\"\",'V - P'!V356)","v":""},{"$f":"IF(AND('V - P'!$C356=\"\",'V - P'!$D356=\"\"),\"\",'V - P'!B356)","v":""},{"$f":"IF('V - P'!C356=\"\",\"\",'V - P'!C356)","v":""},{"$f":"IF('V - P'!D356=\"\",\"\",'V - P'!D356)","v":""},{"$f":"IF('V - P'!H356=\"\",\"\",'V - P'!H356)","v":""},{"$f":"IF('V - P'!M356=\"\",\"\",'V - P'!M356)","v":""},null,{"$f":"IF('V - P'!O356=\"\",\"\",'V - P'!O356)","v":""}]
[null,{"$f":"IF(AND('V - P'!$C357=\"\",'V - P'!$D357=\"\"),\"\",'V - P'!V357)","v":""},{"$f":"IF(AND('V - P'!$C357=\"\",'V - P'!$D357=\"\"),\"\",'V - P'!B357)","v":""},{"$f":"IF('V - P'!C357=\"\",\"\",'V - P'!C357)","v":""},{"$f":"IF('V - P'!D357=\"\",\"\",'V - P'!D357)","v":""},{"$f":"IF('V - P'!H357=\"\",\"\",'V - P'!H357)","v":""},{"$f":"IF('V - P'!M357=\"\",\"\",'V - P'!M357)","v":""},null,{"$f":"IF('V - P'!O357=\"\",\"\",'V - P'!O357)","v":""}]
[null,{"$f":"IF(AND('V - P'!$C358=\"\",'V - P'!$D358=\"\"),\"\",'V - P'!V358)","v":""},{"$f":"IF(AND('V - P'!$C358=\"\",'V - P'!$D358=\"\"),\"\",'V - P'!B358)","v":""},{"$f":"IF('V - P'!C358=\"\",\"\",'V - P'!C358)","v":""},{"$f":"IF('V - P'!D358=\"\",\"\",'V - P'!D358)","v":""},{"$f":"IF('V - P'!H358=\"\",\"\",'V - P'!H358)","v":""},{"$f":"IF('V - P'!M358=\"\",\"\",'V - P'!M358)","v":""},null,{"$f":"IF('V - P'!O358=\"\",\"\",'V - P'!O358)","v":""}]
[null,{"$f":"IF(AND('V - P'!$C359=\"\",'V - P'!$D359=\"\"),\"\",'V - P'!V359)","v":""},{"$f":"IF(AND('V - P'!$C359=\"\",'V - P'!$D359=\"\"),\"\",'V - P'!B359)","v":""},{"$f":"IF('V - P'!C359=\"\",\"\",'V - P'!C359)","v":""},{"$f":"IF('V - P'!D359=\"\",\"\",'V - P'!D359)","v":""},{"$f":"IF('V - P'!H359=\"\",\"\",'V - P'!H359)","v":""},{"$f":"IF('V - P'!M359=\"\",\"\",'V - P'!M359)","v":""},null,{"$f":"IF('V - P'!O359=\"\",\"\",'V - P'!O359)","v":""}]
[null,{"$f":"IF(AND('V - P'!$C360=\"\",'V - P'!$D360=\"\"),\"\",'V - P'!V360)","v":""},{"$f":"IF(AND('V - P'!$C360=\"\",'V - P'!$D360=\"\"),\"\",'V - P'!B360)","v":""},{"$f":"IF('V - P'!C360=\"\",\"\",'V - P'!C360)","v":""},{"$f":"IF('V - P'!D360=\"\",\"\",'V - P'!D360)","v":""},{"$f":"IF('V - P'!H360=\"\",\"\",'V - P'!H360)","v":""},{"$f":"IF('V - P'!M360=\"\",\"\",'V - P'!M360)","v":""},null,{"$f":"IF('V - P'!O360=\"\",\"\",'V - P'!O360)","v":""}]
[null,{"$f":"B$1","v":"Věž - Pořadí jednotlivců"}]
[]
[null,{"$f":"B$3","v":"VC ČR v požárním útoku družstev HZS krajů a HZS podniků"},null,null,{"$f":"E$3","v":"Petrovice 19.9.2019"}]
[]
[null,{"$f":"Start!$C$5","v":"MUŽI"}]
[null,"Pořadí","Start. číslo","Jméno","kolektiv","čas             I. pokusu","čas            II. pokusu",null,"Výsledný čas"]
[]
[null,{"$f":"IF(AND('V - P'!$C361=\"\",'V - P'!$D361=\"\"),\"\",'V - P'!V361)","v":""},{"$f":"IF(AND('V - P'!$C361=\"\",'V - P'!$D361=\"\"),\"\",'V - P'!B361)","v":""},{"$f":"IF('V - P'!C361=\"\",\"\",'V - P'!C361)","v":""},{"$f":"IF('V - P'!D361=\"\",\"\",'V - P'!D361)","v":""},{"$f":"IF('V - P'!H361=\"\",\"\",'V - P'!H361)","v":""},{"$f":"IF('V - P'!M361=\"\",\"\",'V - P'!M361)","v":""},null,{"$f":"IF('V - P'!O361=\"\",\"\",'V - P'!O361)","v":""}]
[null,{"$f":"IF(AND('V - P'!$C362=\"\",'V - P'!$D362=\"\"),\"\",'V - P'!V362)","v":""},{"$f":"IF(AND('V - P'!$C362=\"\",'V - P'!$D362=\"\"),\"\",'V - P'!B362)","v":""},{"$f":"IF('V - P'!C362=\"\",\"\",'V - P'!C362)","v":""},{"$f":"IF('V - P'!D362=\"\",\"\",'V - P'!D362)","v":""},{"$f":"IF('V - P'!H362=\"\",\"\",'V - P'!H362)","v":""},{"$f":"IF('V - P'!M362=\"\",\"\",'V - P'!M362)","v":""},null,{"$f":"IF('V - P'!O362=\"\",\"\",'V - P'!O362)","v":""}]
[null,{"$f":"IF(AND('V - P'!$C363=\"\",'V - P'!$D363=\"\"),\"\",'V - P'!V363)","v":""},{"$f":"IF(AND('V - P'!$C363=\"\",'V - P'!$D363=\"\"),\"\",'V - P'!B363)","v":""},{"$f":"IF('V - P'!C363=\"\",\"\",'V - P'!C363)","v":""},{"$f":"IF('V - P'!D363=\"\",\"\",'V - P'!D363)","v":""},{"$f":"IF('V - P'!H363=\"\",\"\",'V - P'!H363)","v":""},{"$f":"IF('V - P'!M363=\"\",\"\",'V - P'!M363)","v":""},null,{"$f":"IF('V - P'!O363=\"\",\"\",'V - P'!O363)","v":""}]
[null,{"$f":"IF(AND('V - P'!$C364=\"\",'V - P'!$D364=\"\"),\"\",'V - P'!V364)","v":""},{"$f":"IF(AND('V - P'!$C364=\"\",'V - P'!$D364=\"\"),\"\",'V - P'!B364)","v":""},{"$f":"IF('V - P'!C364=\"\",\"\",'V - P'!C364)","v":""},{"$f":"IF('V - P'!D364=\"\",\"\",'V - P'!D364)","v":""},{"$f":"IF('V - P'!H364=\"\",\"\",'V - P'!H364)","v":""},{"$f":"IF('V - P'!M364=\"\",\"\",'V - P'!M364)","v":""},null,{"$f":"IF('V - P'!O364=\"\",\"\",'V - P'!O364)","v":""}]
[null,{"$f":"IF(AND('V - P'!$C365=\"\",'V - P'!$D365=\"\"),\"\",'V - P'!V365)","v":""},{"$f":"IF(AND('V - P'!$C365=\"\",'V - P'!$D365=\"\"),\"\",'V - P'!B365)","v":""},{"$f":"IF('V - P'!C365=\"\",\"\",'V - P'!C365)","v":""},{"$f":"IF('V - P'!D365=\"\",\"\",'V - P'!D365)","v":""},{"$f":"IF('V - P'!H365=\"\",\"\",'V - P'!H365)","v":""},{"$f":"IF('V - P'!M365=\"\",\"\",'V - P'!M365)","v":""},null,{"$f":"IF('V - P'!O365=\"\",\"\",'V - P'!O365)","v":""}]
[null,{"$f":"IF(AND('V - P'!$C366=\"\",'V - P'!$D366=\"\"),\"\",'V - P'!V366)","v":""},{"$f":"IF(AND('V - P'!$C366=\"\",'V - P'!$D366=\"\"),\"\",'V - P'!B366)","v":""},{"$f":"IF('V - P'!C366=\"\",\"\",'V - P'!C366)","v":""},{"$f":"IF('V - P'!D366=\"\",\"\",'V - P'!D366)","v":""},{"$f":"IF('V - P'!H366=\"\",\"\",'V - P'!H366)","v":""},{"$f":"IF('V - P'!M366=\"\",\"\",'V - P'!M366)","v":""},null,{"$f":"IF('V - P'!O366=\"\",\"\",'V - P'!O366)","v":""}]
[null,{"$f":"IF(AND('V - P'!$C367=\"\",'V - P'!$D367=\"\"),\"\",'V - P'!V367)","v":""},{"$f":"IF(AND('V - P'!$C367=\"\",'V - P'!$D367=\"\"),\"\",'V - P'!B367)","v":""},{"$f":"IF('V - P'!C367=\"\",\"\",'V - P'!C367)","v":""},{"$f":"IF('V - P'!D367=\"\",\"\",'V - P'!D367)","v":""},{"$f":"IF('V - P'!H367=\"\",\"\",'V - P'!H367)","v":""},{"$f":"IF('V - P'!M367=\"\",\"\",'V - P'!M367)","v":""},null,{"$f":"IF('V - P'!O367=\"\",\"\",'V - P'!O367)","v":""}]
[null,{"$f":"IF(AND('V - P'!$C368=\"\",'V - P'!$D368=\"\"),\"\",'V - P'!V368)","v":""},{"$f":"IF(AND('V - P'!$C368=\"\",'V - P'!$D368=\"\"),\"\",'V - P'!B368)","v":""},{"$f":"IF('V - P'!C368=\"\",\"\",'V - P'!C368)","v":""},{"$f":"IF('V - P'!D368=\"\",\"\",'V - P'!D368)","v":""},{"$f":"IF('V - P'!H368=\"\",\"\",'V - P'!H368)","v":""},{"$f":"IF('V - P'!M368=\"\",\"\",'V - P'!M368)","v":""},null,{"$f":"IF('V - P'!O368=\"\",\"\",'V - P'!O368)","v":""}]
[null,{"$f":"IF(AND('V - P'!$C369=\"\",'V - P'!$D369=\"\"),\"\",'V - P'!V369)","v":""},{"$f":"IF(AND('V - P'!$C369=\"\",'V - P'!$D369=\"\"),\"\",'V - P'!B369)","v":""},{"$f":"IF('V - P'!C369=\"\",\"\",'V - P'!C369)","v":""},{"$f":"IF('V - P'!D369=\"\",\"\",'V - P'!D369)","v":""},{"$f":"IF('V - P'!H369=\"\",\"\",'V - P'!H369)","v":""},{"$f":"IF('V - P'!M369=\"\",\"\",'V - P'!M369)","v":""},null,{"$f":"IF('V - P'!O369=\"\",\"\",'V - P'!O369)","v":""}]
[null,{"$f":"IF(AND('V - P'!$C370=\"\",'V - P'!$D370=\"\"),\"\",'V - P'!V370)","v":""},{"$f":"IF(AND('V - P'!$C370=\"\",'V - P'!$D370=\"\"),\"\",'V - P'!B370)","v":""},{"$f":"IF('V - P'!C370=\"\",\"\",'V - P'!C370)","v":""},{"$f":"IF('V - P'!D370=\"\",\"\",'V - P'!D370)","v":""},{"$f":"IF('V - P'!H370=\"\",\"\",'V - P'!H370)","v":""},{"$f":"IF('V - P'!M370=\"\",\"\",'V - P'!M370)","v":""},null,{"$f":"IF('V - P'!O370=\"\",\"\",'V - P'!O370)","v":""}]
[null,{"$f":"IF(AND('V - P'!$C371=\"\",'V - P'!$D371=\"\"),\"\",'V - P'!V371)","v":""},{"$f":"IF(AND('V - P'!$C371=\"\",'V - P'!$D371=\"\"),\"\",'V - P'!B371)","v":""},{"$f":"IF('V - P'!C371=\"\",\"\",'V - P'!C371)","v":""},{"$f":"IF('V - P'!D371=\"\",\"\",'V - P'!D371)","v":""},{"$f":"IF('V - P'!H371=\"\",\"\",'V - P'!H371)","v":""},{"$f":"IF('V - P'!M371=\"\",\"\",'V - P'!M371)","v":""},null,{"$f":"IF('V - P'!O371=\"\",\"\",'V - P'!O371)","v":""}]
[null,{"$f":"IF(AND('V - P'!$C372=\"\",'V - P'!$D372=\"\"),\"\",'V - P'!V372)","v":""},{"$f":"IF(AND('V - P'!$C372=\"\",'V - P'!$D372=\"\"),\"\",'V - P'!B372)","v":""},{"$f":"IF('V - P'!C372=\"\",\"\",'V - P'!C372)","v":""},{"$f":"IF('V - P'!D372=\"\",\"\",'V - P'!D372)","v":""},{"$f":"IF('V - P'!H372=\"\",\"\",'V - P'!H372)","v":""},{"$f":"IF('V - P'!M372=\"\",\"\",'V - P'!M372)","v":""},null,{"$f":"IF('V - P'!O372=\"\",\"\",'V - P'!O372)","v":""}]
[null,{"$f":"IF(AND('V - P'!$C373=\"\",'V - P'!$D373=\"\"),\"\",'V - P'!V373)","v":""},{"$f":"IF(AND('V - P'!$C373=\"\",'V - P'!$D373=\"\"),\"\",'V - P'!B373)","v":""},{"$f":"IF('V - P'!C373=\"\",\"\",'V - P'!C373)","v":""},{"$f":"IF('V - P'!D373=\"\",\"\",'V - P'!D373)","v":""},{"$f":"IF('V - P'!H373=\"\",\"\",'V - P'!H373)","v":""},{"$f":"IF('V - P'!M373=\"\",\"\",'V - P'!M373)","v":""},null,{"$f":"IF('V - P'!O373=\"\",\"\",'V - P'!O373)","v":""}]
[null,{"$f":"IF(AND('V - P'!$C374=\"\",'V - P'!$D374=\"\"),\"\",'V - P'!V374)","v":""},{"$f":"IF(AND('V - P'!$C374=\"\",'V - P'!$D374=\"\"),\"\",'V - P'!B374)","v":""},{"$f":"IF('V - P'!C374=\"\",\"\",'V - P'!C374)","v":""},{"$f":"IF('V - P'!D374=\"\",\"\",'V - P'!D374)","v":""},{"$f":"IF('V - P'!H374=\"\",\"\",'V - P'!H374)","v":""},{"$f":"IF('V - P'!M374=\"\",\"\",'V - P'!M374)","v":""},null,{"$f":"IF('V - P'!O374=\"\",\"\",'V - P'!O374)","v":""}]
[null,{"$f":"IF(AND('V - P'!$C375=\"\",'V - P'!$D375=\"\"),\"\",'V - P'!V375)","v":""},{"$f":"IF(AND('V - P'!$C375=\"\",'V - P'!$D375=\"\"),\"\",'V - P'!B375)","v":""},{"$f":"IF('V - P'!C375=\"\",\"\",'V - P'!C375)","v":""},{"$f":"IF('V - P'!D375=\"\",\"\",'V - P'!D375)","v":""},{"$f":"IF('V - P'!H375=\"\",\"\",'V - P'!H375)","v":""},{"$f":"IF('V - P'!M375=\"\",\"\",'V - P'!M375)","v":""},null,{"$f":"IF('V - P'!O375=\"\",\"\",'V - P'!O375)","v":""}]
[null,{"$f":"IF(AND('V - P'!$C376=\"\",'V - P'!$D376=\"\"),\"\",'V - P'!V376)","v":""},{"$f":"IF(AND('V - P'!$C376=\"\",'V - P'!$D376=\"\"),\"\",'V - P'!B376)","v":""},{"$f":"IF('V - P'!C376=\"\",\"\",'V - P'!C376)","v":""},{"$f":"IF('V - P'!D376=\"\",\"\",'V - P'!D376)","v":""},{"$f":"IF('V - P'!H376=\"\",\"\",'V - P'!H376)","v":""},{"$f":"IF('V - P'!M376=\"\",\"\",'V - P'!M376)","v":""},null,{"$f":"IF('V - P'!O376=\"\",\"\",'V - P'!O376)","v":""}]
[null,{"$f":"IF(AND('V - P'!$C377=\"\",'V - P'!$D377=\"\"),\"\",'V - P'!V377)","v":""},{"$f":"IF(AND('V - P'!$C377=\"\",'V - P'!$D377=\"\"),\"\",'V - P'!B377)","v":""},{"$f":"IF('V - P'!C377=\"\",\"\",'V - P'!C377)","v":""},{"$f":"IF('V - P'!D377=\"\",\"\",'V - P'!D377)","v":""},{"$f":"IF('V - P'!H377=\"\",\"\",'V - P'!H377)","v":""},{"$f":"IF('V - P'!M377=\"\",\"\",'V - P'!M377)","v":""},null,{"$f":"IF('V - P'!O377=\"\",\"\",'V - P'!O377)","v":""}]
[null,{"$f":"IF(AND('V - P'!$C378=\"\",'V - P'!$D378=\"\"),\"\",'V - P'!V378)","v":""},{"$f":"IF(AND('V - P'!$C378=\"\",'V - P'!$D378=\"\"),\"\",'V - P'!B378)","v":""},{"$f":"IF('V - P'!C378=\"\",\"\",'V - P'!C378)","v":""},{"$f":"IF('V - P'!D378=\"\",\"\",'V - P'!D378)","v":""},{"$f":"IF('V - P'!H378=\"\",\"\",'V - P'!H378)","v":""},{"$f":"IF('V - P'!M378=\"\",\"\",'V - P'!M378)","v":""},null,{"$f":"IF('V - P'!O378=\"\",\"\",'V - P'!O378)","v":""}]
[null,{"$f":"IF(AND('V - P'!$C379=\"\",'V - P'!$D379=\"\"),\"\",'V - P'!V379)","v":""},{"$f":"IF(AND('V - P'!$C379=\"\",'V - P'!$D379=\"\"),\"\",'V - P'!B379)","v":""},{"$f":"IF('V - P'!C379=\"\",\"\",'V - P'!C379)","v":""},{"$f":"IF('V - P'!D379=\"\",\"\",'V - P'!D379)","v":""},{"$f":"IF('V - P'!H379=\"\",\"\",'V - P'!H379)","v":""},{"$f":"IF('V - P'!M379=\"\",\"\",'V - P'!M379)","v":""},null,{"$f":"IF('V - P'!O379=\"\",\"\",'V - P'!O379)","v":""}]
[null,{"$f":"IF(AND('V - P'!$C380=\"\",'V - P'!$D380=\"\"),\"\",'V - P'!V380)","v":""},{"$f":"IF(AND('V - P'!$C380=\"\",'V - P'!$D380=\"\"),\"\",'V - P'!B380)","v":""},{"$f":"IF('V - P'!C380=\"\",\"\",'V - P'!C380)","v":""},{"$f":"IF('V - P'!D380=\"\",\"\",'V - P'!D380)","v":""},{"$f":"IF('V - P'!H380=\"\",\"\",'V - P'!H380)","v":""},{"$f":"IF('V - P'!M380=\"\",\"\",'V - P'!M380)","v":""},null,{"$f":"IF('V - P'!O380=\"\",\"\",'V - P'!O380)","v":""}]
[null,{"$f":"IF(AND('V - P'!$C381=\"\",'V - P'!$D381=\"\"),\"\",'V - P'!V381)","v":""},{"$f":"IF(AND('V - P'!$C381=\"\",'V - P'!$D381=\"\"),\"\",'V - P'!B381)","v":""},{"$f":"IF('V - P'!C381=\"\",\"\",'V - P'!C381)","v":""},{"$f":"IF('V - P'!D381=\"\",\"\",'V - P'!D381)","v":""},{"$f":"IF('V - P'!H381=\"\",\"\",'V - P'!H381)","v":""},{"$f":"IF('V - P'!M381=\"\",\"\",'V - P'!M381)","v":""},null,{"$f":"IF('V - P'!O381=\"\",\"\",'V - P'!O381)","v":""}]
[null,{"$f":"IF(AND('V - P'!$C382=\"\",'V - P'!$D382=\"\"),\"\",'V - P'!V382)","v":""},{"$f":"IF(AND('V - P'!$C382=\"\",'V - P'!$D382=\"\"),\"\",'V - P'!B382)","v":""},{"$f":"IF('V - P'!C382=\"\",\"\",'V - P'!C382)","v":""},{"$f":"IF('V - P'!D382=\"\",\"\",'V - P'!D382)","v":""},{"$f":"IF('V - P'!H382=\"\",\"\",'V - P'!H382)","v":""},{"$f":"IF('V - P'!M382=\"\",\"\",'V - P'!M382)","v":""},null,{"$f":"IF('V - P'!O382=\"\",\"\",'V - P'!O382)","v":""}]
[null,{"$f":"IF(AND('V - P'!$C383=\"\",'V - P'!$D383=\"\"),\"\",'V - P'!V383)","v":""},{"$f":"IF(AND('V - P'!$C383=\"\",'V - P'!$D383=\"\"),\"\",'V - P'!B383)","v":""},{"$f":"IF('V - P'!C383=\"\",\"\",'V - P'!C383)","v":""},{"$f":"IF('V - P'!D383=\"\",\"\",'V - P'!D383)","v":""},{"$f":"IF('V - P'!H383=\"\",\"\",'V - P'!H383)","v":""},{"$f":"IF('V - P'!M383=\"\",\"\",'V - P'!M383)","v":""},null,{"$f":"IF('V - P'!O383=\"\",\"\",'V - P'!O383)","v":""}]
[null,{"$f":"IF(AND('V - P'!$C384=\"\",'V - P'!$D384=\"\"),\"\",'V - P'!V384)","v":""},{"$f":"IF(AND('V - P'!$C384=\"\",'V - P'!$D384=\"\"),\"\",'V - P'!B384)","v":""},{"$f":"IF('V - P'!C384=\"\",\"\",'V - P'!C384)","v":""},{"$f":"IF('V - P'!D384=\"\",\"\",'V - P'!D384)","v":""},{"$f":"IF('V - P'!H384=\"\",\"\",'V - P'!H384)","v":""},{"$f":"IF('V - P'!M384=\"\",\"\",'V - P'!M384)","v":""},null,{"$f":"IF('V - P'!O384=\"\",\"\",'V - P'!O384)","v":""}]
[null,{"$f":"IF(AND('V - P'!$C385=\"\",'V - P'!$D385=\"\"),\"\",'V - P'!V385)","v":""},{"$f":"IF(AND('V - P'!$C385=\"\",'V - P'!$D385=\"\"),\"\",'V - P'!B385)","v":""},{"$f":"IF('V - P'!C385=\"\",\"\",'V - P'!C385)","v":""},{"$f":"IF('V - P'!D385=\"\",\"\",'V - P'!D385)","v":""},{"$f":"IF('V - P'!H385=\"\",\"\",'V - P'!H385)","v":""},{"$f":"IF('V - P'!M385=\"\",\"\",'V - P'!M385)","v":""},null,{"$f":"IF('V - P'!O385=\"\",\"\",'V - P'!O385)","v":""}]
[null,{"$f":"IF(AND('V - P'!$C386=\"\",'V - P'!$D386=\"\"),\"\",'V - P'!V386)","v":""},{"$f":"IF(AND('V - P'!$C386=\"\",'V - P'!$D386=\"\"),\"\",'V - P'!B386)","v":""},{"$f":"IF('V - P'!C386=\"\",\"\",'V - P'!C386)","v":""},{"$f":"IF('V - P'!D386=\"\",\"\",'V - P'!D386)","v":""},{"$f":"IF('V - P'!H386=\"\",\"\",'V - P'!H386)","v":""},{"$f":"IF('V - P'!M386=\"\",\"\",'V - P'!M386)","v":""},null,{"$f":"IF('V - P'!O386=\"\",\"\",'V - P'!O386)","v":""}]
[null,{"$f":"IF(AND('V - P'!$C387=\"\",'V - P'!$D387=\"\"),\"\",'V - P'!V387)","v":""},{"$f":"IF(AND('V - P'!$C387=\"\",'V - P'!$D387=\"\"),\"\",'V - P'!B387)","v":""},{"$f":"IF('V - P'!C387=\"\",\"\",'V - P'!C387)","v":""},{"$f":"IF('V - P'!D387=\"\",\"\",'V - P'!D387)","v":""},{"$f":"IF('V - P'!H387=\"\",\"\",'V - P'!H387)","v":""},{"$f":"IF('V - P'!M387=\"\",\"\",'V - P'!M387)","v":""},null,{"$f":"IF('V - P'!O387=\"\",\"\",'V - P'!O387)","v":""}]
[null,{"$f":"IF(AND('V - P'!$C388=\"\",'V - P'!$D388=\"\"),\"\",'V - P'!V388)","v":""},{"$f":"IF(AND('V - P'!$C388=\"\",'V - P'!$D388=\"\"),\"\",'V - P'!B388)","v":""},{"$f":"IF('V - P'!C388=\"\",\"\",'V - P'!C388)","v":""},{"$f":"IF('V - P'!D388=\"\",\"\",'V - P'!D388)","v":""},{"$f":"IF('V - P'!H388=\"\",\"\",'V - P'!H388)","v":""},{"$f":"IF('V - P'!M388=\"\",\"\",'V - P'!M388)","v":""},null,{"$f":"IF('V - P'!O388=\"\",\"\",'V - P'!O388)","v":""}]
[null,{"$f":"IF(AND('V - P'!$C389=\"\",'V - P'!$D389=\"\"),\"\",'V - P'!V389)","v":""},{"$f":"IF(AND('V - P'!$C389=\"\",'V - P'!$D389=\"\"),\"\",'V - P'!B389)","v":""},{"$f":"IF('V - P'!C389=\"\",\"\",'V - P'!C389)","v":""},{"$f":"IF('V - P'!D389=\"\",\"\",'V - P'!D389)","v":""},{"$f":"IF('V - P'!H389=\"\",\"\",'V - P'!H389)","v":""},{"$f":"IF('V - P'!M389=\"\",\"\",'V - P'!M389)","v":""},null,{"$f":"IF('V - P'!O389=\"\",\"\",'V - P'!O389)","v":""}]
[null,{"$f":"IF(AND('V - P'!$C390=\"\",'V - P'!$D390=\"\"),\"\",'V - P'!V390)","v":""},{"$f":"IF(AND('V - P'!$C390=\"\",'V - P'!$D390=\"\"),\"\",'V - P'!B390)","v":""},{"$f":"IF('V - P'!C390=\"\",\"\",'V - P'!C390)","v":""},{"$f":"IF('V - P'!D390=\"\",\"\",'V - P'!D390)","v":""},{"$f":"IF('V - P'!H390=\"\",\"\",'V - P'!H390)","v":""},{"$f":"IF('V - P'!M390=\"\",\"\",'V - P'!M390)","v":""},null,{"$f":"IF('V - P'!O390=\"\",\"\",'V - P'!O390)","v":""}]
[null,{"$f":"IF(AND('V - P'!$C391=\"\",'V - P'!$D391=\"\"),\"\",'V - P'!V391)","v":""},{"$f":"IF(AND('V - P'!$C391=\"\",'V - P'!$D391=\"\"),\"\",'V - P'!B391)","v":""},{"$f":"IF('V - P'!C391=\"\",\"\",'V - P'!C391)","v":""},{"$f":"IF('V - P'!D391=\"\",\"\",'V - P'!D391)","v":""},{"$f":"IF('V - P'!H391=\"\",\"\",'V - P'!H391)","v":""},{"$f":"IF('V - P'!M391=\"\",\"\",'V - P'!M391)","v":""},null,{"$f":"IF('V - P'!O391=\"\",\"\",'V - P'!O391)","v":""}]
[null,{"$f":"IF(AND('V - P'!$C392=\"\",'V - P'!$D392=\"\"),\"\",'V - P'!V392)","v":""},{"$f":"IF(AND('V - P'!$C392=\"\",'V - P'!$D392=\"\"),\"\",'V - P'!B392)","v":""},{"$f":"IF('V - P'!C392=\"\",\"\",'V - P'!C392)","v":""},{"$f":"IF('V - P'!D392=\"\",\"\",'V - P'!D392)","v":""},{"$f":"IF('V - P'!H392=\"\",\"\",'V - P'!H392)","v":""},{"$f":"IF('V - P'!M392=\"\",\"\",'V - P'!M392)","v":""},null,{"$f":"IF('V - P'!O392=\"\",\"\",'V - P'!O392)","v":""}]
[null,{"$f":"IF(AND('V - P'!$C393=\"\",'V - P'!$D393=\"\"),\"\",'V - P'!V393)","v":""},{"$f":"IF(AND('V - P'!$C393=\"\",'V - P'!$D393=\"\"),\"\",'V - P'!B393)","v":""},{"$f":"IF('V - P'!C393=\"\",\"\",'V - P'!C393)","v":""},{"$f":"IF('V - P'!D393=\"\",\"\",'V - P'!D393)","v":""},{"$f":"IF('V - P'!H393=\"\",\"\",'V - P'!H393)","v":""},{"$f":"IF('V - P'!M393=\"\",\"\",'V - P'!M393)","v":""},null,{"$f":"IF('V - P'!O393=\"\",\"\",'V - P'!O393)","v":""}]
[null,{"$f":"IF(AND('V - P'!$C394=\"\",'V - P'!$D394=\"\"),\"\",'V - P'!V394)","v":""},{"$f":"IF(AND('V - P'!$C394=\"\",'V - P'!$D394=\"\"),\"\",'V - P'!B394)","v":""},{"$f":"IF('V - P'!C394=\"\",\"\",'V - P'!C394)","v":""},{"$f":"IF('V - P'!D394=\"\",\"\",'V - P'!D394)","v":""},{"$f":"IF('V - P'!H394=\"\",\"\",'V - P'!H394)","v":""},{"$f":"IF('V - P'!M394=\"\",\"\",'V - P'!M394)","v":""},null,{"$f":"IF('V - P'!O394=\"\",\"\",'V - P'!O394)","v":""}]
[null,{"$f":"IF(AND('V - P'!$C395=\"\",'V - P'!$D395=\"\"),\"\",'V - P'!V395)","v":""},{"$f":"IF(AND('V - P'!$C395=\"\",'V - P'!$D395=\"\"),\"\",'V - P'!B395)","v":""},{"$f":"IF('V - P'!C395=\"\",\"\",'V - P'!C395)","v":""},{"$f":"IF('V - P'!D395=\"\",\"\",'V - P'!D395)","v":""},{"$f":"IF('V - P'!H395=\"\",\"\",'V - P'!H395)","v":""},{"$f":"IF('V - P'!M395=\"\",\"\",'V - P'!M395)","v":""},null,{"$f":"IF('V - P'!O395=\"\",\"\",'V - P'!O395)","v":""}]
[null,{"$f":"IF(AND('V - P'!$C396=\"\",'V - P'!$D396=\"\"),\"\",'V - P'!V396)","v":""},{"$f":"IF(AND('V - P'!$C396=\"\",'V - P'!$D396=\"\"),\"\",'V - P'!B396)","v":""},{"$f":"IF('V - P'!C396=\"\",\"\",'V - P'!C396)","v":""},{"$f":"IF('V - P'!D396=\"\",\"\",'V - P'!D396)","v":""},{"$f":"IF('V - P'!H396=\"\",\"\",'V - P'!H396)","v":""},{"$f":"IF('V - P'!M396=\"\",\"\",'V - P'!M396)","v":""},null,{"$f":"IF('V - P'!O396=\"\",\"\",'V - P'!O396)","v":""}]
[null,{"$f":"B$1","v":"Věž - Pořadí jednotlivců"}]
[]
[null,{"$f":"B$3","v":"VC ČR v požárním útoku družstev HZS krajů a HZS podniků"},null,null,{"$f":"E$3","v":"Petrovice 19.9.2019"}]
[]
[null,{"$f":"Start!$C$5","v":"MUŽI"}]
[null,"Pořadí","Start. číslo","Jméno","kolektiv","čas             I. pokusu","čas            II. pokusu",null,"Výsledný čas"]
[]
[null,{"$f":"IF(AND('V - P'!$C397=\"\",'V - P'!$D397=\"\"),\"\",'V - P'!V397)","v":""},{"$f":"IF(AND('V - P'!$C397=\"\",'V - P'!$D397=\"\"),\"\",'V - P'!B397)","v":""},{"$f":"IF('V - P'!C397=\"\",\"\",'V - P'!C397)","v":""},{"$f":"IF('V - P'!D397=\"\",\"\",'V - P'!D397)","v":""},{"$f":"IF('V - P'!H397=\"\",\"\",'V - P'!H397)","v":""},{"$f":"IF('V - P'!M397=\"\",\"\",'V - P'!M397)","v":""},null,{"$f":"IF('V - P'!O397=\"\",\"\",'V - P'!O397)","v":""}]
[null,{"$f":"IF(AND('V - P'!$C398=\"\",'V - P'!$D398=\"\"),\"\",'V - P'!V398)","v":""},{"$f":"IF(AND('V - P'!$C398=\"\",'V - P'!$D398=\"\"),\"\",'V - P'!B398)","v":""},{"$f":"IF('V - P'!C398=\"\",\"\",'V - P'!C398)","v":""},{"$f":"IF('V - P'!D398=\"\",\"\",'V - P'!D398)","v":""},{"$f":"IF('V - P'!H398=\"\",\"\",'V - P'!H398)","v":""},{"$f":"IF('V - P'!M398=\"\",\"\",'V - P'!M398)","v":""},null,{"$f":"IF('V - P'!O398=\"\",\"\",'V - P'!O398)","v":""}]
[null,{"$f":"IF(AND('V - P'!$C399=\"\",'V - P'!$D399=\"\"),\"\",'V - P'!V399)","v":""},{"$f":"IF(AND('V - P'!$C399=\"\",'V - P'!$D399=\"\"),\"\",'V - P'!B399)","v":""},{"$f":"IF('V - P'!C399=\"\",\"\",'V - P'!C399)","v":""},{"$f":"IF('V - P'!D399=\"\",\"\",'V - P'!D399)","v":""},{"$f":"IF('V - P'!H399=\"\",\"\",'V - P'!H399)","v":""},{"$f":"IF('V - P'!M399=\"\",\"\",'V - P'!M399)","v":""},null,{"$f":"IF('V - P'!O399=\"\",\"\",'V - P'!O399)","v":""}]
[null,{"$f":"IF(AND('V - P'!$C400=\"\",'V - P'!$D400=\"\"),\"\",'V - P'!V400)","v":""},{"$f":"IF(AND('V - P'!$C400=\"\",'V - P'!$D400=\"\"),\"\",'V - P'!B400)","v":""},{"$f":"IF('V - P'!C400=\"\",\"\",'V - P'!C400)","v":""},{"$f":"IF('V - P'!D400=\"\",\"\",'V - P'!D400)","v":""},{"$f":"IF('V - P'!H400=\"\",\"\",'V - P'!H400)","v":""},{"$f":"IF('V - P'!M400=\"\",\"\",'V - P'!M400)","v":""},null,{"$f":"IF('V - P'!O400=\"\",\"\",'V - P'!O400)","v":""}]

{"sheet":"V-C","index":18,"n_rows":136,"n_cols":29,"rows_kept":136,"cut":false,"hidden":false,"merged":[[133,20,135,20],[133,21,135,21],[133,22,135,22],[133,23,135,23],[133,24,135,24],[133,25,135,25],[133,26,135,26],[133,27,135,27],[133,28,135,28],[130,24,132,24],[130,25,132,25],[130,26,132,26],[130,27,132,27],[130,20,132,20],[130,21,132,21],[130,22,132,22],[130,23,132,23],[130,28,132,28],[127,20,129,20],[127,21,129,21],[127,22,129,22],[127,23,129,23],[127,24,129,24],[127,25,129,25],[127,26,129,26],[127,27,129,27],[127,28,129,28],[124,24,126,24],[124,25,126,25],[124,26,126,26],[124,27,126,27],[124,20,126,20],[124,21,126,21],[124,22,126,22],[124,23,126,23],[124,28,126,28],[121,20,123,20],[121,21,123,21],[121,22,123,22],[121,23,123,23],[121,24,123,24],[121,25,123,25],[121,26,123,26],[121,27,123,27],[121,28,123,28],[118,24,120,24],[118,25,120,25],[118,26,120,26],[118,27,120,27],[118,20,120,20],[118,21,120,21],[118,22,120,22],[118,23,120,23],[118,28,120,28],[115,20,117,20],[115,21,117,21],[115,22,117,22],[115,23,117,23],[115,24,117,24],[115,25,117,25],[115,26,117,26],[115,27,117,27],[115,28,117,28],[112,24,114,24],[112,25,114,25],[112,26,114,26],[112,27,114,27],[112,20,114,20],[112,21,114,21],[112,22,114,22],[112,23,114,23],[112,28,114,28],[109,20,111,20],[109,21,111,21],[109,22,111,22],[109,23,111,23],[109,24,111,24],[109,25,111,25],[109,26,111,26],[109,27,111,27],[109,28,111,28],[106,24,108,24],[106,25,108,25],[106,26,108,26],[106,27,108,27],[106,20,108,20],[106,21,108,21],[106,22,108,22],[106,23,108,23],[106,28,108,28],[99,20,101,20],[99,21,101,21],[99,22,101,22],[99,23,101,23],[99,24,101,24],[99,25,101,25],[99,26,101,26],[99,27,101,27],[99,28,101,28],[96,24,98,24],[96,25,98,25],[96,26,98,26],[96,27,98,27],[96,20,98,20],[96,21,98,21],[96,22,98,22],[96,23,98,23],[96,28,98,28],[93,20,95,20],[93,21,95,21],[93,22,95,22],[93,23,95,23],[93,24,95,24],[93,25,95,25],[93,26,95,26],[93,27,95,27],[93,28,95,28],[90,24,92,24],[90,25,92,25],[90,26,92,26],[90,27,92,27],[90,20,92,20],[90,21,92,21],[90,22,92,22],[90,23,92,23],[90,28,92,28],[87,20,89,20],[87,21,89,21],[87,22,89,22],[87,23,89,23],[87,24,89,24],[87,25,89,25],[87,26,89,26],[87,27,89,27],[87,28,89,28],[84,24,86,24],[84,25,86,25],[84,26,86,26],[84,27,86,27],[84,20,86,20],[84,21,86,21],[84,22,86,22],[84,23,86,23],[84,28,86,28],[81,20,83,20],[81,21,83,21],[81,22,83,22],[81,23,83,23],[81,24,83,24],[81,25,83,25],[81,26,83,26],[81,27,83,27],[81,28,83,28],[78,24,80,24],[78,25,80,25],[78,26,80,26],[78,27,80,27],[78,20,80,20],[78,21,80,21],[78,22,80,22],[78,23,80,23],[78,28,80,28],[75,20,77,20],[75,21,77,21],[75,22,77,22],[75,23,77,23],[75,24,77,24],[75,25,77,25],[75,26,77,26],[75,27,77,27],[75,28,77,28],[72,24,74,24],[72,25,74,25],[72,26,74,26],[72,27,74,27],[72,20,74,20],[72,21,74,21],[72,22,74,22],[72,23,74,23],[72,28,74,28],[65,20,67,20],[65,21,67,21],[65,22,67,22],[65,23,67,23],[65,24,67,24],[65,25,67,25],[65,26,67,26],[65,27,67,27],[65,28,67,28],[62,24,64,24],[62,25,64,25],[62,26,64,26],[62,27,64,27],[62,20,64,20],[62,21,64,21],[62,22,64,22],[62,23,64,23],[62,28,64,28],[59,20,61,20],[59,21,61,21],[59,22,61,22],[59,23,61,23],[59,24,61,24],[59,25,61,25],[59,26,61,26],[59,27,61,27],[59,28,61,28],[56,24,58,24],[56,25,58,25],[56,26,58,26],[56,27,58,27],[56,20,58,20],[56,21,58,21],[56,22,58,22],[56,23,58,23],[56,28,58,28],[53,20,55,20],[53,21,55,21],[53,22,55,22],[53,23,55,23],[53,24,55,24],[53,25,55,25],[53,26,55,26],[53,27,55,27],[53,28,55,28],[50,24,52,24],[50,25,52,25],[50,26,52,26],[50,27,52,27],[50,20,52,20],[50,21,52,21],[50,22,52,22],[50,23,52,23],[50,28,52,28],[47,20,49,20],[47,21,49,21],[47,22,49,22],[47,23,49,23],[47,24,49,24],[47,25,49,25],[47,26,49,26],[47,27,49,27],[47,28,49,28],[44,24,46,24],[44,25,46,25],[44,26,46,26],[44,27,46,27],[44,20,46,20],[44,21,46,21],[44,22,46,22],[44,23,46,23],[44,28,46,28],[41,20,43,20],[41,21,43,21],[41,22,43,22],[41,23,43,23],[41,24,43,24],[41,25,43,25],[41,26,43,26],[41,27,43,27],[41,28,43,28],[38,24,40,24],[38,25,40,25],[38,26,40,26],[38,27,40,27],[38,20,40,20],[38,21,40,21],[38,22,40,22],[38,23,40,23],[38,28,40,28],[31,20,33,20],[31,21,33,21],[31,22,33,22],[31,23,33,23],[31,24,33,24],[31,25,33,25],[31,26,33,26],[31,27,33,27],[31,28,33,28],[28,24,30,24],[28,25,30,25],[28,26,30,26],[28,27,30,27],[28,20,30,20],[28,21,30,21],[28,22,30,22],[28,23,30,23],[28,28,30,28],[25,20,27,20],[25,21,27,21],[25,22,27,22],[25,23,27,23],[25,24,27,24],[25,25,27,25],[25,26,27,26],[25,27,27,27],[25,28,27,28],[22,24,24,24],[22,25,24,25],[22,26,24,26],[22,27,24,27],[22,20,24,20],[22,21,24,21],[22,22,24,22],[22,23,24,23],[22,28,24,28],[19,20,21,20],[19,21,21,21],[19,22,21,22],[19,23,21,23],[19,24,21,24],[19,25,21,25],[19,26,21,26],[19,27,21,27],[19,28,21,28],[16,24,18,24],[16,25,18,25],[16,26,18,26],[16,27,18,27],[16,20,18,20],[16,21,18,21],[16,22,18,22],[16,23,18,23],[16,28,18,28],[13,20,15,20],[13,21,15,21],[13,22,15,22],[13,23,15,23],[13,24,15,24],[13,25,15,25],[13,26,15,26],[13,27,15,27],[13,28,15,28],[10,24,12,24],[10,25,12,25],[10,26,12,26],[10,27,12,27],[10,20,12,20],[10,21,12,21],[10,22,12,22],[10,23,12,23],[10,28,12,28],[7,20,9,20],[7,21,9,21],[7,22,9,22],[7,23,9,23],[7,24,9,24],[7,25,9,25],[7,26,9,26],[7,27,9,27],[7,28,9,28],[4,24,6,24],[4,25,6,25],[4,26,6,26],[4,27,6,27],[4,20,6,20],[4,21,6,21],[4,22,6,22],[4,23,6,23],[4,28,6,28],[124,18,126,18],[127,16,129,16],[127,18,129,18],[130,16,132,16],[130,18,132,18],[133,16,135,16],[133,18,135,18],[130,1,132,1],[130,2,132,2],[133,1,135,1],[133,2,135,2],[133,13,135,13],[133,14,135,14],[130,13,132,13],[130,14,132,14],[127,1,129,1],[127,2,129,2],[127,13,129,13],[127,14,129,14],[124,1,126,1],[124,2,126,2],[124,13,126,13],[124,14,126,14],[124,16,126,16],[118,16,120,16],[118,18,120,18],[121,16,123,16],[121,18,123,18],[118,1,120,1],[118,2,120,2],[121,1,123,1],[121,2,123,2],[121,13,123,13],[121,14,123,14],[118,13,120,13],[118,14,120,14],[109,1,111,1],[109,2,111,2],[109,13,111,13],[109,14,111,14],[109,16,111,16],[109,18,111,18],[106,13,108,13],[106,14,108,14],[115,1,117,1],[115,2,117,2],[115,13,117,13],[115,14,117,14],[112,1,114,1],[112,2,114,2],[112,13,114,13],[112,14,114,14],[112,16,114,16],[112,18,114,18],[115,16,117,16],[115,18,117,18],[106,1,108,1],[106,2,108,2],[106,16,108,16],[106,18,108,18],[99,1,101,1],[99,2,101,2],[96,16,98,16],[96,18,98,18],[99,16,101,16],[99,18,101,18],[102,1,102,18],[104,4,104,12],[99,13,101,13],[99,14,101,14],[87,16,89,16],[87,18,89,18],[90,16,92,16],[90,18,92,18],[93,16,95,16],[93,18,95,18],[93,1,95,1],[93,2,95,2],[96,1,98,1],[96,2,98,2],[96,13,98,13],[96,14,98,14],[93,13,95,13],[93,14,95,14],[78,2,80,2],[78,13,80,13],[78,14,80,14],[90,1,92,1],[90,2,92,2],[90,13,92,13],[90,14,92,14],[87,1,89,1],[87,2,89,2],[87,13,89,13],[87,14,89,14],[31,18,33,18],[53,18,55,18],[38,18,40,18],[41,18,43,18],[44,18,46,18],[47,18,49,18],[50,18,52,18],[81,18,83,18],[56,18,58,18],[59,18,61,18],[62,18,64,18],[65,18,67,18],[68,1,68,18],[70,4,70,12],[72,18,74,18],[75,18,77,18],[81,16,83,16],[72,14,74,14],[75,1,77,1],[75,2,77,2],[78,18,80,18],[72,16,74,16],[75,16,77,16],[78,1,80,1],[16,18,18,18],[19,18,21,18],[22,18,24,18],[25,18,27,18],[4,18,6,18],[7,18,9,18],[10,18,12,18],[13,18,15,18],[28,18,30,18],[84,16,86,16],[81,1,83,1],[81,2,83,2],[81,13,83,13],[81,14,83,14],[84,1,86,1],[84,2,86,2],[84,13,86,13],[84,14,86,14],[38,1,40,1],[50,1,52,1],[50,2,52,2],[50,13,52,13],[50,14,52,14],[47,1,49,1],[47,2,49,2],[47,13,49,13],[47,14,49,14],[13,14,15,14],[16,14,18,14],[19,14,21,14],[22,14,24,14],[2,4,2,12],[28,13,30,13],[31,1,33,1],[22,2,24,2],[25,2,27,2],[28,2,30,2],[19,2,21,2],[31,2,33,2],[22,1,24,1],[25,1,27,1],[13,13,15,13],[16,13,18,13],[25,13,27,13],[28,1,30,1],[19,13,21,13],[22,13,24,13],[59,1,61,1],[59,2,61,2],[59,13,61,13],[53,14,55,14],[16,16,18,16],[19,16,21,16],[22,16,24,16],[4,1,6,1],[7,1,9,1],[28,14,30,14],[10,13,12,13],[4,16,6,16],[7,16,9,16],[16,1,18,1],[10,2,12,2],[13,2,15,2],[16,2,18,2],[10,1,12,1],[25,16,27,16],[25,14,27,14],[13,16,15,16],[19,1,21,1],[13,1,15,1],[28,16,30,16],[56,13,58,13],[56,14,58,14],[31,14,33,14],[50,16,52,16],[34,1,34,18],[53,16,55,16],[31,13,33,13],[31,16,33,16],[38,16,40,16],[41,16,43,16],[44,16,46,16],[47,16,49,16],[38,2,40,2],[38,13,40,13],[44,14,46,14],[38,14,40,14],[44,1,46,1],[44,2,46,2],[44,13,46,13],[41,1,43,1],[41,2,43,2],[41,13,43,13],[36,4,36,12],[41,14,43,14],[59,14,61,14],[53,1,55,1],[0,1,0,18],[84,18,86,18],[4,2,6,2],[7,2,9,2],[4,13,6,13],[4,14,6,14],[10,16,12,16],[10,14,12,14],[75,14,77,14],[78,16,80,16],[75,13,77,13],[72,1,74,1],[72,2,74,2],[72,13,74,13],[7,14,9,14],[7,13,9,13],[53,2,55,2],[53,13,55,13],[56,16,58,16],[59,16,61,16],[56,1,58,1],[56,2,58,2],[62,16,64,16],[65,16,67,16],[65,1,67,1],[65,2,67,2],[65,13,67,13],[65,14,67,14],[62,1,64,1],[62,2,64,2],[62,13,64,13],[62,14,64,14]]}
[null,"Věž - Pořadí družstev"]
[null,null,null,null,null,null,null,null,null,null,null,null,null,6]
[null,null,{"$f":"Start!$C$5","v":"MUŽI"},null,"Soutěžící"]
[null,"st.č.","SDH","Pokus",1,2,3,4,5,6,7,8,9,"P","Suma časů",null,"Poř.",null,"Poř.",null,1,2,3,4,5,6,7,8,9]
[null,{"$f":"Start!B7","v":1},{"$f":"IF(Start!C7=\"\",\"\",Start!C7)","v":"HZS Jihočeského kraje"},"1. pokus",12,"DNF","DNF","DNF","DNF","DNF","DNF","DNF",null,{"$f":"IF(C5=\"\",\"\",COUNT(E7:M7))","v":1},{"$f":"IF(C5=\"\",\"\",IF(AND(N5=0,COUNTIF(E7:M7,\"NP\")=0),\"DNF\",IF(N5<N$2,\"NP\",SUM(U5:AC7))))","v":"NP"},null,{"$f":"IF(C5=\"\",\"\",IF(OR(O5=\"NP\",O5=\"DNF\"),Start!$E$5,RANK(O5,O$5:O$136,1)))","v":9},null,{"$f":"IF(D5=\"\",\"\",IF(OR(Q5=\"NP\",Q5=\"DNF\"),IF(Q5=\"NP\",MAX(Q$5:Q$85)+COUNTIF((Q$5:Q$85),MAX(Q$5:Q$85)),MAX(Q$5:Q$85)+COUNTIF((Q$5:Q$85),MAX(Q$5:Q$85))+COUNTIF((Q$5:Q$85),\"NP\")),Q5))","v":9},null,{"$f":"IF($C5=\"\",\"\",IF(U$4>$N$2,0,IF(ISNA(SMALL($E7:$M7,1)),0,SMALL($E7:$M7,1))))","v":12},{"$f":"IF($C5=\"\",\"\",IF(V$4>$N$2,0,IF(ISNA(SMALL($E7:$M7,2)),0,SMALL($E7:$M7,2))))","v":{"$error":"#NUM!"}},{"$f":"IF($C5=\"\",\"\",IF(W$4>$N$2,0,IF(ISNA(SMALL($E7:$M7,3)),0,SMALL($E7:$M7,3))))","v":{"$error":"#NUM!"}},{"$f":"IF($C5=\"\",\"\",IF(X$4>$N$2,0,IF(ISNA(SMALL($E7:$M7,4)),0,SMALL($E7:$M7,4))))","v":{"$error":"#NUM!"}},{"$f":"IF($C5=\"\",\"\",IF(Y$4>$N$2,0,IF(ISNA(SMALL($E7:$M7,5)),0,SMALL($E7:$M7,5))))","v":{"$error":"#NUM!"}},{"$f":"IF($C5=\"\",\"\",IF(Z$4>$N$2,0,IF(ISNA(SMALL($E7:$M7,6)),0,SMALL($E7:$M7,6))))","v":{"$error":"#NUM!"}},{"$f":"IF($C5=\"\",\"\",IF(AA$4>$N$2,0,IF(ISNA(SMALL($E7:$M7,7)),0,SMALL($E7:$M7,7))))","v":0},{"$f":"IF($C5=\"\",\"\",IF(AB$4>$N$2,0,IF(ISNA(SMALL($E7:$M7,8)),0,SMALL($E7:$M7,8))))","v":0},{"$f":"IF($C5=\"\",\"\",IF(AC$4>$N$2,0,IF(ISNA(SMALL($E7:$M7,9)),0,SMALL($E7:$M7,9))))","v":0}]
[null,null,null,"2. pokus","DNF","DNF","DNF","DNF","DNF","DNF","DNF","DNF"]
[null,null,null,"čas",{"$f":"IF(OR($C5=\"\",E5=\"\",E6=\"\"),\"\",IF(OR(AND(E5=\"NP\",E6=\"NP\"),AND(E5=\"DNF\",E6=\"DNF\")),E5,IF(AND(E5=\"NP\",E6=\"DNF\"),E5,IF(AND(E5=\"DNF\",E6=\"NP\"),E6,MIN(E5,E6)))))","v":12},"DNF","DNF","DNF","DNF","DNF","DNF","DNF",""]
[null,{"$f":"Start!B8","v":2},{"$f":"IF(Start!C8=\"\",\"\",Start!C8)","v":"HZS Kraje Vysočina"},"1. pokus","DNF","DNF","DNF","DNF","DNF","DNF","","",null,{"$f":"IF(C8=\"\",\"\",COUNT(E10:M10))","v":0},{"$f":"IF(C8=\"\",\"\",IF(AND(N8=0,COUNTIF(E10:M10,\"NP\")=0),\"DNF\",IF(N8<N$2,\"NP\",SUM(U8:AC10))))","v":"DNF"},null,{"$f":"IF(C8=\"\",\"\",IF(OR(O8=\"NP\",O8=\"DNF\"),Start!$E$5,RANK(O8,O$5:O$136,1)))","v":9},null,{"$f":"IF(D8=\"\",\"\",IF(OR(Q8=\"NP\",Q8=\"DNF\"),IF(Q8=\"NP\",MAX(Q$5:Q$85)+COUNTIF((Q$5:Q$85),MAX(Q$5:Q$85)),MAX(Q$5:Q$85)+COUNTIF((Q$5:Q$85),MAX(Q$5:Q$85))+COUNTIF((Q$5:Q$85),\"NP\")),Q8))","v":9},null,{"$f":"IF($C8=\"\",\"\",IF(U$4>$N$2,0,IF(ISNA(SMALL($E10:$M10,1)),0,SMALL($E10:$M10,1))))","v":{"$error":"#NUM!"}},{"$f":"IF($C8=\"\",\"\",IF(V$4>$N$2,0,IF(ISNA(SMALL($E10:$M10,2)),0,SMALL($E10:$M10,2))))","v":{"$error":"#NUM!"}},{"$f":"IF($C8=\"\",\"\",IF(W$4>$N$2,0,IF(ISNA(SMALL($E10:$M10,3)),0,SMALL($E10:$M10,3))))","v":{"$error":"#NUM!"}},{"$f":"IF($C8=\"\",\"\",IF(X$4>$N$2,0,IF(ISNA(SMALL($E10:$M10,4)),0,SMALL($E10:$M10,4))))","v":{"$error":"#NUM!"}},{"$f":"IF($C8=\"\",\"\",IF(Y$4>$N$2,0,IF(ISNA(SMALL($E10:$M10,5)),0,SMALL($E10:$M10,5))))","v":{"$error":"#NUM!"}},{"$f":"IF($C8=\"\",\"\",IF(Z$4>$N$2,0,IF(ISNA(SMALL($E10:$M10,6)),0,SMALL($E10:$M10,6))))","v":{"$error":"#NUM!"}},{"$f":"IF($C8=\"\",\"\",IF(AA$4>$N$2,0,IF(ISNA(SMALL($E10:$M10,7)),0,SMALL($E10:$M10,7))))","v":0},{"$f":"IF($C8=\"\",\"\",IF(AB$4>$N$2,0,IF(ISNA(SMALL($E10:$M10,8)),0,SMALL($E10:$M10,8))))","v":0},{"$f":"IF($C8=\"\",\"\",IF(AC$4>$N$2,0,IF(ISNA(SMALL($E10:$M10,9)),0,SMALL($E10:$M10,9))))","v":0}]
[null,null,null,"2. pokus","DNF","DNF","DNF","DNF","DNF","DNF","",""]
[null,null,null,"čas",{"$f":"IF(OR($C8=\"\",E8=\"\",E9=\"\"),\"\",IF(OR(AND(E8=\"NP\",E9=\"NP\"),AND(E8=\"DNF\",E9=\"DNF\")),E8,IF(AND(E8=\"NP\",E9=\"DNF\"),E8,IF(AND(E8=\"DNF\",E9=\"NP\"),E9,MIN(E8,E9)))))","v":"DNF"},"DNF","DNF","DNF","DNF","DNF","","",""]
[null,{"$f":"Start!B9","v":3},{"$f":"IF(Start!C9=\"\",\"\",Start!C9)","v":"HZS Zlínského Kraje"},"1. pokus","DNF","DNF","DNF","DNF","DNF","DNF","DNF","DNF",null,{"$f":"IF(C11=\"\",\"\",COUNT(E13:M13))","v":0},{"$f":"IF(C11=\"\",\"\",IF(AND(N11=0,COUNTIF(E13:M13,\"NP\")=0),\"DNF\",IF(N11<N$2,\"NP\",SUM(U11:AC13))))","v":"DNF"},null,{"$f":"IF(C11=\"\",\"\",IF(OR(O11=\"NP\",O11=\"DNF\"),Start!$E$5,RANK(O11,O$5:O$136,1)))","v":9},null,{"$f":"IF(D11=\"\",\"\",IF(OR(Q11=\"NP\",Q11=\"DNF\"),IF(Q11=\"NP\",MAX(Q$5:Q$85)+COUNTIF((Q$5:Q$85),MAX(Q$5:Q$85)),MAX(Q$5:Q$85)+COUNTIF((Q$5:Q$85),MAX(Q$5:Q$85))+COUNTIF((Q$5:Q$85),\"NP\")),Q11))","v":9},null,{"$f":"IF($C11=\"\",\"\",IF(U$4>$N$2,0,IF(ISNA(SMALL($E13:$M13,1)),0,SMALL($E13:$M13,1))))","v":{"$error":"#NUM!"}},{"$f":"IF($C11=\"\",\"\",IF(V$4>$N$2,0,IF(ISNA(SMALL($E13:$M13,2)),0,SMALL($E13:$M13,2))))","v":{"$error":"#NUM!"}},{"$f":"IF($C11=\"\",\"\",IF(W$4>$N$2,0,IF(ISNA(SMALL($E13:$M13,3)),0,SMALL($E13:$M13,3))))","v":{"$error":"#NUM!"}},{"$f":"IF($C11=\"\",\"\",IF(X$4>$N$2,0,IF(ISNA(SMALL($E13:$M13,4)),0,SMALL($E13:$M13,4))))","v":{"$error":"#NUM!"}},{"$f":"IF($C11=\"\",\"\",IF(Y$4>$N$2,0,IF(ISNA(SMALL($E13:$M13,5)),0,SMALL($E13:$M13,5))))","v":{"$error":"#NUM!"}},{"$f":"IF($C11=\"\",\"\",IF(Z$4>$N$2,0,IF(ISNA(SMALL($E13:$M13,6)),0,SMALL($E13:$M13,6))))","v":{"$error":"#NUM!"}},{"$f":"IF($C11=\"\",\"\",IF(AA$4>$N$2,0,IF(ISNA(SMALL($E13:$M13,7)),0,SMALL($E13:$M13,7))))","v":0},{"$f":"IF($C11=\"\",\"\",IF(AB$4>$N$2,0,IF(ISNA(SMALL($E13:$M13,8)),0,SMALL($E13:$M13,8))))","v":0},{"$f":"IF($C11=\"\",\"\",IF(AC$4>$N$2,0,IF(ISNA(SMALL($E13:$M13,9)),0,SMALL($E13:$M13,9))))","v":0}]
[null,null,null,"2. pokus","DNF","DNF","DNF","DNF","DNF","DNF","DNF","DNF"]
[null,null,null,"čas",{"$f":"IF(OR($C11=\"\",E11=\"\",E12=\"\"),\"\",IF(OR(AND(E11=\"NP\",E12=\"NP\"),AND(E11=\"DNF\",E12=\"DNF\")),E11,IF(AND(E11=\"NP\",E12=\"DNF\"),E11,IF(AND(E11=\"DNF\",E12=\"NP\"),E12,MIN(E11,E12)))))","v":"DNF"},"DNF","DNF","DNF","DNF","DNF","DNF","DNF",""]
[null,{"$f":"Start!B10","v":4},{"$f":"IF(Start!C10=\"\",\"\",Start!C10)","v":"HZS správa železnic"},"1. pokus","DNF","DNF","DNF","DNF","DNF","DNF","DNF","DNF",null,{"$f":"IF(C14=\"\",\"\",COUNT(E16:M16))","v":0},{"$f":"IF(C14=\"\",\"\",IF(AND(N14=0,COUNTIF(E16:M16,\"NP\")=0),\"DNF\",IF(N14<N$2,\"NP\",SUM(U14:AC16))))","v":"DNF"},null,{"$f":"IF(C14=\"\",\"\",IF(OR(O14=\"NP\",O14=\"DNF\"),Start!$E$5,RANK(O14,O$5:O$136,1)))","v":9},null,{"$f":"IF(D14=\"\",\"\",IF(OR(Q14=\"NP\",Q14=\"DNF\"),IF(Q14=\"NP\",MAX(Q$5:Q$85)+COUNTIF((Q$5:Q$85),MAX(Q$5:Q$85)),MAX(Q$5:Q$85)+COUNTIF((Q$5:Q$85),MAX(Q$5:Q$85))+COUNTIF((Q$5:Q$85),\"NP\")),Q14))","v":9},null,{"$f":"IF($C14=\"\",\"\",IF(U$4>$N$2,0,IF(ISNA(SMALL($E16:$M16,1)),0,SMALL($E16:$M16,1))))","v":{"$error":"#NUM!"}},{"$f":"IF($C14=\"\",\"\",IF(V$4>$N$2,0,IF(ISNA(SMALL($E16:$M16,2)),0,SMALL($E16:$M16,2))))","v":{"$error":"#NUM!"}},{"$f":"IF($C14=\"\",\"\",IF(W$4>$N$2,0,IF(ISNA(SMALL($E16:$M16,3)),0,SMALL($E16:$M16,3))))","v":{"$error":"#NUM!"}},{"$f":"IF($C14=\"\",\"\",IF(X$4>$N$2,0,IF(ISNA(SMALL($E16:$M16,4)),0,SMALL($E16:$M16,4))))","v":{"$error":"#NUM!"}},{"$f":"IF($C14=\"\",\"\",IF(Y$4>$N$2,0,IF(ISNA(SMALL($E16:$M16,5)),0,SMALL($E16:$M16,5))))","v":{"$error":"#NUM!"}},{"$f":"IF($C14=\"\",\"\",IF(Z$4>$N$2,0,IF(ISNA(SMALL($E16:$M16,6)),0,SMALL($E16:$M16,6))))","v":{"$error":"#NUM!"}},{"$f":"IF($C14=\"\",\"\",IF(AA$4>$N$2,0,IF(ISNA(SMALL($E16:$M16,7)),0,SMALL($E16:$M16,7))))","v":0},{"$f":"IF($C14=\"\",\"\",IF(AB$4>$N$2,0,IF(ISNA(SMALL($E16:$M16,8)),0,SMALL($E16:$M16,8))))","v":0},{"$f":"IF($C14=\"\",\"\",IF(AC$4>$N$2,0,IF(ISNA(SMALL($E16:$M16,9)),0,SMALL($E16:$M16,9))))","v":0}]
[null,null,null,"2. pokus","DNF","DNF","DNF","DNF","DNF","DNF","DNF","DNF"]
[null,null,null,"čas",{"$f":"IF(OR($C14=\"\",E14=\"\",E15=\"\"),\"\",IF(OR(AND(E14=\"NP\",E15=\"NP\"),AND(E14=\"DNF\",E15=\"DNF\")),E14,IF(AND(E14=\"NP\",E15=\"DNF\"),E14,IF(AND(E14=\"DNF\",E15=\"NP\"),E15,MIN(E14,E15)))))","v":"DNF"},"DNF","DNF","DNF","DNF","DNF","DNF","DNF",""]
[null,{"$f":"Start!B11","v":5},{"$f":"IF(Start!C11=\"\",\"\",Start!C11)","v":"HZS Libereckého Kraje"},"1. pokus","DNF","DNF","DNF","DNF","DNF","DNF","DNF","",null,{"$f":"IF(C17=\"\",\"\",COUNT(E19:M19))","v":0},{"$f":"IF(C17=\"\",\"\",IF(AND(N17=0,COUNTIF(E19:M19,\"NP\")=0),\"DNF\",IF(N17<N$2,\"NP\",SUM(U17:AC19))))","v":"DNF"},null,{"$f":"IF(C17=\"\",\"\",IF(OR(O17=\"NP\",O17=\"DNF\"),Start!$E$5,RANK(O17,O$5:O$136,1)))","v":9},null,{"$f":"IF(D17=\"\",\"\",IF(OR(Q17=\"NP\",Q17=\"DNF\"),IF(Q17=\"NP\",MAX(Q$5:Q$85)+COUNTIF((Q$5:Q$85),MAX(Q$5:Q$85)),MAX(Q$5:Q$85)+COUNTIF((Q$5:Q$85),MAX(Q$5:Q$85))+COUNTIF((Q$5:Q$85),\"NP\")),Q17))","v":9},null,{"$f":"IF($C17=\"\",\"\",IF(U$4>$N$2,0,IF(ISNA(SMALL($E19:$M19,1)),0,SMALL($E19:$M19,1))))","v":{"$error":"#NUM!"}},{"$f":"IF($C17=\"\",\"\",IF(V$4>$N$2,0,IF(ISNA(SMALL($E19:$M19,2)),0,SMALL($E19:$M19,2))))","v":{"$error":"#NUM!"}},{"$f":"IF($C17=\"\",\"\",IF(W$4>$N$2,0,IF(ISNA(SMALL($E19:$M19,3)),0,SMALL($E19:$M19,3))))","v":{"$error":"#NUM!"}},{"$f":"IF($C17=\"\",\"\",IF(X$4>$N$2,0,IF(ISNA(SMALL($E19:$M19,4)),0,SMALL($E19:$M19,4))))","v":{"$error":"#NUM!"}},{"$f":"IF($C17=\"\",\"\",IF(Y$4>$N$2,0,IF(ISNA(SMALL($E19:$M19,5)),0,SMALL($E19:$M19,5))))","v":{"$error":"#NUM!"}},{"$f":"IF($C17=\"\",\"\",IF(Z$4>$N$2,0,IF(ISNA(SMALL($E19:$M19,6)),0,SMALL($E19:$M19,6))))","v":{"$error":"#NUM!"}},{"$f":"IF($C17=\"\",\"\",IF(AA$4>$N$2,0,IF(ISNA(SMALL($E19:$M19,7)),0,SMALL($E19:$M19,7))))","v":0},{"$f":"IF($C17=\"\",\"\",IF(AB$4>$N$2,0,IF(ISNA(SMALL($E19:$M19,8)),0,SMALL($E19:$M19,8))))","v":0},{"$f":"IF($C17=\"\",\"\",IF(AC$4>$N$2,0,IF(ISNA(SMALL($E19:$M19,9)),0,SMALL($E19:$M19,9))))","v":0}]
[null,null,null,"2. pokus","DNF","DNF","DNF","DNF","DNF","DNF","DNF",""]
[null,null,null,"čas",{"$f":"IF(OR($C17=\"\",E17=\"\",E18=\"\"),\"\",IF(OR(AND(E17=\"NP\",E18=\"NP\"),AND(E17=\"DNF\",E18=\"DNF\")),E17,IF(AND(E17=\"NP\",E18=\"DNF\"),E17,IF(AND(E17=\"DNF\",E18=\"NP\"),E18,MIN(E17,E18)))))","v":"DNF"},"DNF","DNF","DNF","DNF","DNF","DNF","",""]
[null,{"$f":"Start!B12","v":6},{"$f":"IF(Start!C12=\"\",\"\",Start!C12)","v":"HZS Pardubického Kraje"},"1. pokus","DNF","DNF","DNF","DNF","DNF","DNF","","",null,{"$f":"IF(C20=\"\",\"\",COUNT(E22:M22))","v":0},{"$f":"IF(C20=\"\",\"\",IF(AND(N20=0,COUNTIF(E22:M22,\"NP\")=0),\"DNF\",IF(N20<N$2,\"NP\",SUM(U20:AC22))))","v":"DNF"},null,{"$f":"IF(C20=\"\",\"\",IF(OR(O20=\"NP\",O20=\"DNF\"),Start!$E$5,RANK(O20,O$5:O$136,1)))","v":9},null,{"$f":"IF(D20=\"\",\"\",IF(OR(Q20=\"NP\",Q20=\"DNF\"),IF(Q20=\"NP\",MAX(Q$5:Q$85)+COUNTIF((Q$5:Q$85),MAX(Q$5:Q$85)),MAX(Q$5:Q$85)+COUNTIF((Q$5:Q$85),MAX(Q$5:Q$85))+COUNTIF((Q$5:Q$85),\"NP\")),Q20))","v":9},null,{"$f":"IF($C20=\"\",\"\",IF(U$4>$N$2,0,IF(ISNA(SMALL($E22:$M22,1)),0,SMALL($E22:$M22,1))))","v":{"$error":"#NUM!"}},{"$f":"IF($C20=\"\",\"\",IF(V$4>$N$2,0,IF(ISNA(SMALL($E22:$M22,2)),0,SMALL($E22:$M22,2))))","v":{"$error":"#NUM!"}},{"$f":"IF($C20=\"\",\"\",IF(W$4>$N$2,0,IF(ISNA(SMALL($E22:$M22,3)),0,SMALL($E22:$M22,3))))","v":{"$error":"#NUM!"}},{"$f":"IF($C20=\"\",\"\",IF(X$4>$N$2,0,IF(ISNA(SMALL($E22:$M22,4)),0,SMALL($E22:$M22,4))))","v":{"$error":"#NUM!"}},{"$f":"IF($C20=\"\",\"\",IF(Y$4>$N$2,0,IF(ISNA(SMALL($E22:$M22,5)),0,SMALL($E22:$M22,5))))","v":{"$error":"#NUM!"}},{"$f":"IF($C20=\"\",\"\",IF(Z$4>$N$2,0,IF(ISNA(SMALL($E22:$M22,6)),0,SMALL($E22:$M22,6))))","v":{"$error":"#NUM!"}},{"$f":"IF($C20=\"\",\"\",IF(AA$4>$N$2,0,IF(ISNA(SMALL($E22:$M22,7)),0,SMALL($E22:$M22,7))))","v":0},{"$f":"IF($C20=\"\",\"\",IF(AB$4>$N$2,0,IF(ISNA(SMALL($E22:$M22,8)),0,SMALL($E22:$M22,8))))","v":0},{"$f":"IF($C20=\"\",\"\",IF(AC$4>$N$2,0,IF(ISNA(SMALL($E22:$M22,9)),0,SMALL($E22:$M22,9))))","v":0}]
[null,null,null,"2. pokus","DNF","DNF","DNF","DNF","DNF","DNF","",""]
[null,null,null,"čas",{"$f":"IF(OR($C20=\"\",E20=\"\",E21=\"\"),\"\",IF(OR(AND(E20=\"NP\",E21=\"NP\"),AND(E20=\"DNF\",E21=\"DNF\")),E20,IF(AND(E20=\"NP\",E21=\"DNF\"),E20,IF(AND(E20=\"DNF\",E21=\"NP\"),E21,MIN(E20,E21)))))","v":"DNF"},"DNF","DNF","DNF","DNF","DNF","","",""]
[null,{"$f":"Start!B13","v":7},{"$f":"IF(Start!C13=\"\",\"\",Start!C13)","v":"HZS Královohradeckého Kr."},"1. pokus","DNF","DNF","DNF","DNF","DNF","DNF","","",null,{"$f":"IF(C23=\"\",\"\",COUNT(E25:M25))","v":0},{"$f":"IF(C23=\"\",\"\",IF(AND(N23=0,COUNTIF(E25:M25,\"NP\")=0),\"DNF\",IF(N23<N$2,\"NP\",SUM(U23:AC25))))","v":"DNF"},null,{"$f":"IF(C23=\"\",\"\",IF(OR(O23=\"NP\",O23=\"DNF\"),Start!$E$5,RANK(O23,O$5:O$136,1)))","v":9},null,{"$f":"IF(D23=\"\",\"\",IF(OR(Q23=\"NP\",Q23=\"DNF\"),IF(Q23=\"NP\",MAX(Q$5:Q$85)+COUNTIF((Q$5:Q$85),MAX(Q$5:Q$85)),MAX(Q$5:Q$85)+COUNTIF((Q$5:Q$85),MAX(Q$5:Q$85))+COUNTIF((Q$5:Q$85),\"NP\")),Q23))","v":9},null,{"$f":"IF($C23=\"\",\"\",IF(U$4>$N$2,0,IF(ISNA(SMALL($E25:$M25,1)),0,SMALL($E25:$M25,1))))","v":{"$error":"#NUM!"}},{"$f":"IF($C23=\"\",\"\",IF(V$4>$N$2,0,IF(ISNA(SMALL($E25:$M25,2)),0,SMALL($E25:$M25,2))))","v":{"$error":"#NUM!"}},{"$f":"IF($C23=\"\",\"\",IF(W$4>$N$2,0,IF(ISNA(SMALL($E25:$M25,3)),0,SMALL($E25:$M25,3))))","v":{"$error":"#NUM!"}},{"$f":"IF($C23=\"\",\"\",IF(X$4>$N$2,0,IF(ISNA(SMALL($E25:$M25,4)),0,SMALL($E25:$M25,4))))","v":{"$error":"#NUM!"}},{"$f":"IF($C23=\"\",\"\",IF(Y$4>$N$2,0,IF(ISNA(SMALL($E25:$M25,5)),0,SMALL($E25:$M25,5))))","v":{"$error":"#NUM!"}},{"$f":"IF($C23=\"\",\"\",IF(Z$4>$N$2,0,IF(ISNA(SMALL($E25:$M25,6)),0,SMALL($E25:$M25,6))))","v":{"$error":"#NUM!"}},{"$f":"IF($C23=\"\",\"\",IF(AA$4>$N$2,0,IF(ISNA(SMALL($E25:$M25,7)),0,SMALL($E25:$M25,7))))","v":0},{"$f":"IF($C23=\"\",\"\",IF(AB$4>$N$2,0,IF(ISNA(SMALL($E25:$M25,8)),0,SMALL($E25:$M25,8))))","v":0},{"$f":"IF($C23=\"\",\"\",IF(AC$4>$N$2,0,IF(ISNA(SMALL($E25:$M25,9)),0,SMALL($E25:$M25,9))))","v":0}]
[null,null,null,"2. pokus","DNF","DNF","DNF","DNF","DNF","DNF","",""]
[null,null,null,"čas",{"$f":"IF(OR($C23=\"\",E23=\"\",E24=\"\"),\"\",IF(OR(AND(E23=\"NP\",E24=\"NP\"),AND(E23=\"DNF\",E24=\"DNF\")),E23,IF(AND(E23=\"NP\",E24=\"DNF\"),E23,IF(AND(E23=\"DNF\",E24=\"NP\"),E24,MIN(E23,E24)))))","v":"DNF"},"DNF","DNF","DNF","DNF","DNF","","",""]
[null,{"$f":"Start!B14","v":8},{"$f":"IF(Start!C14=\"\",\"\",Start!C14)","v":"HZS Plzeňského Kraje"},"1. pokus","DNF","DNF","DNF","DNF","DNF","DNF","DNF","DNF",null,{"$f":"IF(C26=\"\",\"\",COUNT(E28:M28))","v":0},{"$f":"IF(C26=\"\",\"\",IF(AND(N26=0,COUNTIF(E28:M28,\"NP\")=0),\"DNF\",IF(N26<N$2,\"NP\",SUM(U26:AC28))))","v":"DNF"},null,{"$f":"IF(C26=\"\",\"\",IF(OR(O26=\"NP\",O26=\"DNF\"),Start!$E$5,RANK(O26,O$5:O$136,1)))","v":9},null,{"$f":"IF(D26=\"\",\"\",IF(OR(Q26=\"NP\",Q26=\"DNF\"),IF(Q26=\"NP\",MAX(Q$5:Q$85)+COUNTIF((Q$5:Q$85),MAX(Q$5:Q$85)),MAX(Q$5:Q$85)+COUNTIF((Q$5:Q$85),MAX(Q$5:Q$85))+COUNTIF((Q$5:Q$85),\"NP\")),Q26))","v":9},null,{"$f":"IF($C26=\"\",\"\",IF(U$4>$N$2,0,IF(ISNA(SMALL($E28:$M28,1)),0,SMALL($E28:$M28,1))))","v":{"$error":"#NUM!"}},{"$f":"IF($C26=\"\",\"\",IF(V$4>$N$2,0,IF(ISNA(SMALL($E28:$M28,2)),0,SMALL($E28:$M28,2))))","v":{"$error":"#NUM!"}},{"$f":"IF($C26=\"\",\"\",IF(W$4>$N$2,0,IF(ISNA(SMALL($E28:$M28,3)),0,SMALL($E28:$M28,3))))","v":{"$error":"#NUM!"}},{"$f":"IF($C26=\"\",\"\",IF(X$4>$N$2,0,IF(ISNA(SMALL($E28:$M28,4)),0,SMALL($E28:$M28,4))))","v":{"$error":"#NUM!"}},{"$f":"IF($C26=\"\",\"\",IF(Y$4>$N$2,0,IF(ISNA(SMALL($E28:$M28,5)),0,SMALL($E28:$M28,5))))","v":{"$error":"#NUM!"}},{"$f":"IF($C26=\"\",\"\",IF(Z$4>$N$2,0,IF(ISNA(SMALL($E28:$M28,6)),0,SMALL($E28:$M28,6))))","v":{"$error":"#NUM!"}},{"$f":"IF($C26=\"\",\"\",IF(AA$4>$N$2,0,IF(ISNA(SMALL($E28:$M28,7)),0,SMALL($E28:$M28,7))))","v":0},{"$f":"IF($C26=\"\",\"\",IF(AB$4>$N$2,0,IF(ISNA(SMALL($E28:$M28,8)),0,SMALL($E28:$M28,8))))","v":0},{"$f":"IF($C26=\"\",\"\",IF(AC$4>$N$2,0,IF(ISNA(SMALL($E28:$M28,9)),0,SMALL($E28:$M28,9))))","v":0}]
[null,null,null,"2. pokus","DNF","DNF","DNF","DNF","DNF","DNF","DNF","DNF"]
[null,null,null,"čas",{"$f":"IF(OR($C26=\"\",E26=\"\",E27=\"\"),\"\",IF(OR(AND(E26=\"NP\",E27=\"NP\"),AND(E26=\"DNF\",E27=\"DNF\")),E26,IF(AND(E26=\"NP\",E27=\"DNF\"),E26,IF(AND(E26=\"DNF\",E27=\"NP\"),E27,MIN(E26,E27)))))","v":"DNF"},"DNF","DNF","DNF","DNF","DNF","DNF","DNF",""]
[null,{"$f":"Start!B15","v":9},{"$f":"IF(Start!C15=\"\",\"\",Start!C15)","v":"HZSP Deza"},"1. pokus","DNF","DNF","DNF","DNF","DNF","DNF","DNF","DNF",null,{"$f":"IF(C29=\"\",\"\",COUNT(E31:M31))","v":0},{"$f":"IF(C29=\"\",\"\",IF(AND(N29=0,COUNTIF(E31:M31,\"NP\")=0),\"DNF\",IF(N29<N$2,\"NP\",SUM(U29:AC31))))","v":"DNF"},null,{"$f":"IF(C29=\"\",\"\",IF(OR(O29=\"NP\",O29=\"DNF\"),Start!$E$5,RANK(O29,O$5:O$136,1)))","v":9},null,{"$f":"IF(D29=\"\",\"\",IF(OR(Q29=\"NP\",Q29=\"DNF\"),IF(Q29=\"NP\",MAX(Q$5:Q$85)+COUNTIF((Q$5:Q$85),MAX(Q$5:Q$85)),MAX(Q$5:Q$85)+COUNTIF((Q$5:Q$85),MAX(Q$5:Q$85))+COUNTIF((Q$5:Q$85),\"NP\")),Q29))","v":9},null,{"$f":"IF($C29=\"\",\"\",IF(U$4>$N$2,0,IF(ISNA(SMALL($E31:$M31,1)),0,SMALL($E31:$M31,1))))","v":{"$error":"#NUM!"}},{"$f":"IF($C29=\"\",\"\",IF(V$4>$N$2,0,IF(ISNA(SMALL($E31:$M31,2)),0,SMALL($E31:$M31,2))))","v":{"$error":"#NUM!"}},{"$f":"IF($C29=\"\",\"\",IF(W$4>$N$2,0,IF(ISNA(SMALL($E31:$M31,3)),0,SMALL($E31:$M31,3))))","v":{"$error":"#NUM!"}},{"$f":"IF($C29=\"\",\"\",IF(X$4>$N$2,0,IF(ISNA(SMALL($E31:$M31,4)),0,SMALL($E31:$M31,4))))","v":{"$error":"#NUM!"}},{"$f":"IF($C29=\"\",\"\",IF(Y$4>$N$2,0,IF(ISNA(SMALL($E31:$M31,5)),0,SMALL($E31:$M31,5))))","v":{"$error":"#NUM!"}},{"$f":"IF($C29=\"\",\"\",IF(Z$4>$N$2,0,IF(ISNA(SMALL($E31:$M31,6)),0,SMALL($E31:$M31,6))))","v":{"$error":"#NUM!"}},{"$f":"IF($C29=\"\",\"\",IF(AA$4>$N$2,0,IF(ISNA(SMALL($E31:$M31,7)),0,SMALL($E31:$M31,7))))","v":0},{"$f":"IF($C29=\"\",\"\",IF(AB$4>$N$2,0,IF(ISNA(SMALL($E31:$M31,8)),0,SMALL($E31:$M31,8))))","v":0},{"$f":"IF($C29=\"\",\"\",IF(AC$4>$N$2,0,IF(ISNA(SMALL($E31:$M31,9)),0,SMALL($E31:$M31,9))))","v":0}]
[null,null,null,"2. pokus","DNF","DNF","DNF","DNF","DNF","DNF","DNF","DNF"]
[null,null,null,"čas",{"$f":"IF(OR($C29=\"\",E29=\"\",E30=\"\"),\"\",IF(OR(AND(E29=\"NP\",E30=\"NP\"),AND(E29=\"DNF\",E30=\"DNF\")),E29,IF(AND(E29=\"NP\",E30=\"DNF\"),E29,IF(AND(E29=\"DNF\",E30=\"NP\"),E30,MIN(E29,E30)))))","v":"DNF"},"DNF","DNF","DNF","DNF","DNF","DNF","DNF",""]
[null,{"$f":"Start!B16","v":10},{"$f":"IF(Start!C16=\"\",\"\",Start!C16)","v":""},"1. pokus","DNF","DNF","DNF","DNF","DNF","DNF","","",null,{"$f":"IF(C32=\"\",\"\",COUNT(E34:M34))","v":""},{"$f":"IF(C32=\"\",\"\",IF(AND(N32=0,COUNTIF(E34:M34,\"NP\")=0),\"DNF\",IF(N32<N$2,\"NP\",SUM(U32:AC34))))","v":""},null,{"$f":"IF(C32=\"\",\"\",IF(OR(O32=\"NP\",O32=\"DNF\"),Start!$E$5,RANK(O32,O$5:O$136,1)))","v":""},null,{"$f":"IF(D32=\"\",\"\",IF(OR(Q32=\"NP\",Q32=\"DNF\"),IF(Q32=\"NP\",MAX(Q$5:Q$85)+COUNTIF((Q$5:Q$85),MAX(Q$5:Q$85)),MAX(Q$5:Q$85)+COUNTIF((Q$5:Q$85),MAX(Q$5:Q$85))+COUNTIF((Q$5:Q$85),\"NP\")),Q32))","v":""},null,{"$f":"IF($C32=\"\",\"\",IF(U$4>$N$2,0,IF(ISNA(SMALL($E34:$M34,1)),0,SMALL($E34:$M34,1))))","v":""},{"$f":"IF($C32=\"\",\"\",IF(V$4>$N$2,0,IF(ISNA(SMALL($E34:$M34,2)),0,SMALL($E34:$M34,2))))","v":""},{"$f":"IF($C32=\"\",\"\",IF(W$4>$N$2,0,IF(ISNA(SMALL($E34:$M34,3)),0,SMALL($E34:$M34,3))))","v":""},{"$f":"IF($C32=\"\",\"\",IF(X$4>$N$2,0,IF(ISNA(SMALL($E34:$M34,4)),0,SMALL($E34:$M34,4))))","v":""},{"$f":"IF($C32=\"\",\"\",IF(Y$4>$N$2,0,IF(ISNA(SMALL($E34:$M34,5)),0,SMALL($E34:$M34,5))))","v":""},{"$f":"IF($C32=\"\",\"\",IF(Z$4>$N$2,0,IF(ISNA(SMALL($E34:$M34,6)),0,SMALL($E34:$M34,6))))","v":""},{"$f":"IF($C32=\"\",\"\",IF(AA$4>$N$2,0,IF(ISNA(SMALL($E34:$M34,7)),0,SMALL($E34:$M34,7))))","v":""},{"$f":"IF($C32=\"\",\"\",IF(AB$4>$N$2,0,IF(ISNA(SMALL($E34:$M34,8)),0,SMALL($E34:$M34,8))))","v":""},{"$f":"IF($C32=\"\",\"\",IF(AC$4>$N$2,0,IF(ISNA(SMALL($E34:$M34,9)),0,SMALL($E34:$M34,9))))","v":""}]
[null,null,null,"2. pokus","DNF","DNF","DNF","DNF","DNF","DNF","",""]
[null,null,null,"čas",{"$f":"IF(OR($C32=\"\",E32=\"\",E33=\"\"),\"\",IF(OR(AND(E32=\"NP\",E33=\"NP\"),AND(E32=\"DNF\",E33=\"DNF\")),E32,IF(AND(E32=\"NP\",E33=\"DNF\"),E32,IF(AND(E32=\"DNF\",E33=\"NP\"),E33,MIN(E32,E33)))))","v":""},"","","","","","","",""]
[null,{"$f":"B1","v":"Věž - Pořadí družstev"}]
[]
[null,null,{"$f":"Start!$C$5","v":"MUŽI"},null,"Soutěžící"]
[null,"st.č.","SDH","Pokus",1,2,3,4,5,6,7,8,9,"P","C.čas",null,"Poř.",null,"Body"]
[null,{"$f":"Start!B17","v":11},{"$f":"IF(Start!C17=\"\",\"\",Start!C17)","v":""},"1. pokus","DNF","DNF","DNF","DNF","DNF","DNF","DNF","DNF",null,{"$f":"IF(C39=\"\",\"\",COUNT(E41:M41))","v":""},{"$f":"IF(C39=\"\",\"\",IF(AND(N39=0,COUNTIF(E41:M41,\"NP\")=0),\"DNF\",IF(N39<N$2,\"NP\",SUM(U39:AC41))))","v":""},null,{"$f":"IF(C39=\"\",\"\",IF(OR(O39=\"NP\",O39=\"DNF\"),Start!$E$5,RANK(O39,O$5:O$136,1)))","v":""},null,{"$f":"IF(D39=\"\",\"\",IF(OR(Q39=\"NP\",Q39=\"DNF\"),IF(Q39=\"NP\",MAX(Q$5:Q$85)+COUNTIF((Q$5:Q$85),MAX(Q$5:Q$85)),MAX(Q$5:Q$85)+COUNTIF((Q$5:Q$85),MAX(Q$5:Q$85))+COUNTIF((Q$5:Q$85),\"NP\")),Q39))","v":""},null,{"$f":"IF($C39=\"\",\"\",IF(U$4>$N$2,0,IF(ISNA(SMALL($E41:$M41,1)),0,SMALL($E41:$M41,1))))","v":""},{"$f":"IF($C39=\"\",\"\",IF(V$4>$N$2,0,IF(ISNA(SMALL($E41:$M41,2)),0,SMALL($E41:$M41,2))))","v":""},{"$f":"IF($C39=\"\",\"\",IF(W$4>$N$2,0,IF(ISNA(SMALL($E41:$M41,3)),0,SMALL($E41:$M41,3))))","v":""},{"$f":"IF($C39=\"\",\"\",IF(X$4>$N$2,0,IF(ISNA(SMALL($E41:$M41,4)),0,SMALL($E41:$M41,4))))","v":""},{"$f":"IF($C39=\"\",\"\",IF(Y$4>$N$2,0,IF(ISNA(SMALL($E41:$M41,5)),0,SMALL($E41:$M41,5))))","v":""},{"$f":"IF($C39=\"\",\"\",IF(Z$4>$N$2,0,IF(ISNA(SMALL($E41:$M41,6)),0,SMALL($E41:$M41,6))))","v":""},{"$f":"IF($C39=\"\",\"\",IF(AA$4>$N$2,0,IF(ISNA(SMALL($E41:$M41,7)),0,SMALL($E41:$M41,7))))","v":""},{"$f":"IF($C39=\"\",\"\",IF(AB$4>$N$2,0,IF(ISNA(SMALL($E41:$M41,8)),0,SMALL($E41:$M41,8))))","v":""},{"$f":"IF($C39=\"\",\"\",IF(AC$4>$N$2,0,IF(ISNA(SMALL($E41:$M41,9)),0,SMALL($E41:$M41,9))))","v":""}]
[null,null,null,"2. pokus","DNF","DNF","DNF","DNF","DNF","DNF","DNF","DNF"]
[null,null,null,"čas",{"$f":"IF(OR($C39=\"\",E39=\"\",E40=\"\"),\"\",IF(OR(AND(E39=\"NP\",E40=\"NP\"),AND(E39=\"DNF\",E40=\"DNF\")),E39,IF(AND(E39=\"NP\",E40=\"DNF\"),E39,IF(AND(E39=\"DNF\",E40=\"NP\"),E40,MIN(E39,E40)))))","v":""},"","","","","","","",""]
[null,{"$f":"Start!B18","v":12},{"$f":"IF(Start!C18=\"\",\"\",Start!C18)","v":""},"1. pokus","DNF","DNF","DNF","DNF","DNF","DNF","DNF","DNF",null,{"$f":"IF(C42=\"\",\"\",COUNT(E44:M44))","v":""},{"$f":"IF(C42=\"\",\"\",IF(AND(N42=0,COUNTIF(E44:M44,\"NP\")=0),\"DNF\",IF(N42<N$2,\"NP\",SUM(U42:AC44))))","v":""},null,{"$f":"IF(C42=\"\",\"\",IF(OR(O42=\"NP\",O42=\"DNF\"),Start!$E$5,RANK(O42,O$5:O$136,1)))","v":""},null,{"$f":"IF(D42=\"\",\"\",IF(OR(Q42=\"NP\",Q42=\"DNF\"),IF(Q42=\"NP\",MAX(Q$5:Q$85)+COUNTIF((Q$5:Q$85),MAX(Q$5:Q$85)),MAX(Q$5:Q$85)+COUNTIF((Q$5:Q$85),MAX(Q$5:Q$85))+COUNTIF((Q$5:Q$85),\"NP\")),Q42))","v":""},null,{"$f":"IF($C42=\"\",\"\",IF(U$4>$N$2,0,IF(ISNA(SMALL($E44:$M44,1)),0,SMALL($E44:$M44,1))))","v":""},{"$f":"IF($C42=\"\",\"\",IF(V$4>$N$2,0,IF(ISNA(SMALL($E44:$M44,2)),0,SMALL($E44:$M44,2))))","v":""},{"$f":"IF($C42=\"\",\"\",IF(W$4>$N$2,0,IF(ISNA(SMALL($E44:$M44,3)),0,SMALL($E44:$M44,3))))","v":""},{"$f":"IF($C42=\"\",\"\",IF(X$4>$N$2,0,IF(ISNA(SMALL($E44:$M44,4)),0,SMALL($E44:$M44,4))))","v":""},{"$f":"IF($C42=\"\",\"\",IF(Y$4>$N$2,0,IF(ISNA(SMALL($E44:$M44,5)),0,SMALL($E44:$M44,5))))","v":""},{"$f":"IF($C42=\"\",\"\",IF(Z$4>$N$2,0,IF(ISNA(SMALL($E44:$M44,6)),0,SMALL($E44:$M44,6))))","v":""},{"$f":"IF($C42=\"\",\"\",IF(AA$4>$N$2,0,IF(ISNA(SMALL($E44:$M44,7)),0,SMALL($E44:$M44,7))))","v":""},{"$f":"IF($C42=\"\",\"\",IF(AB$4>$N$2,0,IF(ISNA(SMALL($E44:$M44,8)),0,SMALL($E44:$M44,8))))","v":""},{"$f":"IF($C42=\"\",\"\",IF(AC$4>$N$2,0,IF(ISNA(SMALL($E44:$M44,9)),0,SMALL($E44:$M44,9))))","v":""}]
[null,null,null,"2. pokus","DNF","DNF","DNF","DNF","DNF","DNF","DNF","DNF"]
[null,null,null,"čas",{"$f":"IF(OR($C42=\"\",E42=\"\",E43=\"\"),\"\",IF(OR(AND(E42=\"NP\",E43=\"NP\"),AND(E42=\"DNF\",E43=\"DNF\")),E42,IF(AND(E42=\"NP\",E43=\"DNF\"),E42,IF(AND(E42=\"DNF\",E43=\"NP\"),E43,MIN(E42,E43)))))","v":""},"","","","","","","",""]
[null,{"$f":"Start!B19","v":13},{"$f":"IF(Start!C19=\"\",\"\",Start!C19)","v":""},"1. pokus",null,null,null,null,null,null,null,null,null,{"$f":"IF(C45=\"\",\"\",COUNT(E47:M47))","v":""},{"$f":"IF(C45=\"\",\"\",IF(AND(N45=0,COUNTIF(E47:M47,\"NP\")=0),\"DNF\",IF(N45<N$2,\"NP\",SUM(U45:AC47))))","v":""},null,{"$f":"IF(C45=\"\",\"\",IF(OR(O45=\"NP\",O45=\"DNF\"),Start!$E$5,RANK(O45,O$5:O$136,1)))","v":""},null,{"$f":"IF(D45=\"\",\"\",IF(OR(Q45=\"NP\",Q45=\"DNF\"),IF(Q45=\"NP\",MAX(Q$5:Q$85)+COUNTIF((Q$5:Q$85),MAX(Q$5:Q$85)),MAX(Q$5:Q$85)+COUNTIF((Q$5:Q$85),MAX(Q$5:Q$85))+COUNTIF((Q$5:Q$85),\"NP\")),Q45))","v":""},null,{"$f":"IF($C45=\"\",\"\",IF(U$4>$N$2,0,IF(ISNA(SMALL($E47:$M47,1)),0,SMALL($E47:$M47,1))))","v":""},{"$f":"IF($C45=\"\",\"\",IF(V$4>$N$2,0,IF(ISNA(SMALL($E47:$M47,2)),0,SMALL($E47:$M47,2))))","v":""},{"$f":"IF($C45=\"\",\"\",IF(W$4>$N$2,0,IF(ISNA(SMALL($E47:$M47,3)),0,SMALL($E47:$M47,3))))","v":""},{"$f":"IF($C45=\"\",\"\",IF(X$4>$N$2,0,IF(ISNA(SMALL($E47:$M47,4)),0,SMALL($E47:$M47,4))))","v":""},{"$f":"IF($C45=\"\",\"\",IF(Y$4>$N$2,0,IF(ISNA(SMALL($E47:$M47,5)),0,SMALL($E47:$M47,5))))","v":""},{"$f":"IF($C45=\"\",\"\",IF(Z$4>$N$2,0,IF(ISNA(SMALL($E47:$M47,6)),0,SMALL($E47:$M47,6))))","v":""},{"$f":"IF($C45=\"\",\"\",IF(AA$4>$N$2,0,IF(ISNA(SMALL($E47:$M47,7)),0,SMALL($E47:$M47,7))))","v":""},{"$f":"IF($C45=\"\",\"\",IF(AB$4>$N$2,0,IF(ISNA(SMALL($E47:$M47,8)),0,SMALL($E47:$M47,8))))","v":""},{"$f":"IF($C45=\"\",\"\",IF(AC$4>$N$2,0,IF(ISNA(SMALL($E47:$M47,9)),0,SMALL($E47:$M47,9))))","v":""}]
[null,null,null,"2. pokus"]
[null,null,null,"čas",{"$f":"IF(OR($C45=\"\",E45=\"\",E46=\"\"),\"\",IF(OR(AND(E45=\"NP\",E46=\"NP\"),AND(E45=\"DNF\",E46=\"DNF\")),E45,IF(AND(E45=\"NP\",E46=\"DNF\"),E45,IF(AND(E45=\"DNF\",E46=\"NP\"),E46,MIN(E45,E46)))))","v":""},"","","","","","","",""]
[null,{"$f":"Start!B20","v":14},{"$f":"IF(Start!C20=\"\",\"\",Start!C20)","v":""},"1. pokus",null,null,null,null,null,null,null,null,null,{"$f":"IF(C48=\"\",\"\",COUNT(E50:M50))","v":""},{"$f":"IF(C48=\"\",\"\",IF(AND(N48=0,COUNTIF(E50:M50,\"NP\")=0),\"DNF\",IF(N48<N$2,\"NP\",SUM(U48:AC50))))","v":""},null,{"$f":"IF(C48=\"\",\"\",IF(OR(O48=\"NP\",O48=\"DNF\"),Start!$E$5,RANK(O48,O$5:O$136,1)))","v":""},null,{"$f":"IF(D48=\"\",\"\",IF(OR(Q48=\"NP\",Q48=\"DNF\"),IF(Q48=\"NP\",MAX(Q$5:Q$85)+COUNTIF((Q$5:Q$85),MAX(Q$5:Q$85)),MAX(Q$5:Q$85)+COUNTIF((Q$5:Q$85),MAX(Q$5:Q$85))+COUNTIF((Q$5:Q$85),\"NP\")),Q48))","v":""},null,{"$f":"IF($C48=\"\",\"\",IF(U$4>$N$2,0,IF(ISNA(SMALL($E50:$M50,1)),0,SMALL($E50:$M50,1))))","v":""},{"$f":"IF($C48=\"\",\"\",IF(V$4>$N$2,0,IF(ISNA(SMALL($E50:$M50,2)),0,SMALL($E50:$M50,2))))","v":""},{"$f":"IF($C48=\"\",\"\",IF(W$4>$N$2,0,IF(ISNA(SMALL($E50:$M50,3)),0,SMALL($E50:$M50,3))))","v":""},{"$f":"IF($C48=\"\",\"\",IF(X$4>$N$2,0,IF(ISNA(SMALL($E50:$M50,4)),0,SMALL($E50:$M50,4))))","v":""},{"$f":"IF($C48=\"\",\"\",IF(Y$4>$N$2,0,IF(ISNA(SMALL($E50:$M50,5)),0,SMALL($E50:$M50,5))))","v":""},{"$f":"IF($C48=\"\",\"\",IF(Z$4>$N$2,0,IF(ISNA(SMALL($E50:$M50,6)),0,SMALL($E50:$M50,6))))","v":""},{"$f":"IF($C48=\"\",\"\",IF(AA$4>$N$2,0,IF(ISNA(SMALL($E50:$M50,7)),0,SMALL($E50:$M50,7))))","v":""},{"$f":"IF($C48=\"\",\"\",IF(AB$4>$N$2,0,IF(ISNA(SMALL($E50:$M50,8)),0,SMALL($E50:$M50,8))))","v":""},{"$f":"IF($C48=\"\",\"\",IF(AC$4>$N$2,0,IF(ISNA(SMALL($E50:$M50,9)),0,SMALL($E50:$M50,9))))","v":""}]
[null,null,null,"2. pokus"]
[null,null,null,"čas",{"$f":"IF(OR($C48=\"\",E48=\"\",E49=\"\"),\"\",IF(OR(AND(E48=\"NP\",E49=\"NP\"),AND(E48=\"DNF\",E49=\"DNF\")),E48,IF(AND(E48=\"NP\",E49=\"DNF\"),E48,IF(AND(E48=\"DNF\",E49=\"NP\"),E49,MIN(E48,E49)))))","v":""},"","","","","","","",""]
[null,{"$f":"Start!B21","v":15},{"$f":"IF(Start!C21=\"\",\"\",Start!C21)","v":""},"1. pokus",null,null,null,null,null,null,null,null,null,{"$f":"IF(C51=\"\",\"\",COUNT(E53:M53))","v":""},{"$f":"IF(C51=\"\",\"\",IF(AND(N51=0,COUNTIF(E53:M53,\"NP\")=0),\"DNF\",IF(N51<N$2,\"NP\",SUM(U51:AC53))))","v":""},null,{"$f":"IF(C51=\"\",\"\",IF(OR(O51=\"NP\",O51=\"DNF\"),Start!$E$5,RANK(O51,O$5:O$136,1)))","v":""},null,{"$f":"IF(D51=\"\",\"\",IF(OR(Q51=\"NP\",Q51=\"DNF\"),IF(Q51=\"NP\",MAX(Q$5:Q$85)+COUNTIF((Q$5:Q$85),MAX(Q$5:Q$85)),MAX(Q$5:Q$85)+COUNTIF((Q$5:Q$85),MAX(Q$5:Q$85))+COUNTIF((Q$5:Q$85),\"NP\")),Q51))","v":""},null,{"$f":"IF($C51=\"\",\"\",IF(U$4>$N$2,0,IF(ISNA(SMALL($E53:$M53,1)),0,SMALL($E53:$M53,1))))","v":""},{"$f":"IF($C51=\"\",\"\",IF(V$4>$N$2,0,IF(ISNA(SMALL($E53:$M53,2)),0,SMALL($E53:$M53,2))))","v":""},{"$f":"IF($C51=\"\",\"\",IF(W$4>$N$2,0,IF(ISNA(SMALL($E53:$M53,3)),0,SMALL($E53:$M53,3))))","v":""},{"$f":"IF($C51=\"\",\"\",IF(X$4>$N$2,0,IF(ISNA(SMALL($E53:$M53,4)),0,SMALL($E53:$M53,4))))","v":""},{"$f":"IF($C51=\"\",\"\",IF(Y$4>$N$2,0,IF(ISNA(SMALL($E53:$M53,5)),0,SMALL($E53:$M53,5))))","v":""},{"$f":"IF($C51=\"\",\"\",IF(Z$4>$N$2,0,IF(ISNA(SMALL($E53:$M53,6)),0,SMALL($E53:$M53,6))))","v":""},{"$f":"IF($C51=\"\",\"\",IF(AA$4>$N$2,0,IF(ISNA(SMALL($E53:$M53,7)),0,SMALL($E53:$M53,7))))","v":""},{"$f":"IF($C51=\"\",\"\",IF(AB$4>$N$2,0,IF(ISNA(SMALL($E53:$M53,8)),0,SMALL($E53:$M53,8))))","v":""},{"$f":"IF($C51=\"\",\"\",IF(AC$4>$N$2,0,IF(ISNA(SMALL($E53:$M53,9)),0,SMALL($E53:$M53,9))))","v":""}]
[null,null,null,"2. pokus"]
[null,null,null,"čas",{"$f":"IF(OR($C51=\"\",E51=\"\",E52=\"\"),\"\",IF(OR(AND(E51=\"NP\",E52=\"NP\"),AND(E51=\"DNF\",E52=\"DNF\")),E51,IF(AND(E51=\"NP\",E52=\"DNF\"),E51,IF(AND(E51=\"DNF\",E52=\"NP\"),E52,MIN(E51,E52)))))","v":""},"","","","","","","",""]
[null,{"$f":"Start!B22","v":16},{"$f":"IF(Start!C22=\"\",\"\",Start!C22)","v":""},"1. pokus",null,null,null,null,null,null,null,null,null,{"$f":"IF(C54=\"\",\"\",COUNT(E56:M56))","v":""},{"$f":"IF(C54=\"\",\"\",IF(AND(N54=0,COUNTIF(E56:M56,\"NP\")=0),\"DNF\",IF(N54<N$2,\"NP\",SUM(U54:AC56))))","v":""},null,{"$f":"IF(C54=\"\",\"\",IF(OR(O54=\"NP\",O54=\"DNF\"),Start!$E$5,RANK(O54,O$5:O$136,1)))","v":""},null,{"$f":"IF(D54=\"\",\"\",IF(OR(Q54=\"NP\",Q54=\"DNF\"),IF(Q54=\"NP\",MAX(Q$5:Q$85)+COUNTIF((Q$5:Q$85),MAX(Q$5:Q$85)),MAX(Q$5:Q$85)+COUNTIF((Q$5:Q$85),MAX(Q$5:Q$85))+COUNTIF((Q$5:Q$85),\"NP\")),Q54))","v":""},null,{"$f":"IF($C54=\"\",\"\",IF(U$4>$N$2,0,IF(ISNA(SMALL($E56:$M56,1)),0,SMALL($E56:$M56,1))))","v":""},{"$f":"IF($C54=\"\",\"\",IF(V$4>$N$2,0,IF(ISNA(SMALL($E56:$M56,2)),0,SMALL($E56:$M56,2))))","v":""},{"$f":"IF($C54=\"\",\"\",IF(W$4>$N$2,0,IF(ISNA(SMALL($E56:$M56,3)),0,SMALL($E56:$M56,3))))","v":""},{"$f":"IF($C54=\"\",\"\",IF(X$4>$N$2,0,IF(ISNA(SMALL($E56:$M56,4)),0,SMALL($E56:$M56,4))))","v":""},{"$f":"IF($C54=\"\",\"\",IF(Y$4>$N$2,0,IF(ISNA(SMALL($E56:$M56,5)),0,SMALL($E56:$M56,5))))","v":""},{"$f":"IF($C54=\"\",\"\",IF(Z$4>$N$2,0,IF(ISNA(SMALL($E56:$M56,6)),0,SMALL($E56:$M56,6))))","v":""},{"$f":"IF($C54=\"\",\"\",IF(AA$4>$N$2,0,IF(ISNA(SMALL($E56:$M56,7)),0,SMALL($E56:$M56,7))))","v":""},{"$f":"IF($C54=\"\",\"\",IF(AB$4>$N$2,0,IF(ISNA(SMALL($E56:$M56,8)),0,SMALL($E56:$M56,8))))","v":""},{"$f":"IF($C54=\"\",\"\",IF(AC$4>$N$2,0,IF(ISNA(SMALL($E56:$M56,9)),0,SMALL($E56:$M56,9))))","v":""}]
[null,null,null,"2. pokus"]
[null,null,null,"čas",{"$f":"IF(OR($C54=\"\",E54=\"\",E55=\"\"),\"\",IF(OR(AND(E54=\"NP\",E55=\"NP\"),AND(E54=\"DNF\",E55=\"DNF\")),E54,IF(AND(E54=\"NP\",E55=\"DNF\"),E54,IF(AND(E54=\"DNF\",E55=\"NP\"),E55,MIN(E54,E55)))))","v":""},"","","","","","","",""]
[null,{"$f":"Start!B23","v":17},{"$f":"IF(Start!C23=\"\",\"\",Start!C23)","v":""},"1. pokus",null,null,null,null,null,null,null,null,null,{"$f":"IF(C57=\"\",\"\",COUNT(E59:M59))","v":""},{"$f":"IF(C57=\"\",\"\",IF(AND(N57=0,COUNTIF(E59:M59,\"NP\")=0),\"DNF\",IF(N57<N$2,\"NP\",SUM(U57:AC59))))","v":""},null,{"$f":"IF(C57=\"\",\"\",IF(OR(O57=\"NP\",O57=\"DNF\"),Start!$E$5,RANK(O57,O$5:O$136,1)))","v":""},null,{"$f":"IF(D57=\"\",\"\",IF(OR(Q57=\"NP\",Q57=\"DNF\"),IF(Q57=\"NP\",MAX(Q$5:Q$85)+COUNTIF((Q$5:Q$85),MAX(Q$5:Q$85)),MAX(Q$5:Q$85)+COUNTIF((Q$5:Q$85),MAX(Q$5:Q$85))+COUNTIF((Q$5:Q$85),\"NP\")),Q57))","v":""},null,{"$f":"IF($C57=\"\",\"\",IF(U$4>$N$2,0,IF(ISNA(SMALL($E59:$M59,1)),0,SMALL($E59:$M59,1))))","v":""},{"$f":"IF($C57=\"\",\"\",IF(V$4>$N$2,0,IF(ISNA(SMALL($E59:$M59,2)),0,SMALL($E59:$M59,2))))","v":""},{"$f":"IF($C57=\"\",\"\",IF(W$4>$N$2,0,IF(ISNA(SMALL($E59:$M59,3)),0,SMALL($E59:$M59,3))))","v":""},{"$f":"IF($C57=\"\",\"\",IF(X$4>$N$2,0,IF(ISNA(SMALL($E59:$M59,4)),0,SMALL($E59:$M59,4))))","v":""},{"$f":"IF($C57=\"\",\"\",IF(Y$4>$N$2,0,IF(ISNA(SMALL($E59:$M59,5)),0,SMALL($E59:$M59,5))))","v":""},{"$f":"IF($C57=\"\",\"\",IF(Z$4>$N$2,0,IF(ISNA(SMALL($E59:$M59,6)),0,SMALL($E59:$M59,6))))","v":""},{"$f":"IF($C57=\"\",\"\",IF(AA$4>$N$2,0,IF(ISNA(SMALL($E59:$M59,7)),0,SMALL($E59:$M59,7))))","v":""},{"$f":"IF($C57=\"\",\"\",IF(AB$4>$N$2,0,IF(ISNA(SMALL($E59:$M59,8)),0,SMALL($E59:$M59,8))))","v":""},{"$f":"IF($C57=\"\",\"\",IF(AC$4>$N$2,0,IF(ISNA(SMALL($E59:$M59,9)),0,SMALL($E59:$M59,9))))","v":""}]
[null,null,null,"2. pokus"]
[null,null,null,"čas",{"$f":"IF(OR($C57=\"\",E57=\"\",E58=\"\"),\"\",IF(OR(AND(E57=\"NP\",E58=\"NP\"),AND(E57=\"DNF\",E58=\"DNF\")),E57,IF(AND(E57=\"NP\",E58=\"DNF\"),E57,IF(AND(E57=\"DNF\",E58=\"NP\"),E58,MIN(E57,E58)))))","v":""},"","","","","","","",""]
[null,{"$f":"Start!B24","v":18},{"$f":"IF(Start!C24=\"\",\"\",Start!C24)","v":""},"1. pokus",null,null,null,null,null,null,null,null,null,{"$f":"IF(C60=\"\",\"\",COUNT(E62:M62))","v":""},{"$f":"IF(C60=\"\",\"\",IF(AND(N60=0,COUNTIF(E62:M62,\"NP\")=0),\"DNF\",IF(N60<N$2,\"NP\",SUM(U60:AC62))))","v":""},null,{"$f":"IF(C60=\"\",\"\",IF(OR(O60=\"NP\",O60=\"DNF\"),Start!$E$5,RANK(O60,O$5:O$136,1)))","v":""},null,{"$f":"IF(D60=\"\",\"\",IF(OR(Q60=\"NP\",Q60=\"DNF\"),IF(Q60=\"NP\",MAX(Q$5:Q$85)+COUNTIF((Q$5:Q$85),MAX(Q$5:Q$85)),MAX(Q$5:Q$85)+COUNTIF((Q$5:Q$85),MAX(Q$5:Q$85))+COUNTIF((Q$5:Q$85),\"NP\")),Q60))","v":""},null,{"$f":"IF($C60=\"\",\"\",IF(U$4>$N$2,0,IF(ISNA(SMALL($E62:$M62,1)),0,SMALL($E62:$M62,1))))","v":""},{"$f":"IF($C60=\"\",\"\",IF(V$4>$N$2,0,IF(ISNA(SMALL($E62:$M62,2)),0,SMALL($E62:$M62,2))))","v":""},{"$f":"IF($C60=\"\",\"\",IF(W$4>$N$2,0,IF(ISNA(SMALL($E62:$M62,3)),0,SMALL($E62:$M62,3))))","v":""},{"$f":"IF($C60=\"\",\"\",IF(X$4>$N$2,0,IF(ISNA(SMALL($E62:$M62,4)),0,SMALL($E62:$M62,4))))","v":""},{"$f":"IF($C60=\"\",\"\",IF(Y$4>$N$2,0,IF(ISNA(SMALL($E62:$M62,5)),0,SMALL($E62:$M62,5))))","v":""},{"$f":"IF($C60=\"\",\"\",IF(Z$4>$N$2,0,IF(ISNA(SMALL($E62:$M62,6)),0,SMALL($E62:$M62,6))))","v":""},{"$f":"IF($C60=\"\",\"\",IF(AA$4>$N$2,0,IF(ISNA(SMALL($E62:$M62,7)),0,SMALL($E62:$M62,7))))","v":""},{"$f":"IF($C60=\"\",\"\",IF(AB$4>$N$2,0,IF(ISNA(SMALL($E62:$M62,8)),0,SMALL($E62:$M62,8))))","v":""},{"$f":"IF($C60=\"\",\"\",IF(AC$4>$N$2,0,IF(ISNA(SMALL($E62:$M62,9)),0,SMALL($E62:$M62,9))))","v":""}]
[null,null,null,"2. pokus"]
[null,null,null,"čas",{"$f":"IF(OR($C60=\"\",E60=\"\",E61=\"\"),\"\",IF(OR(AND(E60=\"NP\",E61=\"NP\"),AND(E60=\"DNF\",E61=\"DNF\")),E60,IF(AND(E60=\"NP\",E61=\"DNF\"),E60,IF(AND(E60=\"DNF\",E61=\"NP\"),E61,MIN(E60,E61)))))","v":""},"","","","","","","",""]
[null,{"$f":"Start!B25","v":19},{"$f":"IF(Start!C25=\"\",\"\",Start!C25)","v":""},"1. pokus",null,null,null,null,null,null,null,null,null,{"$f":"IF(C63=\"\",\"\",COUNT(E65:M65))","v":""},{"$f":"IF(C63=\"\",\"\",IF(AND(N63=0,COUNTIF(E65:M65,\"NP\")=0),\"DNF\",IF(N63<N$2,\"NP\",SUM(U63:AC65))))","v":""},null,{"$f":"IF(C63=\"\",\"\",IF(OR(O63=\"NP\",O63=\"DNF\"),Start!$E$5,RANK(O63,O$5:O$136,1)))","v":""},null,{"$f":"IF(D63=\"\",\"\",IF(OR(Q63=\"NP\",Q63=\"DNF\"),IF(Q63=\"NP\",MAX(Q$5:Q$85)+COUNTIF((Q$5:Q$85),MAX(Q$5:Q$85)),MAX(Q$5:Q$85)+COUNTIF((Q$5:Q$85),MAX(Q$5:Q$85))+COUNTIF((Q$5:Q$85),\"NP\")),Q63))","v":""},null,{"$f":"IF($C63=\"\",\"\",IF(U$4>$N$2,0,IF(ISNA(SMALL($E65:$M65,1)),0,SMALL($E65:$M65,1))))","v":""},{"$f":"IF($C63=\"\",\"\",IF(V$4>$N$2,0,IF(ISNA(SMALL($E65:$M65,2)),0,SMALL($E65:$M65,2))))","v":""},{"$f":"IF($C63=\"\",\"\",IF(W$4>$N$2,0,IF(ISNA(SMALL($E65:$M65,3)),0,SMALL($E65:$M65,3))))","v":""},{"$f":"IF($C63=\"\",\"\",IF(X$4>$N$2,0,IF(ISNA(SMALL($E65:$M65,4)),0,SMALL($E65:$M65,4))))","v":""},{"$f":"IF($C63=\"\",\"\",IF(Y$4>$N$2,0,IF(ISNA(SMALL($E65:$M65,5)),0,SMALL($E65:$M65,5))))","v":""},{"$f":"IF($C63=\"\",\"\",IF(Z$4>$N$2,0,IF(ISNA(SMALL($E65:$M65,6)),0,SMALL($E65:$M65,6))))","v":""},{"$f":"IF($C63=\"\",\"\",IF(AA$4>$N$2,0,IF(ISNA(SMALL($E65:$M65,7)),0,SMALL($E65:$M65,7))))","v":""},{"$f":"IF($C63=\"\",\"\",IF(AB$4>$N$2,0,IF(ISNA(SMALL($E65:$M65,8)),0,SMALL($E65:$M65,8))))","v":""},{"$f":"IF($C63=\"\",\"\",IF(AC$4>$N$2,0,IF(ISNA(SMALL($E65:$M65,9)),0,SMALL($E65:$M65,9))))","v":""}]
[null,null,null,"2. pokus"]
[null,null,null,"čas",{"$f":"IF(OR($C63=\"\",E63=\"\",E64=\"\"),\"\",IF(OR(AND(E63=\"NP\",E64=\"NP\"),AND(E63=\"DNF\",E64=\"DNF\")),E63,IF(AND(E63=\"NP\",E64=\"DNF\"),E63,IF(AND(E63=\"DNF\",E64=\"NP\"),E64,MIN(E63,E64)))))","v":""},"","","","","","","",""]
[null,{"$f":"Start!B26","v":20},{"$f":"IF(Start!C26=\"\",\"\",Start!C26)","v":""},"1. pokus",null,null,null,null,null,null,null,null,null,{"$f":"IF(C66=\"\",\"\",COUNT(E68:M68))","v":""},{"$f":"IF(C66=\"\",\"\",IF(AND(N66=0,COUNTIF(E68:M68,\"NP\")=0),\"DNF\",IF(N66<N$2,\"NP\",SUM(U66:AC68))))","v":""},null,{"$f":"IF(C66=\"\",\"\",IF(OR(O66=\"NP\",O66=\"DNF\"),Start!$E$5,RANK(O66,O$5:O$136,1)))","v":""},null,{"$f":"IF(D66=\"\",\"\",IF(OR(Q66=\"NP\",Q66=\"DNF\"),IF(Q66=\"NP\",MAX(Q$5:Q$85)+COUNTIF((Q$5:Q$85),MAX(Q$5:Q$85)),MAX(Q$5:Q$85)+COUNTIF((Q$5:Q$85),MAX(Q$5:Q$85))+COUNTIF((Q$5:Q$85),\"NP\")),Q66))","v":""},null,{"$f":"IF($C66=\"\",\"\",IF(U$4>$N$2,0,IF(ISNA(SMALL($E68:$M68,1)),0,SMALL($E68:$M68,1))))","v":""},{"$f":"IF($C66=\"\",\"\",IF(V$4>$N$2,0,IF(ISNA(SMALL($E68:$M68,2)),0,SMALL($E68:$M68,2))))","v":""},{"$f":"IF($C66=\"\",\"\",IF(W$4>$N$2,0,IF(ISNA(SMALL($E68:$M68,3)),0,SMALL($E68:$M68,3))))","v":""},{"$f":"IF($C66=\"\",\"\",IF(X$4>$N$2,0,IF(ISNA(SMALL($E68:$M68,4)),0,SMALL($E68:$M68,4))))","v":""},{"$f":"IF($C66=\"\",\"\",IF(Y$4>$N$2,0,IF(ISNA(SMALL($E68:$M68,5)),0,SMALL($E68:$M68,5))))","v":""},{"$f":"IF($C66=\"\",\"\",IF(Z$4>$N$2,0,IF(ISNA(SMALL($E68:$M68,6)),0,SMALL($E68:$M68,6))))","v":""},{"$f":"IF($C66=\"\",\"\",IF(AA$4>$N$2,0,IF(ISNA(SMALL($E68:$M68,7)),0,SMALL($E68:$M68,7))))","v":""},{"$f":"IF($C66=\"\",\"\",IF(AB$4>$N$2,0,IF(ISNA(SMALL($E68:$M68,8)),0,SMALL($E68:$M68,8))))","v":""},{"$f":"IF($C66=\"\",\"\",IF(AC$4>$N$2,0,IF(ISNA(SMALL($E68:$M68,9)),0,SMALL($E68:$M68,9))))","v":""}]
[null,null,null,"2. pokus"]
[null,null,null,"čas",{"$f":"IF(OR($C66=\"\",E66=\"\",E67=\"\"),\"\",IF(OR(AND(E66=\"NP\",E67=\"NP\"),AND(E66=\"DNF\",E67=\"DNF\")),E66,IF(AND(E66=\"NP\",E67=\"DNF\"),E66,IF(AND(E66=\"DNF\",E67=\"NP\"),E67,MIN(E66,E67)))))","v":""},"","","","","","","",""]
[null,{"$f":"B35","v":"Věž - Pořadí družstev"}]
[]
[null,null,{"$f":"Start!$C$5","v":"MUŽI"},null,"Soutěžící"]
[null,"st.č.","SDH","Pokus",1,2,3,4,5,6,7,8,9,"P","C.čas",null,"Poř.",null,"Body"]
[null,{"$f":"Start!B27","v":21},{"$f":"IF(Start!C27=\"\",\"\",Start!C27)","v":""},"1. pokus",null,null,null,null,null,null,null,null,null,{"$f":"IF(C73=\"\",\"\",COUNT(E75:M75))","v":""},{"$f":"IF(C73=\"\",\"\",IF(AND(N73=0,COUNTIF(E75:M75,\"NP\")=0),\"DNF\",IF(N73<N$2,\"NP\",SUM(U73:AC75))))","v":""},null,{"$f":"IF(C73=\"\",\"\",IF(OR(O73=\"NP\",O73=\"DNF\"),Start!$E$5,RANK(O73,O$5:O$136,1)))","v":""},null,{"$f":"IF(D73=\"\",\"\",IF(OR(Q73=\"NP\",Q73=\"DNF\"),IF(Q73=\"NP\",MAX(Q$5:Q$85)+COUNTIF((Q$5:Q$85),MAX(Q$5:Q$85)),MAX(Q$5:Q$85)+COUNTIF((Q$5:Q$85),MAX(Q$5:Q$85))+COUNTIF((Q$5:Q$85),\"NP\")),Q73))","v":""},null,{"$f":"IF($C73=\"\",\"\",IF(U$4>$N$2,0,IF(ISNA(SMALL($E75:$M75,1)),0,SMALL($E75:$M75,1))))","v":""},{"$f":"IF($C73=\"\",\"\",IF(V$4>$N$2,0,IF(ISNA(SMALL($E75:$M75,2)),0,SMALL($E75:$M75,2))))","v":""},{"$f":"IF($C73=\"\",\"\",IF(W$4>$N$2,0,IF(ISNA(SMALL($E75:$M75,3)),0,SMALL($E75:$M75,3))))","v":""},{"$f":"IF($C73=\"\",\"\",IF(X$4>$N$2,0,IF(ISNA(SMALL($E75:$M75,4)),0,SMALL($E75:$M75,4))))","v":""},{"$f":"IF($C73=\"\",\"\",IF(Y$4>$N$2,0,IF(ISNA(SMALL($E75:$M75,5)),0,SMALL($E75:$M75,5))))","v":""},{"$f":"IF($C73=\"\",\"\",IF(Z$4>$N$2,0,IF(ISNA(SMALL($E75:$M75,6)),0,SMALL($E75:$M75,6))))","v":""},{"$f":"IF($C73=\"\",\"\",IF(AA$4>$N$2,0,IF(ISNA(SMALL($E75:$M75,7)),0,SMALL($E75:$M75,7))))","v":""},{"$f":"IF($C73=\"\",\"\",IF(AB$4>$N$2,0,IF(ISNA(SMALL($E75:$M75,8)),0,SMALL($E75:$M75,8))))","v":""},{"$f":"IF($C73=\"\",\"\",IF(AC$4>$N$2,0,IF(ISNA(SMALL($E75:$M75,9)),0,SMALL($E75:$M75,9))))","v":""}]
[null,null,null,"2. pokus"]
[null,null,null,"čas",{"$f":"IF(OR($C73=\"\",E73=\"\",E74=\"\"),\"\",IF(OR(AND(E73=\"NP\",E74=\"NP\"),AND(E73=\"DNF\",E74=\"DNF\")),E73,IF(AND(E73=\"NP\",E74=\"DNF\"),E73,IF(AND(E73=\"DNF\",E74=\"NP\"),E74,MIN(E73,E74)))))","v":""},"","","","","","","",""]
[null,{"$f":"Start!B28","v":22},{"$f":"IF(Start!C28=\"\",\"\",Start!C28)","v":""},"1. pokus",null,null,null,null,null,null,null,null,null,{"$f":"IF(C76=\"\",\"\",COUNT(E78:M78))","v":""},{"$f":"IF(C76=\"\",\"\",IF(AND(N76=0,COUNTIF(E78:M78,\"NP\")=0),\"DNF\",IF(N76<N$2,\"NP\",SUM(U76:AC78))))","v":""},null,{"$f":"IF(C76=\"\",\"\",IF(OR(O76=\"NP\",O76=\"DNF\"),Start!$E$5,RANK(O76,O$5:O$136,1)))","v":""},null,{"$f":"IF(D76=\"\",\"\",IF(OR(Q76=\"NP\",Q76=\"DNF\"),IF(Q76=\"NP\",MAX(Q$5:Q$85)+COUNTIF((Q$5:Q$85),MAX(Q$5:Q$85)),MAX(Q$5:Q$85)+COUNTIF((Q$5:Q$85),MAX(Q$5:Q$85))+COUNTIF((Q$5:Q$85),\"NP\")),Q76))","v":""},null,{"$f":"IF($C76=\"\",\"\",IF(U$4>$N$2,0,IF(ISNA(SMALL($E78:$M78,1)),0,SMALL($E78:$M78,1))))","v":""},{"$f":"IF($C76=\"\",\"\",IF(V$4>$N$2,0,IF(ISNA(SMALL($E78:$M78,2)),0,SMALL($E78:$M78,2))))","v":""},{"$f":"IF($C76=\"\",\"\",IF(W$4>$N$2,0,IF(ISNA(SMALL($E78:$M78,3)),0,SMALL($E78:$M78,3))))","v":""},{"$f":"IF($C76=\"\",\"\",IF(X$4>$N$2,0,IF(ISNA(SMALL($E78:$M78,4)),0,SMALL($E78:$M78,4))))","v":""},{"$f":"IF($C76=\"\",\"\",IF(Y$4>$N$2,0,IF(ISNA(SMALL($E78:$M78,5)),0,SMALL($E78:$M78,5))))","v":""},{"$f":"IF($C76=\"\",\"\",IF(Z$4>$N$2,0,IF(ISNA(SMALL($E78:$M78,6)),0,SMALL($E78:$M78,6))))","v":""},{"$f":"IF($C76=\"\",\"\",IF(AA$4>$N$2,0,IF(ISNA(SMALL($E78:$M78,7)),0,SMALL($E78:$M78,7))))","v":""},{"$f":"IF($C76=\"\",\"\",IF(AB$4>$N$2,0,IF(ISNA(SMALL($E78:$M78,8)),0,SMALL($E78:$M78,8))))","v":""},{"$f":"IF($C76=\"\",\"\",IF(AC$4>$N$2,0,IF(ISNA(SMALL($E78:$M78,9)),0,SMALL($E78:$M78,9))))","v":""}]
[null,null,null,"2. pokus"]
[null,null,null,"čas",{"$f":"IF(OR($C76=\"\",E76=\"\",E77=\"\"),\"\",IF(OR(AND(E76=\"NP\",E77=\"NP\"),AND(E76=\"DNF\",E77=\"DNF\")),E76,IF(AND(E76=\"NP\",E77=\"DNF\"),E76,IF(AND(E76=\"DNF\",E77=\"NP\"),E77,MIN(E76,E77)))))","v":""},"","","","","","","",""]
[null,{"$f":"Start!B29","v":23},{"$f":"IF(Start!C29=\"\",\"\",Start!C29)","v":""},"1. pokus",null,null,null,null,null,null,null,null,null,{"$f":"IF(C79=\"\",\"\",COUNT(E81:M81))","v":""},{"$f":"IF(C79=\"\",\"\",IF(AND(N79=0,COUNTIF(E81:M81,\"NP\")=0),\"DNF\",IF(N79<N$2,\"NP\",SUM(U79:AC81))))","v":""},null,{"$f":"IF(C79=\"\",\"\",IF(OR(O79=\"NP\",O79=\"DNF\"),Start!$E$5,RANK(O79,O$5:O$136,1)))","v":""},null,{"$f":"IF(D79=\"\",\"\",IF(OR(Q79=\"NP\",Q79=\"DNF\"),IF(Q79=\"NP\",MAX(Q$5:Q$85)+COUNTIF((Q$5:Q$85),MAX(Q$5:Q$85)),MAX(Q$5:Q$85)+COUNTIF((Q$5:Q$85),MAX(Q$5:Q$85))+COUNTIF((Q$5:Q$85),\"NP\")),Q79))","v":""},null,{"$f":"IF($C79=\"\",\"\",IF(U$4>$N$2,0,IF(ISNA(SMALL($E81:$M81,1)),0,SMALL($E81:$M81,1))))","v":""},{"$f":"IF($C79=\"\",\"\",IF(V$4>$N$2,0,IF(ISNA(SMALL($E81:$M81,2)),0,SMALL($E81:$M81,2))))","v":""},{"$f":"IF($C79=\"\",\"\",IF(W$4>$N$2,0,IF(ISNA(SMALL($E81:$M81,3)),0,SMALL($E81:$M81,3))))","v":""},{"$f":"IF($C79=\"\",\"\",IF(X$4>$N$2,0,IF(ISNA(SMALL($E81:$M81,4)),0,SMALL($E81:$M81,4))))","v":""},{"$f":"IF($C79=\"\",\"\",IF(Y$4>$N$2,0,IF(ISNA(SMALL($E81:$M81,5)),0,SMALL($E81:$M81,5))))","v":""},{"$f":"IF($C79=\"\",\"\",IF(Z$4>$N$2,0,IF(ISNA(SMALL($E81:$M81,6)),0,SMALL($E81:$M81,6))))","v":""},{"$f":"IF($C79=\"\",\"\",IF(AA$4>$N$2,0,IF(ISNA(SMALL($E81:$M81,7)),0,SMALL($E81:$M81,7))))","v":""},{"$f":"IF($C79=\"\",\"\",IF(AB$4>$N$2,0,IF(ISNA(SMALL($E81:$M81,8)),0,SMALL($E81:$M81,8))))","v":""},{"$f":"IF($C79=\"\",\"\",IF(AC$4>$N$2,0,IF(ISNA(SMALL($E81:$M81,9)),0,SMALL($E81:$M81,9))))","v":""}]
[null,null,null,"2. pokus"]
[null,null,null,"čas",{"$f":"IF(OR($C79=\"\",E79=\"\",E80=\"\"),\"\",IF(OR(AND(E79=\"NP\",E80=\"NP\"),AND(E79=\"DNF\",E80=\"DNF\")),E79,IF(AND(E79=\"NP\",E80=\"DNF\"),E79,IF(AND(E79=\"DNF\",E80=\"NP\"),E80,MIN(E79,E80)))))","v":""},"","","","","","","",""]
[null,{"$f":"Start!B30","v":24},{"$f":"IF(Start!C30=\"\",\"\",Start!C30)","v":""},"1. pokus",null,null,null,null,null,null,null,null,null,{"$f":"IF(C82=\"\",\"\",COUNT(E84:M84))","v":""},{"$f":"IF(C82=\"\",\"\",IF(AND(N82=0,COUNTIF(E84:M84,\"NP\")=0),\"DNF\",IF(N82<N$2,\"NP\",SUM(U82:AC84))))","v":""},null,{"$f":"IF(C82=\"\",\"\",IF(OR(O82=\"NP\",O82=\"DNF\"),Start!$E$5,RANK(O82,O$5:O$136,1)))","v":""},null,{"$f":"IF(D82=\"\",\"\",IF(OR(Q82=\"NP\",Q82=\"DNF\"),IF(Q82=\"NP\",MAX(Q$5:Q$85)+COUNTIF((Q$5:Q$85),MAX(Q$5:Q$85)),MAX(Q$5:Q$85)+COUNTIF((Q$5:Q$85),MAX(Q$5:Q$85))+COUNTIF((Q$5:Q$85),\"NP\")),Q82))","v":""},null,{"$f":"IF($C82=\"\",\"\",IF(U$4>$N$2,0,IF(ISNA(SMALL($E84:$M84,1)),0,SMALL($E84:$M84,1))))","v":""},{"$f":"IF($C82=\"\",\"\",IF(V$4>$N$2,0,IF(ISNA(SMALL($E84:$M84,2)),0,SMALL($E84:$M84,2))))","v":""},{"$f":"IF($C82=\"\",\"\",IF(W$4>$N$2,0,IF(ISNA(SMALL($E84:$M84,3)),0,SMALL($E84:$M84,3))))","v":""},{"$f":"IF($C82=\"\",\"\",IF(X$4>$N$2,0,IF(ISNA(SMALL($E84:$M84,4)),0,SMALL($E84:$M84,4))))","v":""},{"$f":"IF($C82=\"\",\"\",IF(Y$4>$N$2,0,IF(ISNA(SMALL($E84:$M84,5)),0,SMALL($E84:$M84,5))))","v":""},{"$f":"IF($C82=\"\",\"\",IF(Z$4>$N$2,0,IF(ISNA(SMALL($E84:$M84,6)),0,SMALL($E84:$M84,6))))","v":""},{"$f":"IF($C82=\"\",\"\",IF(AA$4>$N$2,0,IF(ISNA(SMALL($E84:$M84,7)),0,SMALL($E84:$M84,7))))","v":""},{"$f":"IF($C82=\"\",\"\",IF(AB$4>$N$2,0,IF(ISNA(SMALL($E84:$M84,8)),0,SMALL($E84:$M84,8))))","v":""},{"$f":"IF($C82=\"\",\"\",IF(AC$4>$N$2,0,IF(ISNA(SMALL($E84:$M84,9)),0,SMALL($E84:$M84,9))))","v":""}]
[null,null,null,"2. pokus"]
[null,null,null,"čas",{"$f":"IF(OR($C82=\"\",E82=\"\",E83=\"\"),\"\",IF(OR(AND(E82=\"NP\",E83=\"NP\"),AND(E82=\"DNF\",E83=\"DNF\")),E82,IF(AND(E82=\"NP\",E83=\"DNF\"),E82,IF(AND(E82=\"DNF\",E83=\"NP\"),E83,MIN(E82,E83)))))","v":""},"","","","","","","",""]
[null,{"$f":"Start!B31","v":25},{"$f":"IF(Start!C31=\"\",\"\",Start!C31)","v":""},"1. pokus",null,null,null,null,null,null,null,null,null,{"$f":"IF(C85=\"\",\"\",COUNT(E87:M87))","v":""},{"$f":"IF(C85=\"\",\"\",IF(AND(N85=0,COUNTIF(E87:M87,\"NP\")=0),\"DNF\",IF(N85<N$2,\"NP\",SUM(U85:AC87))))","v":""},null,{"$f":"IF(C85=\"\",\"\",IF(OR(O85=\"NP\",O85=\"DNF\"),Start!$E$5,RANK(O85,O$5:O$136,1)))","v":""},null,{"$f":"IF(D85=\"\",\"\",IF(OR(Q85=\"NP\",Q85=\"DNF\"),IF(Q85=\"NP\",MAX(Q$5:Q$85)+COUNTIF((Q$5:Q$85),MAX(Q$5:Q$85)),MAX(Q$5:Q$85)+COUNTIF((Q$5:Q$85),MAX(Q$5:Q$85))+COUNTIF((Q$5:Q$85),\"NP\")),Q85))","v":""},null,{"$f":"IF($C85=\"\",\"\",IF(U$4>$N$2,0,IF(ISNA(SMALL($E87:$M87,1)),0,SMALL($E87:$M87,1))))","v":""},{"$f":"IF($C85=\"\",\"\",IF(V$4>$N$2,0,IF(ISNA(SMALL($E87:$M87,2)),0,SMALL($E87:$M87,2))))","v":""},{"$f":"IF($C85=\"\",\"\",IF(W$4>$N$2,0,IF(ISNA(SMALL($E87:$M87,3)),0,SMALL($E87:$M87,3))))","v":""},{"$f":"IF($C85=\"\",\"\",IF(X$4>$N$2,0,IF(ISNA(SMALL($E87:$M87,4)),0,SMALL($E87:$M87,4))))","v":""},{"$f":"IF($C85=\"\",\"\",IF(Y$4>$N$2,0,IF(ISNA(SMALL($E87:$M87,5)),0,SMALL($E87:$M87,5))))","v":""},{"$f":"IF($C85=\"\",\"\",IF(Z$4>$N$2,0,IF(ISNA(SMALL($E87:$M87,6)),0,SMALL($E87:$M87,6))))","v":""},{"$f":"IF($C85=\"\",\"\",IF(AA$4>$N$2,0,IF(ISNA(SMALL($E87:$M87,7)),0,SMALL($E87:$M87,7))))","v":""},{"$f":"IF($C85=\"\",\"\",IF(AB$4>$N$2,0,IF(ISNA(SMALL($E87:$M87,8)),0,SMALL($E87:$M87,8))))","v":""},{"$f":"IF($C85=\"\",\"\",IF(AC$4>$N$2,0,IF(ISNA(SMALL($E87:$M87,9)),0,SMALL($E87:$M87,9))))","v":""}]
[null,null,null,"2. pokus"]
[null,null,null,"čas",{"$f":"IF(OR($C85=\"\",E85=\"\",E86=\"\"),\"\",IF(OR(AND(E85=\"NP\",E86=\"NP\"),AND(E85=\"DNF\",E86=\"DNF\")),E85,IF(AND(E85=\"NP\",E86=\"DNF\"),E85,IF(AND(E85=\"DNF\",E86=\"NP\"),E86,MIN(E85,E86)))))","v":""},"","","","","","","",""]
[null,{"$f":"Start!B32","v":26},{"$f":"IF(Start!C32=\"\",\"\",Start!C32)","v":""},"1. pokus",null,null,null,null,null,null,null,null,null,{"$f":"IF(C88=\"\",\"\",COUNT(E90:M90))","v":""},{"$f":"IF(C88=\"\",\"\",IF(AND(N88=0,COUNTIF(E90:M90,\"NP\")=0),\"DNF\",IF(N88<N$2,\"NP\",SUM(U88:AC90))))","v":""},null,{"$f":"IF(C88=\"\",\"\",IF(OR(O88=\"NP\",O88=\"DNF\"),Start!$E$5,RANK(O88,O$5:O$136,1)))","v":""},null,{"$f":"IF(D88=\"\",\"\",IF(OR(Q88=\"NP\",Q88=\"DNF\"),IF(Q88=\"NP\",MAX(Q$5:Q$85)+COUNTIF((Q$5:Q$85),MAX(Q$5:Q$85)),MAX(Q$5:Q$85)+COUNTIF((Q$5:Q$85),MAX(Q$5:Q$85))+COUNTIF((Q$5:Q$85),\"NP\")),Q88))","v":""},null,{"$f":"IF($C88=\"\",\"\",IF(U$4>$N$2,0,IF(ISNA(SMALL($E90:$M90,1)),0,SMALL($E90:$M90,1))))","v":""},{"$f":"IF($C88=\"\",\"\",IF(V$4>$N$2,0,IF(ISNA(SMALL($E90:$M90,2)),0,SMALL($E90:$M90,2))))","v":""},{"$f":"IF($C88=\"\",\"\",IF(W$4>$N$2,0,IF(ISNA(SMALL($E90:$M90,3)),0,SMALL($E90:$M90,3))))","v":""},{"$f":"IF($C88=\"\",\"\",IF(X$4>$N$2,0,IF(ISNA(SMALL($E90:$M90,4)),0,SMALL($E90:$M90,4))))","v":""},{"$f":"IF($C88=\"\",\"\",IF(Y$4>$N$2,0,IF(ISNA(SMALL($E90:$M90,5)),0,SMALL($E90:$M90,5))))","v":""},{"$f":"IF($C88=\"\",\"\",IF(Z$4>$N$2,0,IF(ISNA(SMALL($E90:$M90,6)),0,SMALL($E90:$M90,6))))","v":""},{"$f":"IF($C88=\"\",\"\",IF(AA$4>$N$2,0,IF(ISNA(SMALL($E90:$M90,7)),0,SMALL($E90:$M90,7))))","v":""},{"$f":"IF($C88=\"\",\"\",IF(AB$4>$N$2,0,IF(ISNA(SMALL($E90:$M90,8)),0,SMALL($E90:$M90,8))))","v":""},{"$f":"IF($C88=\"\",\"\",IF(AC$4>$N$2,0,IF(ISNA(SMALL($E90:$M90,9)),0,SMALL($E90:$M90,9))))","v":""}]
[null,null,null,"2. pokus"]
[null,null,null,"čas",{"$f":"IF(OR($C88=\"\",E88=\"\",E89=\"\"),\"\",IF(OR(AND(E88=\"NP\",E89=\"NP\"),AND(E88=\"DNF\",E89=\"DNF\")),E88,IF(AND(E88=\"NP\",E89=\"DNF\"),E88,IF(AND(E88=\"DNF\",E89=\"NP\"),E89,MIN(E88,E89)))))","v":""},"","","","","","","",""]
[null,{"$f":"Start!B33","v":27},{"$f":"IF(Start!C33=\"\",\"\",Start!C33)","v":""},"1. pokus",null,null,null,null,null,null,null,null,null,{"$f":"IF(C91=\"\",\"\",COUNT(E93:M93))","v":""},{"$f":"IF(C91=\"\",\"\",IF(AND(N91=0,COUNTIF(E93:M93,\"NP\")=0),\"DNF\",IF(N91<N$2,\"NP\",SUM(U91:AC93))))","v":""},null,{"$f":"IF(C91=\"\",\"\",IF(OR(O91=\"NP\",O91=\"DNF\"),Start!$E$5,RANK(O91,O$5:O$136,1)))","v":""},null,{"$f":"IF(D91=\"\",\"\",IF(OR(Q91=\"NP\",Q91=\"DNF\"),IF(Q91=\"NP\",MAX(Q$5:Q$85)+COUNTIF((Q$5:Q$85),MAX(Q$5:Q$85)),MAX(Q$5:Q$85)+COUNTIF((Q$5:Q$85),MAX(Q$5:Q$85))+COUNTIF((Q$5:Q$85),\"NP\")),Q91))","v":""},null,{"$f":"IF($C91=\"\",\"\",IF(U$4>$N$2,0,IF(ISNA(SMALL($E93:$M93,1)),0,SMALL($E93:$M93,1))))","v":""},{"$f":"IF($C91=\"\",\"\",IF(V$4>$N$2,0,IF(ISNA(SMALL($E93:$M93,2)),0,SMALL($E93:$M93,2))))","v":""},{"$f":"IF($C91=\"\",\"\",IF(W$4>$N$2,0,IF(ISNA(SMALL($E93:$M93,3)),0,SMALL($E93:$M93,3))))","v":""},{"$f":"IF($C91=\"\",\"\",IF(X$4>$N$2,0,IF(ISNA(SMALL($E93:$M93,4)),0,SMALL($E93:$M93,4))))","v":""},{"$f":"IF($C91=\"\",\"\",IF(Y$4>$N$2,0,IF(ISNA(SMALL($E93:$M93,5)),0,SMALL($E93:$M93,5))))","v":""},{"$f":"IF($C91=\"\",\"\",IF(Z$4>$N$2,0,IF(ISNA(SMALL($E93:$M93,6)),0,SMALL($E93:$M93,6))))","v":""},{"$f":"IF($C91=\"\",\"\",IF(AA$4>$N$2,0,IF(ISNA(SMALL($E93:$M93,7)),0,SMALL($E93:$M93,7))))","v":""},{"$f":"IF($C91=\"\",\"\",IF(AB$4>$N$2,0,IF(ISNA(SMALL($E93:$M93,8)),0,SMALL($E93:$M93,8))))","v":""},{"$f":"IF($C91=\"\",\"\",IF(AC$4>$N$2,0,IF(ISNA(SMALL($E93:$M93,9)),0,SMALL($E93:$M93,9))))","v":""}]
[null,null,null,"2. pokus"]
[null,null,null,"čas",{"$f":"IF(OR($C91=\"\",E91=\"\",E92=\"\"),\"\",IF(OR(AND(E91=\"NP\",E92=\"NP\"),AND(E91=\"DNF\",E92=\"DNF\")),E91,IF(AND(E91=\"NP\",E92=\"DNF\"),E91,IF(AND(E91=\"DNF\",E92=\"NP\"),E92,MIN(E91,E92)))))","v":""},"","","","","","","",""]
[null,{"$f":"Start!B34","v":28},{"$f":"IF(Start!C34=\"\",\"\",Start!C34)","v":""},"1. pokus",null,null,null,null,null,null,null,null,null,{"$f":"IF(C94=\"\",\"\",COUNT(E96:M96))","v":""},{"$f":"IF(C94=\"\",\"\",IF(AND(N94=0,COUNTIF(E96:M96,\"NP\")=0),\"DNF\",IF(N94<N$2,\"NP\",SUM(U94:AC96))))","v":""},null,{"$f":"IF(C94=\"\",\"\",IF(OR(O94=\"NP\",O94=\"DNF\"),Start!$E$5,RANK(O94,O$5:O$136,1)))","v":""},null,{"$f":"IF(D94=\"\",\"\",IF(OR(Q94=\"NP\",Q94=\"DNF\"),IF(Q94=\"NP\",MAX(Q$5:Q$85)+COUNTIF((Q$5:Q$85),MAX(Q$5:Q$85)),MAX(Q$5:Q$85)+COUNTIF((Q$5:Q$85),MAX(Q$5:Q$85))+COUNTIF((Q$5:Q$85),\"NP\")),Q94))","v":""},null,{"$f":"IF($C94=\"\",\"\",IF(U$4>$N$2,0,IF(ISNA(SMALL($E96:$M96,1)),0,SMALL($E96:$M96,1))))","v":""},{"$f":"IF($C94=\"\",\"\",IF(V$4>$N$2,0,IF(ISNA(SMALL($E96:$M96,2)),0,SMALL($E96:$M96,2))))","v":""},{"$f":"IF($C94=\"\",\"\",IF(W$4>$N$2,0,IF(ISNA(SMALL($E96:$M96,3)),0,SMALL($E96:$M96,3))))","v":""},{"$f":"IF($C94=\"\",\"\",IF(X$4>$N$2,0,IF(ISNA(SMALL($E96:$M96,4)),0,SMALL($E96:$M96,4))))","v":""},{"$f":"IF($C94=\"\",\"\",IF(Y$4>$N$2,0,IF(ISNA(SMALL($E96:$M96,5)),0,SMALL($E96:$M96,5))))","v":""},{"$f":"IF($C94=\"\",\"\",IF(Z$4>$N$2,0,IF(ISNA(SMALL($E96:$M96,6)),0,SMALL($E96:$M96,6))))","v":""},{"$f":"IF($C94=\"\",\"\",IF(AA$4>$N$2,0,IF(ISNA(SMALL($E96:$M96,7)),0,SMALL($E96:$M96,7))))","v":""},{"$f":"IF($C94=\"\",\"\",IF(AB$4>$N$2,0,IF(ISNA(SMALL($E96:$M96,8)),0,SMALL($E96:$M96,8))))","v":""},{"$f":"IF($C94=\"\",\"\",IF(AC$4>$N$2,0,IF(ISNA(SMALL($E96:$M96,9)),0,SMALL($E96:$M96,9))))","v":""}]
[null,null,null,"2. pokus"]
[null,null,null,"čas",{"$f":"IF(OR($C94=\"\",E94=\"\",E95=\"\"),\"\",IF(OR(AND(E94=\"NP\",E95=\"NP\"),AND(E94=\"DNF\",E95=\"DNF\")),E94,IF(AND(E94=\"NP\",E95=\"DNF\"),E94,IF(AND(E94=\"DNF\",E95=\"NP\"),E95,MIN(E94,E95)))))","v":""},"","","","","","","",""]
[null,{"$f":"Start!B35","v":29},{"$f":"IF(Start!C35=\"\",\"\",Start!C35)","v":""},"1. pokus","","","","","","","","",null,{"$f":"IF(C97=\"\",\"\",COUNT(E99:M99))","v":""},{"$f":"IF(C97=\"\",\"\",IF(AND(N97=0,COUNTIF(E99:M99,\"NP\")=0),\"DNF\",IF(N97<N$2,\"NP\",SUM(U97:AC99))))","v":""},null,{"$f":"IF(C97=\"\",\"\",IF(OR(O97=\"NP\",O97=\"DNF\"),Start!$E$5,RANK(O97,O$5:O$136,1)))","v":""},null,{"$f":"IF(D97=\"\",\"\",IF(OR(Q97=\"NP\",Q97=\"DNF\"),IF(Q97=\"NP\",MAX(Q$5:Q$85)+COUNTIF((Q$5:Q$85),MAX(Q$5:Q$85)),MAX(Q$5:Q$85)+COUNTIF((Q$5:Q$85),MAX(Q$5:Q$85))+COUNTIF((Q$5:Q$85),\"NP\")),Q97))","v":""},null,{"$f":"IF($C97=\"\",\"\",IF(U$4>$N$2,0,IF(ISNA(SMALL($E99:$M99,1)),0,SMALL($E99:$M99,1))))","v":""},{"$f":"IF($C97=\"\",\"\",IF(V$4>$N$2,0,IF(ISNA(SMALL($E99:$M99,2)),0,SMALL($E99:$M99,2))))","v":""},{"$f":"IF($C97=\"\",\"\",IF(W$4>$N$2,0,IF(ISNA(SMALL($E99:$M99,3)),0,SMALL($E99:$M99,3))))","v":""},{"$f":"IF($C97=\"\",\"\",IF(X$4>$N$2,0,IF(ISNA(SMALL($E99:$M99,4)),0,SMALL($E99:$M99,4))))","v":""},{"$f":"IF($C97=\"\",\"\",IF(Y$4>$N$2,0,IF(ISNA(SMALL($E99:$M99,5)),0,SMALL($E99:$M99,5))))","v":""},{"$f":"IF($C97=\"\",\"\",IF(Z$4>$N$2,0,IF(ISNA(SMALL($E99:$M99,6)),0,SMALL($E99:$M99,6))))","v":""},{"$f":"IF($C97=\"\",\"\",IF(AA$4>$N$2,0,IF(ISNA(SMALL($E99:$M99,7)),0,SMALL($E99:$M99,7))))","v":""},{"$f":"IF($C97=\"\",\"\",IF(AB$4>$N$2,0,IF(ISNA(SMALL($E99:$M99,8)),0,SMALL($E99:$M99,8))))","v":""},{"$f":"IF($C97=\"\",\"\",IF(AC$4>$N$2,0,IF(ISNA(SMALL($E99:$M99,9)),0,SMALL($E99:$M99,9))))","v":""}]
[null,null,null,"2. pokus","","","","","","","",""]
[null,null,null,"čas",{"$f":"IF(OR($C97=\"\",E97=\"\",E98=\"\"),\"\",IF(OR(AND(E97=\"NP\",E98=\"NP\"),AND(E97=\"DNF\",E98=\"DNF\")),E97,IF(AND(E97=\"NP\",E98=\"DNF\"),E97,IF(AND(E97=\"DNF\",E98=\"NP\"),E98,MIN(E97,E98)))))","v":""},"","","","","","","",""]
[null,{"$f":"Start!B36","v":30},{"$f":"IF(Start!C36=\"\",\"\",Start!C36)","v":""},"1. pokus",null,null,null,null,null,null,null,null,null,{"$f":"IF(C100=\"\",\"\",COUNT(E102:M102))","v":""},{"$f":"IF(C100=\"\",\"\",IF(AND(N100=0,COUNTIF(E102:M102,\"NP\")=0),\"DNF\",IF(N100<N$2,\"NP\",SUM(U100:AC102))))","v":""},null,{"$f":"IF(C100=\"\",\"\",IF(OR(O100=\"NP\",O100=\"DNF\"),Start!$E$5,RANK(O100,O$5:O$136,1)))","v":""},null,{"$f":"IF(D100=\"\",\"\",IF(OR(Q100=\"NP\",Q100=\"DNF\"),IF(Q100=\"NP\",MAX(Q$5:Q$85)+COUNTIF((Q$5:Q$85),MAX(Q$5:Q$85)),MAX(Q$5:Q$85)+COUNTIF((Q$5:Q$85),MAX(Q$5:Q$85))+COUNTIF((Q$5:Q$85),\"NP\")),Q100))","v":""},null,{"$f":"IF($C100=\"\",\"\",IF(U$4>$N$2,0,IF(ISNA(SMALL($E102:$M102,1)),0,SMALL($E102:$M102,1))))","v":""},{"$f":"IF($C100=\"\",\"\",IF(V$4>$N$2,0,IF(ISNA(SMALL($E102:$M102,2)),0,SMALL($E102:$M102,2))))","v":""},{"$f":"IF($C100=\"\",\"\",IF(W$4>$N$2,0,IF(ISNA(SMALL($E102:$M102,3)),0,SMALL($E102:$M102,3))))","v":""},{"$f":"IF($C100=\"\",\"\",IF(X$4>$N$2,0,IF(ISNA(SMALL($E102:$M102,4)),0,SMALL($E102:$M102,4))))","v":""},{"$f":"IF($C100=\"\",\"\",IF(Y$4>$N$2,0,IF(ISNA(SMALL($E102:$M102,5)),0,SMALL($E102:$M102,5))))","v":""},{"$f":"IF($C100=\"\",\"\",IF(Z$4>$N$2,0,IF(ISNA(SMALL($E102:$M102,6)),0,SMALL($E102:$M102,6))))","v":""},{"$f":"IF($C100=\"\",\"\",IF(AA$4>$N$2,0,IF(ISNA(SMALL($E102:$M102,7)),0,SMALL($E102:$M102,7))))","v":""},{"$f":"IF($C100=\"\",\"\",IF(AB$4>$N$2,0,IF(ISNA(SMALL($E102:$M102,8)),0,SMALL($E102:$M102,8))))","v":""},{"$f":"IF($C100=\"\",\"\",IF(AC$4>$N$2,0,IF(ISNA(SMALL($E102:$M102,9)),0,SMALL($E102:$M102,9))))","v":""}]
[null,null,null,"2. pokus"]
[null,null,null,"čas",{"$f":"IF(OR($C100=\"\",E100=\"\",E101=\"\"),\"\",IF(OR(AND(E100=\"NP\",E101=\"NP\"),AND(E100=\"DNF\",E101=\"DNF\")),E100,IF(AND(E100=\"NP\",E101=\"DNF\"),E100,IF(AND(E100=\"DNF\",E101=\"NP\"),E101,MIN(E100,E101)))))","v":""},"","","","","","","",""]
[null,{"$f":"B35","v":"Věž - Pořadí družstev"}]
[]
[null,null,{"$f":"Start!$C$5","v":"MUŽI"},null,"Soutěžící"]
[null,"st.č.","SDH","Pokus",1,2,3,4,5,6,7,8,9,"P","C.čas",null,"Poř.",null,"Body"]
[null,{"$f":"Start!B37","v":31},{"$f":"IF(Start!C37=\"\",\"\",Start!C37)","v":""},"1. pokus",null,null,null,null,null,null,null,null,null,{"$f":"IF(C107=\"\",\"\",COUNT(E109:M109))","v":""},{"$f":"IF(C107=\"\",\"\",IF(AND(N107=0,COUNTIF(E109:M109,\"NP\")=0),\"DNF\",IF(N107<N$2,\"NP\",SUM(U107:AC109))))","v":""},null,{"$f":"IF(C107=\"\",\"\",IF(OR(O107=\"NP\",O107=\"DNF\"),Start!$E$5,RANK(O107,O$5:O$136,1)))","v":""},null,{"$f":"IF(D107=\"\",\"\",IF(OR(Q107=\"NP\",Q107=\"DNF\"),IF(Q107=\"NP\",MAX(Q$5:Q$85)+COUNTIF((Q$5:Q$85),MAX(Q$5:Q$85)),MAX(Q$5:Q$85)+COUNTIF((Q$5:Q$85),MAX(Q$5:Q$85))+COUNTIF((Q$5:Q$85),\"NP\")),Q107))","v":""},null,{"$f":"IF($C107=\"\",\"\",IF(U$4>$N$2,0,IF(ISNA(SMALL($E109:$M109,1)),0,SMALL($E109:$M109,1))))","v":""},{"$f":"IF($C107=\"\",\"\",IF(V$4>$N$2,0,IF(ISNA(SMALL($E109:$M109,2)),0,SMALL($E109:$M109,2))))","v":""},{"$f":"IF($C107=\"\",\"\",IF(W$4>$N$2,0,IF(ISNA(SMALL($E109:$M109,3)),0,SMALL($E109:$M109,3))))","v":""},{"$f":"IF($C107=\"\",\"\",IF(X$4>$N$2,0,IF(ISNA(SMALL($E109:$M109,4)),0,SMALL($E109:$M109,4))))","v":""},{"$f":"IF($C107=\"\",\"\",IF(Y$4>$N$2,0,IF(ISNA(SMALL($E109:$M109,5)),0,SMALL($E109:$M109,5))))","v":""},{"$f":"IF($C107=\"\",\"\",IF(Z$4>$N$2,0,IF(ISNA(SMALL($E109:$M109,6)),0,SMALL($E109:$M109,6))))","v":""},{"$f":"IF($C107=\"\",\"\",IF(AA$4>$N$2,0,IF(ISNA(SMALL($E109:$M109,7)),0,SMALL($E109:$M109,7))))","v":""},{"$f":"IF($C107=\"\",\"\",IF(AB$4>$N$2,0,IF(ISNA(SMALL($E109:$M109,8)),0,SMALL($E109:$M109,8))))","v":""},{"$f":"IF($C107=\"\",\"\",IF(AC$4>$N$2,0,IF(ISNA(SMALL($E109:$M109,9)),0,SMALL($E109:$M109,9))))","v":""}]
[null,null,null,"2. pokus"]
[null,null,null,"čas",{"$f":"IF(OR($C107=\"\",E107=\"\",E108=\"\"),\"\",IF(OR(AND(E107=\"NP\",E108=\"NP\"),AND(E107=\"DNF\",E108=\"DNF\")),E107,IF(AND(E107=\"NP\",E108=\"DNF\"),E107,IF(AND(E107=\"DNF\",E108=\"NP\"),E108,MIN(E107,E108)))))","v":""},"","","","","","","",""]
[null,{"$f":"Start!B38","v":32},{"$f":"IF(Start!C38=\"\",\"\",Start!C38)","v":""},"1. pokus",null,null,null,null,null,null,null,null,null,{"$f":"IF(C110=\"\",\"\",COUNT(E112:M112))","v":""},{"$f":"IF(C110=\"\",\"\",IF(AND(N110=0,COUNTIF(E112:M112,\"NP\")=0),\"DNF\",IF(N110<N$2,\"NP\",SUM(U110:AC112))))","v":""},null,{"$f":"IF(C110=\"\",\"\",IF(OR(O110=\"NP\",O110=\"DNF\"),Start!$E$5,RANK(O110,O$5:O$136,1)))","v":""},null,{"$f":"IF(D110=\"\",\"\",IF(OR(Q110=\"NP\",Q110=\"DNF\"),IF(Q110=\"NP\",MAX(Q$5:Q$85)+COUNTIF((Q$5:Q$85),MAX(Q$5:Q$85)),MAX(Q$5:Q$85)+COUNTIF((Q$5:Q$85),MAX(Q$5:Q$85))+COUNTIF((Q$5:Q$85),\"NP\")),Q110))","v":""},null,{"$f":"IF($C110=\"\",\"\",IF(U$4>$N$2,0,IF(ISNA(SMALL($E112:$M112,1)),0,SMALL($E112:$M112,1))))","v":""},{"$f":"IF($C110=\"\",\"\",IF(V$4>$N$2,0,IF(ISNA(SMALL($E112:$M112,2)),0,SMALL($E112:$M112,2))))","v":""},{"$f":"IF($C110=\"\",\"\",IF(W$4>$N$2,0,IF(ISNA(SMALL($E112:$M112,3)),0,SMALL($E112:$M112,3))))","v":""},{"$f":"IF($C110=\"\",\"\",IF(X$4>$N$2,0,IF(ISNA(SMALL($E112:$M112,4)),0,SMALL($E112:$M112,4))))","v":""},{"$f":"IF($C110=\"\",\"\",IF(Y$4>$N$2,0,IF(ISNA(SMALL($E112:$M112,5)),0,SMALL($E112:$M112,5))))","v":""},{"$f":"IF($C110=\"\",\"\",IF(Z$4>$N$2,0,IF(ISNA(SMALL($E112:$M112,6)),0,SMALL($E112:$M112,6))))","v":""},{"$f":"IF($C110=\"\",\"\",IF(AA$4>$N$2,0,IF(ISNA(SMALL($E112:$M112,7)),0,SMALL($E112:$M112,7))))","v":""},{"$f":"IF($C110=\"\",\"\",IF(AB$4>$N$2,0,IF(ISNA(SMALL($E112:$M112,8)),0,SMALL($E112:$M112,8))))","v":""},{"$f":"IF($C110=\"\",\"\",IF(AC$4>$N$2,0,IF(ISNA(SMALL($E112:$M112,9)),0,SMALL($E112:$M112,9))))","v":""}]
[null,null,null,"2. pokus"]
[null,null,null,"čas",{"$f":"IF(OR($C110=\"\",E110=\"\",E111=\"\"),\"\",IF(OR(AND(E110=\"NP\",E111=\"NP\"),AND(E110=\"DNF\",E111=\"DNF\")),E110,IF(AND(E110=\"NP\",E111=\"DNF\"),E110,IF(AND(E110=\"DNF\",E111=\"NP\"),E111,MIN(E110,E111)))))","v":""},"","","","","","","",""]
[null,{"$f":"Start!B39","v":33},{"$f":"IF(Start!C39=\"\",\"\",Start!C39)","v":""},"1. pokus",null,null,null,null,null,null,null,null,null,{"$f":"IF(C113=\"\",\"\",COUNT(E115:M115))","v":""},{"$f":"IF(C113=\"\",\"\",IF(AND(N113=0,COUNTIF(E115:M115,\"NP\")=0),\"DNF\",IF(N113<N$2,\"NP\",SUM(U113:AC115))))","v":""},null,{"$f":"IF(C113=\"\",\"\",IF(OR(O113=\"NP\",O113=\"DNF\"),Start!$E$5,RANK(O113,O$5:O$136,1)))","v":""},null,{"$f":"IF(D113=\"\",\"\",IF(OR(Q113=\"NP\",Q113=\"DNF\"),IF(Q113=\"NP\",MAX(Q$5:Q$85)+COUNTIF((Q$5:Q$85),MAX(Q$5:Q$85)),MAX(Q$5:Q$85)+COUNTIF((Q$5:Q$85),MAX(Q$5:Q$85))+COUNTIF((Q$5:Q$85),\"NP\")),Q113))","v":""},null,{"$f":"IF($C113=\"\",\"\",IF(U$4>$N$2,0,IF(ISNA(SMALL($E115:$M115,1)),0,SMALL($E115:$M115,1))))","v":""},{"$f":"IF($C113=\"\",\"\",IF(V$4>$N$2,0,IF(ISNA(SMALL($E115:$M115,2)),0,SMALL($E115:$M115,2))))","v":""},{"$f":"IF($C113=\"\",\"\",IF(W$4>$N$2,0,IF(ISNA(SMALL($E115:$M115,3)),0,SMALL($E115:$M115,3))))","v":""},{"$f":"IF($C113=\"\",\"\",IF(X$4>$N$2,0,IF(ISNA(SMALL($E115:$M115,4)),0,SMALL($E115:$M115,4))))","v":""},{"$f":"IF($C113=\"\",\"\",IF(Y$4>$N$2,0,IF(ISNA(SMALL($E115:$M115,5)),0,SMALL($E115:$M115,5))))","v":""},{"$f":"IF($C113=\"\",\"\",IF(Z$4>$N$2,0,IF(ISNA(SMALL($E115:$M115,6)),0,SMALL($E115:$M115,6))))","v":""},{"$f":"IF($C113=\"\",\"\",IF(AA$4>$N$2,0,IF(ISNA(SMALL($E115:$M115,7)),0,SMALL($E115:$M115,7))))","v":""},{"$f":"IF($C113=\"\",\"\",IF(AB$4>$N$2,0,IF(ISNA(SMALL($E115:$M115,8)),0,SMALL($E115:$M115,8))))","v":""},{"$f":"IF($C113=\"\",\"\",IF(AC$4>$N$2,0,IF(ISNA(SMALL($E115:$M115,9)),0,SMALL($E115:$M115,9))))","v":""}]
[null,null,null,"2. pokus"]
[null,null,null,"čas",{"$f":"IF(OR($C113=\"\",E113=\"\",E114=\"\"),\"\",IF(OR(AND(E113=\"NP\",E114=\"NP\"),AND(E113=\"DNF\",E114=\"DNF\")),E113,IF(AND(E113=\"NP\",E114=\"DNF\"),E113,IF(AND(E113=\"DNF\",E114=\"NP\"),E114,MIN(E113,E114)))))","v":""},"","","","","","","",""]
[null,{"$f":"Start!B40","v":34},{"$f":"IF(Start!C40=\"\",\"\",Start!C40)","v":""},"1. pokus",null,null,null,null,null,null,null,null,null,{"$f":"IF(C116=\"\",\"\",COUNT(E118:M118))","v":""},{"$f":"IF(C116=\"\",\"\",IF(AND(N116=0,COUNTIF(E118:M118,\"NP\")=0),\"DNF\",IF(N116<N$2,\"NP\",SUM(U116:AC118))))","v":""},null,{"$f":"IF(C116=\"\",\"\",IF(OR(O116=\"NP\",O116=\"DNF\"),Start!$E$5,RANK(O116,O$5:O$136,1)))","v":""},null,{"$f":"IF(D116=\"\",\"\",IF(OR(Q116=\"NP\",Q116=\"DNF\"),IF(Q116=\"NP\",MAX(Q$5:Q$85)+COUNTIF((Q$5:Q$85),MAX(Q$5:Q$85)),MAX(Q$5:Q$85)+COUNTIF((Q$5:Q$85),MAX(Q$5:Q$85))+COUNTIF((Q$5:Q$85),\"NP\")),Q116))","v":""},null,{"$f":"IF($C116=\"\",\"\",IF(U$4>$N$2,0,IF(ISNA(SMALL($E118:$M118,1)),0,SMALL($E118:$M118,1))))","v":""},{"$f":"IF($C116=\"\",\"\",IF(V$4>$N$2,0,IF(ISNA(SMALL($E118:$M118,2)),0,SMALL($E118:$M118,2))))","v":""},{"$f":"IF($C116=\"\",\"\",IF(W$4>$N$2,0,IF(ISNA(SMALL($E118:$M118,3)),0,SMALL($E118:$M118,3))))","v":""},{"$f":"IF($C116=\"\",\"\",IF(X$4>$N$2,0,IF(ISNA(SMALL($E118:$M118,4)),0,SMALL($E118:$M118,4))))","v":""},{"$f":"IF($C116=\"\",\"\",IF(Y$4>$N$2,0,IF(ISNA(SMALL($E118:$M118,5)),0,SMALL($E118:$M118,5))))","v":""},{"$f":"IF($C116=\"\",\"\",IF(Z$4>$N$2,0,IF(ISNA(SMALL($E118:$M118,6)),0,SMALL($E118:$M118,6))))","v":""},{"$f":"IF($C116=\"\",\"\",IF(AA$4>$N$2,0,IF(ISNA(SMALL($E118:$M118,7)),0,SMALL($E118:$M118,7))))","v":""},{"$f":"IF($C116=\"\",\"\",IF(AB$4>$N$2,0,IF(ISNA(SMALL($E118:$M118,8)),0,SMALL($E118:$M118,8))))","v":""},{"$f":"IF($C116=\"\",\"\",IF(AC$4>$N$2,0,IF(ISNA(SMALL($E118:$M118,9)),0,SMALL($E118:$M118,9))))","v":""}]
[null,null,null,"2. pokus"]
[null,null,null,"čas",{"$f":"IF(OR($C116=\"\",E116=\"\",E117=\"\"),\"\",IF(OR(AND(E116=\"NP\",E117=\"NP\"),AND(E116=\"DNF\",E117=\"DNF\")),E116,IF(AND(E116=\"NP\",E117=\"DNF\"),E116,IF(AND(E116=\"DNF\",E117=\"NP\"),E117,MIN(E116,E117)))))","v":""},"","","","","","","",""]
[null,{"$f":"Start!B41","v":35},{"$f":"IF(Start!C41=\"\",\"\",Start!C41)","v":""},"1. pokus",null,null,null,null,null,null,null,null,null,{"$f":"IF(C119=\"\",\"\",COUNT(E121:M121))","v":""},{"$f":"IF(C119=\"\",\"\",IF(AND(N119=0,COUNTIF(E121:M121,\"NP\")=0),\"DNF\",IF(N119<N$2,\"NP\",SUM(U119:AC121))))","v":""},null,{"$f":"IF(C119=\"\",\"\",IF(OR(O119=\"NP\",O119=\"DNF\"),Start!$E$5,RANK(O119,O$5:O$136,1)))","v":""},null,{"$f":"IF(D119=\"\",\"\",IF(OR(Q119=\"NP\",Q119=\"DNF\"),IF(Q119=\"NP\",MAX(Q$5:Q$85)+COUNTIF((Q$5:Q$85),MAX(Q$5:Q$85)),MAX(Q$5:Q$85)+COUNTIF((Q$5:Q$85),MAX(Q$5:Q$85))+COUNTIF((Q$5:Q$85),\"NP\")),Q119))","v":""},null,{"$f":"IF($C119=\"\",\"\",IF(U$4>$N$2,0,IF(ISNA(SMALL($E121:$M121,1)),0,SMALL($E121:$M121,1))))","v":""},{"$f":"IF($C119=\"\",\"\",IF(V$4>$N$2,0,IF(ISNA(SMALL($E121:$M121,2)),0,SMALL($E121:$M121,2))))","v":""},{"$f":"IF($C119=\"\",\"\",IF(W$4>$N$2,0,IF(ISNA(SMALL($E121:$M121,3)),0,SMALL($E121:$M121,3))))","v":""},{"$f":"IF($C119=\"\",\"\",IF(X$4>$N$2,0,IF(ISNA(SMALL($E121:$M121,4)),0,SMALL($E121:$M121,4))))","v":""},{"$f":"IF($C119=\"\",\"\",IF(Y$4>$N$2,0,IF(ISNA(SMALL($E121:$M121,5)),0,SMALL($E121:$M121,5))))","v":""},{"$f":"IF($C119=\"\",\"\",IF(Z$4>$N$2,0,IF(ISNA(SMALL($E121:$M121,6)),0,SMALL($E121:$M121,6))))","v":""},{"$f":"IF($C119=\"\",\"\",IF(AA$4>$N$2,0,IF(ISNA(SMALL($E121:$M121,7)),0,SMALL($E121:$M121,7))))","v":""},{"$f":"IF($C119=\"\",\"\",IF(AB$4>$N$2,0,IF(ISNA(SMALL($E121:$M121,8)),0,SMALL($E121:$M121,8))))","v":""},{"$f":"IF($C119=\"\",\"\",IF(AC$4>$N$2,0,IF(ISNA(SMALL($E121:$M121,9)),0,SMALL($E121:$M121,9))))","v":""}]
[null,null,null,"2. pokus"]
[null,null,null,"čas",{"$f":"IF(OR($C119=\"\",E119=\"\",E120=\"\"),\"\",IF(OR(AND(E119=\"NP\",E120=\"NP\"),AND(E119=\"DNF\",E120=\"DNF\")),E119,IF(AND(E119=\"NP\",E120=\"DNF\"),E119,IF(AND(E119=\"DNF\",E120=\"NP\"),E120,MIN(E119,E120)))))","v":""},"","","","","","","",""]
[null,{"$f":"Start!B42","v":36},{"$f":"IF(Start!C42=\"\",\"\",Start!C42)","v":""},"1. pokus",null,null,null,null,null,null,null,null,null,{"$f":"IF(C122=\"\",\"\",COUNT(E124:M124))","v":""},{"$f":"IF(C122=\"\",\"\",IF(AND(N122=0,COUNTIF(E124:M124,\"NP\")=0),\"DNF\",IF(N122<N$2,\"NP\",SUM(U122:AC124))))","v":""},null,{"$f":"IF(C122=\"\",\"\",IF(OR(O122=\"NP\",O122=\"DNF\"),Start!$E$5,RANK(O122,O$5:O$136,1)))","v":""},null,{"$f":"IF(D122=\"\",\"\",IF(OR(Q122=\"NP\",Q122=\"DNF\"),IF(Q122=\"NP\",MAX(Q$5:Q$85)+COUNTIF((Q$5:Q$85),MAX(Q$5:Q$85)),MAX(Q$5:Q$85)+COUNTIF((Q$5:Q$85),MAX(Q$5:Q$85))+COUNTIF((Q$5:Q$85),\"NP\")),Q122))","v":""},null,{"$f":"IF($C122=\"\",\"\",IF(U$4>$N$2,0,IF(ISNA(SMALL($E124:$M124,1)),0,SMALL($E124:$M124,1))))","v":""},{"$f":"IF($C122=\"\",\"\",IF(V$4>$N$2,0,IF(ISNA(SMALL($E124:$M124,2)),0,SMALL($E124:$M124,2))))","v":""},{"$f":"IF($C122=\"\",\"\",IF(W$4>$N$2,0,IF(ISNA(SMALL($E124:$M124,3)),0,SMALL($E124:$M124,3))))","v":""},{"$f":"IF($C122=\"\",\"\",IF(X$4>$N$2,0,IF(ISNA(SMALL($E124:$M124,4)),0,SMALL($E124:$M124,4))))","v":""},{"$f":"IF($C122=\"\",\"\",IF(Y$4>$N$2,0,IF(ISNA(SMALL($E124:$M124,5)),0,SMALL($E124:$M124,5))))","v":""},{"$f":"IF($C122=\"\",\"\",IF(Z$4>$N$2,0,IF(ISNA(SMALL($E124:$M124,6)),0,SMALL($E124:$M124,6))))","v":""},{"$f":"IF($C122=\"\",\"\",IF(AA$4>$N$2,0,IF(ISNA(SMALL($E124:$M124,7)),0,SMALL($E124:$M124,7))))","v":""},{"$f":"IF($C122=\"\",\"\",IF(AB$4>$N$2,0,IF(ISNA(SMALL($E124:$M124,8)),0,SMALL($E124:$M124,8))))","v":""},{"$f":"IF($C122=\"\",\"\",IF(AC$4>$N$2,0,IF(ISNA(SMALL($E124:$M124,9)),0,SMALL($E124:$M124,9))))","v":""}]
[null,null,null,"2. pokus"]
[null,null,null,"čas",{"$f":"IF(OR($C122=\"\",E122=\"\",E123=\"\"),\"\",IF(OR(AND(E122=\"NP\",E123=\"NP\"),AND(E122=\"DNF\",E123=\"DNF\")),E122,IF(AND(E122=\"NP\",E123=\"DNF\"),E122,IF(AND(E122=\"DNF\",E123=\"NP\"),E123,MIN(E122,E123)))))","v":""},"","","","","","","",""]
[null,{"$f":"Start!B43","v":37},{"$f":"IF(Start!C43=\"\",\"\",Start!C43)","v":""},"1. pokus",null,null,null,null,null,null,null,null,null,{"$f":"IF(C125=\"\",\"\",COUNT(E127:M127))","v":""},{"$f":"IF(C125=\"\",\"\",IF(AND(N125=0,COUNTIF(E127:M127,\"NP\")=0),\"DNF\",IF(N125<N$2,\"NP\",SUM(U125:AC127))))","v":""},null,{"$f":"IF(C125=\"\",\"\",IF(OR(O125=\"NP\",O125=\"DNF\"),Start!$E$5,RANK(O125,O$5:O$136,1)))","v":""},null,{"$f":"IF(D125=\"\",\"\",IF(OR(Q125=\"NP\",Q125=\"DNF\"),IF(Q125=\"NP\",MAX(Q$5:Q$85)+COUNTIF((Q$5:Q$85),MAX(Q$5:Q$85)),MAX(Q$5:Q$85)+COUNTIF((Q$5:Q$85),MAX(Q$5:Q$85))+COUNTIF((Q$5:Q$85),\"NP\")),Q125))","v":""},null,{"$f":"IF($C125=\"\",\"\",IF(U$4>$N$2,0,IF(ISNA(SMALL($E127:$M127,1)),0,SMALL($E127:$M127,1))))","v":""},{"$f":"IF($C125=\"\",\"\",IF(V$4>$N$2,0,IF(ISNA(SMALL($E127:$M127,2)),0,SMALL($E127:$M127,2))))","v":""},{"$f":"IF($C125=\"\",\"\",IF(W$4>$N$2,0,IF(ISNA(SMALL($E127:$M127,3)),0,SMALL($E127:$M127,3))))","v":""},{"$f":"IF($C125=\"\",\"\",IF(X$4>$N$2,0,IF(ISNA(SMALL($E127:$M127,4)),0,SMALL($E127:$M127,4))))","v":""},{"$f":"IF($C125=\"\",\"\",IF(Y$4>$N$2,0,IF(ISNA(SMALL($E127:$M127,5)),0,SMALL($E127:$M127,5))))","v":""},{"$f":"IF($C125=\"\",\"\",IF(Z$4>$N$2,0,IF(ISNA(SMALL($E127:$M127,6)),0,SMALL($E127:$M127,6))))","v":""},{"$f":"IF($C125=\"\",\"\",IF(AA$4>$N$2,0,IF(ISNA(SMALL($E127:$M127,7)),0,SMALL($E127:$M127,7))))","v":""},{"$f":"IF($C125=\"\",\"\",IF(AB$4>$N$2,0,IF(ISNA(SMALL($E127:$M127,8)),0,SMALL($E127:$M127,8))))","v":""},{"$f":"IF($C125=\"\",\"\",IF(AC$4>$N$2,0,IF(ISNA(SMALL($E127:$M127,9)),0,SMALL($E127:$M127,9))))","v":""}]
[null,null,null,"2. pokus"]
[null,null,null,"čas",{"$f":"IF(OR($C125=\"\",E125=\"\",E126=\"\"),\"\",IF(OR(AND(E125=\"NP\",E126=\"NP\"),AND(E125=\"DNF\",E126=\"DNF\")),E125,IF(AND(E125=\"NP\",E126=\"DNF\"),E125,IF(AND(E125=\"DNF\",E126=\"NP\"),E126,MIN(E125,E126)))))","v":""},"","","","","","","",""]
[null,{"$f":"Start!B44","v":38},{"$f":"IF(Start!C44=\"\",\"\",Start!C44)","v":""},"1. pokus",null,null,null,null,null,null,null,null,null,{"$f":"IF(C128=\"\",\"\",COUNT(E130:M130))","v":""},{"$f":"IF(C128=\"\",\"\",IF(AND(N128=0,COUNTIF(E130:M130,\"NP\")=0),\"DNF\",IF(N128<N$2,\"NP\",SUM(U128:AC130))))","v":""},null,{"$f":"IF(C128=\"\",\"\",IF(OR(O128=\"NP\",O128=\"DNF\"),Start!$E$5,RANK(O128,O$5:O$136,1)))","v":""},null,{"$f":"IF(D128=\"\",\"\",IF(OR(Q128=\"NP\",Q128=\"DNF\"),IF(Q128=\"NP\",MAX(Q$5:Q$85)+COUNTIF((Q$5:Q$85),MAX(Q$5:Q$85)),MAX(Q$5:Q$85)+COUNTIF((Q$5:Q$85),MAX(Q$5:Q$85))+COUNTIF((Q$5:Q$85),\"NP\")),Q128))","v":""},null,{"$f":"IF($C128=\"\",\"\",IF(U$4>$N$2,0,IF(ISNA(SMALL($E130:$M130,1)),0,SMALL($E130:$M130,1))))","v":""},{"$f":"IF($C128=\"\",\"\",IF(V$4>$N$2,0,IF(ISNA(SMALL($E130:$M130,2)),0,SMALL($E130:$M130,2))))","v":""},{"$f":"IF($C128=\"\",\"\",IF(W$4>$N$2,0,IF(ISNA(SMALL($E130:$M130,3)),0,SMALL($E130:$M130,3))))","v":""},{"$f":"IF($C128=\"\",\"\",IF(X$4>$N$2,0,IF(ISNA(SMALL($E130:$M130,4)),0,SMALL($E130:$M130,4))))","v":""},{"$f":"IF($C128=\"\",\"\",IF(Y$4>$N$2,0,IF(ISNA(SMALL($E130:$M130,5)),0,SMALL($E130:$M130,5))))","v":""},{"$f":"IF($C128=\"\",\"\",IF(Z$4>$N$2,0,IF(ISNA(SMALL($E130:$M130,6)),0,SMALL($E130:$M130,6))))","v":""},{"$f":"IF($C128=\"\",\"\",IF(AA$4>$N$2,0,IF(ISNA(SMALL($E130:$M130,7)),0,SMALL($E130:$M130,7))))","v":""},{"$f":"IF($C128=\"\",\"\",IF(AB$4>$N$2,0,IF(ISNA(SMALL($E130:$M130,8)),0,SMALL($E130:$M130,8))))","v":""},{"$f":"IF($C128=\"\",\"\",IF(AC$4>$N$2,0,IF(ISNA(SMALL($E130:$M130,9)),0,SMALL($E130:$M130,9))))","v":""}]
[null,null,null,"2. pokus"]
[null,null,null,"čas",{"$f":"IF(OR($C128=\"\",E128=\"\",E129=\"\"),\"\",IF(OR(AND(E128=\"NP\",E129=\"NP\"),AND(E128=\"DNF\",E129=\"DNF\")),E128,IF(AND(E128=\"NP\",E129=\"DNF\"),E128,IF(AND(E128=\"DNF\",E129=\"NP\"),E129,MIN(E128,E129)))))","v":""},"","","","","","","",""]
[null,{"$f":"Start!B45","v":39},{"$f":"IF(Start!C45=\"\",\"\",Start!C45)","v":""},"1. pokus",null,null,null,null,null,null,null,null,null,{"$f":"IF(C131=\"\",\"\",COUNT(E133:M133))","v":""},{"$f":"IF(C131=\"\",\"\",IF(AND(N131=0,COUNTIF(E133:M133,\"NP\")=0),\"DNF\",IF(N131<N$2,\"NP\",SUM(U131:AC133))))","v":""},null,{"$f":"IF(C131=\"\",\"\",IF(OR(O131=\"NP\",O131=\"DNF\"),Start!$E$5,RANK(O131,O$5:O$136,1)))","v":""},null,{"$f":"IF(D131=\"\",\"\",IF(OR(Q131=\"NP\",Q131=\"DNF\"),IF(Q131=\"NP\",MAX(Q$5:Q$85)+COUNTIF((Q$5:Q$85),MAX(Q$5:Q$85)),MAX(Q$5:Q$85)+COUNTIF((Q$5:Q$85),MAX(Q$5:Q$85))+COUNTIF((Q$5:Q$85),\"NP\")),Q131))","v":""},null,{"$f":"IF($C131=\"\",\"\",IF(U$4>$N$2,0,IF(ISNA(SMALL($E133:$M133,1)),0,SMALL($E133:$M133,1))))","v":""},{"$f":"IF($C131=\"\",\"\",IF(V$4>$N$2,0,IF(ISNA(SMALL($E133:$M133,2)),0,SMALL($E133:$M133,2))))","v":""},{"$f":"IF($C131=\"\",\"\",IF(W$4>$N$2,0,IF(ISNA(SMALL($E133:$M133,3)),0,SMALL($E133:$M133,3))))","v":""},{"$f":"IF($C131=\"\",\"\",IF(X$4>$N$2,0,IF(ISNA(SMALL($E133:$M133,4)),0,SMALL($E133:$M133,4))))","v":""},{"$f":"IF($C131=\"\",\"\",IF(Y$4>$N$2,0,IF(ISNA(SMALL($E133:$M133,5)),0,SMALL($E133:$M133,5))))","v":""},{"$f":"IF($C131=\"\",\"\",IF(Z$4>$N$2,0,IF(ISNA(SMALL($E133:$M133,6)),0,SMALL($E133:$M133,6))))","v":""},{"$f":"IF($C131=\"\",\"\",IF(AA$4>$N$2,0,IF(ISNA(SMALL($E133:$M133,7)),0,SMALL($E133:$M133,7))))","v":""},{"$f":"IF($C131=\"\",\"\",IF(AB$4>$N$2,0,IF(ISNA(SMALL($E133:$M133,8)),0,SMALL($E133:$M133,8))))","v":""},{"$f":"IF($C131=\"\",\"\",IF(AC$4>$N$2,0,IF(ISNA(SMALL($E133:$M133,9)),0,SMALL($E133:$M133,9))))","v":""}]
[null,null,null,"2. pokus"]
[null,null,null,"čas",{"$f":"IF(OR($C131=\"\",E131=\"\",E132=\"\"),\"\",IF(OR(AND(E131=\"NP\",E132=\"NP\"),AND(E131=\"DNF\",E132=\"DNF\")),E131,IF(AND(E131=\"NP\",E132=\"DNF\"),E131,IF(AND(E131=\"DNF\",E132=\"NP\"),E132,MIN(E131,E132)))))","v":""},"","","","","","","",""]
[null,{"$f":"Start!B46","v":40},{"$f":"IF(Start!C46=\"\",\"\",Start!C46)","v":""},"1. pokus",null,null,null,null,null,null,null,null,null,{"$f":"IF(C134=\"\",\"\",COUNT(E136:M136))","v":""},{"$f":"IF(C134=\"\",\"\",IF(AND(N134=0,COUNTIF(E136:M136,\"NP\")=0),\"DNF\",IF(N134<N$2,\"NP\",SUM(U134:AC136))))","v":""},null,{"$f":"IF(C134=\"\",\"\",IF(OR(O134=\"NP\",O134=\"DNF\"),Start!$E$5,RANK(O134,O$5:O$136,1)))","v":""},null,{"$f":"IF(D134=\"\",\"\",IF(OR(Q134=\"NP\",Q134=\"DNF\"),IF(Q134=\"NP\",MAX(Q$5:Q$85)+COUNTIF((Q$5:Q$85),MAX(Q$5:Q$85)),MAX(Q$5:Q$85)+COUNTIF((Q$5:Q$85),MAX(Q$5:Q$85))+COUNTIF((Q$5:Q$85),\"NP\")),Q134))","v":""},null,{"$f":"IF($C134=\"\",\"\",IF(U$4>$N$2,0,IF(ISNA(SMALL($E136:$M136,1)),0,SMALL($E136:$M136,1))))","v":""},{"$f":"IF($C134=\"\",\"\",IF(V$4>$N$2,0,IF(ISNA(SMALL($E136:$M136,2)),0,SMALL($E136:$M136,2))))","v":""},{"$f":"IF($C134=\"\",\"\",IF(W$4>$N$2,0,IF(ISNA(SMALL($E136:$M136,3)),0,SMALL($E136:$M136,3))))","v":""},{"$f":"IF($C134=\"\",\"\",IF(X$4>$N$2,0,IF(ISNA(SMALL($E136:$M136,4)),0,SMALL($E136:$M136,4))))","v":""},{"$f":"IF($C134=\"\",\"\",IF(Y$4>$N$2,0,IF(ISNA(SMALL($E136:$M136,5)),0,SMALL($E136:$M136,5))))","v":""},{"$f":"IF($C134=\"\",\"\",IF(Z$4>$N$2,0,IF(ISNA(SMALL($E136:$M136,6)),0,SMALL($E136:$M136,6))))","v":""},{"$f":"IF($C134=\"\",\"\",IF(AA$4>$N$2,0,IF(ISNA(SMALL($E136:$M136,7)),0,SMALL($E136:$M136,7))))","v":""},{"$f":"IF($C134=\"\",\"\",IF(AB$4>$N$2,0,IF(ISNA(SMALL($E136:$M136,8)),0,SMALL($E136:$M136,8))))","v":""},{"$f":"IF($C134=\"\",\"\",IF(AC$4>$N$2,0,IF(ISNA(SMALL($E136:$M136,9)),0,SMALL($E136:$M136,9))))","v":""}]
[null,null,null,"2. pokus"]
[null,null,null,"čas",{"$f":"IF(OR($C134=\"\",E134=\"\",E135=\"\"),\"\",IF(OR(AND(E134=\"NP\",E135=\"NP\"),AND(E134=\"DNF\",E135=\"DNF\")),E134,IF(AND(E134=\"NP\",E135=\"DNF\"),E134,IF(AND(E134=\"DNF\",E135=\"NP\"),E135,MIN(E134,E135)))))","v":""},"","","","","","","",""]

{"sheet":"D-V","index":19,"n_rows":404,"n_cols":29,"rows_kept":404,"cut":false,"hidden":false,"merged":[[2,25,2,28],[2,4,2,6],[2,8,2,10],[0,1,0,12],[2,20,2,23]]}
[null,"Dvojboj - Sběr výsledků"]
[]
[null,null,{"$f":"Start!$C$5","v":"MUŽI"},null,"100m",null,null,null,"Věž",null,null,null,null,null,null,null,null,null,null,null,"100m",null,null,null,null,"Věž"]
[null,"St.č.","Jméno","kolektiv",1,2,"Čas",null,1,2,"Čas",null,"C.",null,"P.",null,"p.",null,"X.",null,1,2,"min","max",null,1,2,"min","max"]
[null,1,"Kryzan Martin","ÚO Pelhřimov",24.29,"NP",24.29,null,20.29,22.74,20.29,null,{"$f":"IF(C5=\"\",\"\",IF(OR(G5=\"\",K5=\"\"),\"\",IF(OR(G5=\"NP\",K5=\"NP\"),\"\",IF(OR(G5=\"DNF\",K5=\"DNF\"),\"\",G5+K5))))","v":44.58},null,{"$f":"IF(C5=\"\",\"\",IF(M5=\"\",\"\",RANK(M5,M$5:M$404,1)))","v":22},null,{"$f":"IF(C5=\"\",\"\",IF(M5=\"\",\"\",RANK(M5,M$5:M$404,1)))","v":22},null,{"$f":"IF(O5=\"\",\"\",IF(OR(X5=\"\",AC5=\"\"),\"\",X5+AC5))","v":622.74},null,{"$f":"IF($C5=\"\",\"\",IF(E5=\"NP\",600,IF(E5=\"DNF\",3600,IF(E5=\"\",\"\",E5))))","v":24.29},{"$f":"IF($C5=\"\",\"\",IF(F5=\"NP\",600,IF(F5=\"DNF\",3600,IF(F5=\"\",\"\",F5))))","v":600},{"$f":"IF(AND(U5=\"\",V5=\"\"),\"\",MIN(U5:V5))","v":24.29},{"$f":"IF(AND(U5=\"\",V5=\"\"),\"\",MAX(U5:V5))","v":600},null,{"$f":"IF($C5=\"\",\"\",IF(I5=\"NP\",600,IF(I5=\"DNF\",3600,IF(I5=\"\",\"\",I5))))","v":20.29},{"$f":"IF($C5=\"\",\"\",IF(J5=\"NP\",600,IF(J5=\"DNF\",3600,IF(J5=\"\",\"\",J5))))","v":22.74},{"$f":"IF(AND(Z5=\"\",AA5=\"\"),\"\",MIN(Z5:AA5))","v":20.29},{"$f":"IF(AND(Z5=\"\",AA5=\"\"),\"\",MAX(Z5:AA5))","v":22.74}]
[null,2,"Klíma Petr","ÚO Pelhřimov","DNF","DNF","DNF",null,19.79,19.510000000000002,19.510000000000002,null,{"$f":"IF(C6=\"\",\"\",IF(OR(G6=\"\",K6=\"\"),\"\",IF(OR(G6=\"NP\",K6=\"NP\"),\"\",IF(OR(G6=\"DNF\",K6=\"DNF\"),\"\",G6+K6))))","v":""},null,{"$f":"IF(C6=\"\",\"\",IF(M6=\"\",\"\",RANK(M6,M$5:M$404,1)))","v":""},null,{"$f":"IF(C6=\"\",\"\",IF(M6=\"\",\"\",RANK(M6,M$5:M$404,1)))","v":""},null,{"$f":"IF(O6=\"\",\"\",IF(OR(X6=\"\",AC6=\"\"),\"\",X6+AC6))","v":""},null,{"$f":"IF($C6=\"\",\"\",IF(E6=\"NP\",600,IF(E6=\"DNF\",3600,IF(E6=\"\",\"\",E6))))","v":3600},{"$f":"IF($C6=\"\",\"\",IF(F6=\"NP\",600,IF(F6=\"DNF\",3600,IF(F6=\"\",\"\",F6))))","v":3600},{"$f":"IF(AND(U6=\"\",V6=\"\"),\"\",MIN(U6:V6))","v":3600},{"$f":"IF(AND(U6=\"\",V6=\"\"),\"\",MAX(U6:V6))","v":3600},null,{"$f":"IF($C6=\"\",\"\",IF(I6=\"NP\",600,IF(I6=\"DNF\",3600,IF(I6=\"\",\"\",I6))))","v":19.79},{"$f":"IF($C6=\"\",\"\",IF(J6=\"NP\",600,IF(J6=\"DNF\",3600,IF(J6=\"\",\"\",J6))))","v":19.510000000000002},{"$f":"IF(AND(Z6=\"\",AA6=\"\"),\"\",MIN(Z6:AA6))","v":19.510000000000002},{"$f":"IF(AND(Z6=\"\",AA6=\"\"),\"\",MAX(Z6:AA6))","v":19.79}]
[null,3,"Smetana Petr","ÚO Pelhřimov",19.45,24.03,19.45,null,"DNF","DNF","DNF",null,"",null,"",null,"",null,"",null,19.45,24.03,19.45,24.03,null,3600,3600,3600,3600]
[null,4,"Blažek Jiří","ÚO Pelhřimov",27.25,23.56,23.56,null,18.18,18.05,18.05,null,41.61,null,17,null,17,null,45.43,null,27.25,23.56,23.56,27.25,null,18.18,18.05,18.05,18.18]
[null,5,"Vlk Martin","ÚO Pelhřimov",29.31,26.37,26.37,null,26.37,31.63,26.37,null,52.74,null,32,null,32,null,60.94,null,29.31,26.37,26.37,29.31,null,26.37,31.63,26.37,31.63]
[null,6,"Ryšavý Vilém","ÚO Pelhřimov",18.09,17.91,17.91,null,17.75,15.27,15.27,null,33.18,null,4,null,4,null,35.840000000000003,null,18.09,17.91,17.91,18.09,null,17.75,15.27,15.27,17.75]
[null,7,"Hašek Vladislav","ÚO Pelhřimov",24.34,"NP",24.34,null,"NP",23.06,23.06,null,47.4,null,28,null,28,null,1200,null,24.34,600,24.34,600,null,600,23.06,23.06,600]
[null,8,"Janko Vladimír","ÚO Pelhřimov",22.31,"NP",22.31,null,21.11,15.67,15.67,null,37.979999999999997,null,11,null,11,null,621.11,null,22.31,600,22.31,600,null,21.11,15.67,15.67,21.11]
[null,9,null,null,null,null,null,null,null,null,null,null,"",null,"",null,"",null,"",null,"","","","",null,"","","",""]
[null,10,null,null,null,null,null,null,null,null,null,null,"",null,"",null,"",null,"",null,"","","","",null,"","","",""]
[null,11,"Bíža Tomáš","SŽDC Havlíčkův Brod","DNF","DNF","DNF",null,36.450000000000003,"DNF",36.450000000000003,null,"",null,"",null,"",null,"",null,3600,3600,3600,3600,null,36.450000000000003,3600,36.450000000000003,3600]
[null,12,"Gemsa Martin","SŽDC Havlíčkův Brod",25.24,24.82,24.82,null,30.34,33.36,30.34,null,55.16,null,34,null,34,null,58.599999999999994,null,25.24,24.82,24.82,25.24,null,30.34,33.36,30.34,33.36]
[null,13,"Mrázek Jan","SŽDC Havlíčkův Brod",20.46,20.190000000000001,20.190000000000001,null,25.38,"DNF",25.38,null,45.57,null,24,null,24,null,3620.46,null,20.46,20.190000000000001,20.190000000000001,20.46,null,25.38,3600,25.38,3600]
[null,14,"Pátek Tomáš","SŽDC Havlíčkův Brod",27.37,23.06,23.06,null,38.4,41.25,38.4,null,61.459999999999994,null,35,null,35,null,68.62,null,27.37,23.06,23.06,27.37,null,38.4,41.25,38.4,41.25]
[null,15,"Zadina Dominik","SŽDC Havlíčkův Brod",23.46,23.09,23.09,null,41.42,42.48,41.42,null,64.510000000000005,null,36,null,36,null,65.94,null,23.46,23.09,23.09,23.46,null,41.42,42.48,41.42,42.48]
[null,16,"Prchal Jan","SŽDC Havlíčkův Brod",26.78,26.82,26.78,null,41.62,40.68,40.68,null,67.460000000000008,null,37,null,37,null,68.44,null,26.78,26.82,26.78,26.82,null,41.62,40.68,40.68,41.62]
[null,17,"Patočka Petr","SŽDC Havlíčkův Brod","NP",23.2,23.2,null,null,null,null,null,"",null,"",null,"",null,"",null,600,23.2,23.2,600,null,"","","",""]
[null,18,null,null,null,null,null,null,null,null,null,null,"",null,"",null,"",null,"",null,"","","","",null,"","","",""]
[null,19,null,null,null,null,null,null,null,null,null,null,"",null,"",null,"",null,"",null,"","","","",null,"","","",""]
[null,20,null,null,null,null,null,null,null,null,null,null,"",null,"",null,"",null,"",null,"","","","",null,"","","",""]
[null,21,"Havlíček Libor","Re Jihlava",null,null,null,null,21.04,18.22,18.22,null,"",null,"",null,"",null,"",null,"","","","",null,21.04,18.22,18.22,21.04]
[null,22,"Pařil Jiří","Re Jihlava",19.05,18.55,18.55,null,16.059999999999999,15.69,15.69,null,34.24,null,8,null,8,null,35.11,null,19.05,18.55,18.55,19.05,null,16.059999999999999,15.69,15.69,16.059999999999999]
[null,23,"Šimáček Pavel","Re Jihlava",22.15,21.52,21.52,null,24.69,23.84,23.84,null,45.36,null,23,null,23,null,46.84,null,22.15,21.52,21.52,22.15,null,24.69,23.84,23.84,24.69]
[null,24,"Hájek Petr","Re Jihlava",21.29,21.09,21.09,null,22.84,22.01,22.01,null,43.1,null,20,null,20,null,44.129999999999995,null,21.29,21.09,21.09,21.29,null,22.84,22.01,22.01,22.84]
[null,25,"Stuchlík Martin","Re Jihlava",16.91,16.59,16.59,null,14.56,18.66,14.56,null,31.15,null,1,null,1,null,35.57,null,16.91,16.59,16.59,16.91,null,14.56,18.66,14.56,18.66]
[null,26,"Pařil Milan","Re Jihlava",19.61,"NP",19.61,null,20.57,21.18,20.57,null,40.18,null,15,null,15,null,621.17999999999995,null,19.61,600,19.61,600,null,20.57,21.18,20.57,21.18]
[null,27,"Novotný Hynek","Re Jihlava",21.66,21.8,21.66,null,null,null,null,null,"",null,"",null,"",null,"",null,21.66,21.8,21.66,21.8,null,"","","",""]
[null,28,null,null,null,null,null,null,null,null,null,null,"",null,"",null,"",null,"",null,"","","","",null,"","","",""]
[null,29,null,null,null,null,null,null,null,null,null,null,"",null,"",null,"",null,"",null,"","","","",null,"","","",""]
[null,30,null,null,null,null,null,null,null,null,null,null,"",null,"",null,"",null,"",null,"","","","",null,"","","",""]
[null,31,"Fila Vojtěch","ÚO Třebíč",23.07,17.53,17.53,null,18.27,15.94,15.94,null,33.47,null,5,null,5,null,41.34,null,23.07,17.53,17.53,23.07,null,18.27,15.94,15.94,18.27]
[null,32,"Hons Lukáš","ÚO Třebíč",19.89,18.12,18.12,null,14.96,15.9,14.96,null,33.08,null,3,null,3,null,35.79,null,19.89,18.12,18.12,19.89,null,14.96,15.9,14.96,15.9]
[null,33,"Navrkal Luboš","ÚO Třebíč",17.32,17.350000000000001,17.32,null,17.59,16.489999999999998,16.489999999999998,null,33.81,null,7,null,7,null,34.94,null,17.32,17.350000000000001,17.32,17.350000000000001,null,17.59,16.489999999999998,16.489999999999998,17.59]
[null,34,"Slatinský Petr","ÚO Třebíč",18.739999999999998,18.72,18.72,null,24.26,26.02,24.26,null,42.980000000000004,null,19,null,19,null,44.76,null,18.739999999999998,18.72,18.72,18.739999999999998,null,24.26,26.02,24.26,26.02]
[null,35,"Šťastný Libor","ÚO Třebíč","DNF",19.190000000000001,19.190000000000001,null,20.07,16.53,16.53,null,35.72,null,9,null,9,null,3620.07,null,3600,19.190000000000001,19.190000000000001,3600,null,20.07,16.53,16.53,20.07]
[null,36,"Hnízdil Pavel","ÚO Třebíč",23.79,"DNF",23.79,null,18.46,15.65,15.65,null,39.44,null,13,null,13,null,3618.46,null,23.79,3600,23.79,3600,null,18.46,15.65,15.65,18.46]
[null,37,"Vejvoda Roman","ÚO Třebíč",22.99,20.68,20.68,null,"DNF","DNF","DNF",null,"",null,"",null,"",null,"",null,22.99,20.68,20.68,22.99,null,3600,3600,3600,3600]
[null,38,null,null,null,null,null,null,null,null,null,null,"",null,"",null,"",null,"",null,"","","","",null,"","","",""]
[null,39,"Máca Radek","ÚO Třebíč","DNF","DNF","DNF",null,null,null,null,null,"",null,"",null,"",null,"",null,3600,3600,3600,3600,null,"","","",""]
[null,40,null,null,null,null,null,null,null,null,null,null,"",null,"",null,"",null,"",null,"","","","",null,"","","",""]
[null,41,"Zadina Martin","ÚO Havlíčkův Brod",24.07,"NP",24.07,null,24.51,24.63,24.51,null,48.58,null,30,null,30,null,624.63,null,24.07,600,24.07,600,null,24.51,24.63,24.51,24.63]
[null,42,"Klimeš Martin","ÚO Havlíčkův Brod",18.46,19.3,18.46,null,20.02,21.93,20.02,null,38.480000000000004,null,12,null,12,null,41.230000000000004,null,18.46,19.3,18.46,19.3,null,20.02,21.93,20.02,21.93]
[null,43,"Kubát Jaroslav","ÚO Havlíčkův Brod",22.2,21.89,21.89,null,32.53,"NP",32.53,null,54.42,null,33,null,33,null,622.20000000000005,null,22.2,21.89,21.89,22.2,null,32.53,600,32.53,600]
[null,44,"Kubát Pavel","ÚO Havlíčkův Brod",17.940000000000001,"NP",17.940000000000001,null,15.64,20.399999999999999,15.64,null,33.58,null,6,null,6,null,620.4,null,17.940000000000001,600,17.940000000000001,600,null,15.64,20.399999999999999,15.64,20.399999999999999]
[null,45,"Flídr Luboš","ÚO Havlíčkův Brod",25.58,25.2,25.2,null,23.93,23.06,23.06,null,48.26,null,29,null,29,null,49.51,null,25.58,25.2,25.2,25.58,null,23.93,23.06,23.06,23.93]
[null,46,"Lacina Josef","ÚO Havlíčkův Brod",19.829999999999998,19.600000000000001,19.600000000000001,null,21.03,19.88,19.88,null,39.480000000000004,null,14,null,14,null,40.86,null,19.829999999999998,19.600000000000001,19.600000000000001,19.829999999999998,null,21.03,19.88,19.88,21.03]
[null,47,"Dolejší Zdenek","ÚO Havlíčkův Brod",23.64,21.23,21.23,null,24.93,22.96,22.96,null,44.19,null,21,null,21,null,48.57,null,23.64,21.23,21.23,23.64,null,24.93,22.96,22.96,24.93]
[null,48,"Panský David","ÚO Havlíčkův Brod",20.97,"NP",20.97,null,23.88,19.77,19.77,null,40.739999999999995,null,16,null,16,null,623.88,null,20.97,600,20.97,600,null,23.88,19.77,19.77,23.88]
[null,49,null,null,null,null,null,null,null,null,null,null,"",null,"",null,"",null,"",null,"","","","",null,"","","",""]
[null,50,null,null,null,null,null,null,null,null,null,null,"",null,"",null,"",null,"",null,"","","","",null,"","","",""]
[null,51,"Špaček Marek","ÚO Žďár nad Sázavou",25.89,23.64,23.64,null,30.16,27.93,27.93,null,51.57,null,31,null,31,null,56.05,null,25.89,23.64,23.64,25.89,null,30.16,27.93,27.93,30.16]
[null,52,"Čekal Michal","ÚO Žďár nad Sázavou",17.25,"NP",17.25,null,15.81,15.12,15.12,null,32.369999999999997,null,2,null,2,null,615.80999999999995,null,17.25,600,17.25,600,null,15.81,15.12,15.12,15.81]
[null,53,"Fabík Jan","ÚO Žďár nad Sázavou",19.41,"DNF",19.41,null,18.8,17.62,17.62,null,37.03,null,10,null,10,null,3618.8,null,19.41,3600,19.41,3600,null,18.8,17.62,17.62,18.8]
[null,54,"Kratochvíl Stanislav","ÚO Žďár nad Sázavou",18.41,"NP",18.41,null,null,null,null,null,"",null,"",null,"",null,"",null,18.41,600,18.41,600,null,"","","",""]
[null,55,"Mičánek Lukáš","ÚO Žďár nad Sázavou",23,22.35,22.35,null,24.52,24.15,24.15,null,46.5,null,26,null,26,null,47.519999999999996,null,23,22.35,22.35,23,null,24.52,24.15,24.15,24.52]
[null,56,"Plachecký Martin","ÚO Žďár nad Sázavou",null,null,null,null,31.83,"DNF",31.83,null,"",null,"",null,"",null,"",null,"","","","",null,31.83,3600,31.83,3600]
[null,57,"Urbánek Petr","ÚO Žďár nad Sázavou",21.47,"DNF",21.47,null,20.92,20.49,20.49,null,41.959999999999994,null,18,null,18,null,3620.92,null,21.47,3600,21.47,3600,null,20.92,20.49,20.49,20.92]
[null,58,"Pelikán Jan","ÚO Žďár nad Sázavou",22.58,23.07,22.58,null,24.34,24.6,24.34,null,46.92,null,27,null,27,null,47.67,null,22.58,23.07,22.58,23.07,null,24.34,24.6,24.34,24.6]
[null,59,"Škapa Miroslav","ÚO Žďár nad Sázavou",21.07,21.97,21.07,null,25.81,24.89,24.89,null,45.96,null,25,null,25,null,47.78,null,21.07,21.97,21.07,21.97,null,25.81,24.89,24.89,25.81]
[null,60,null,null,null,null,null,null,null,null,null,null,"",null,"",null,"",null,"",null,"","","","",null,"","","",""]
[null,61,null,null,null,null,null,null,null,null,null,null,"",null,"",null,"",null,"",null,"","","","",null,"","","",""]
[null,62,null,null,null,null,null,null,null,null,null,null,"",null,"",null,"",null,"",null,"","","","",null,"","","",""]
[null,63,null,null,null,null,null,null,null,null,null,null,"",null,"",null,"",null,"",null,"","","","",null,"","","",""]
[null,64,null,null,null,null,null,null,null,null,null,null,"",null,"",null,"",null,"",null,"","","","",null,"","","",""]
[null,65,null,null,null,null,null,null,null,null,null,null,"",null,"",null,"",null,"",null,"","","","",null,"","","",""]
[null,66,null,null,null,null,null,null,null,null,null,null,{"$f":"IF(C70=\"\",\"\",IF(OR(G70=\"\",K70=\"\"),\"\",IF(OR(G70=\"NP\",K70=\"NP\"),\"\",IF(OR(G70=\"DNF\",K70=\"DNF\"),\"\",G70+K70))))","v":""},null,{"$f":"IF(C70=\"\",\"\",IF(M70=\"\",\"\",RANK(M70,M$5:M$404,1)))","v":""},null,{"$f":"IF(C70=\"\",\"\",IF(M70=\"\",\"\",RANK(M70,M$5:M$404,1)))","v":""},null,{"$f":"IF(O70=\"\",\"\",IF(OR(X70=\"\",AC70=\"\"),\"\",X70+AC70))","v":""},null,{"$f":"IF($C70=\"\",\"\",IF(E70=\"NP\",600,IF(E70=\"DNF\",3600,IF(E70=\"\",\"\",E70))))","v":""},{"$f":"IF($C70=\"\",\"\",IF(F70=\"NP\",600,IF(F70=\"DNF\",3600,IF(F70=\"\",\"\",F70))))","v":""},{"$f":"IF(AND(U70=\"\",V70=\"\"),\"\",MIN(U70:V70))","v":""},{"$f":"IF(AND(U70=\"\",V70=\"\"),\"\",MAX(U70:V70))","v":""},null,{"$f":"IF($C70=\"\",\"\",IF(I70=\"NP\",600,IF(I70=\"DNF\",3600,IF(I70=\"\",\"\",I70))))","v":""},{"$f":"IF($C70=\"\",\"\",IF(J70=\"NP\",600,IF(J70=\"DNF\",3600,IF(J70=\"\",\"\",J70))))","v":""},{"$f":"IF(AND(Z70=\"\",AA70=\"\"),\"\",MIN(Z70:AA70))","v":""},{"$f":"IF(AND(Z70=\"\",AA70=\"\"),\"\",MAX(Z70:AA70))","v":""}]
[null,67,null,null,null,null,null,null,null,null,null,null,"",null,"",null,"",null,"",null,"","","","",null,"","","",""]
[null,68,null,null,null,null,null,null,null,null,null,null,"",null,"",null,"",null,"",null,"","","","",null,"","","",""]
[null,69,null,null,null,null,null,null,null,null,null,null,"",null,"",null,"",null,"",null,"","","","",null,"","","",""]
[null,70,null,null,null,null,null,null,null,null,null,null,"",null,"",null,"",null,"",null,"","","","",null,"","","",""]
[null,71,null,null,null,null,null,null,null,null,null,null,"",null,"",null,"",null,"",null,"","","","",null,"","","",""]
[null,72,null,null,null,null,null,null,null,null,null,null,"",null,"",null,"",null,"",null,"","","","",null,"","","",""]
[null,73,null,null,null,null,null,null,null,null,null,null,"",null,"",null,"",null,"",null,"","","","",null,"","","",""]
[null,74,null,null,null,null,null,null,null,null,null,null,"",null,"",null,"",null,"",null,"","","","",null,"","","",""]
[null,75,null,null,null,null,null,null,null,null,null,null,"",null,"",null,"",null,"",null,"","","","",null,"","","",""]
[null,76,null,null,null,null,null,null,null,null,null,null,"",null,"",null,"",null,"",null,"","","","",null,"","","",""]
[null,77,null,null,null,null,null,null,null,null,null,null,"",null,"",null,"",null,"",null,"","","","",null,"","","",""]
[null,78,null,null,null,null,null,null,null,null,null,null,"",null,"",null,"",null,"",null,"","","","",null,"","","",""]
[null,79,null,null,null,null,null,null,null,null,null,null,"",null,"",null,"",null,"",null,"","","","",null,"","","",""]
[null,80,null,null,null,null,null,null,null,null,null,null,"",null,"",null,"",null,"",null,"","","","",null,"","","",""]
[null,81,null,null,null,null,null,null,null,null,null,null,"",null,"",null,"",null,"",null,"","","","",null,"","","",""]
[null,82,null,null,null,null,null,null,null,null,null,null,"",null,"",null,"",null,"",null,"","","","",null,"","","",""]
[null,83,null,null,null,null,null,null,null,null,null,null,"",null,"",null,"",null,"",null,"","","","",null,"","","",""]
[null,84,null,null,null,null,null,null,null,null,null,null,"",null,"",null,"",null,"",null,"","","","",null,"","","",""]
[null,85,null,null,null,null,null,null,null,null,null,null,"",null,"",null,"",null,"",null,"","","","",null,"","","",""]
[null,86,null,null,null,null,null,null,null,null,null,null,"",null,"",null,"",null,"",null,"","","","",null,"","","",""]
[null,87,null,null,null,null,null,null,null,null,null,null,"",null,"",null,"",null,"",null,"","","","",null,"","","",""]
[null,88,null,null,null,null,null,null,null,null,null,null,"",null,"",null,"",null,"",null,"","","","",null,"","","",""]
[null,89,null,null,null,null,null,null,null,null,null,null,"",null,"",null,"",null,"",null,"","","","",null,"","","",""]
[null,90,null,null,null,null,null,null,null,null,null,null,"",null,"",null,"",null,"",null,"","","","",null,"","","",""]
[null,91,null,null,null,null,null,null,null,null,null,null,"",null,"",null,"",null,"",null,"","","","",null,"","","",""]
[null,92,null,null,null,null,null,null,null,null,null,null,"",null,"",null,"",null,"",null,"","","","",null,"","","",""]
[null,93,null,null,null,null,null,null,null,null,null,null,"",null,"",null,"",null,"",null,"","","","",null,"","","",""]
[null,94,null,null,null,null,null,null,null,null,null,null,"",null,"",null,"",null,"",null,"","","","",null,"","","",""]
[null,95,null,null,null,null,null,null,null,null,null,null,"",null,"",null,"",null,"",null,"","","","",null,"","","",""]
[null,96,null,null,null,null,null,null,null,null,null,null,"",null,"",null,"",null,"",null,"","","","",null,"","","",""]
[null,97,null,null,null,null,null,null,null,null,null,null,"",null,"",null,"",null,"",null,"","","","",null,"","","",""]
[null,98,null,null,null,null,null,null,null,null,null,null,"",null,"",null,"",null,"",null,"","","","",null,"","","",""]
[null,99,null,null,null,null,null,null,null,null,null,null,"",null,"",null,"",null,"",null,"","","","",null,"","","",""]
[null,100,null,null,null,null,null,null,null,null,null,null,"",null,"",null,"",null,"",null,"","","","",null,"","","",""]
[null,101,null,null,null,null,null,null,null,null,null,null,"",null,"",null,"",null,"",null,"","","","",null,"","","",""]
[null,102,null,null,null,null,null,null,null,null,null,null,"",null,"",null,"",null,"",null,"","","","",null,"","","",""]
[null,103,null,null,null,null,null,null,null,null,null,null,"",null,"",null,"",null,"",null,"","","","",null,"","","",""]
[null,104,null,null,null,null,null,null,null,null,null,null,"",null,"",null,"",null,"",null,"","","","",null,"","","",""]
[null,105,null,null,null,null,null,null,null,null,null,null,"",null,"",null,"",null,"",null,"","","","",null,"","","",""]
[null,106,null,null,null,null,null,null,null,null,null,null,"",null,"",null,"",null,"",null,"","","","",null,"","","",""]
[null,107,null,null,null,null,null,null,null,null,null,null,"",null,"",null,"",null,"",null,"","","","",null,"","","",""]
[null,108,null,null,null,null,null,null,null,null,null,null,"",null,"",null,"",null,"",null,"","","","",null,"","","",""]
[null,109,null,null,null,null,null,null,null,null,null,null,"",null,"",null,"",null,"",null,"","","","",null,"","","",""]
[null,110,null,null,null,null,null,null,null,null,null,null,"",null,"",null,"",null,"",null,"","","","",null,"","","",""]
[null,111,null,null,null,null,null,null,null,null,null,null,"",null,"",null,"",null,"",null,"","","","",null,"","","",""]
[null,112,null,null,null,null,null,null,null,null,null,null,"",null,"",null,"",null,"",null,"","","","",null,"","","",""]
[null,113,null,null,null,null,null,null,null,null,null,null,"",null,"",null,"",null,"",null,"","","","",null,"","","",""]
[null,114,null,null,null,null,null,null,null,null,null,null,"",null,"",null,"",null,"",null,"","","","",null,"","","",""]
[null,115,null,null,null,null,null,null,null,null,null,null,"",null,"",null,"",null,"",null,"","","","",null,"","","",""]
[null,116,null,null,null,null,null,null,null,null,null,null,"",null,"",null,"",null,"",null,"","","","",null,"","","",""]
[null,117,null,null,null,null,null,null,null,null,null,null,"",null,"",null,"",null,"",null,"","","","",null,"","","",""]
[null,118,null,null,null,null,null,null,null,null,null,null,"",null,"",null,"",null,"",null,"","","","",null,"","","",""]
[null,119,null,null,null,null,null,null,null,null,null,null,"",null,"",null,"",null,"",null,"","","","",null,"","","",""]
[null,120,null,null,null,null,null,null,null,null,null,null,"",null,"",null,"",null,"",null,"","","","",null,"","","",""]
[null,121,null,null,null,null,null,null,null,null,null,null,"",null,"",null,"",null,"",null,"","","","",null,"","","",""]
[null,122,null,null,null,null,null,null,null,null,null,null,"",null,"",null,"",null,"",null,"","","","",null,"","","",""]
[null,123,null,null,null,null,null,null,null,null,null,null,"",null,"",null,"",null,"",null,"","","","",null,"","","",""]
[null,124,null,null,null,null,null,null,null,null,null,null,"",null,"",null,"",null,"",null,"","","","",null,"","","",""]
[null,125,null,null,null,null,null,null,null,null,null,null,"",null,"",null,"",null,"",null,"","","","",null,"","","",""]
[null,126,null,null,null,null,null,null,null,null,null,null,"",null,"",null,"",null,"",null,"","","","",null,"","","",""]
[null,127,null,null,null,null,null,null,null,null,null,null,"",null,"",null,"",null,"",null,"","","","",null,"","","",""]
[null,128,null,null,null,null,null,null,null,null,null,null,"",null,"",null,"",null,"",null,"","","","",null,"","","",""]
[null,129,null,null,null,null,null,null,null,null,null,null,"",null,"",null,"",null,"",null,"","","","",null,"","","",""]
[null,130,null,null,null,null,null,null,null,null,null,null,{"$f":"IF(C134=\"\",\"\",IF(OR(G134=\"\",K134=\"\"),\"\",IF(OR(G134=\"NP\",K134=\"NP\"),\"\",IF(OR(G134=\"DNF\",K134=\"DNF\"),\"\",G134+K134))))","v":""},null,{"$f":"IF(C134=\"\",\"\",IF(M134=\"\",\"\",RANK(M134,M$5:M$404,1)))","v":""},null,{"$f":"IF(C134=\"\",\"\",IF(M134=\"\",\"\",RANK(M134,M$5:M$404,1)))","v":""},null,{"$f":"IF(O134=\"\",\"\",IF(OR(X134=\"\",AC134=\"\"),\"\",X134+AC134))","v":""},null,{"$f":"IF($C134=\"\",\"\",IF(E134=\"NP\",600,IF(E134=\"DNF\",3600,IF(E134=\"\",\"\",E134))))","v":""},{"$f":"IF($C134=\"\",\"\",IF(F134=\"NP\",600,IF(F134=\"DNF\",3600,IF(F134=\"\",\"\",F134))))","v":""},{"$f":"IF(AND(U134=\"\",V134=\"\"),\"\",MIN(U134:V134))","v":""},{"$f":"IF(AND(U134=\"\",V134=\"\"),\"\",MAX(U134:V134))","v":""},null,{"$f":"IF($C134=\"\",\"\",IF(I134=\"NP\",600,IF(I134=\"DNF\",3600,IF(I134=\"\",\"\",I134))))","v":""},{"$f":"IF($C134=\"\",\"\",IF(J134=\"NP\",600,IF(J134=\"DNF\",3600,IF(J134=\"\",\"\",J134))))","v":""},{"$f":"IF(AND(Z134=\"\",AA134=\"\"),\"\",MIN(Z134:AA134))","v":""},{"$f":"IF(AND(Z134=\"\",AA134=\"\"),\"\",MAX(Z134:AA134))","v":""}]
[null,131,null,null,null,null,null,null,null,null,null,null,"",null,"",null,"",null,"",null,"","","","",null,"","","",""]
[null,132,null,null,null,null,null,null,null,null,null,null,"",null,"",null,"",null,"",null,"","","","",null,"","","",""]
[null,133,null,null,null,null,null,null,null,null,null,null,"",null,"",null,"",null,"",null,"","","","",null,"","","",""]
[null,134,null,null,null,null,null,null,null,null,null,null,"",null,"",null,"",null,"",null,"","","","",null,"","","",""]
[null,135,null,null,null,null,null,null,null,null,null,null,"",null,"",null,"",null,"",null,"","","","",null,"","","",""]
[null,136,null,null,null,null,null,null,null,null,null,null,"",null,"",null,"",null,"",null,"","","","",null,"","","",""]
[null,137,null,null,null,null,null,null,null,null,null,null,"",null,"",null,"",null,"",null,"","","","",null,"","","",""]
[null,138,null,null,null,null,null,null,null,null,null,null,"",null,"",null,"",null,"",null,"","","","",null,"","","",""]
[null,139,null,null,null,null,null,null,null,null,null,null,"",null,"",null,"",null,"",null,"","","","",null,"","","",""]
[null,140,null,null,null,null,null,null,null,null,null,null,"",null,"",null,"",null,"",null,"","","","",null,"","","",""]
[null,141,null,null,null,null,null,null,null,null,null,null,"",null,"",null,"",null,"",null,"","","","",null,"","","",""]
[null,142,null,null,null,null,null,null,null,null,null,null,"",null,"",null,"",null,"",null,"","","","",null,"","","",""]
[null,143,null,null,null,null,null,null,null,null,null,null,"",null,"",null,"",null,"",null,"","","","",null,"","","",""]
[null,144,null,null,null,null,null,null,null,null,null,null,"",null,"",null,"",null,"",null,"","","","",null,"","","",""]
[null,145,null,null,null,null,null,null,null,null,null,null,"",null,"",null,"",null,"",null,"","","","",null,"","","",""]
[null,146,null,null,null,null,null,null,null,null,null,null,"",null,"",null,"",null,"",null,"","","","",null,"","","",""]
[null,147,null,null,null,null,null,null,null,null,null,null,"",null,"",null,"",null,"",null,"","","","",null,"","","",""]
[null,148,null,null,null,null,null,null,null,null,null,null,"",null,"",null,"",null,"",null,"","","","",null,"","","",""]
[null,149,null,null,null,null,null,null,null,null,null,null,"",null,"",null,"",null,"",null,"","","","",null,"","","",""]
[null,150,null,null,null,null,null,null,null,null,null,null,"",null,"",null,"",null,"",null,"","","","",null,"","","",""]
[null,151,null,null,null,null,null,null,null,null,null,null,"",null,"",null,"",null,"",null,"","","","",null,"","","",""]
[null,152,null,null,null,null,null,null,null,null,null,null,"",null,"",null,"",null,"",null,"","","","",null,"","","",""]
[null,153,null,null,null,null,null,null,null,null,null,null,"",null,"",null,"",null,"",null,"","","","",null,"","","",""]
[null,154,null,null,null,null,null,null,null,null,null,null,"",null,"",null,"",null,"",null,"","","","",null,"","","",""]
[null,155,null,null,null,null,null,null,null,null,null,null,"",null,"",null,"",null,"",null,"","","","",null,"","","",""]
[null,156,null,null,null,null,null,null,null,null,null,null,"",null,"",null,"",null,"",null,"","","","",null,"","","",""]
[null,157,null,null,null,null,null,null,null,null,null,null,"",null,"",null,"",null,"",null,"","","","",null,"","","",""]
[null,158,null,null,null,null,null,null,null,null,null,null,"",null,"",null,"",null,"",null,"","","","",null,"","","",""]
[null,159,null,null,null,null,null,null,null,null,null,null,"",null,"",null,"",null,"",null,"","","","",null,"","","",""]
[null,160,null,null,null,null,null,null,null,null,null,null,"",null,"",null,"",null,"",null,"","","","",null,"","","",""]
[null,161,null,null,null,null,null,null,null,null,null,null,"",null,"",null,"",null,"",null,"","","","",null,"","","",""]
[null,162,null,null,null,null,null,null,null,null,null,null,"",null,"",null,"",null,"",null,"","","","",null,"","","",""]
[null,163,null,null,null,null,null,null,null,null,null,null,"",null,"",null,"",null,"",null,"","","","",null,"","","",""]
[null,164,null,null,null,null,null,null,null,null,null,null,"",null,"",null,"",null,"",null,"","","","",null,"","","",""]
[null,165,null,null,null,null,null,null,null,null,null,null,"",null,"",null,"",null,"",null,"","","","",null,"","","",""]
[null,166,null,null,null,null,null,null,null,null,null,null,"",null,"",null,"",null,"",null,"","","","",null,"","","",""]
[null,167,null,null,null,null,null,null,null,null,null,null,"",null,"",null,"",null,"",null,"","","","",null,"","","",""]
[null,168,null,null,null,null,null,null,null,null,null,null,"",null,"",null,"",null,"",null,"","","","",null,"","","",""]
[null,169,null,null,null,null,null,null,null,null,null,null,"",null,"",null,"",null,"",null,"","","","",null,"","","",""]
[null,170,null,null,null,null,null,null,null,null,null,null,"",null,"",null,"",null,"",null,"","","","",null,"","","",""]
[null,171,null,null,null,null,null,null,null,null,null,null,"",null,"",null,"",null,"",null,"","","","",null,"","","",""]
[null,172,null,null,null,null,null,null,null,null,null,null,"",null,"",null,"",null,"",null,"","","","",null,"","","",""]
[null,173,null,null,null,null,null,null,null,null,null,null,"",null,"",null,"",null,"",null,"","","","",null,"","","",""]
[null,174,null,null,null,null,null,null,null,null,null,null,"",null,"",null,"",null,"",null,"","","","",null,"","","",""]
[null,175,null,null,null,null,null,null,null,null,null,null,"",null,"",null,"",null,"",null,"","","","",null,"","","",""]
[null,176,null,null,null,null,null,null,null,null,null,null,"",null,"",null,"",null,"",null,"","","","",null,"","","",""]
[null,177,null,null,null,null,null,null,null,null,null,null,"",null,"",null,"",null,"",null,"","","","",null,"","","",""]
[null,178,null,null,null,null,null,null,null,null,null,null,"",null,"",null,"",null,"",null,"","","","",null,"","","",""]
[null,179,null,null,null,null,null,null,null,null,null,null,"",null,"",null,"",null,"",null,"","","","",null,"","","",""]
[null,180,null,null,null,null,null,null,null,null,null,null,"",null,"",null,"",null,"",null,"","","","",null,"","","",""]
[null,181,null,null,null,null,null,null,null,null,null,null,"",null,"",null,"",null,"",null,"","","","",null,"","","",""]
[null,182,null,null,null,null,null,null,null,null,null,null,"",null,"",null,"",null,"",null,"","","","",null,"","","",""]
[null,183,null,null,null,null,null,null,null,null,null,null,"",null,"",null,"",null,"",null,"","","","",null,"","","",""]
[null,184,null,null,null,null,null,null,null,null,null,null,"",null,"",null,"",null,"",null,"","","","",null,"","","",""]
[null,185,null,null,null,null,null,null,null,null,null,null,"",null,"",null,"",null,"",null,"","","","",null,"","","",""]
[null,186,null,null,null,null,null,null,null,null,null,null,"",null,"",null,"",null,"",null,"","","","",null,"","","",""]
[null,187,null,null,null,null,null,null,null,null,null,null,"",null,"",null,"",null,"",null,"","","","",null,"","","",""]
[null,188,null,null,null,null,null,null,null,null,null,null,"",null,"",null,"",null,"",null,"","","","",null,"","","",""]
[null,189,null,null,null,null,null,null,null,null,null,null,"",null,"",null,"",null,"",null,"","","","",null,"","","",""]
[null,190,null,null,null,null,null,null,null,null,null,null,"",null,"",null,"",null,"",null,"","","","",null,"","","",""]
[null,191,null,null,null,null,null,null,null,null,null,null,"",null,"",null,"",null,"",null,"","","","",null,"","","",""]
[null,192,null,null,null,null,null,null,null,null,null,null,"",null,"",null,"",null,"",null,"","","","",null,"","","",""]
[null,193,null,null,null,null,null,null,null,null,null,null,"",null,"",null,"",null,"",null,"","","","",null,"","","",""]
[null,194,null,null,null,null,null,null,null,null,null,null,{"$f":"IF(C198=\"\",\"\",IF(OR(G198=\"\",K198=\"\"),\"\",IF(OR(G198=\"NP\",K198=\"NP\"),\"\",IF(OR(G198=\"DNF\",K198=\"DNF\"),\"\",G198+K198))))","v":""},null,{"$f":"IF(C198=\"\",\"\",IF(M198=\"\",\"\",RANK(M198,M$5:M$404,1)))","v":""},null,{"$f":"IF(C198=\"\",\"\",IF(M198=\"\",\"\",RANK(M198,M$5:M$404,1)))","v":""},null,{"$f":"IF(O198=\"\",\"\",IF(OR(X198=\"\",AC198=\"\"),\"\",X198+AC198))","v":""},null,{"$f":"IF($C198=\"\",\"\",IF(E198=\"NP\",600,IF(E198=\"DNF\",3600,IF(E198=\"\",\"\",E198))))","v":""},{"$f":"IF($C198=\"\",\"\",IF(F198=\"NP\",600,IF(F198=\"DNF\",3600,IF(F198=\"\",\"\",F198))))","v":""},{"$f":"IF(AND(U198=\"\",V198=\"\"),\"\",MIN(U198:V198))","v":""},{"$f":"IF(AND(U198=\"\",V198=\"\"),\"\",MAX(U198:V198))","v":""},null,{"$f":"IF($C198=\"\",\"\",IF(I198=\"NP\",600,IF(I198=\"DNF\",3600,IF(I198=\"\",\"\",I198))))","v":""},{"$f":"IF($C198=\"\",\"\",IF(J198=\"NP\",600,IF(J198=\"DNF\",3600,IF(J198=\"\",\"\",J198))))","v":""},{"$f":"IF(AND(Z198=\"\",AA198=\"\"),\"\",MIN(Z198:AA198))","v":""},{"$f":"IF(AND(Z198=\"\",AA198=\"\"),\"\",MAX(Z198:AA198))","v":""}]
[null,195,null,null,null,null,null,null,null,null,null,null,"",null,"",null,"",null,"",null,"","","","",null,"","","",""]
[null,196,null,null,null,null,null,null,null,null,null,null,"",null,"",null,"",null,"",null,"","","","",null,"","","",""]
[null,197,null,null,null,null,null,null,null,null,null,null,"",null,"",null,"",null,"",null,"","","","",null,"","","",""]
[null,198,null,null,null,null,null,null,null,null,null,null,"",null,"",null,"",null,"",null,"","","","",null,"","","",""]
[null,199,null,null,null,null,null,null,null,null,null,null,"",null,"",null,"",null,"",null,"","","","",null,"","","",""]
[null,200,null,null,null,null,null,null,null,null,null,null,"",null,"",null,"",null,"",null,"","","","",null,"","","",""]
[null,201,null,null,null,null,null,null,null,null,null,null,"",null,"",null,"",null,"",null,"","","","",null,"","","",""]
[null,202,null,null,null,null,null,null,null,null,null,null,"",null,"",null,"",null,"",null,"","","","",null,"","","",""]
[null,203,null,null,null,null,null,null,null,null,null,null,"",null,"",null,"",null,"",null,"","","","",null,"","","",""]
[null,204,null,null,null,null,null,null,null,null,null,null,"",null,"",null,"",null,"",null,"","","","",null,"","","",""]
[null,205,null,null,null,null,null,null,null,null,null,null,"",null,"",null,"",null,"",null,"","","","",null,"","","",""]
[null,206,null,null,null,null,null,null,null,null,null,null,"",null,"",null,"",null,"",null,"","","","",null,"","","",""]
[null,207,null,null,null,null,null,null,null,null,null,null,"",null,"",null,"",null,"",null,"","","","",null,"","","",""]
[null,208,null,null,null,null,null,null,null,null,null,null,"",null,"",null,"",null,"",null,"","","","",null,"","","",""]
[null,209,null,null,null,null,null,null,null,null,null,null,"",null,"",null,"",null,"",null,"","","","",null,"","","",""]
[null,210,null,null,null,null,null,null,null,null,null,null,"",null,"",null,"",null,"",null,"","","","",null,"","","",""]
[null,211,null,null,null,null,null,null,null,null,null,null,"",null,"",null,"",null,"",null,"","","","",null,"","","",""]
[null,212,null,null,null,null,null,null,null,null,null,null,"",null,"",null,"",null,"",null,"","","","",null,"","","",""]
[null,213,null,null,null,null,null,null,null,null,null,null,"",null,"",null,"",null,"",null,"","","","",null,"","","",""]
[null,214,null,null,null,null,null,null,null,null,null,null,"",null,"",null,"",null,"",null,"","","","",null,"","","",""]
[null,215,null,null,null,null,null,null,null,null,null,null,"",null,"",null,"",null,"",null,"","","","",null,"","","",""]
[null,216,null,null,null,null,null,null,null,null,null,null,"",null,"",null,"",null,"",null,"","","","",null,"","","",""]
[null,217,null,null,null,null,null,null,null,null,null,null,"",null,"",null,"",null,"",null,"","","","",null,"","","",""]
[null,218,null,null,null,null,null,null,null,null,null,null,"",null,"",null,"",null,"",null,"","","","",null,"","","",""]
[null,219,null,null,null,null,null,null,null,null,null,null,"",null,"",null,"",null,"",null,"","","","",null,"","","",""]
[null,220,null,null,null,null,null,null,null,null,null,null,"",null,"",null,"",null,"",null,"","","","",null,"","","",""]
[null,221,null,null,null,null,null,null,null,null,null,null,"",null,"",null,"",null,"",null,"","","","",null,"","","",""]
[null,222,null,null,null,null,null,null,null,null,null,null,"",null,"",null,"",null,"",null,"","","","",null,"","","",""]
[null,223,null,null,null,null,null,null,null,null,null,null,"",null,"",null,"",null,"",null,"","","","",null,"","","",""]
[null,224,null,null,null,null,null,null,null,null,null,null,"",null,"",null,"",null,"",null,"","","","",null,"","","",""]
[null,225,null,null,null,null,null,null,null,null,null,null,"",null,"",null,"",null,"",null,"","","","",null,"","","",""]
[null,226,null,null,null,null,null,null,null,null,null,null,"",null,"",null,"",null,"",null,"","","","",null,"","","",""]
[null,227,null,null,null,null,null,null,null,null,null,null,"",null,"",null,"",null,"",null,"","","","",null,"","","",""]
[null,228,null,null,null,null,null,null,null,null,null,null,"",null,"",null,"",null,"",null,"","","","",null,"","","",""]
[null,229,null,null,null,null,null,null,null,null,null,null,"",null,"",null,"",null,"",null,"","","","",null,"","","",""]
[null,230,null,null,null,null,null,null,null,null,null,null,"",null,"",null,"",null,"",null,"","","","",null,"","","",""]
[null,231,null,null,null,null,null,null,null,null,null,null,"",null,"",null,"",null,"",null,"","","","",null,"","","",""]
[null,232,null,null,null,null,null,null,null,null,null,null,"",null,"",null,"",null,"",null,"","","","",null,"","","",""]
[null,233,null,null,null,null,null,null,null,null,null,null,"",null,"",null,"",null,"",null,"","","","",null,"","","",""]
[null,234,null,null,null,null,null,null,null,null,null,null,"",null,"",null,"",null,"",null,"","","","",null,"","","",""]
[null,235,null,null,null,null,null,null,null,null,null,null,"",null,"",null,"",null,"",null,"","","","",null,"","","",""]
[null,236,null,null,null,null,null,null,null,null,null,null,"",null,"",null,"",null,"",null,"","","","",null,"","","",""]
[null,237,null,null,null,null,null,null,null,null,null,null,"",null,"",null,"",null,"",null,"","","","",null,"","","",""]
[null,238,null,null,null,null,null,null,null,null,null,null,"",null,"",null,"",null,"",null,"","","","",null,"","","",""]
[null,239,null,null,null,null,null,null,null,null,null,null,"",null,"",null,"",null,"",null,"","","","",null,"","","",""]
[null,240,null,null,null,null,null,null,null,null,null,null,"",null,"",null,"",null,"",null,"","","","",null,"","","",""]
[null,241,null,null,null,null,null,null,null,null,null,null,"",null,"",null,"",null,"",null,"","","","",null,"","","",""]
[null,242,null,null,null,null,null,null,null,null,null,null,"",null,"",null,"",null,"",null,"","","","",null,"","","",""]
[null,243,null,null,null,null,null,null,null,null,null,null,"",null,"",null,"",null,"",null,"","","","",null,"","","",""]
[null,244,null,null,null,null,null,null,null,null,null,null,"",null,"",null,"",null,"",null,"","","","",null,"","","",""]
[null,245,null,null,null,null,null,null,null,null,null,null,"",null,"",null,"",null,"",null,"","","","",null,"","","",""]
[null,246,null,null,null,null,null,null,null,null,null,null,"",null,"",null,"",null,"",null,"","","","",null,"","","",""]
[null,247,null,null,null,null,null,null,null,null,null,null,"",null,"",null,"",null,"",null,"","","","",null,"","","",""]
[null,248,null,null,null,null,null,null,null,null,null,null,"",null,"",null,"",null,"",null,"","","","",null,"","","",""]
[null,249,null,null,null,null,null,null,null,null,null,null,"",null,"",null,"",null,"",null,"","","","",null,"","","",""]
[null,250,null,null,null,null,null,null,null,null,null,null,"",null,"",null,"",null,"",null,"","","","",null,"","","",""]
[null,251,null,null,null,null,null,null,null,null,null,null,"",null,"",null,"",null,"",null,"","","","",null,"","","",""]
[null,252,null,null,null,null,null,null,null,null,null,null,"",null,"",null,"",null,"",null,"","","","",null,"","","",""]
[null,253,null,null,null,null,null,null,null,null,null,null,"",null,"",null,"",null,"",null,"","","","",null,"","","",""]
[null,254,null,null,null,null,null,null,null,null,null,null,"",null,"",null,"",null,"",null,"","","","",null,"","","",""]
[null,255,null,null,null,null,null,null,null,null,null,null,"",null,"",null,"",null,"",null,"","","","",null,"","","",""]
[null,256,null,null,null,null,null,null,null,null,null,null,"",null,"",null,"",null,"",null,"","","","",null,"","","",""]
[null,257,null,null,null,null,null,null,null,null,null,null,"",null,"",null,"",null,"",null,"","","","",null,"","","",""]
[null,258,null,null,null,null,null,null,null,null,null,null,{"$f":"IF(C262=\"\",\"\",IF(OR(G262=\"\",K262=\"\"),\"\",IF(OR(G262=\"NP\",K262=\"NP\"),\"\",IF(OR(G262=\"DNF\",K262=\"DNF\"),\"\",G262+K262))))","v":""},null,{"$f":"IF(C262=\"\",\"\",IF(M262=\"\",\"\",RANK(M262,M$5:M$404,1)))","v":""},null,{"$f":"IF(C262=\"\",\"\",IF(M262=\"\",\"\",RANK(M262,M$5:M$404,1)))","v":""},null,{"$f":"IF(O262=\"\",\"\",IF(OR(X262=\"\",AC262=\"\"),\"\",X262+AC262))","v":""},null,{"$f":"IF($C262=\"\",\"\",IF(E262=\"NP\",600,IF(E262=\"DNF\",3600,IF(E262=\"\",\"\",E262))))","v":""},{"$f":"IF($C262=\"\",\"\",IF(F262=\"NP\",600,IF(F262=\"DNF\",3600,IF(F262=\"\",\"\",F262))))","v":""},{"$f":"IF(AND(U262=\"\",V262=\"\"),\"\",MIN(U262:V262))","v":""},{"$f":"IF(AND(U262=\"\",V262=\"\"),\"\",MAX(U262:V262))","v":""},null,{"$f":"IF($C262=\"\",\"\",IF(I262=\"NP\",600,IF(I262=\"DNF\",3600,IF(I262=\"\",\"\",I262))))","v":""},{"$f":"IF($C262=\"\",\"\",IF(J262=\"NP\",600,IF(J262=\"DNF\",3600,IF(J262=\"\",\"\",J262))))","v":""},{"$f":"IF(AND(Z262=\"\",AA262=\"\"),\"\",MIN(Z262:AA262))","v":""},{"$f":"IF(AND(Z262=\"\",AA262=\"\"),\"\",MAX(Z262:AA262))","v":""}]
[null,259,null,null,null,null,null,null,null,null,null,null,"",null,"",null,"",null,"",null,"","","","",null,"","","",""]
[null,260,null,null,null,null,null,null,null,null,null,null,"",null,"",null,"",null,"",null,"","","","",null,"","","",""]
[null,261,null,null,null,null,null,null,null,null,null,null,"",null,"",null,"",null,"",null,"","","","",null,"","","",""]
[null,262,null,null,null,null,null,null,null,null,null,null,"",null,"",null,"",null,"",null,"","","","",null,"","","",""]
[null,263,null,null,null,null,null,null,null,null,null,null,"",null,"",null,"",null,"",null,"","","","",null,"","","",""]
[null,264,null,null,null,null,null,null,null,null,null,null,"",null,"",null,"",null,"",null,"","","","",null,"","","",""]
[null,265,null,null,null,null,null,null,null,null,null,null,"",null,"",null,"",null,"",null,"","","","",null,"","","",""]
[null,266,null,null,null,null,null,null,null,null,null,null,"",null,"",null,"",null,"",null,"","","","",null,"","","",""]
[null,267,null,null,null,null,null,null,null,null,null,null,"",null,"",null,"",null,"",null,"","","","",null,"","","",""]
[null,268,null,null,null,null,null,null,null,null,null,null,"",null,"",null,"",null,"",null,"","","","",null,"","","",""]
[null,269,null,null,null,null,null,null,null,null,null,null,"",null,"",null,"",null,"",null,"","","","",null,"","","",""]
[null,270,null,null,null,null,null,null,null,null,null,null,"",null,"",null,"",null,"",null,"","","","",null,"","","",""]
[null,271,null,null,null,null,null,null,null,null,null,null,"",null,"",null,"",null,"",null,"","","","",null,"","","",""]
[null,272,null,null,null,null,null,null,null,null,null,null,"",null,"",null,"",null,"",null,"","","","",null,"","","",""]
[null,273,null,null,null,null,null,null,null,null,null,null,"",null,"",null,"",null,"",null,"","","","",null,"","","",""]
[null,274,null,null,null,null,null,null,null,null,null,null,"",null,"",null,"",null,"",null,"","","","",null,"","","",""]
[null,275,null,null,null,null,null,null,null,null,null,null,"",null,"",null,"",null,"",null,"","","","",null,"","","",""]
[null,276,null,null,null,null,null,null,null,null,null,null,"",null,"",null,"",null,"",null,"","","","",null,"","","",""]
[null,277,null,null,null,null,null,null,null,null,null,null,"",null,"",null,"",null,"",null,"","","","",null,"","","",""]
[null,278,null,null,null,null,null,null,null,null,null,null,"",null,"",null,"",null,"",null,"","","","",null,"","","",""]
[null,279,null,null,null,null,null,null,null,null,null,null,"",null,"",null,"",null,"",null,"","","","",null,"","","",""]
[null,280,null,null,null,null,null,null,null,null,null,null,"",null,"",null,"",null,"",null,"","","","",null,"","","",""]
[null,281,null,null,null,null,null,null,null,null,null,null,"",null,"",null,"",null,"",null,"","","","",null,"","","",""]
[null,282,null,null,null,null,null,null,null,null,null,null,"",null,"",null,"",null,"",null,"","","","",null,"","","",""]
[null,283,null,null,null,null,null,null,null,null,null,null,"",null,"",null,"",null,"",null,"","","","",null,"","","",""]
[null,284,null,null,null,null,null,null,null,null,null,null,"",null,"",null,"",null,"",null,"","","","",null,"","","",""]
[null,285,null,null,null,null,null,null,null,null,null,null,"",null,"",null,"",null,"",null,"","","","",null,"","","",""]
[null,286,null,null,null,null,null,null,null,null,null,null,"",null,"",null,"",null,"",null,"","","","",null,"","","",""]
[null,287,null,null,null,null,null,null,null,null,null,null,"",null,"",null,"",null,"",null,"","","","",null,"","","",""]
[null,288,null,null,null,null,null,null,null,null,null,null,"",null,"",null,"",null,"",null,"","","","",null,"","","",""]
[null,289,null,null,null,null,null,null,null,null,null,null,"",null,"",null,"",null,"",null,"","","","",null,"","","",""]
[null,290,null,null,null,null,null,null,null,null,null,null,"",null,"",null,"",null,"",null,"","","","",null,"","","",""]
[null,291,null,null,null,null,null,null,null,null,null,null,"",null,"",null,"",null,"",null,"","","","",null,"","","",""]
[null,292,null,null,null,null,null,null,null,null,null,null,"",null,"",null,"",null,"",null,"","","","",null,"","","",""]
[null,293,null,null,null,null,null,null,null,null,null,null,"",null,"",null,"",null,"",null,"","","","",null,"","","",""]
[null,294,null,null,null,null,null,null,null,null,null,null,"",null,"",null,"",null,"",null,"","","","",null,"","","",""]
[null,295,null,null,null,null,null,null,null,null,null,null,"",null,"",null,"",null,"",null,"","","","",null,"","","",""]
[null,296,null,null,null,null,null,null,null,null,null,null,"",null,"",null,"",null,"",null,"","","","",null,"","","",""]
[null,297,null,null,null,null,null,null,null,null,null,null,"",null,"",null,"",null,"",null,"","","","",null,"","","",""]
[null,298,null,null,null,null,null,null,null,null,null,null,"",null,"",null,"",null,"",null,"","","","",null,"","","",""]
[null,299,null,null,null,null,null,null,null,null,null,null,"",null,"",null,"",null,"",null,"","","","",null,"","","",""]
[null,300,null,null,null,null,null,null,null,null,null,null,"",null,"",null,"",null,"",null,"","","","",null,"","","",""]
[null,301,null,null,null,null,null,null,null,null,null,null,"",null,"",null,"",null,"",null,"","","","",null,"","","",""]
[null,302,null,null,null,null,null,null,null,null,null,null,"",null,"",null,"",null,"",null,"","","","",null,"","","",""]
[null,303,null,null,null,null,null,null,null,null,null,null,"",null,"",null,"",null,"",null,"","","","",null,"","","",""]
[null,304,null,null,null,null,null,null,null,null,null,null,"",null,"",null,"",null,"",null,"","","","",null,"","","",""]
[null,305,null,null,null,null,null,null,null,null,null,null,"",null,"",null,"",null,"",null,"","","","",null,"","","",""]
[null,306,null,null,null,null,null,null,null,null,null,null,"",null,"",null,"",null,"",null,"","","","",null,"","","",""]
[null,307,null,null,null,null,null,null,null,null,null,null,"",null,"",null,"",null,"",null,"","","","",null,"","","",""]
[null,308,null,null,null,null,null,null,null,null,null,null,"",null,"",null,"",null,"",null,"","","","",null,"","","",""]
[null,309,null,null,null,null,null,null,null,null,null,null,"",null,"",null,"",null,"",null,"","","","",null,"","","",""]
[null,310,null,null,null,null,null,null,null,null,null,null,"",null,"",null,"",null,"",null,"","","","",null,"","","",""]
[null,311,null,null,null,null,null,null,null,null,null,null,"",null,"",null,"",null,"",null,"","","","",null,"","","",""]
[null,312,null,null,null,null,null,null,null,null,null,null,"",null,"",null,"",null,"",null,"","","","",null,"","","",""]
[null,313,null,null,null,null,null,null,null,null,null,null,"",null,"",null,"",null,"",null,"","","","",null,"","","",""]
[null,314,null,null,null,null,null,null,null,null,null,null,"",null,"",null,"",null,"",null,"","","","",null,"","","",""]
[null,315,null,null,null,null,null,null,null,null,null,null,"",null,"",null,"",null,"",null,"","","","",null,"","","",""]
[null,316,null,null,null,null,null,null,null,null,null,null,"",null,"",null,"",null,"",null,"","","","",null,"","","",""]
[null,317,null,null,null,null,null,null,null,null,null,null,"",null,"",null,"",null,"",null,"","","","",null,"","","",""]
[null,318,null,null,null,null,null,null,null,null,null,null,"",null,"",null,"",null,"",null,"","","","",null,"","","",""]
[null,319,null,null,null,null,null,null,null,null,null,null,"",null,"",null,"",null,"",null,"","","","",null,"","","",""]
[null,320,null,null,null,null,null,null,null,null,null,null,"",null,"",null,"",null,"",null,"","","","",null,"","","",""]
[null,321,null,null,null,null,null,null,null,null,null,null,"",null,"",null,"",null,"",null,"","","","",null,"","","",""]
[null,322,null,null,null,null,null,null,null,null,null,null,{"$f":"IF(C326=\"\",\"\",IF(OR(G326=\"\",K326=\"\"),\"\",IF(OR(G326=\"NP\",K326=\"NP\"),\"\",IF(OR(G326=\"DNF\",K326=\"DNF\"),\"\",G326+K326))))","v":""},null,{"$f":"IF(C326=\"\",\"\",IF(M326=\"\",\"\",RANK(M326,M$5:M$404,1)))","v":""},null,{"$f":"IF(C326=\"\",\"\",IF(M326=\"\",\"\",RANK(M326,M$5:M$404,1)))","v":""},null,{"$f":"IF(O326=\"\",\"\",IF(OR(X326=\"\",AC326=\"\"),\"\",X326+AC326))","v":""},null,{"$f":"IF($C326=\"\",\"\",IF(E326=\"NP\",600,IF(E326=\"DNF\",3600,IF(E326=\"\",\"\",E326))))","v":""},{"$f":"IF($C326=\"\",\"\",IF(F326=\"NP\",600,IF(F326=\"DNF\",3600,IF(F326=\"\",\"\",F326))))","v":""},{"$f":"IF(AND(U326=\"\",V326=\"\"),\"\",MIN(U326:V326))","v":""},{"$f":"IF(AND(U326=\"\",V326=\"\"),\"\",MAX(U326:V326))","v":""},null,{"$f":"IF($C326=\"\",\"\",IF(I326=\"NP\",600,IF(I326=\"DNF\",3600,IF(I326=\"\",\"\",I326))))","v":""},{"$f":"IF($C326=\"\",\"\",IF(J326=\"NP\",600,IF(J326=\"DNF\",3600,IF(J326=\"\",\"\",J326))))","v":""},{"$f":"IF(AND(Z326=\"\",AA326=\"\"),\"\",MIN(Z326:AA326))","v":""},{"$f":"IF(AND(Z326=\"\",AA326=\"\"),\"\",MAX(Z326:AA326))","v":""}]
[null,323,null,null,null,null,null,null,null,null,null,null,"",null,"",null,"",null,"",null,"","","","",null,"","","",""]
[null,324,null,null,null,null,null,null,null,null,null,null,"",null,"",null,"",null,"",null,"","","","",null,"","","",""]
[null,325,null,null,null,null,null,null,null,null,null,null,"",null,"",null,"",null,"",null,"","","","",null,"","","",""]
[null,326,null,null,null,null,null,null,null,null,null,null,"",null,"",null,"",null,"",null,"","","","",null,"","","",""]
[null,327,null,null,null,null,null,null,null,null,null,null,"",null,"",null,"",null,"",null,"","","","",null,"","","",""]
[null,328,null,null,null,null,null,null,null,null,null,null,"",null,"",null,"",null,"",null,"","","","",null,"","","",""]
[null,329,null,null,null,null,null,null,null,null,null,null,"",null,"",null,"",null,"",null,"","","","",null,"","","",""]
[null,330,null,null,null,null,null,null,null,null,null,null,"",null,"",null,"",null,"",null,"","","","",null,"","","",""]
[null,331,null,null,null,null,null,null,null,null,null,null,"",null,"",null,"",null,"",null,"","","","",null,"","","",""]
[null,332,null,null,null,null,null,null,null,null,null,null,"",null,"",null,"",null,"",null,"","","","",null,"","","",""]
[null,333,null,null,null,null,null,null,null,null,null,null,"",null,"",null,"",null,"",null,"","","","",null,"","","",""]
[null,334,null,null,null,null,null,null,null,null,null,null,"",null,"",null,"",null,"",null,"","","","",null,"","","",""]
[null,335,null,null,null,null,null,null,null,null,null,null,"",null,"",null,"",null,"",null,"","","","",null,"","","",""]
[null,336,null,null,null,null,null,null,null,null,null,null,"",null,"",null,"",null,"",null,"","","","",null,"","","",""]
[null,337,null,null,null,null,null,null,null,null,null,null,"",null,"",null,"",null,"",null,"","","","",null,"","","",""]
[null,338,null,null,null,null,null,null,null,null,null,null,"",null,"",null,"",null,"",null,"","","","",null,"","","",""]
[null,339,null,null,null,null,null,null,null,null,null,null,"",null,"",null,"",null,"",null,"","","","",null,"","","",""]
[null,340,null,null,null,null,null,null,null,null,null,null,"",null,"",null,"",null,"",null,"","","","",null,"","","",""]
[null,341,null,null,null,null,null,null,null,null,null,null,"",null,"",null,"",null,"",null,"","","","",null,"","","",""]
[null,342,null,null,null,null,null,null,null,null,null,null,"",null,"",null,"",null,"",null,"","","","",null,"","","",""]
[null,343,null,null,null,null,null,null,null,null,null,null,"",null,"",null,"",null,"",null,"","","","",null,"","","",""]
[null,344,null,null,null,null,null,null,null,null,null,null,"",null,"",null,"",null,"",null,"","","","",null,"","","",""]
[null,345,null,null,null,null,null,null,null,null,null,null,"",null,"",null,"",null,"",null,"","","","",null,"","","",""]
[null,346,null,null,null,null,null,null,null,null,null,null,"",null,"",null,"",null,"",null,"","","","",null,"","","",""]
[null,347,null,null,null,null,null,null,null,null,null,null,"",null,"",null,"",null,"",null,"","","","",null,"","","",""]
[null,348,null,null,null,null,null,null,null,null,null,null,"",null,"",null,"",null,"",null,"","","","",null,"","","",""]
[null,349,null,null,null,null,null,null,null,null,null,null,"",null,"",null,"",null,"",null,"","","","",null,"","","",""]
[null,350,null,null,null,null,null,null,null,null,null,null,"",null,"",null,"",null,"",null,"","","","",null,"","","",""]
[null,351,null,null,null,null,null,null,null,null,null,null,"",null,"",null,"",null,"",null,"","","","",null,"","","",""]
[null,352,null,null,null,null,null,null,null,null,null,null,"",null,"",null,"",null,"",null,"","","","",null,"","","",""]
[null,353,null,null,null,null,null,null,null,null,null,null,"",null,"",null,"",null,"",null,"","","","",null,"","","",""]
[null,354,null,null,null,null,null,null,null,null,null,null,"",null,"",null,"",null,"",null,"","","","",null,"","","",""]
[null,355,null,null,null,null,null,null,null,null,null,null,"",null,"",null,"",null,"",null,"","","","",null,"","","",""]
[null,356,null,null,null,null,null,null,null,null,null,null,"",null,"",null,"",null,"",null,"","","","",null,"","","",""]
[null,357,null,null,null,null,null,null,null,null,null,null,"",null,"",null,"",null,"",null,"","","","",null,"","","",""]
[null,358,null,null,null,null,null,null,null,null,null,null,"",null,"",null,"",null,"",null,"","","","",null,"","","",""]
[null,359,null,null,null,null,null,null,null,null,null,null,"",null,"",null,"",null,"",null,"","","","",null,"","","",""]
[null,360,null,null,null,null,null,null,null,null,null,null,"",null,"",null,"",null,"",null,"","","","",null,"","","",""]
[null,361,null,null,null,null,null,null,null,null,null,null,"",null,"",null,"",null,"",null,"","","","",null,"","","",""]
[null,362,null,null,null,null,null,null,null,null,null,null,"",null,"",null,"",null,"",null,"","","","",null,"","","",""]
[null,363,null,null,null,null,null,null,null,null,null,null,"",null,"",null,"",null,"",null,"","","","",null,"","","",""]
[null,364,null,null,null,null,null,null,null,null,null,null,"",null,"",null,"",null,"",null,"","","","",null,"","","",""]
[null,365,null,null,null,null,null,null,null,null,null,null,"",null,"",null,"",null,"",null,"","","","",null,"","","",""]
[null,366,null,null,null,null,null,null,null,null,null,null,"",null,"",null,"",null,"",null,"","","","",null,"","","",""]
[null,367,null,null,null,null,null,null,null,null,null,null,"",null,"",null,"",null,"",null,"","","","",null,"","","",""]
[null,368,null,null,null,null,null,null,null,null,null,null,"",null,"",null,"",null,"",null,"","","","",null,"","","",""]
[null,369,null,null,null,null,null,null,null,null,null,null,"",null,"",null,"",null,"",null,"","","","",null,"","","",""]
[null,370,null,null,null,null,null,null,null,null,null,null,"",null,"",null,"",null,"",null,"","","","",null,"","","",""]
[null,371,null,null,null,null,null,null,null,null,null,null,"",null,"",null,"",null,"",null,"","","","",null,"","","",""]
[null,372,null,null,null,null,null,null,null,null,null,null,"",null,"",null,"",null,"",null,"","","","",null,"","","",""]
[null,373,null,null,null,null,null,null,null,null,null,null,"",null,"",null,"",null,"",null,"","","","",null,"","","",""]
[null,374,null,null,null,null,null,null,null,null,null,null,"",null,"",null,"",null,"",null,"","","","",null,"","","",""]
[null,375,null,null,null,null,null,null,null,null,null,null,"",null,"",null,"",null,"",null,"","","","",null,"","","",""]
[null,376,null,null,null,null,null,null,null,null,null,null,"",null,"",null,"",null,"",null,"","","","",null,"","","",""]
[null,377,null,null,null,null,null,null,null,null,null,null,"",null,"",null,"",null,"",null,"","","","",null,"","","",""]
[null,378,null,null,null,null,null,null,null,null,null,null,"",null,"",null,"",null,"",null,"","","","",null,"","","",""]
[null,379,null,null,null,null,null,null,null,null,null,null,"",null,"",null,"",null,"",null,"","","","",null,"","","",""]
[null,380,null,null,null,null,null,null,null,null,null,null,"",null,"",null,"",null,"",null,"","","","",null,"","","",""]
[null,381,null,null,null,null,null,null,null,null,null,null,"",null,"",null,"",null,"",null,"","","","",null,"","","",""]
[null,382,null,null,null,null,null,null,null,null,null,null,"",null,"",null,"",null,"",null,"","","","",null,"","","",""]
[null,383,null,null,null,null,null,null,null,null,null,null,"",null,"",null,"",null,"",null,"","","","",null,"","","",""]
[null,384,null,null,null,null,null,null,null,null,null,null,"",null,"",null,"",null,"",null,"","","","",null,"","","",""]
[null,385,null,null,null,null,null,null,null,null,null,null,"",null,"",null,"",null,"",null,"","","","",null,"","","",""]
[null,386,null,null,null,null,null,null,null,null,null,null,{"$f":"IF(C390=\"\",\"\",IF(OR(G390=\"\",K390=\"\"),\"\",IF(OR(G390=\"NP\",K390=\"NP\"),\"\",IF(OR(G390=\"DNF\",K390=\"DNF\"),\"\",G390+K390))))","v":""},null,{"$f":"IF(C390=\"\",\"\",IF(M390=\"\",\"\",RANK(M390,M$5:M$404,1)))","v":""},null,{"$f":"IF(C390=\"\",\"\",IF(M390=\"\",\"\",RANK(M390,M$5:M$404,1)))","v":""},null,{"$f":"IF(O390=\"\",\"\",IF(OR(X390=\"\",AC390=\"\"),\"\",X390+AC390))","v":""},null,{"$f":"IF($C390=\"\",\"\",IF(E390=\"NP\",600,IF(E390=\"DNF\",3600,IF(E390=\"\",\"\",E390))))","v":""},{"$f":"IF($C390=\"\",\"\",IF(F390=\"NP\",600,IF(F390=\"DNF\",3600,IF(F390=\"\",\"\",F390))))","v":""},{"$f":"IF(AND(U390=\"\",V390=\"\"),\"\",MIN(U390:V390))","v":""},{"$f":"IF(AND(U390=\"\",V390=\"\"),\"\",MAX(U390:V390))","v":""},null,{"$f":"IF($C390=\"\",\"\",IF(I390=\"NP\",600,IF(I390=\"DNF\",3600,IF(I390=\"\",\"\",I390))))","v":""},{"$f":"IF($C390=\"\",\"\",IF(J390=\"NP\",600,IF(J390=\"DNF\",3600,IF(J390=\"\",\"\",J390))))","v":""},{"$f":"IF(AND(Z390=\"\",AA390=\"\"),\"\",MIN(Z390:AA390))","v":""},{"$f":"IF(AND(Z390=\"\",AA390=\"\"),\"\",MAX(Z390:AA390))","v":""}]
[null,387,null,null,null,null,null,null,null,null,null,null,"",null,"",null,"",null,"",null,"","","","",null,"","","",""]
[null,388,null,null,null,null,null,null,null,null,null,null,"",null,"",null,"",null,"",null,"","","","",null,"","","",""]
[null,389,null,null,null,null,null,null,null,null,null,null,"",null,"",null,"",null,"",null,"","","","",null,"","","",""]
[null,390,null,null,null,null,null,null,null,null,null,null,"",null,"",null,"",null,"",null,"","","","",null,"","","",""]
[null,391,null,null,null,null,null,null,null,null,null,null,"",null,"",null,"",null,"",null,"","","","",null,"","","",""]
[null,392,null,null,null,null,null,null,null,null,null,null,"",null,"",null,"",null,"",null,"","","","",null,"","","",""]
[null,393,null,null,null,null,null,null,null,null,null,null,"",null,"",null,"",null,"",null,"","","","",null,"","","",""]
[null,394,null,null,null,null,null,null,null,null,null,null,"",null,"",null,"",null,"",null,"","","","",null,"","","",""]
[null,395,null,null,null,null,null,null,null,null,null,null,"",null,"",null,"",null,"",null,"","","","",null,"","","",""]
[null,396,null,null,null,null,null,null,null,null,null,null,"",null,"",null,"",null,"",null,"","","","",null,"","","",""]
[null,397,null,null,null,null,null,null,null,null,null,null,"",null,"",null,"",null,"",null,"","","","",null,"","","",""]
[null,398,null,null,null,null,null,null,null,null,null,null,"",null,"",null,"",null,"",null,"","","","",null,"","","",""]
[null,399,null,null,null,null,null,null,null,null,null,null,"",null,"",null,"",null,"",null,"","","","",null,"","","",""]
[null,400,null,null,null,null,null,null,null,null,null,null,"",null,"",null,"",null,"",null,"","","","",null,"","","",""]

{"sheet":"D - P","index":20,"n_rows":37,"n_cols":21,"rows_kept":37,"cut":false,"hidden":false,"merged":[]}
[null,25,"Stuchlík Martin","Re Jihlava",16.91,16.59,16.59,null,14.56,18.66,14.56,null,31.15,null,1,null,1,null,35.57,null,{"$f":"COUNT(O:O)","v":37}]
[null,52,"Čekal Michal","ÚO Žďár nad Sázavou",17.25,"NP",17.25,null,15.81,15.12,15.12,null,32.369999999999997,null,2,null,2,null,615.80999999999995]
[null,32,"Hons Lukáš","ÚO Třebíč",19.89,18.12,18.12,null,14.96,15.9,14.96,null,33.08,null,3,null,3,null,35.79]
[null,6,"Ryšavý Vilém","ÚO Pelhřimov",18.09,17.91,17.91,null,17.75,15.27,15.27,null,33.18,null,4,null,4,null,35.840000000000003]
[null,31,"Fila Vojtěch","ÚO Třebíč",23.07,17.53,17.53,null,18.27,15.94,15.94,null,33.47,null,5,null,5,null,41.34]
[null,44,"Kubát Pavel","ÚO Havlíčkův Brod",17.940000000000001,"NP",17.940000000000001,null,15.64,20.399999999999999,15.64,null,33.58,null,6,null,6,null,620.4]
[null,33,"Navrkal Luboš","ÚO Třebíč",17.32,17.350000000000001,17.32,null,17.59,16.489999999999998,16.489999999999998,null,33.81,null,7,null,7,null,34.94]
[null,22,"Pařil Jiří","Re Jihlava",19.05,18.55,18.55,null,16.059999999999999,15.69,15.69,null,34.24,null,8,null,8,null,35.11]
[null,35,"Šťastný Libor","ÚO Třebíč","DNF",19.190000000000001,19.190000000000001,null,20.07,16.53,16.53,null,35.72,null,9,null,9,null,3620.07]
[null,53,"Fabík Jan","ÚO Žďár nad Sázavou",19.41,"DNF",19.41,null,18.8,17.62,17.62,null,37.03,null,10,null,10,null,3618.8]
[null,8,"Janko Vladimír","ÚO Pelhřimov",22.31,"NP",22.31,null,21.11,15.67,15.67,null,37.979999999999997,null,11,null,11,null,621.11]
[null,42,"Klimeš Martin","ÚO Havlíčkův Brod",18.46,19.3,18.46,null,20.02,21.93,20.02,null,38.480000000000004,null,12,null,12,null,41.230000000000004]
[null,36,"Hnízdil Pavel","ÚO Třebíč",23.79,"DNF",23.79,null,18.46,15.65,15.65,null,39.44,null,13,null,13,null,3618.46]
[null,46,"Lacina Josef","ÚO Havlíčkův Brod",19.829999999999998,19.600000000000001,19.600000000000001,null,21.03,19.88,19.88,null,39.480000000000004,null,14,null,14,null,40.86]
[null,26,"Pařil Milan","Re Jihlava",19.61,"NP",19.61,null,20.57,21.18,20.57,null,40.18,null,15,null,15,null,621.17999999999995]
[null,48,"Panský David","ÚO Havlíčkův Brod",20.97,"NP",20.97,null,23.88,19.77,19.77,null,40.739999999999995,null,16,null,16,null,623.88]
[null,4,"Blažek Jiří","ÚO Pelhřimov",27.25,23.56,23.56,null,18.18,18.05,18.05,null,41.61,null,17,null,17,null,45.43]
[null,57,"Urbánek Petr","ÚO Žďár nad Sázavou",21.47,"DNF",21.47,null,20.92,20.49,20.49,null,41.959999999999994,null,18,null,18,null,3620.92]
[null,34,"Slatinský Petr","ÚO Třebíč",18.739999999999998,18.72,18.72,null,24.26,26.02,24.26,null,42.980000000000004,null,19,null,19,null,44.76]
[null,24,"Hájek Petr","Re Jihlava",21.29,21.09,21.09,null,22.84,22.01,22.01,null,43.1,null,20,null,20,null,44.129999999999995]
[null,47,"Dolejší Zdenek","ÚO Havlíčkův Brod",23.64,21.23,21.23,null,24.93,22.96,22.96,null,44.19,null,21,null,21,null,48.57]
[null,1,"Kryzan Martin","ÚO Pelhřimov",24.29,"NP",24.29,null,20.29,22.74,20.29,null,44.58,null,22,null,22,null,622.74]
[null,23,"Šimáček Pavel","Re Jihlava",22.15,21.52,21.52,null,24.69,23.84,23.84,null,45.36,null,23,null,23,null,46.84]
[null,13,"Mrázek Jan","SŽDC Havlíčkův Brod",20.46,20.190000000000001,20.190000000000001,null,25.38,"DNF",25.38,null,45.57,null,24,null,24,null,3620.46]
[null,59,"Škapa Miroslav","ÚO Žďár nad Sázavou",21.07,21.97,21.07,null,25.81,24.89,24.89,null,45.96,null,25,null,25,null,47.78]
[null,55,"Mičánek Lukáš","ÚO Žďár nad Sázavou",23,22.35,22.35,null,24.52,24.15,24.15,null,46.5,null,26,null,26,null,47.519999999999996]
[null,58,"Pelikán Jan","ÚO Žďár nad Sázavou",22.58,23.07,22.58,null,24.34,24.6,24.34,null,46.92,null,27,null,27,null,47.67]
[null,7,"Hašek Vladislav","ÚO Pelhřimov",24.34,"NP",24.34,null,"NP",23.06,23.06,null,47.4,null,28,null,28,null,1200]
[null,45,"Flídr Luboš","ÚO Havlíčkův Brod",25.58,25.2,25.2,null,23.93,23.06,23.06,null,48.26,null,29,null,29,null,49.51]
[null,41,"Zadina Martin","ÚO Havlíčkův Brod",24.07,"NP",24.07,null,24.51,24.63,24.51,null,48.58,null,30,null,30,null,624.63]
[null,51,"Špaček Marek","ÚO Žďár nad Sázavou",25.89,23.64,23.64,null,30.16,27.93,27.93,null,51.57,null,31,null,31,null,56.05]
[null,5,"Vlk Martin","ÚO Pelhřimov",29.31,26.37,26.37,null,26.37,31.63,26.37,null,52.74,null,32,null,32,null,60.94]
[null,43,"Kubát Jaroslav","ÚO Havlíčkův Brod",22.2,21.89,21.89,null,32.53,"NP",32.53,null,54.42,null,33,null,33,null,622.20000000000005]
[null,12,"Gemsa Martin","SŽDC Havlíčkův Brod",25.24,24.82,24.82,null,30.34,33.36,30.34,null,55.16,null,34,null,34,null,58.599999999999994]
[null,14,"Pátek Tomáš","SŽDC Havlíčkův Brod",27.37,23.06,23.06,null,38.4,41.25,38.4,null,61.459999999999994,null,35,null,35,null,68.62]
[null,15,"Zadina Dominik","SŽDC Havlíčkův Brod",23.46,23.09,23.09,null,41.42,42.48,41.42,null,64.510000000000005,null,36,null,36,null,65.94]
[null,16,"Prchal Jan","SŽDC Havlíčkův Brod",26.78,26.82,26.78,null,41.62,40.68,40.68,null,67.460000000000008,null,37,null,37,null,68.44]

{"sheet":"D-P","index":21,"n_rows":484,"n_cols":13,"rows_kept":484,"cut":false,"hidden":false,"merged":[[258,1,258,12],[220,9,220,10],[478,6,478,7],[387,1,387,12],[389,1,389,3],[389,4,389,12],[391,1,391,2],[392,1,393,1],[392,2,393,2],[392,9,392,10],[435,9,435,10],[478,9,478,10],[477,1,477,2],[301,1,301,12],[303,1,303,3],[303,4,303,12],[305,1,305,2],[344,1,344,12],[306,1,307,1],[306,2,307,2],[306,3,307,3],[306,4,307,4],[478,1,479,1],[478,2,479,2],[5,3,6,3],[43,1,43,12],[45,1,45,3],[5,4,6,4],[0,1,0,12],[2,1,2,3],[2,4,2,12],[4,1,4,2],[47,1,47,2],[5,12,6,12],[5,1,6,1],[45,4,45,12],[5,6,5,7],[5,2,6,2],[5,9,5,10],[48,3,49,3],[48,4,49,4],[48,12,49,12],[88,4,88,12],[90,1,90,2],[91,1,92,1],[91,2,92,2],[91,3,92,3],[91,4,92,4],[91,12,92,12],[86,1,86,12],[88,1,88,3],[48,1,49,1],[48,2,49,2],[48,6,48,7],[48,9,48,10],[91,6,91,7],[91,9,91,10],[129,1,129,12],[131,1,131,3],[131,4,131,12],[133,1,133,2],[134,12,135,12],[172,1,172,12],[134,1,135,1],[134,2,135,2],[134,3,135,3],[134,4,135,4],[177,6,177,7],[177,9,177,10],[220,1,221,1],[220,2,221,2],[220,3,221,3],[220,4,221,4],[134,6,134,7],[134,9,134,10],[174,1,174,3],[174,4,174,12],[176,1,176,2],[177,1,178,1],[177,2,178,2],[177,3,178,3],[177,4,178,4],[177,12,178,12],[220,6,220,7],[215,1,215,12],[217,1,217,3],[217,4,217,12],[219,1,219,2],[220,12,221,12],[260,1,260,3],[260,4,260,12],[262,1,262,2],[263,1,264,1],[263,2,264,2],[263,3,264,3],[263,4,264,4],[263,12,264,12],[263,9,263,10],[263,6,263,7],[306,9,306,10],[306,12,307,12],[346,1,346,3],[346,4,346,12],[348,1,348,2],[349,1,350,1],[349,2,350,2],[349,3,350,3],[349,4,350,4],[349,12,350,12],[306,6,306,7],[349,6,349,7],[349,9,349,10],[435,4,436,4],[392,3,393,3],[392,4,393,4],[392,12,393,12],[430,1,430,12],[392,6,392,7],[435,6,435,7],[478,3,479,3],[478,4,479,4],[478,12,479,12],[432,1,432,3],[432,4,432,12],[434,1,434,2],[435,12,436,12],[435,1,436,1],[435,2,436,2],[435,3,436,3],[473,1,473,12],[475,1,475,3],[475,4,475,12]]}
[null,"Dvojboj - Celkové pořadí"]
[]
[null,{"$f":"Start!B2","v":"VC ČR v požárním útoku družstev HZS krajů a HZS podniků"},null,null,{"$f":"Start!B3","v":"Petrovice 19.9.2019"}]
[]
[null,{"$f":"Start!$C$5","v":"MUŽI"}]
[null,"Pořadí","Start. číslo","Jméno","kolektiv",null,"100m",null,null,"věž",null,null,"Výsledný čas"]
[null,null,null,null,null,null,"1.pokus","2.pokus",null,"1.pokus","2.pokus"]
[null,{"$f":"IF(AND('D - P'!$C1=\"\",'D - P'!$D1=\"\"),\"\",'D - P'!O1)","v":1},{"$f":"IF(AND('D - P'!$C1=\"\",'D - P'!$D1=\"\"),\"\",'D - P'!B1)","v":25},{"$f":"IF('D - P'!C1=\"\",\"\",'D - P'!C1)","v":"Stuchlík Martin"},{"$f":"IF('D - P'!D1=\"\",\"\",'D - P'!D1)","v":"Re Jihlava"},null,{"$f":"IF('D - P'!E1=\"\",\"\",'D - P'!E1)","v":16.91},{"$f":"IF('D - P'!F1=\"\",\"\",'D - P'!F1)","v":16.59},null,{"$f":"IF('D - P'!I1=\"\",\"\",'D - P'!I1)","v":14.56},{"$f":"IF('D - P'!J1=\"\",\"\",'D - P'!J1)","v":18.66},null,{"$f":"IF('D - P'!M1=\"\",\"\",'D - P'!M1)","v":31.15}]
[null,{"$f":"IF(AND('D - P'!$C2=\"\",'D - P'!$D2=\"\"),\"\",'D - P'!O2)","v":2},{"$f":"IF(AND('D - P'!$C2=\"\",'D - P'!$D2=\"\"),\"\",'D - P'!B2)","v":52},{"$f":"IF('D - P'!C2=\"\",\"\",'D - P'!C2)","v":"Čekal Michal"},{"$f":"IF('D - P'!D2=\"\",\"\",'D - P'!D2)","v":"ÚO Žďár nad Sázavou"},null,{"$f":"IF('D - P'!E2=\"\",\"\",'D - P'!E2)","v":17.25},{"$f":"IF('D - P'!F2=\"\",\"\",'D - P'!F2)","v":"NP"},null,{"$f":"IF('D - P'!I2=\"\",\"\",'D - P'!I2)","v":15.81},{"$f":"IF('D - P'!J2=\"\",\"\",'D - P'!J2)","v":15.12},null,{"$f":"IF('D - P'!M2=\"\",\"\",'D - P'!M2)","v":32.369999999999997}]
[null,{"$f":"IF(AND('D - P'!$C3=\"\",'D - P'!$D3=\"\"),\"\",'D - P'!O3)","v":3},{"$f":"IF(AND('D - P'!$C3=\"\",'D - P'!$D3=\"\"),\"\",'D - P'!B3)","v":32},{"$f":"IF('D - P'!C3=\"\",\"\",'D - P'!C3)","v":"Hons Lukáš"},{"$f":"IF('D - P'!D3=\"\",\"\",'D - P'!D3)","v":"ÚO Třebíč"},null,{"$f":"IF('D - P'!E3=\"\",\"\",'D - P'!E3)","v":19.89},{"$f":"IF('D - P'!F3=\"\",\"\",'D - P'!F3)","v":18.12},null,{"$f":"IF('D - P'!I3=\"\",\"\",'D - P'!I3)","v":14.96},{"$f":"IF('D - P'!J3=\"\",\"\",'D - P'!J3)","v":15.9},null,{"$f":"IF('D - P'!M3=\"\",\"\",'D - P'!M3)","v":33.08}]
[null,{"$f":"IF(AND('D - P'!$C4=\"\",'D - P'!$D4=\"\"),\"\",'D - P'!O4)","v":4},{"$f":"IF(AND('D - P'!$C4=\"\",'D - P'!$D4=\"\"),\"\",'D - P'!B4)","v":6},{"$f":"IF('D - P'!C4=\"\",\"\",'D - P'!C4)","v":"Ryšavý Vilém"},{"$f":"IF('D - P'!D4=\"\",\"\",'D - P'!D4)","v":"ÚO Pelhřimov"},null,{"$f":"IF('D - P'!E4=\"\",\"\",'D - P'!E4)","v":18.09},{"$f":"IF('D - P'!F4=\"\",\"\",'D - P'!F4)","v":17.91},null,{"$f":"IF('D - P'!I4=\"\",\"\",'D - P'!I4)","v":17.75},{"$f":"IF('D - P'!J4=\"\",\"\",'D - P'!J4)","v":15.27},null,{"$f":"IF('D - P'!M4=\"\",\"\",'D - P'!M4)","v":33.18}]
[null,{"$f":"IF(AND('D - P'!$C5=\"\",'D - P'!$D5=\"\"),\"\",'D - P'!O5)","v":5},{"$f":"IF(AND('D - P'!$C5=\"\",'D - P'!$D5=\"\"),\"\",'D - P'!B5)","v":31},{"$f":"IF('D - P'!C5=\"\",\"\",'D - P'!C5)","v":"Fila Vojtěch"},{"$f":"IF('D - P'!D5=\"\",\"\",'D - P'!D5)","v":"ÚO Třebíč"},null,{"$f":"IF('D - P'!E5=\"\",\"\",'D - P'!E5)","v":23.07},{"$f":"IF('D - P'!F5=\"\",\"\",'D - P'!F5)","v":17.53},null,{"$f":"IF('D - P'!I5=\"\",\"\",'D - P'!I5)","v":18.27},{"$f":"IF('D - P'!J5=\"\",\"\",'D - P'!J5)","v":15.94},null,{"$f":"IF('D - P'!M5=\"\",\"\",'D - P'!M5)","v":33.47}]
[null,{"$f":"IF(AND('D - P'!$C6=\"\",'D - P'!$D6=\"\"),\"\",'D - P'!O6)","v":6},{"$f":"IF(AND('D - P'!$C6=\"\",'D - P'!$D6=\"\"),\"\",'D - P'!B6)","v":44},{"$f":"IF('D - P'!C6=\"\",\"\",'D - P'!C6)","v":"Kubát Pavel"},{"$f":"IF('D - P'!D6=\"\",\"\",'D - P'!D6)","v":"ÚO Havlíčkův Brod"},null,{"$f":"IF('D - P'!E6=\"\",\"\",'D - P'!E6)","v":17.940000000000001},{"$f":"IF('D - P'!F6=\"\",\"\",'D - P'!F6)","v":"NP"},null,{"$f":"IF('D - P'!I6=\"\",\"\",'D - P'!I6)","v":15.64},{"$f":"IF('D - P'!J6=\"\",\"\",'D - P'!J6)","v":20.399999999999999},null,{"$f":"IF('D - P'!M6=\"\",\"\",'D - P'!M6)","v":33.58}]
[null,{"$f":"IF(AND('D - P'!$C7=\"\",'D - P'!$D7=\"\"),\"\",'D - P'!O7)","v":7},{"$f":"IF(AND('D - P'!$C7=\"\",'D - P'!$D7=\"\"),\"\",'D - P'!B7)","v":33},{"$f":"IF('D - P'!C7=\"\",\"\",'D - P'!C7)","v":"Navrkal Luboš"},{"$f":"IF('D - P'!D7=\"\",\"\",'D - P'!D7)","v":"ÚO Třebíč"},null,{"$f":"IF('D - P'!E7=\"\",\"\",'D - P'!E7)","v":17.32},{"$f":"IF('D - P'!F7=\"\",\"\",'D - P'!F7)","v":17.350000000000001},null,{"$f":"IF('D - P'!I7=\"\",\"\",'D - P'!I7)","v":17.59},{"$f":"IF('D - P'!J7=\"\",\"\",'D - P'!J7)","v":16.489999999999998},null,{"$f":"IF('D - P'!M7=\"\",\"\",'D - P'!M7)","v":33.81}]
[null,{"$f":"IF(AND('D - P'!$C8=\"\",'D - P'!$D8=\"\"),\"\",'D - P'!O8)","v":8},{"$f":"IF(AND('D - P'!$C8=\"\",'D - P'!$D8=\"\"),\"\",'D - P'!B8)","v":22},{"$f":"IF('D - P'!C8=\"\",\"\",'D - P'!C8)","v":"Pařil Jiří"},{"$f":"IF('D - P'!D8=\"\",\"\",'D - P'!D8)","v":"Re Jihlava"},null,{"$f":"IF('D - P'!E8=\"\",\"\",'D - P'!E8)","v":19.05},{"$f":"IF('D - P'!F8=\"\",\"\",'D - P'!F8)","v":18.55},null,{"$f":"IF('D - P'!I8=\"\",\"\",'D - P'!I8)","v":16.059999999999999},{"$f":"IF('D - P'!J8=\"\",\"\",'D - P'!J8)","v":15.69},null,{"$f":"IF('D - P'!M8=\"\",\"\",'D - P'!M8)","v":34.24}]
[null,{"$f":"IF(AND('D - P'!$C9=\"\",'D - P'!$D9=\"\"),\"\",'D - P'!O9)","v":9},{"$f":"IF(AND('D - P'!$C9=\"\",'D - P'!$D9=\"\"),\"\",'D - P'!B9)","v":35},{"$f":"IF('D - P'!C9=\"\",\"\",'D - P'!C9)","v":"Šťastný Libor"},{"$f":"IF('D - P'!D9=\"\",\"\",'D - P'!D9)","v":"ÚO Třebíč"},null,{"$f":"IF('D - P'!E9=\"\",\"\",'D - P'!E9)","v":"DNF"},{"$f":"IF('D - P'!F9=\"\",\"\",'D - P'!F9)","v":19.190000000000001},null,{"$f":"IF('D - P'!I9=\"\",\"\",'D - P'!I9)","v":20.07},{"$f":"IF('D - P'!J9=\"\",\"\",'D - P'!J9)","v":16.53},null,{"$f":"IF('D - P'!M9=\"\",\"\",'D - P'!M9)","v":35.72}]
[null,{"$f":"IF(AND('D - P'!$C10=\"\",'D - P'!$D10=\"\"),\"\",'D - P'!O10)","v":10},{"$f":"IF(AND('D - P'!$C10=\"\",'D - P'!$D10=\"\"),\"\",'D - P'!B10)","v":53},{"$f":"IF('D - P'!C10=\"\",\"\",'D - P'!C10)","v":"Fabík Jan"},{"$f":"IF('D - P'!D10=\"\",\"\",'D - P'!D10)","v":"ÚO Žďár nad Sázavou"},null,{"$f":"IF('D - P'!E10=\"\",\"\",'D - P'!E10)","v":19.41},{"$f":"IF('D - P'!F10=\"\",\"\",'D - P'!F10)","v":"DNF"},null,{"$f":"IF('D - P'!I10=\"\",\"\",'D - P'!I10)","v":18.8},{"$f":"IF('D - P'!J10=\"\",\"\",'D - P'!J10)","v":17.62},null,{"$f":"IF('D - P'!M10=\"\",\"\",'D - P'!M10)","v":37.03}]
[null,{"$f":"IF(AND('D - P'!$C11=\"\",'D - P'!$D11=\"\"),\"\",'D - P'!O11)","v":11},{"$f":"IF(AND('D - P'!$C11=\"\",'D - P'!$D11=\"\"),\"\",'D - P'!B11)","v":8},{"$f":"IF('D - P'!C11=\"\",\"\",'D - P'!C11)","v":"Janko Vladimír"},{"$f":"IF('D - P'!D11=\"\",\"\",'D - P'!D11)","v":"ÚO Pelhřimov"},null,{"$f":"IF('D - P'!E11=\"\",\"\",'D - P'!E11)","v":22.31},{"$f":"IF('D - P'!F11=\"\",\"\",'D - P'!F11)","v":"NP"},null,{"$f":"IF('D - P'!I11=\"\",\"\",'D - P'!I11)","v":21.11},{"$f":"IF('D - P'!J11=\"\",\"\",'D - P'!J11)","v":15.67},null,{"$f":"IF('D - P'!M11=\"\",\"\",'D - P'!M11)","v":37.979999999999997}]
[null,{"$f":"IF(AND('D - P'!$C12=\"\",'D - P'!$D12=\"\"),\"\",'D - P'!O12)","v":12},{"$f":"IF(AND('D - P'!$C12=\"\",'D - P'!$D12=\"\"),\"\",'D - P'!B12)","v":42},{"$f":"IF('D - P'!C12=\"\",\"\",'D - P'!C12)","v":"Klimeš Martin"},{"$f":"IF('D - P'!D12=\"\",\"\",'D - P'!D12)","v":"ÚO Havlíčkův Brod"},null,{"$f":"IF('D - P'!E12=\"\",\"\",'D - P'!E12)","v":18.46},{"$f":"IF('D - P'!F12=\"\",\"\",'D - P'!F12)","v":19.3},null,{"$f":"IF('D - P'!I12=\"\",\"\",'D - P'!I12)","v":20.02},{"$f":"IF('D - P'!J12=\"\",\"\",'D - P'!J12)","v":21.93},null,{"$f":"IF('D - P'!M12=\"\",\"\",'D - P'!M12)","v":38.480000000000004}]
[null,{"$f":"IF(AND('D - P'!$C13=\"\",'D - P'!$D13=\"\"),\"\",'D - P'!O13)","v":13},{"$f":"IF(AND('D - P'!$C13=\"\",'D - P'!$D13=\"\"),\"\",'D - P'!B13)","v":36},{"$f":"IF('D - P'!C13=\"\",\"\",'D - P'!C13)","v":"Hnízdil Pavel"},{"$f":"IF('D - P'!D13=\"\",\"\",'D - P'!D13)","v":"ÚO Třebíč"},null,{"$f":"IF('D - P'!E13=\"\",\"\",'D - P'!E13)","v":23.79},{"$f":"IF('D - P'!F13=\"\",\"\",'D - P'!F13)","v":"DNF"},null,{"$f":"IF('D - P'!I13=\"\",\"\",'D - P'!I13)","v":18.46},{"$f":"IF('D - P'!J13=\"\",\"\",'D - P'!J13)","v":15.65},null,{"$f":"IF('D - P'!M13=\"\",\"\",'D - P'!M13)","v":39.44}]
[null,{"$f":"IF(AND('D - P'!$C14=\"\",'D - P'!$D14=\"\"),\"\",'D - P'!O14)","v":14},{"$f":"IF(AND('D - P'!$C14=\"\",'D - P'!$D14=\"\"),\"\",'D - P'!B14)","v":46},{"$f":"IF('D - P'!C14=\"\",\"\",'D - P'!C14)","v":"Lacina Josef"},{"$f":"IF('D - P'!D14=\"\",\"\",'D - P'!D14)","v":"ÚO Havlíčkův Brod"},null,{"$f":"IF('D - P'!E14=\"\",\"\",'D - P'!E14)","v":19.829999999999998},{"$f":"IF('D - P'!F14=\"\",\"\",'D - P'!F14)","v":19.600000000000001},null,{"$f":"IF('D - P'!I14=\"\",\"\",'D - P'!I14)","v":21.03},{"$f":"IF('D - P'!J14=\"\",\"\",'D - P'!J14)","v":19.88},null,{"$f":"IF('D - P'!M14=\"\",\"\",'D - P'!M14)","v":39.480000000000004}]
[null,{"$f":"IF(AND('D - P'!$C15=\"\",'D - P'!$D15=\"\"),\"\",'D - P'!O15)","v":15},{"$f":"IF(AND('D - P'!$C15=\"\",'D - P'!$D15=\"\"),\"\",'D - P'!B15)","v":26},{"$f":"IF('D - P'!C15=\"\",\"\",'D - P'!C15)","v":"Pařil Milan"},{"$f":"IF('D - P'!D15=\"\",\"\",'D - P'!D15)","v":"Re Jihlava"},null,{"$f":"IF('D - P'!E15=\"\",\"\",'D - P'!E15)","v":19.61},{"$f":"IF('D - P'!F15=\"\",\"\",'D - P'!F15)","v":"NP"},null,{"$f":"IF('D - P'!I15=\"\",\"\",'D - P'!I15)","v":20.57},{"$f":"IF('D - P'!J15=\"\",\"\",'D - P'!J15)","v":21.18},null,{"$f":"IF('D - P'!M15=\"\",\"\",'D - P'!M15)","v":40.18}]
[null,{"$f":"IF(AND('D - P'!$C16=\"\",'D - P'!$D16=\"\"),\"\",'D - P'!O16)","v":16},{"$f":"IF(AND('D - P'!$C16=\"\",'D - P'!$D16=\"\"),\"\",'D - P'!B16)","v":48},{"$f":"IF('D - P'!C16=\"\",\"\",'D - P'!C16)","v":"Panský David"},{"$f":"IF('D - P'!D16=\"\",\"\",'D - P'!D16)","v":"ÚO Havlíčkův Brod"},null,{"$f":"IF('D - P'!E16=\"\",\"\",'D - P'!E16)","v":20.97},{"$f":"IF('D - P'!F16=\"\",\"\",'D - P'!F16)","v":"NP"},null,{"$f":"IF('D - P'!I16=\"\",\"\",'D - P'!I16)","v":23.88},{"$f":"IF('D - P'!J16=\"\",\"\",'D - P'!J16)","v":19.77},null,{"$f":"IF('D - P'!M16=\"\",\"\",'D - P'!M16)","v":40.739999999999995}]
[null,{"$f":"IF(AND('D - P'!$C17=\"\",'D - P'!$D17=\"\"),\"\",'D - P'!O17)","v":17},{"$f":"IF(AND('D - P'!$C17=\"\",'D - P'!$D17=\"\"),\"\",'D - P'!B17)","v":4},{"$f":"IF('D - P'!C17=\"\",\"\",'D - P'!C17)","v":"Blažek Jiří"},{"$f":"IF('D - P'!D17=\"\",\"\",'D - P'!D17)","v":"ÚO Pelhřimov"},null,{"$f":"IF('D - P'!E17=\"\",\"\",'D - P'!E17)","v":27.25},{"$f":"IF('D - P'!F17=\"\",\"\",'D - P'!F17)","v":23.56},null,{"$f":"IF('D - P'!I17=\"\",\"\",'D - P'!I17)","v":18.18},{"$f":"IF('D - P'!J17=\"\",\"\",'D - P'!J17)","v":18.05},null,{"$f":"IF('D - P'!M17=\"\",\"\",'D - P'!M17)","v":41.61}]
[null,{"$f":"IF(AND('D - P'!$C18=\"\",'D - P'!$D18=\"\"),\"\",'D - P'!O18)","v":18},{"$f":"IF(AND('D - P'!$C18=\"\",'D - P'!$D18=\"\"),\"\",'D - P'!B18)","v":57},{"$f":"IF('D - P'!C18=\"\",\"\",'D - P'!C18)","v":"Urbánek Petr"},{"$f":"IF('D - P'!D18=\"\",\"\",'D - P'!D18)","v":"ÚO Žďár nad Sázavou"},null,{"$f":"IF('D - P'!E18=\"\",\"\",'D - P'!E18)","v":21.47},{"$f":"IF('D - P'!F18=\"\",\"\",'D - P'!F18)","v":"DNF"},null,{"$f":"IF('D - P'!I18=\"\",\"\",'D - P'!I18)","v":20.92},{"$f":"IF('D - P'!J18=\"\",\"\",'D - P'!J18)","v":20.49},null,{"$f":"IF('D - P'!M18=\"\",\"\",'D - P'!M18)","v":41.959999999999994}]
[null,{"$f":"IF(AND('D - P'!$C19=\"\",'D - P'!$D19=\"\"),\"\",'D - P'!O19)","v":19},{"$f":"IF(AND('D - P'!$C19=\"\",'D - P'!$D19=\"\"),\"\",'D - P'!B19)","v":34},{"$f":"IF('D - P'!C19=\"\",\"\",'D - P'!C19)","v":"Slatinský Petr"},{"$f":"IF('D - P'!D19=\"\",\"\",'D - P'!D19)","v":"ÚO Třebíč"},null,{"$f":"IF('D - P'!E19=\"\",\"\",'D - P'!E19)","v":18.739999999999998},{"$f":"IF('D - P'!F19=\"\",\"\",'D - P'!F19)","v":18.72},null,{"$f":"IF('D - P'!I19=\"\",\"\",'D - P'!I19)","v":24.26},{"$f":"IF('D - P'!J19=\"\",\"\",'D - P'!J19)","v":26.02},null,{"$f":"IF('D - P'!M19=\"\",\"\",'D - P'!M19)","v":42.980000000000004}]
[null,{"$f":"IF(AND('D - P'!$C20=\"\",'D - P'!$D20=\"\"),\"\",'D - P'!O20)","v":20},{"$f":"IF(AND('D - P'!$C20=\"\",'D - P'!$D20=\"\"),\"\",'D - P'!B20)","v":24},{"$f":"IF('D - P'!C20=\"\",\"\",'D - P'!C20)","v":"Hájek Petr"},{"$f":"IF('D - P'!D20=\"\",\"\",'D - P'!D20)","v":"Re Jihlava"},null,{"$f":"IF('D - P'!E20=\"\",\"\",'D - P'!E20)","v":21.29},{"$f":"IF('D - P'!F20=\"\",\"\",'D - P'!F20)","v":21.09},null,{"$f":"IF('D - P'!I20=\"\",\"\",'D - P'!I20)","v":22.84},{"$f":"IF('D - P'!J20=\"\",\"\",'D - P'!J20)","v":22.01},null,{"$f":"IF('D - P'!M20=\"\",\"\",'D - P'!M20)","v":43.1}]
[null,{"$f":"IF(AND('D - P'!$C21=\"\",'D - P'!$D21=\"\"),\"\",'D - P'!O21)","v":21},{"$f":"IF(AND('D - P'!$C21=\"\",'D - P'!$D21=\"\"),\"\",'D - P'!B21)","v":47},{"$f":"IF('D - P'!C21=\"\",\"\",'D - P'!C21)","v":"Dolejší Zdenek"},{"$f":"IF('D - P'!D21=\"\",\"\",'D - P'!D21)","v":"ÚO Havlíčkův Brod"},null,{"$f":"IF('D - P'!E21=\"\",\"\",'D - P'!E21)","v":23.64},{"$f":"IF('D - P'!F21=\"\",\"\",'D - P'!F21)","v":21.23},null,{"$f":"IF('D - P'!I21=\"\",\"\",'D - P'!I21)","v":24.93},{"$f":"IF('D - P'!J21=\"\",\"\",'D - P'!J21)","v":22.96},null,{"$f":"IF('D - P'!M21=\"\",\"\",'D - P'!M21)","v":44.19}]
[null,{"$f":"IF(AND('D - P'!$C22=\"\",'D - P'!$D22=\"\"),\"\",'D - P'!O22)","v":22},{"$f":"IF(AND('D - P'!$C22=\"\",'D - P'!$D22=\"\"),\"\",'D - P'!B22)","v":1},{"$f":"IF('D - P'!C22=\"\",\"\",'D - P'!C22)","v":"Kryzan Martin"},{"$f":"IF('D - P'!D22=\"\",\"\",'D - P'!D22)","v":"ÚO Pelhřimov"},null,{"$f":"IF('D - P'!E22=\"\",\"\",'D - P'!E22)","v":24.29},{"$f":"IF('D - P'!F22=\"\",\"\",'D - P'!F22)","v":"NP"},null,{"$f":"IF('D - P'!I22=\"\",\"\",'D - P'!I22)","v":20.29},{"$f":"IF('D - P'!J22=\"\",\"\",'D - P'!J22)","v":22.74},null,{"$f":"IF('D - P'!M22=\"\",\"\",'D - P'!M22)","v":44.58}]
[null,{"$f":"IF(AND('D - P'!$C23=\"\",'D - P'!$D23=\"\"),\"\",'D - P'!O23)","v":23},{"$f":"IF(AND('D - P'!$C23=\"\",'D - P'!$D23=\"\"),\"\",'D - P'!B23)","v":23},{"$f":"IF('D - P'!C23=\"\",\"\",'D - P'!C23)","v":"Šimáček Pavel"},{"$f":"IF('D - P'!D23=\"\",\"\",'D - P'!D23)","v":"Re Jihlava"},null,{"$f":"IF('D - P'!E23=\"\",\"\",'D - P'!E23)","v":22.15},{"$f":"IF('D - P'!F23=\"\",\"\",'D - P'!F23)","v":21.52},null,{"$f":"IF('D - P'!I23=\"\",\"\",'D - P'!I23)","v":24.69},{"$f":"IF('D - P'!J23=\"\",\"\",'D - P'!J23)","v":23.84},null,{"$f":"IF('D - P'!M23=\"\",\"\",'D - P'!M23)","v":45.36}]
[null,{"$f":"IF(AND('D - P'!$C24=\"\",'D - P'!$D24=\"\"),\"\",'D - P'!O24)","v":24},{"$f":"IF(AND('D - P'!$C24=\"\",'D - P'!$D24=\"\"),\"\",'D - P'!B24)","v":13},{"$f":"IF('D - P'!C24=\"\",\"\",'D - P'!C24)","v":"Mrázek Jan"},{"$f":"IF('D - P'!D24=\"\",\"\",'D - P'!D24)","v":"SŽDC Havlíčkův Brod"},null,{"$f":"IF('D - P'!E24=\"\",\"\",'D - P'!E24)","v":20.46},{"$f":"IF('D - P'!F24=\"\",\"\",'D - P'!F24)","v":20.190000000000001},null,{"$f":"IF('D - P'!I24=\"\",\"\",'D - P'!I24)","v":25.38},{"$f":"IF('D - P'!J24=\"\",\"\",'D - P'!J24)","v":"DNF"},null,{"$f":"IF('D - P'!M24=\"\",\"\",'D - P'!M24)","v":45.57}]
[null,{"$f":"IF(AND('D - P'!$C25=\"\",'D - P'!$D25=\"\"),\"\",'D - P'!O25)","v":25},{"$f":"IF(AND('D - P'!$C25=\"\",'D - P'!$D25=\"\"),\"\",'D - P'!B25)","v":59},{"$f":"IF('D - P'!C25=\"\",\"\",'D - P'!C25)","v":"Škapa Miroslav"},{"$f":"IF('D - P'!D25=\"\",\"\",'D - P'!D25)","v":"ÚO Žďár nad Sázavou"},null,{"$f":"IF('D - P'!E25=\"\",\"\",'D - P'!E25)","v":21.07},{"$f":"IF('D - P'!F25=\"\",\"\",'D - P'!F25)","v":21.97},null,{"$f":"IF('D - P'!I25=\"\",\"\",'D - P'!I25)","v":25.81},{"$f":"IF('D - P'!J25=\"\",\"\",'D - P'!J25)","v":24.89},null,{"$f":"IF('D - P'!M25=\"\",\"\",'D - P'!M25)","v":45.96}]
[null,{"$f":"IF(AND('D - P'!$C26=\"\",'D - P'!$D26=\"\"),\"\",'D - P'!O26)","v":26},{"$f":"IF(AND('D - P'!$C26=\"\",'D - P'!$D26=\"\"),\"\",'D - P'!B26)","v":55},{"$f":"IF('D - P'!C26=\"\",\"\",'D - P'!C26)","v":"Mičánek Lukáš"},{"$f":"IF('D - P'!D26=\"\",\"\",'D - P'!D26)","v":"ÚO Žďár nad Sázavou"},null,{"$f":"IF('D - P'!E26=\"\",\"\",'D - P'!E26)","v":23},{"$f":"IF('D - P'!F26=\"\",\"\",'D - P'!F26)","v":22.35},null,{"$f":"IF('D - P'!I26=\"\",\"\",'D - P'!I26)","v":24.52},{"$f":"IF('D - P'!J26=\"\",\"\",'D - P'!J26)","v":24.15},null,{"$f":"IF('D - P'!M26=\"\",\"\",'D - P'!M26)","v":46.5}]
[null,{"$f":"IF(AND('D - P'!$C27=\"\",'D - P'!$D27=\"\"),\"\",'D - P'!O27)","v":27},{"$f":"IF(AND('D - P'!$C27=\"\",'D - P'!$D27=\"\"),\"\",'D - P'!B27)","v":58},{"$f":"IF('D - P'!C27=\"\",\"\",'D - P'!C27)","v":"Pelikán Jan"},{"$f":"IF('D - P'!D27=\"\",\"\",'D - P'!D27)","v":"ÚO Žďár nad Sázavou"},null,{"$f":"IF('D - P'!E27=\"\",\"\",'D - P'!E27)","v":22.58},{"$f":"IF('D - P'!F27=\"\",\"\",'D - P'!F27)","v":23.07},null,{"$f":"IF('D - P'!I27=\"\",\"\",'D - P'!I27)","v":24.34},{"$f":"IF('D - P'!J27=\"\",\"\",'D - P'!J27)","v":24.6},null,{"$f":"IF('D - P'!M27=\"\",\"\",'D - P'!M27)","v":46.92}]
[null,{"$f":"IF(AND('D - P'!$C28=\"\",'D - P'!$D28=\"\"),\"\",'D - P'!O28)","v":28},{"$f":"IF(AND('D - P'!$C28=\"\",'D - P'!$D28=\"\"),\"\",'D - P'!B28)","v":7},{"$f":"IF('D - P'!C28=\"\",\"\",'D - P'!C28)","v":"Hašek Vladislav"},{"$f":"IF('D - P'!D28=\"\",\"\",'D - P'!D28)","v":"ÚO Pelhřimov"},null,{"$f":"IF('D - P'!E28=\"\",\"\",'D - P'!E28)","v":24.34},{"$f":"IF('D - P'!F28=\"\",\"\",'D - P'!F28)","v":"NP"},null,{"$f":"IF('D - P'!I28=\"\",\"\",'D - P'!I28)","v":"NP"},{"$f":"IF('D - P'!J28=\"\",\"\",'D - P'!J28)","v":23.06},null,{"$f":"IF('D - P'!M28=\"\",\"\",'D - P'!M28)","v":47.4}]
[null,{"$f":"IF(AND('D - P'!$C29=\"\",'D - P'!$D29=\"\"),\"\",'D - P'!O29)","v":29},{"$f":"IF(AND('D - P'!$C29=\"\",'D - P'!$D29=\"\"),\"\",'D - P'!B29)","v":45},{"$f":"IF('D - P'!C29=\"\",\"\",'D - P'!C29)","v":"Flídr Luboš"},{"$f":"IF('D - P'!D29=\"\",\"\",'D - P'!D29)","v":"ÚO Havlíčkův Brod"},null,{"$f":"IF('D - P'!E29=\"\",\"\",'D - P'!E29)","v":25.58},{"$f":"IF('D - P'!F29=\"\",\"\",'D - P'!F29)","v":25.2},null,{"$f":"IF('D - P'!I29=\"\",\"\",'D - P'!I29)","v":23.93},{"$f":"IF('D - P'!J29=\"\",\"\",'D - P'!J29)","v":23.06},null,{"$f":"IF('D - P'!M29=\"\",\"\",'D - P'!M29)","v":48.26}]
[null,{"$f":"IF(AND('D - P'!$C30=\"\",'D - P'!$D30=\"\"),\"\",'D - P'!O30)","v":30},{"$f":"IF(AND('D - P'!$C30=\"\",'D - P'!$D30=\"\"),\"\",'D - P'!B30)","v":41},{"$f":"IF('D - P'!C30=\"\",\"\",'D - P'!C30)","v":"Zadina Martin"},{"$f":"IF('D - P'!D30=\"\",\"\",'D - P'!D30)","v":"ÚO Havlíčkův Brod"},null,{"$f":"IF('D - P'!E30=\"\",\"\",'D - P'!E30)","v":24.07},{"$f":"IF('D - P'!F30=\"\",\"\",'D - P'!F30)","v":"NP"},null,{"$f":"IF('D - P'!I30=\"\",\"\",'D - P'!I30)","v":24.51},{"$f":"IF('D - P'!J30=\"\",\"\",'D - P'!J30)","v":24.63},null,{"$f":"IF('D - P'!M30=\"\",\"\",'D - P'!M30)","v":48.58}]
[null,{"$f":"IF(AND('D - P'!$C31=\"\",'D - P'!$D31=\"\"),\"\",'D - P'!O31)","v":31},{"$f":"IF(AND('D - P'!$C31=\"\",'D - P'!$D31=\"\"),\"\",'D - P'!B31)","v":51},{"$f":"IF('D - P'!C31=\"\",\"\",'D - P'!C31)","v":"Špaček Marek"},{"$f":"IF('D - P'!D31=\"\",\"\",'D - P'!D31)","v":"ÚO Žďár nad Sázavou"},null,{"$f":"IF('D - P'!E31=\"\",\"\",'D - P'!E31)","v":25.89},{"$f":"IF('D - P'!F31=\"\",\"\",'D - P'!F31)","v":23.64},null,{"$f":"IF('D - P'!I31=\"\",\"\",'D - P'!I31)","v":30.16},{"$f":"IF('D - P'!J31=\"\",\"\",'D - P'!J31)","v":27.93},null,{"$f":"IF('D - P'!M31=\"\",\"\",'D - P'!M31)","v":51.57}]
[null,{"$f":"IF(AND('D - P'!$C32=\"\",'D - P'!$D32=\"\"),\"\",'D - P'!O32)","v":32},{"$f":"IF(AND('D - P'!$C32=\"\",'D - P'!$D32=\"\"),\"\",'D - P'!B32)","v":5},{"$f":"IF('D - P'!C32=\"\",\"\",'D - P'!C32)","v":"Vlk Martin"},{"$f":"IF('D - P'!D32=\"\",\"\",'D - P'!D32)","v":"ÚO Pelhřimov"},null,{"$f":"IF('D - P'!E32=\"\",\"\",'D - P'!E32)","v":29.31},{"$f":"IF('D - P'!F32=\"\",\"\",'D - P'!F32)","v":26.37},null,{"$f":"IF('D - P'!I32=\"\",\"\",'D - P'!I32)","v":26.37},{"$f":"IF('D - P'!J32=\"\",\"\",'D - P'!J32)","v":31.63},null,{"$f":"IF('D - P'!M32=\"\",\"\",'D - P'!M32)","v":52.74}]
[null,{"$f":"IF(AND('D - P'!$C33=\"\",'D - P'!$D33=\"\"),\"\",'D - P'!O33)","v":33},{"$f":"IF(AND('D - P'!$C33=\"\",'D - P'!$D33=\"\"),\"\",'D - P'!B33)","v":43},{"$f":"IF('D - P'!C33=\"\",\"\",'D - P'!C33)","v":"Kubát Jaroslav"},{"$f":"IF('D - P'!D33=\"\",\"\",'D - P'!D33)","v":"ÚO Havlíčkův Brod"},null,{"$f":"IF('D - P'!E33=\"\",\"\",'D - P'!E33)","v":22.2},{"$f":"IF('D - P'!F33=\"\",\"\",'D - P'!F33)","v":21.89},null,{"$f":"IF('D - P'!I33=\"\",\"\",'D - P'!I33)","v":32.53},{"$f":"IF('D - P'!J33=\"\",\"\",'D - P'!J33)","v":"NP"},null,{"$f":"IF('D - P'!M33=\"\",\"\",'D - P'!M33)","v":54.42}]
[null,{"$f":"IF(AND('D - P'!$C34=\"\",'D - P'!$D34=\"\"),\"\",'D - P'!O34)","v":34},{"$f":"IF(AND('D - P'!$C34=\"\",'D - P'!$D34=\"\"),\"\",'D - P'!B34)","v":12},{"$f":"IF('D - P'!C34=\"\",\"\",'D - P'!C34)","v":"Gemsa Martin"},{"$f":"IF('D - P'!D34=\"\",\"\",'D - P'!D34)","v":"SŽDC Havlíčkův Brod"},null,{"$f":"IF('D - P'!E34=\"\",\"\",'D - P'!E34)","v":25.24},{"$f":"IF('D - P'!F34=\"\",\"\",'D - P'!F34)","v":24.82},null,{"$f":"IF('D - P'!I34=\"\",\"\",'D - P'!I34)","v":30.34},{"$f":"IF('D - P'!J34=\"\",\"\",'D - P'!J34)","v":33.36},null,{"$f":"IF('D - P'!M34=\"\",\"\",'D - P'!M34)","v":55.16}]
[null,{"$f":"IF(AND('D - P'!$C35=\"\",'D - P'!$D35=\"\"),\"\",'D - P'!O35)","v":35},{"$f":"IF(AND('D - P'!$C35=\"\",'D - P'!$D35=\"\"),\"\",'D - P'!B35)","v":14},{"$f":"IF('D - P'!C35=\"\",\"\",'D - P'!C35)","v":"Pátek Tomáš"},{"$f":"IF('D - P'!D35=\"\",\"\",'D - P'!D35)","v":"SŽDC Havlíčkův Brod"},null,{"$f":"IF('D - P'!E35=\"\",\"\",'D - P'!E35)","v":27.37},{"$f":"IF('D - P'!F35=\"\",\"\",'D - P'!F35)","v":23.06},null,{"$f":"IF('D - P'!I35=\"\",\"\",'D - P'!I35)","v":38.4},{"$f":"IF('D - P'!J35=\"\",\"\",'D - P'!J35)","v":41.25},null,{"$f":"IF('D - P'!M35=\"\",\"\",'D - P'!M35)","v":61.459999999999994}]
[null,{"$f":"IF(AND('D - P'!$C36=\"\",'D - P'!$D36=\"\"),\"\",'D - P'!O36)","v":36},{"$f":"IF(AND('D - P'!$C36=\"\",'D - P'!$D36=\"\"),\"\",'D - P'!B36)","v":15},{"$f":"IF('D - P'!C36=\"\",\"\",'D - P'!C36)","v":"Zadina Dominik"},{"$f":"IF('D - P'!D36=\"\",\"\",'D - P'!D36)","v":"SŽDC Havlíčkův Brod"},null,{"$f":"IF('D - P'!E36=\"\",\"\",'D - P'!E36)","v":23.46},{"$f":"IF('D - P'!F36=\"\",\"\",'D - P'!F36)","v":23.09},null,{"$f":"IF('D - P'!I36=\"\",\"\",'D - P'!I36)","v":41.42},{"$f":"IF('D - P'!J36=\"\",\"\",'D - P'!J36)","v":42.48},null,{"$f":"IF('D - P'!M36=\"\",\"\",'D - P'!M36)","v":64.510000000000005}]
[null,{"$f":"B$1","v":"Dvojboj - Celkové pořadí"}]
[]
[null,{"$f":"B$3","v":"VC ČR v požárním útoku družstev HZS krajů a HZS podniků"},null,null,{"$f":"E$3","v":"Petrovice 19.9.2019"}]
[]
[null,{"$f":"Start!$C$5","v":"MUŽI"}]
[null,"Pořadí","Start. číslo","Jméno","kolektiv",null,"100m",null,null,"věž",null,null,"Výsledný čas"]
[null,null,null,null,null,null,"1.pokus","2.pokus",null,"1.pokus","2.pokus"]
[null,{"$f":"IF(AND('D - P'!$C37=\"\",'D - P'!$D37=\"\"),\"\",'D - P'!O37)","v":37},{"$f":"IF(AND('D - P'!$C37=\"\",'D - P'!$D37=\"\"),\"\",'D - P'!B37)","v":16},{"$f":"IF('D - P'!C37=\"\",\"\",'D - P'!C37)","v":"Prchal Jan"},{"$f":"IF('D - P'!D37=\"\",\"\",'D - P'!D37)","v":"SŽDC Havlíčkův Brod"},null,{"$f":"IF('D - P'!E37=\"\",\"\",'D - P'!E37)","v":26.78},{"$f":"IF('D - P'!F37=\"\",\"\",'D - P'!F37)","v":26.82},null,{"$f":"IF('D - P'!I37=\"\",\"\",'D - P'!I37)","v":41.62},{"$f":"IF('D - P'!J37=\"\",\"\",'D - P'!J37)","v":40.68},null,{"$f":"IF('D - P'!M37=\"\",\"\",'D - P'!M37)","v":67.460000000000008}]
[null,{"$f":"IF(AND('D - P'!$C38=\"\",'D - P'!$D38=\"\"),\"\",'D - P'!O38)","v":""},{"$f":"IF(AND('D - P'!$C38=\"\",'D - P'!$D38=\"\"),\"\",'D - P'!B38)","v":""},{"$f":"IF('D - P'!C38=\"\",\"\",'D - P'!C38)","v":""},{"$f":"IF('D - P'!D38=\"\",\"\",'D - P'!D38)","v":""},null,{"$f":"IF('D - P'!E38=\"\",\"\",'D - P'!E38)","v":""},{"$f":"IF('D - P'!F38=\"\",\"\",'D - P'!F38)","v":""},null,{"$f":"IF('D - P'!I38=\"\",\"\",'D - P'!I38)","v":""},{"$f":"IF('D - P'!J38=\"\",\"\",'D - P'!J38)","v":""},null,{"$f":"IF('D - P'!M38=\"\",\"\",'D - P'!M38)","v":""}]
[null,{"$f":"IF(AND('D - P'!$C39=\"\",'D - P'!$D39=\"\"),\"\",'D - P'!O39)","v":""},{"$f":"IF(AND('D - P'!$C39=\"\",'D - P'!$D39=\"\"),\"\",'D - P'!B39)","v":""},{"$f":"IF('D - P'!C39=\"\",\"\",'D - P'!C39)","v":""},{"$f":"IF('D - P'!D39=\"\",\"\",'D - P'!D39)","v":""},null,{"$f":"IF('D - P'!E39=\"\",\"\",'D - P'!E39)","v":""},{"$f":"IF('D - P'!F39=\"\",\"\",'D - P'!F39)","v":""},null,{"$f":"IF('D - P'!I39=\"\",\"\",'D - P'!I39)","v":""},{"$f":"IF('D - P'!J39=\"\",\"\",'D - P'!J39)","v":""},null,{"$f":"IF('D - P'!M39=\"\",\"\",'D - P'!M39)","v":""}]
[null,{"$f":"IF(AND('D - P'!$C40=\"\",'D - P'!$D40=\"\"),\"\",'D - P'!O40)","v":""},{"$f":"IF(AND('D - P'!$C40=\"\",'D - P'!$D40=\"\"),\"\",'D - P'!B40)","v":""},{"$f":"IF('D - P'!C40=\"\",\"\",'D - P'!C40)","v":""},{"$f":"IF('D - P'!D40=\"\",\"\",'D - P'!D40)","v":""},null,{"$f":"IF('D - P'!E40=\"\",\"\",'D - P'!E40)","v":""},{"$f":"IF('D - P'!F40=\"\",\"\",'D - P'!F40)","v":""},null,{"$f":"IF('D - P'!I40=\"\",\"\",'D - P'!I40)","v":""},{"$f":"IF('D - P'!J40=\"\",\"\",'D - P'!J40)","v":""},null,{"$f":"IF('D - P'!M40=\"\",\"\",'D - P'!M40)","v":""}]
[null,{"$f":"IF(AND('D - P'!$C41=\"\",'D - P'!$D41=\"\"),\"\",'D - P'!O41)","v":""},{"$f":"IF(AND('D - P'!$C41=\"\",'D - P'!$D41=\"\"),\"\",'D - P'!B41)","v":""},{"$f":"IF('D - P'!C41=\"\",\"\",'D - P'!C41)","v":""},{"$f":"IF('D - P'!D41=\"\",\"\",'D - P'!D41)","v":""},null,{"$f":"IF('D - P'!E41=\"\",\"\",'D - P'!E41)","v":""},{"$f":"IF('D - P'!F41=\"\",\"\",'D - P'!F41)","v":""},null,{"$f":"IF('D - P'!I41=\"\",\"\",'D - P'!I41)","v":""},{"$f":"IF('D - P'!J41=\"\",\"\",'D - P'!J41)","v":""},null,{"$f":"IF('D - P'!M41=\"\",\"\",'D - P'!M41)","v":""}]
[null,{"$f":"IF(AND('D - P'!$C42=\"\",'D - P'!$D42=\"\"),\"\",'D - P'!O42)","v":""},{"$f":"IF(AND('D - P'!$C42=\"\",'D - P'!$D42=\"\"),\"\",'D - P'!B42)","v":""},{"$f":"IF('D - P'!C42=\"\",\"\",'D - P'!C42)","v":""},{"$f":"IF('D - P'!D42=\"\",\"\",'D - P'!D42)","v":""},null,{"$f":"IF('D - P'!E42=\"\",\"\",'D - P'!E42)","v":""},{"$f":"IF('D - P'!F42=\"\",\"\",'D - P'!F42)","v":""},null,{"$f":"IF('D - P'!I42=\"\",\"\",'D - P'!I42)","v":""},{"$f":"IF('D - P'!J42=\"\",\"\",'D - P'!J42)","v":""},null,{"$f":"IF('D - P'!M42=\"\",\"\",'D - P'!M42)","v":""}]
[null,{"$f":"IF(AND('D - P'!$C43=\"\",'D - P'!$D43=\"\"),\"\",'D - P'!O43)","v":""},{"$f":"IF(AND('D - P'!$C43=\"\",'D - P'!$D43=\"\"),\"\",'D - P'!B43)","v":""},{"$f":"IF('D - P'!C43=\"\",\"\",'D - P'!C43)","v":""},{"$f":"IF('D - P'!D43=\"\",\"\",'D - P'!D43)","v":""},null,{"$f":"IF('D - P'!E43=\"\",\"\",'D - P'!E43)","v":""},{"$f":"IF('D - P'!F43=\"\",\"\",'D - P'!F43)","v":""},null,{"$f":"IF('D - P'!I43=\"\",\"\",'D - P'!I43)","v":""},{"$f":"IF('D - P'!J43=\"\",\"\",'D - P'!J43)","v":""},null,{"$f":"IF('D - P'!M43=\"\",\"\",'D - P'!M43)","v":""}]
[null,{"$f":"IF(AND('D - P'!$C44=\"\",'D - P'!$D44=\"\"),\"\",'D - P'!O44)","v":""},{"$f":"IF(AND('D - P'!$C44=\"\",'D - P'!$D44=\"\"),\"\",'D - P'!B44)","v":""},{"$f":"IF('D - P'!C44=\"\",\"\",'D - P'!C44)","v":""},{"$f":"IF('D - P'!D44=\"\",\"\",'D - P'!D44)","v":""},null,{"$f":"IF('D - P'!E44=\"\",\"\",'D - P'!E44)","v":""},{"$f":"IF('D - P'!F44=\"\",\"\",'D - P'!F44)","v":""},null,{"$f":"IF('D - P'!I44=\"\",\"\",'D - P'!I44)","v":""},{"$f":"IF('D - P'!J44=\"\",\"\",'D - P'!J44)","v":""},null,{"$f":"IF('D - P'!M44=\"\",\"\",'D - P'!M44)","v":""}]
[null,{"$f":"IF(AND('D - P'!$C45=\"\",'D - P'!$D45=\"\"),\"\",'D - P'!O45)","v":""},{"$f":"IF(AND('D - P'!$C45=\"\",'D - P'!$D45=\"\"),\"\",'D - P'!B45)","v":""},{"$f":"IF('D - P'!C45=\"\",\"\",'D - P'!C45)","v":""},{"$f":"IF('D - P'!D45=\"\",\"\",'D - P'!D45)","v":""},null,{"$f":"IF('D - P'!E45=\"\",\"\",'D - P'!E45)","v":""},{"$f":"IF('D - P'!F45=\"\",\"\",'D - P'!F45)","v":""},null,{"$f":"IF('D - P'!I45=\"\",\"\",'D - P'!I45)","v":""},{"$f":"IF('D - P'!J45=\"\",\"\",'D - P'!J45)","v":""},null,{"$f":"IF('D - P'!M45=\"\",\"\",'D - P'!M45)","v":""}]
[null,{"$f":"IF(AND('D - P'!$C46=\"\",'D - P'!$D46=\"\"),\"\",'D - P'!O46)","v":""},{"$f":"IF(AND('D - P'!$C46=\"\",'D - P'!$D46=\"\"),\"\",'D - P'!B46)","v":""},{"$f":"IF('D - P'!C46=\"\",\"\",'D - P'!C46)","v":""},{"$f":"IF('D - P'!D46=\"\",\"\",'D - P'!D46)","v":""},null,{"$f":"IF('D - P'!E46=\"\",\"\",'D - P'!E46)","v":""},{"$f":"IF('D - P'!F46=\"\",\"\",'D - P'!F46)","v":""},null,{"$f":"IF('D - P'!I46=\"\",\"\",'D - P'!I46)","v":""},{"$f":"IF('D - P'!J46=\"\",\"\",'D - P'!J46)","v":""},null,{"$f":"IF('D - P'!M46=\"\",\"\",'D - P'!M46)","v":""}]
[null,{"$f":"IF(AND('D - P'!$C47=\"\",'D - P'!$D47=\"\"),\"\",'D - P'!O47)","v":""},{"$f":"IF(AND('D - P'!$C47=\"\",'D - P'!$D47=\"\"),\"\",'D - P'!B47)","v":""},{"$f":"IF('D - P'!C47=\"\",\"\",'D - P'!C47)","v":""},{"$f":"IF('D - P'!D47=\"\",\"\",'D - P'!D47)","v":""},null,{"$f":"IF('D - P'!E47=\"\",\"\",'D - P'!E47)","v":""},{"$f":"IF('D - P'!F47=\"\",\"\",'D - P'!F47)","v":""},null,{"$f":"IF('D - P'!I47=\"\",\"\",'D - P'!I47)","v":""},{"$f":"IF('D - P'!J47=\"\",\"\",'D - P'!J47)","v":""},null,{"$f":"IF('D - P'!M47=\"\",\"\",'D - P'!M47)","v":""}]
[null,{"$f":"IF(AND('D - P'!$C48=\"\",'D - P'!$D48=\"\"),\"\",'D - P'!O48)","v":""},{"$f":"IF(AND('D - P'!$C48=\"\",'D - P'!$D48=\"\"),\"\",'D - P'!B48)","v":""},{"$f":"IF('D - P'!C48=\"\",\"\",'D - P'!C48)","v":""},{"$f":"IF('D - P'!D48=\"\",\"\",'D - P'!D48)","v":""},null,{"$f":"IF('D - P'!E48=\"\",\"\",'D - P'!E48)","v":""},{"$f":"IF('D - P'!F48=\"\",\"\",'D - P'!F48)","v":""},null,{"$f":"IF('D - P'!I48=\"\",\"\",'D - P'!I48)","v":""},{"$f":"IF('D - P'!J48=\"\",\"\",'D - P'!J48)","v":""},null,{"$f":"IF('D - P'!M48=\"\",\"\",'D - P'!M48)","v":""}]
[null,{"$f":"IF(AND('D - P'!$C49=\"\",'D - P'!$D49=\"\"),\"\",'D - P'!O49)","v":""},{"$f":"IF(AND('D - P'!$C49=\"\",'D - P'!$D49=\"\"),\"\",'D - P'!B49)","v":""},{"$f":"IF('D - P'!C49=\"\",\"\",'D - P'!C49)","v":""},{"$f":"IF('D - P'!D49=\"\",\"\",'D - P'!D49)","v":""},null,{"$f":"IF('D - P'!E49=\"\",\"\",'D - P'!E49)","v":""},{"$f":"IF('D - P'!F49=\"\",\"\",'D - P'!F49)","v":""},null,{"$f":"IF('D - P'!I49=\"\",\"\",'D - P'!I49)","v":""},{"$f":"IF('D - P'!J49=\"\",\"\",'D - P'!J49)","v":""},null,{"$f":"IF('D - P'!M49=\"\",\"\",'D - P'!M49)","v":""}]
[null,{"$f":"IF(AND('D - P'!$C50=\"\",'D - P'!$D50=\"\"),\"\",'D - P'!O50)","v":""},{"$f":"IF(AND('D - P'!$C50=\"\",'D - P'!$D50=\"\"),\"\",'D - P'!B50)","v":""},{"$f":"IF('D - P'!C50=\"\",\"\",'D - P'!C50)","v":""},{"$f":"IF('D - P'!D50=\"\",\"\",'D - P'!D50)","v":""},null,{"$f":"IF('D - P'!E50=\"\",\"\",'D - P'!E50)","v":""},{"$f":"IF('D - P'!F50=\"\",\"\",'D - P'!F50)","v":""},null,{"$f":"IF('D - P'!I50=\"\",\"\",'D - P'!I50)","v":""},{"$f":"IF('D - P'!J50=\"\",\"\",'D - P'!J50)","v":""},null,{"$f":"IF('D - P'!M50=\"\",\"\",'D - P'!M50)","v":""}]
[null,{"$f":"IF(AND('D - P'!$C51=\"\",'D - P'!$D51=\"\"),\"\",'D - P'!O51)","v":""},{"$f":"IF(AND('D - P'!$C51=\"\",'D - P'!$D51=\"\"),\"\",'D - P'!B51)","v":""},{"$f":"IF('D - P'!C51=\"\",\"\",'D - P'!C51)","v":""},{"$f":"IF('D - P'!D51=\"\",\"\",'D - P'!D51)","v":""},null,{"$f":"IF('D - P'!E51=\"\",\"\",'D - P'!E51)","v":""},{"$f":"IF('D - P'!F51=\"\",\"\",'D - P'!F51)","v":""},null,{"$f":"IF('D - P'!I51=\"\",\"\",'D - P'!I51)","v":""},{"$f":"IF('D - P'!J51=\"\",\"\",'D - P'!J51)","v":""},null,{"$f":"IF('D - P'!M51=\"\",\"\",'D - P'!M51)","v":""}]
[null,{"$f":"IF(AND('D - P'!$C52=\"\",'D - P'!$D52=\"\"),\"\",'D - P'!O52)","v":""},{"$f":"IF(AND('D - P'!$C52=\"\",'D - P'!$D52=\"\"),\"\",'D - P'!B52)","v":""},{"$f":"IF('D - P'!C52=\"\",\"\",'D - P'!C52)","v":""},{"$f":"IF('D - P'!D52=\"\",\"\",'D - P'!D52)","v":""},null,{"$f":"IF('D - P'!E52=\"\",\"\",'D - P'!E52)","v":""},{"$f":"IF('D - P'!F52=\"\",\"\",'D - P'!F52)","v":""},null,{"$f":"IF('D - P'!I52=\"\",\"\",'D - P'!I52)","v":""},{"$f":"IF('D - P'!J52=\"\",\"\",'D - P'!J52)","v":""},null,{"$f":"IF('D - P'!M52=\"\",\"\",'D - P'!M52)","v":""}]
[null,{"$f":"IF(AND('D - P'!$C53=\"\",'D - P'!$D53=\"\"),\"\",'D - P'!O53)","v":""},{"$f":"IF(AND('D - P'!$C53=\"\",'D - P'!$D53=\"\"),\"\",'D - P'!B53)","v":""},{"$f":"IF('D - P'!C53=\"\",\"\",'D - P'!C53)","v":""},{"$f":"IF('D - P'!D53=\"\",\"\",'D - P'!D53)","v":""},null,{"$f":"IF('D - P'!E53=\"\",\"\",'D - P'!E53)","v":""},{"$f":"IF('D - P'!F53=\"\",\"\",'D - P'!F53)","v":""},null,{"$f":"IF('D - P'!I53=\"\",\"\",'D - P'!I53)","v":""},{"$f":"IF('D - P'!J53=\"\",\"\",'D - P'!J53)","v":""},null,{"$f":"IF('D - P'!M53=\"\",\"\",'D - P'!M53)","v":""}]
[null,{"$f":"IF(AND('D - P'!$C54=\"\",'D - P'!$D54=\"\"),\"\",'D - P'!O54)","v":""},{"$f":"IF(AND('D - P'!$C54=\"\",'D - P'!$D54=\"\"),\"\",'D - P'!B54)","v":""},{"$f":"IF('D - P'!C54=\"\",\"\",'D - P'!C54)","v":""},{"$f":"IF('D - P'!D54=\"\",\"\",'D - P'!D54)","v":""},null,{"$f":"IF('D - P'!E54=\"\",\"\",'D - P'!E54)","v":""},{"$f":"IF('D - P'!F54=\"\",\"\",'D - P'!F54)","v":""},null,{"$f":"IF('D - P'!I54=\"\",\"\",'D - P'!I54)","v":""},{"$f":"IF('D - P'!J54=\"\",\"\",'D - P'!J54)","v":""},null,{"$f":"IF('D - P'!M54=\"\",\"\",'D - P'!M54)","v":""}]
[null,{"$f":"IF(AND('D - P'!$C55=\"\",'D - P'!$D55=\"\"),\"\",'D - P'!O55)","v":""},{"$f":"IF(AND('D - P'!$C55=\"\",'D - P'!$D55=\"\"),\"\",'D - P'!B55)","v":""},{"$f":"IF('D - P'!C55=\"\",\"\",'D - P'!C55)","v":""},{"$f":"IF('D - P'!D55=\"\",\"\",'D - P'!D55)","v":""},null,{"$f":"IF('D - P'!E55=\"\",\"\",'D - P'!E55)","v":""},{"$f":"IF('D - P'!F55=\"\",\"\",'D - P'!F55)","v":""},null,{"$f":"IF('D - P'!I55=\"\",\"\",'D - P'!I55)","v":""},{"$f":"IF('D - P'!J55=\"\",\"\",'D - P'!J55)","v":""},null,{"$f":"IF('D - P'!M55=\"\",\"\",'D - P'!M55)","v":""}]
[null,{"$f":"IF(AND('D - P'!$C56=\"\",'D - P'!$D56=\"\"),\"\",'D - P'!O56)","v":""},{"$f":"IF(AND('D - P'!$C56=\"\",'D - P'!$D56=\"\"),\"\",'D - P'!B56)","v":""},{"$f":"IF('D - P'!C56=\"\",\"\",'D - P'!C56)","v":""},{"$f":"IF('D - P'!D56=\"\",\"\",'D - P'!D56)","v":""},null,{"$f":"IF('D - P'!E56=\"\",\"\",'D - P'!E56)","v":""},{"$f":"IF('D - P'!F56=\"\",\"\",'D - P'!F56)","v":""},null,{"$f":"IF('D - P'!I56=\"\",\"\",'D - P'!I56)","v":""},{"$f":"IF('D - P'!J56=\"\",\"\",'D - P'!J56)","v":""},null,{"$f":"IF('D - P'!M56=\"\",\"\",'D - P'!M56)","v":""}]
[null,{"$f":"IF(AND('D - P'!$C57=\"\",'D - P'!$D57=\"\"),\"\",'D - P'!O57)","v":""},{"$f":"IF(AND('D - P'!$C57=\"\",'D - P'!$D57=\"\"),\"\",'D - P'!B57)","v":""},{"$f":"IF('D - P'!C57=\"\",\"\",'D - P'!C57)","v":""},{"$f":"IF('D - P'!D57=\"\",\"\",'D - P'!D57)","v":""},null,{"$f":"IF('D - P'!E57=\"\",\"\",'D - P'!E57)","v":""},{"$f":"IF('D - P'!F57=\"\",\"\",'D - P'!F57)","v":""},null,{"$f":"IF('D - P'!I57=\"\",\"\",'D - P'!I57)","v":""},{"$f":"IF('D - P'!J57=\"\",\"\",'D - P'!J57)","v":""},null,{"$f":"IF('D - P'!M57=\"\",\"\",'D - P'!M57)","v":""}]
[null,{"$f":"IF(AND('D - P'!$C58=\"\",'D - P'!$D58=\"\"),\"\",'D - P'!O58)","v":""},{"$f":"IF(AND('D - P'!$C58=\"\",'D - P'!$D58=\"\"),\"\",'D - P'!B58)","v":""},{"$f":"IF('D - P'!C58=\"\",\"\",'D - P'!C58)","v":""},{"$f":"IF('D - P'!D58=\"\",\"\",'D - P'!D58)","v":""},null,{"$f":"IF('D - P'!E58=\"\",\"\",'D - P'!E58)","v":""},{"$f":"IF('D - P'!F58=\"\",\"\",'D - P'!F58)","v":""},null,{"$f":"IF('D - P'!I58=\"\",\"\",'D - P'!I58)","v":""},{"$f":"IF('D - P'!J58=\"\",\"\",'D - P'!J58)","v":""},null,{"$f":"IF('D - P'!M58=\"\",\"\",'D - P'!M58)","v":""}]
[null,{"$f":"IF(AND('D - P'!$C59=\"\",'D - P'!$D59=\"\"),\"\",'D - P'!O59)","v":""},{"$f":"IF(AND('D - P'!$C59=\"\",'D - P'!$D59=\"\"),\"\",'D - P'!B59)","v":""},{"$f":"IF('D - P'!C59=\"\",\"\",'D - P'!C59)","v":""},{"$f":"IF('D - P'!D59=\"\",\"\",'D - P'!D59)","v":""},null,{"$f":"IF('D - P'!E59=\"\",\"\",'D - P'!E59)","v":""},{"$f":"IF('D - P'!F59=\"\",\"\",'D - P'!F59)","v":""},null,{"$f":"IF('D - P'!I59=\"\",\"\",'D - P'!I59)","v":""},{"$f":"IF('D - P'!J59=\"\",\"\",'D - P'!J59)","v":""},null,{"$f":"IF('D - P'!M59=\"\",\"\",'D - P'!M59)","v":""}]
[null,{"$f":"IF(AND('D - P'!$C60=\"\",'D - P'!$D60=\"\"),\"\",'D - P'!O60)","v":""},{"$f":"IF(AND('D - P'!$C60=\"\",'D - P'!$D60=\"\"),\"\",'D - P'!B60)","v":""},{"$f":"IF('D - P'!C60=\"\",\"\",'D - P'!C60)","v":""},{"$f":"IF('D - P'!D60=\"\",\"\",'D - P'!D60)","v":""},null,{"$f":"IF('D - P'!E60=\"\",\"\",'D - P'!E60)","v":""},{"$f":"IF('D - P'!F60=\"\",\"\",'D - P'!F60)","v":""},null,{"$f":"IF('D - P'!I60=\"\",\"\",'D - P'!I60)","v":""},{"$f":"IF('D - P'!J60=\"\",\"\",'D - P'!J60)","v":""},null,{"$f":"IF('D - P'!M60=\"\",\"\",'D - P'!M60)","v":""}]
[null,{"$f":"IF(AND('D - P'!$C61=\"\",'D - P'!$D61=\"\"),\"\",'D - P'!O61)","v":""},{"$f":"IF(AND('D - P'!$C61=\"\",'D - P'!$D61=\"\"),\"\",'D - P'!B61)","v":""},{"$f":"IF('D - P'!C61=\"\",\"\",'D - P'!C61)","v":""},{"$f":"IF('D - P'!D61=\"\",\"\",'D - P'!D61)","v":""},null,{"$f":"IF('D - P'!E61=\"\",\"\",'D - P'!E61)","v":""},{"$f":"IF('D - P'!F61=\"\",\"\",'D - P'!F61)","v":""},null,{"$f":"IF('D - P'!I61=\"\",\"\",'D - P'!I61)","v":""},{"$f":"IF('D - P'!J61=\"\",\"\",'D - P'!J61)","v":""},null,{"$f":"IF('D - P'!M61=\"\",\"\",'D - P'!M61)","v":""}]
[null,{"$f":"IF(AND('D - P'!$C62=\"\",'D - P'!$D62=\"\"),\"\",'D - P'!O62)","v":""},{"$f":"IF(AND('D - P'!$C62=\"\",'D - P'!$D62=\"\"),\"\",'D - P'!B62)","v":""},{"$f":"IF('D - P'!C62=\"\",\"\",'D - P'!C62)","v":""},{"$f":"IF('D - P'!D62=\"\",\"\",'D - P'!D62)","v":""},null,{"$f":"IF('D - P'!E62=\"\",\"\",'D - P'!E62)","v":""},{"$f":"IF('D - P'!F62=\"\",\"\",'D - P'!F62)","v":""},null,{"$f":"IF('D - P'!I62=\"\",\"\",'D - P'!I62)","v":""},{"$f":"IF('D - P'!J62=\"\",\"\",'D - P'!J62)","v":""},null,{"$f":"IF('D - P'!M62=\"\",\"\",'D - P'!M62)","v":""}]
[null,{"$f":"IF(AND('D - P'!$C63=\"\",'D - P'!$D63=\"\"),\"\",'D - P'!O63)","v":""},{"$f":"IF(AND('D - P'!$C63=\"\",'D - P'!$D63=\"\"),\"\",'D - P'!B63)","v":""},{"$f":"IF('D - P'!C63=\"\",\"\",'D - P'!C63)","v":""},{"$f":"IF('D - P'!D63=\"\",\"\",'D - P'!D63)","v":""},null,{"$f":"IF('D - P'!E63=\"\",\"\",'D - P'!E63)","v":""},{"$f":"IF('D - P'!F63=\"\",\"\",'D - P'!F63)","v":""},null,{"$f":"IF('D - P'!I63=\"\",\"\",'D - P'!I63)","v":""},{"$f":"IF('D - P'!J63=\"\",\"\",'D - P'!J63)","v":""},null,{"$f":"IF('D - P'!M63=\"\",\"\",'D - P'!M63)","v":""}]
[null,{"$f":"IF(AND('D - P'!$C64=\"\",'D - P'!$D64=\"\"),\"\",'D - P'!O64)","v":""},{"$f":"IF(AND('D - P'!$C64=\"\",'D - P'!$D64=\"\"),\"\",'D - P'!B64)","v":""},{"$f":"IF('D - P'!C64=\"\",\"\",'D - P'!C64)","v":""},{"$f":"IF('D - P'!D64=\"\",\"\",'D - P'!D64)","v":""},null,{"$f":"IF('D - P'!E64=\"\",\"\",'D - P'!E64)","v":""},{"$f":"IF('D - P'!F64=\"\",\"\",'D - P'!F64)","v":""},null,{"$f":"IF('D - P'!I64=\"\",\"\",'D - P'!I64)","v":""},{"$f":"IF('D - P'!J64=\"\",\"\",'D - P'!J64)","v":""},null,{"$f":"IF('D - P'!M64=\"\",\"\",'D - P'!M64)","v":""}]
[null,{"$f":"IF(AND('D - P'!$C65=\"\",'D - P'!$D65=\"\"),\"\",'D - P'!O65)","v":""},{"$f":"IF(AND('D - P'!$C65=\"\",'D - P'!$D65=\"\"),\"\",'D - P'!B65)","v":""},{"$f":"IF('D - P'!C65=\"\",\"\",'D - P'!C65)","v":""},{"$f":"IF('D - P'!D65=\"\",\"\",'D - P'!D65)","v":""},null,{"$f":"IF('D - P'!E65=\"\",\"\",'D - P'!E65)","v":""},{"$f":"IF('D - P'!F65=\"\",\"\",'D - P'!F65)","v":""},null,{"$f":"IF('D - P'!I65=\"\",\"\",'D - P'!I65)","v":""},{"$f":"IF('D - P'!J65=\"\",\"\",'D - P'!J65)","v":""},null,{"$f":"IF('D - P'!M65=\"\",\"\",'D - P'!M65)","v":""}]
[null,{"$f":"IF(AND('D - P'!$C66=\"\",'D - P'!$D66=\"\"),\"\",'D - P'!O66)","v":""},{"$f":"IF(AND('D - P'!$C66=\"\",'D - P'!$D66=\"\"),\"\",'D - P'!B66)","v":""},{"$f":"IF('D - P'!C66=\"\",\"\",'D - P'!C66)","v":""},{"$f":"IF('D - P'!D66=\"\",\"\",'D - P'!D66)","v":""},null,{"$f":"IF('D - P'!E66=\"\",\"\",'D - P'!E66)","v":""},{"$f":"IF('D - P'!F66=\"\",\"\",'D - P'!F66)","v":""},null,{"$f":"IF('D - P'!I66=\"\",\"\",'D - P'!I66)","v":""},{"$f":"IF('D - P'!J66=\"\",\"\",'D - P'!J66)","v":""},null,{"$f":"IF('D - P'!M66=\"\",\"\",'D - P'!M66)","v":""}]
[null,{"$f":"IF(AND('D - P'!$C67=\"\",'D - P'!$D67=\"\"),\"\",'D - P'!O67)","v":""},{"$f":"IF(AND('D - P'!$C67=\"\",'D - P'!$D67=\"\"),\"\",'D - P'!B67)","v":""},{"$f":"IF('D - P'!C67=\"\",\"\",'D - P'!C67)","v":""},{"$f":"IF('D - P'!D67=\"\",\"\",'D - P'!D67)","v":""},null,{"$f":"IF('D - P'!E67=\"\",\"\",'D - P'!E67)","v":""},{"$f":"IF('D - P'!F67=\"\",\"\",'D - P'!F67)","v":""},null,{"$f":"IF('D - P'!I67=\"\",\"\",'D - P'!I67)","v":""},{"$f":"IF('D - P'!J67=\"\",\"\",'D - P'!J67)","v":""},null,{"$f":"IF('D - P'!M67=\"\",\"\",'D - P'!M67)","v":""}]
[null,{"$f":"IF(AND('D - P'!$C68=\"\",'D - P'!$D68=\"\"),\"\",'D - P'!O68)","v":""},{"$f":"IF(AND('D - P'!$C68=\"\",'D - P'!$D68=\"\"),\"\",'D - P'!B68)","v":""},{"$f":"IF('D - P'!C68=\"\",\"\",'D - P'!C68)","v":""},{"$f":"IF('D - P'!D68=\"\",\"\",'D - P'!D68)","v":""},null,{"$f":"IF('D - P'!E68=\"\",\"\",'D - P'!E68)","v":""},{"$f":"IF('D - P'!F68=\"\",\"\",'D - P'!F68)","v":""},null,{"$f":"IF('D - P'!I68=\"\",\"\",'D - P'!I68)","v":""},{"$f":"IF('D - P'!J68=\"\",\"\",'D - P'!J68)","v":""},null,{"$f":"IF('D - P'!M68=\"\",\"\",'D - P'!M68)","v":""}]
[null,{"$f":"IF(AND('D - P'!$C69=\"\",'D - P'!$D69=\"\"),\"\",'D - P'!O69)","v":""},{"$f":"IF(AND('D - P'!$C69=\"\",'D - P'!$D69=\"\"),\"\",'D - P'!B69)","v":""},{"$f":"IF('D - P'!C69=\"\",\"\",'D - P'!C69)","v":""},{"$f":"IF('D - P'!D69=\"\",\"\",'D - P'!D69)","v":""},null,{"$f":"IF('D - P'!E69=\"\",\"\",'D - P'!E69)","v":""},{"$f":"IF('D - P'!F69=\"\",\"\",'D - P'!F69)","v":""},null,{"$f":"IF('D - P'!I69=\"\",\"\",'D - P'!I69)","v":""},{"$f":"IF('D - P'!J69=\"\",\"\",'D - P'!J69)","v":""},null,{"$f":"IF('D - P'!M69=\"\",\"\",'D - P'!M69)","v":""}]
[null,{"$f":"IF(AND('D - P'!$C70=\"\",'D - P'!$D70=\"\"),\"\",'D - P'!O70)","v":""},{"$f":"IF(AND('D - P'!$C70=\"\",'D - P'!$D70=\"\"),\"\",'D - P'!B70)","v":""},{"$f":"IF('D - P'!C70=\"\",\"\",'D - P'!C70)","v":""},{"$f":"IF('D - P'!D70=\"\",\"\",'D - P'!D70)","v":""},null,{"$f":"IF('D - P'!E70=\"\",\"\",'D - P'!E70)","v":""},{"$f":"IF('D - P'!F70=\"\",\"\",'D - P'!F70)","v":""},null,{"$f":"IF('D - P'!I70=\"\",\"\",'D - P'!I70)","v":""},{"$f":"IF('D - P'!J70=\"\",\"\",'D - P'!J70)","v":""},null,{"$f":"IF('D - P'!M70=\"\",\"\",'D - P'!M70)","v":""}]
[null,{"$f":"IF(AND('D - P'!$C71=\"\",'D - P'!$D71=\"\"),\"\",'D - P'!O71)","v":""},{"$f":"IF(AND('D - P'!$C71=\"\",'D - P'!$D71=\"\"),\"\",'D - P'!B71)","v":""},{"$f":"IF('D - P'!C71=\"\",\"\",'D - P'!C71)","v":""},{"$f":"IF('D - P'!D71=\"\",\"\",'D - P'!D71)","v":""},null,{"$f":"IF('D - P'!E71=\"\",\"\",'D - P'!E71)","v":""},{"$f":"IF('D - P'!F71=\"\",\"\",'D - P'!F71)","v":""},null,{"$f":"IF('D - P'!I71=\"\",\"\",'D - P'!I71)","v":""},{"$f":"IF('D - P'!J71=\"\",\"\",'D - P'!J71)","v":""},null,{"$f":"IF('D - P'!M71=\"\",\"\",'D - P'!M71)","v":""}]
[null,{"$f":"IF(AND('D - P'!$C72=\"\",'D - P'!$D72=\"\"),\"\",'D - P'!O72)","v":""},{"$f":"IF(AND('D - P'!$C72=\"\",'D - P'!$D72=\"\"),\"\",'D - P'!B72)","v":""},{"$f":"IF('D - P'!C72=\"\",\"\",'D - P'!C72)","v":""},{"$f":"IF('D - P'!D72=\"\",\"\",'D - P'!D72)","v":""},null,{"$f":"IF('D - P'!E72=\"\",\"\",'D - P'!E72)","v":""},{"$f":"IF('D - P'!F72=\"\",\"\",'D - P'!F72)","v":""},null,{"$f":"IF('D - P'!I72=\"\",\"\",'D - P'!I72)","v":""},{"$f":"IF('D - P'!J72=\"\",\"\",'D - P'!J72)","v":""},null,{"$f":"IF('D - P'!M72=\"\",\"\",'D - P'!M72)","v":""}]
[null,{"$f":"B$1","v":"Dvojboj - Celkové pořadí"}]
[]
[null,{"$f":"B$3","v":"VC ČR v požárním útoku družstev HZS krajů a HZS podniků"},null,null,{"$f":"E$3","v":"Petrovice 19.9.2019"}]
[]
[null,{"$f":"Start!$C$5","v":"MUŽI"}]
[null,"Pořadí","Start. číslo","Jméno","kolektiv",null,"100m",null,null,"věž",null,null,"Výsledný čas"]
[null,null,null,null,null,null,"1.pokus","2.pokus",null,"1.pokus","2.pokus"]
[null,{"$f":"IF(AND('D - P'!$C73=\"\",'D - P'!$D73=\"\"),\"\",'D - P'!O73)","v":""},{"$f":"IF(AND('D - P'!$C73=\"\",'D - P'!$D73=\"\"),\"\",'D - P'!B73)","v":""},{"$f":"IF('D - P'!C73=\"\",\"\",'D - P'!C73)","v":""},{"$f":"IF('D - P'!D73=\"\",\"\",'D - P'!D73)","v":""},null,{"$f":"IF('D - P'!E73=\"\",\"\",'D - P'!E73)","v":""},{"$f":"IF('D - P'!F73=\"\",\"\",'D - P'!F73)","v":""},null,{"$f":"IF('D - P'!I73=\"\",\"\",'D - P'!I73)","v":""},{"$f":"IF('D - P'!J73=\"\",\"\",'D - P'!J73)","v":""},null,{"$f":"IF('D - P'!M73=\"\",\"\",'D - P'!M73)","v":""}]
[null,{"$f":"IF(AND('D - P'!$C74=\"\",'D - P'!$D74=\"\"),\"\",'D - P'!O74)","v":""},{"$f":"IF(AND('D - P'!$C74=\"\",'D - P'!$D74=\"\"),\"\",'D - P'!B74)","v":""},{"$f":"IF('D - P'!C74=\"\",\"\",'D - P'!C74)","v":""},{"$f":"IF('D - P'!D74=\"\",\"\",'D - P'!D74)","v":""},null,{"$f":"IF('D - P'!E74=\"\",\"\",'D - P'!E74)","v":""},{"$f":"IF('D - P'!F74=\"\",\"\",'D - P'!F74)","v":""},null,{"$f":"IF('D - P'!I74=\"\",\"\",'D - P'!I74)","v":""},{"$f":"IF('D - P'!J74=\"\",\"\",'D - P'!J74)","v":""},null,{"$f":"IF('D - P'!M74=\"\",\"\",'D - P'!M74)","v":""}]
[null,{"$f":"IF(AND('D - P'!$C75=\"\",'D - P'!$D75=\"\"),\"\",'D - P'!O75)","v":""},{"$f":"IF(AND('D - P'!$C75=\"\",'D - P'!$D75=\"\"),\"\",'D - P'!B75)","v":""},{"$f":"IF('D - P'!C75=\"\",\"\",'D - P'!C75)","v":""},{"$f":"IF('D - P'!D75=\"\",\"\",'D - P'!D75)","v":""},null,{"$f":"IF('D - P'!E75=\"\",\"\",'D - P'!E75)","v":""},{"$f":"IF('D - P'!F75=\"\",\"\",'D - P'!F75)","v":""},null,{"$f":"IF('D - P'!I75=\"\",\"\",'D - P'!I75)","v":""},{"$f":"IF('D - P'!J75=\"\",\"\",'D - P'!J75)","v":""},null,{"$f":"IF('D - P'!M75=\"\",\"\",'D - P'!M75)","v":""}]
[null,{"$f":"IF(AND('D - P'!$C76=\"\",'D - P'!$D76=\"\"),\"\",'D - P'!O76)","v":""},{"$f":"IF(AND('D - P'!$C76=\"\",'D - P'!$D76=\"\"),\"\",'D - P'!B76)","v":""},{"$f":"IF('D - P'!C76=\"\",\"\",'D - P'!C76)","v":""},{"$f":"IF('D - P'!D76=\"\",\"\",'D - P'!D76)","v":""},null,{"$f":"IF('D - P'!E76=\"\",\"\",'D - P'!E76)","v":""},{"$f":"IF('D - P'!F76=\"\",\"\",'D - P'!F76)","v":""},null,{"$f":"IF('D - P'!I76=\"\",\"\",'D - P'!I76)","v":""},{"$f":"IF('D - P'!J76=\"\",\"\",'D - P'!J76)","v":""},null,{"$f":"IF('D - P'!M76=\"\",\"\",'D - P'!M76)","v":""}]
[null,{"$f":"IF(AND('D - P'!$C77=\"\",'D - P'!$D77=\"\"),\"\",'D - P'!O77)","v":""},{"$f":"IF(AND('D - P'!$C77=\"\",'D - P'!$D77=\"\"),\"\",'D - P'!B77)","v":""},{"$f":"IF('D - P'!C77=\"\",\"\",'D - P'!C77)","v":""},{"$f":"IF('D - P'!D77=\"\",\"\",'D - P'!D77)","v":""},null,{"$f":"IF('D - P'!E77=\"\",\"\",'D - P'!E77)","v":""},{"$f":"IF('D - P'!F77=\"\",\"\",'D - P'!F77)","v":""},null,{"$f":"IF('D - P'!I77=\"\",\"\",'D - P'!I77)","v":""},{"$f":"IF('D - P'!J77=\"\",\"\",'D - P'!J77)","v":""},null,{"$f":"IF('D - P'!M77=\"\",\"\",'D - P'!M77)","v":""}]
[null,{"$f":"IF(AND('D - P'!$C78=\"\",'D - P'!$D78=\"\"),\"\",'D - P'!O78)","v":""},{"$f":"IF(AND('D - P'!$C78=\"\",'D - P'!$D78=\"\"),\"\",'D - P'!B78)","v":""},{"$f":"IF('D - P'!C78=\"\",\"\",'D - P'!C78)","v":""},{"$f":"IF('D - P'!D78=\"\",\"\",'D - P'!D78)","v":""},null,{"$f":"IF('D - P'!E78=\"\",\"\",'D - P'!E78)","v":""},{"$f":"IF('D - P'!F78=\"\",\"\",'D - P'!F78)","v":""},null,{"$f":"IF('D - P'!I78=\"\",\"\",'D - P'!I78)","v":""},{"$f":"IF('D - P'!J78=\"\",\"\",'D - P'!J78)","v":""},null,{"$f":"IF('D - P'!M78=\"\",\"\",'D - P'!M78)","v":""}]
[null,{"$f":"IF(AND('D - P'!$C79=\"\",'D - P'!$D79=\"\"),\"\",'D - P'!O79)","v":""},{"$f":"IF(AND('D - P'!$C79=\"\",'D - P'!$D79=\"\"),\"\",'D - P'!B79)","v":""},{"$f":"IF('D - P'!C79=\"\",\"\",'D - P'!C79)","v":""},{"$f":"IF('D - P'!D79=\"\",\"\",'D - P'!D79)","v":""},null,{"$f":"IF('D - P'!E79=\"\",\"\",'D - P'!E79)","v":""},{"$f":"IF('D - P'!F79=\"\",\"\",'D - P'!F79)","v":""},null,{"$f":"IF('D - P'!I79=\"\",\"\",'D - P'!I79)","v":""},{"$f":"IF('D - P'!J79=\"\",\"\",'D - P'!J79)","v":""},null,{"$f":"IF('D - P'!M79=\"\",\"\",'D - P'!M79)","v":""}]
[null,{"$f":"IF(AND('D - P'!$C80=\"\",'D - P'!$D80=\"\"),\"\",'D - P'!O80)","v":""},{"$f":"IF(AND('D - P'!$C80=\"\",'D - P'!$D80=\"\"),\"\",'D - P'!B80)","v":""},{"$f":"IF('D - P'!C80=\"\",\"\",'D - P'!C80)","v":""},{"$f":"IF('D - P'!D80=\"\",\"\",'D - P'!D80)","v":""},null,{"$f":"IF('D - P'!E80=\"\",\"\",'D - P'!E80)","v":""},{"$f":"IF('D - P'!F80=\"\",\"\",'D - P'!F80)","v":""},null,{"$f":"IF('D - P'!I80=\"\",\"\",'D - P'!I80)","v":""},{"$f":"IF('D - P'!J80=\"\",\"\",'D - P'!J80)","v":""},null,{"$f":"IF('D - P'!M80=\"\",\"\",'D - P'!M80)","v":""}]
[null,{"$f":"IF(AND('D - P'!$C81=\"\",'D - P'!$D81=\"\"),\"\",'D - P'!O81)","v":""},{"$f":"IF(AND('D - P'!$C81=\"\",'D - P'!$D81=\"\"),\"\",'D - P'!B81)","v":""},{"$f":"IF('D - P'!C81=\"\",\"\",'D - P'!C81)","v":""},{"$f":"IF('D - P'!D81=\"\",\"\",'D - P'!D81)","v":""},null,{"$f":"IF('D - P'!E81=\"\",\"\",'D - P'!E81)","v":""},{"$f":"IF('D - P'!F81=\"\",\"\",'D - P'!F81)","v":""},null,{"$f":"IF('D - P'!I81=\"\",\"\",'D - P'!I81)","v":""},{"$f":"IF('D - P'!J81=\"\",\"\",'D - P'!J81)","v":""},null,{"$f":"IF('D - P'!M81=\"\",\"\",'D - P'!M81)","v":""}]
[null,{"$f":"IF(AND('D - P'!$C82=\"\",'D - P'!$D82=\"\"),\"\",'D - P'!O82)","v":""},{"$f":"IF(AND('D - P'!$C82=\"\",'D - P'!$D82=\"\"),\"\",'D - P'!B82)","v":""},{"$f":"IF('D - P'!C82=\"\",\"\",'D - P'!C82)","v":""},{"$f":"IF('D - P'!D82=\"\",\"\",'D - P'!D82)","v":""},null,{"$f":"IF('D - P'!E82=\"\",\"\",'D - P'!E82)","v":""},{"$f":"IF('D - P'!F82=\"\",\"\",'D - P'!F82)","v":""},null,{"$f":"IF('D - P'!I82=\"\",\"\",'D - P'!I82)","v":""},{"$f":"IF('D - P'!J82=\"\",\"\",'D - P'!J82)","v":""},null,{"$f":"IF('D - P'!M82=\"\",\"\",'D - P'!M82)","v":""}]
[null,{"$f":"IF(AND('D - P'!$C83=\"\",'D - P'!$D83=\"\"),\"\",'D - P'!O83)","v":""},{"$f":"IF(AND('D - P'!$C83=\"\",'D - P'!$D83=\"\"),\"\",'D - P'!B83)","v":""},{"$f":"IF('D - P'!C83=\"\",\"\",'D - P'!C83)","v":""},{"$f":"IF('D - P'!D83=\"\",\"\",'D - P'!D83)","v":""},null,{"$f":"IF('D - P'!E83=\"\",\"\",'D - P'!E83)","v":""},{"$f":"IF('D - P'!F83=\"\",\"\",'D - P'!F83)","v":""},null,{"$f":"IF('D - P'!I83=\"\",\"\",'D - P'!I83)","v":""},{"$f":"IF('D - P'!J83=\"\",\"\",'D - P'!J83)","v":""},null,{"$f":"IF('D - P'!M83=\"\",\"\",'D - P'!M83)","v":""}]
[null,{"$f":"IF(AND('D - P'!$C84=\"\",'D - P'!$D84=\"\"),\"\",'D - P'!O84)","v":""},{"$f":"IF(AND('D - P'!$C84=\"\",'D - P'!$D84=\"\"),\"\",'D - P'!B84)","v":""},{"$f":"IF('D - P'!C84=\"\",\"\",'D - P'!C84)","v":""},{"$f":"IF('D - P'!D84=\"\",\"\",'D - P'!D84)","v":""},null,{"$f":"IF('D - P'!E84=\"\",\"\",'D - P'!E84)","v":""},{"$f":"IF('D - P'!F84=\"\",\"\",'D - P'!F84)","v":""},null,{"$f":"IF('D - P'!I84=\"\",\"\",'D - P'!I84)","v":""},{"$f":"IF('D - P'!J84=\"\",\"\",'D - P'!J84)","v":""},null,{"$f":"IF('D - P'!M84=\"\",\"\",'D - P'!M84)","v":""}]
[null,{"$f":"IF(AND('D - P'!$C85=\"\",'D - P'!$D85=\"\"),\"\",'D - P'!O85)","v":""},{"$f":"IF(AND('D - P'!$C85=\"\",'D - P'!$D85=\"\"),\"\",'D - P'!B85)","v":""},{"$f":"IF('D - P'!C85=\"\",\"\",'D - P'!C85)","v":""},{"$f":"IF('D - P'!D85=\"\",\"\",'D - P'!D85)","v":""},null,{"$f":"IF('D - P'!E85=\"\",\"\",'D - P'!E85)","v":""},{"$f":"IF('D - P'!F85=\"\",\"\",'D - P'!F85)","v":""},null,{"$f":"IF('D - P'!I85=\"\",\"\",'D - P'!I85)","v":""},{"$f":"IF('D - P'!J85=\"\",\"\",'D - P'!J85)","v":""},null,{"$f":"IF('D - P'!M85=\"\",\"\",'D - P'!M85)","v":""}]
[null,{"$f":"IF(AND('D - P'!$C86=\"\",'D - P'!$D86=\"\"),\"\",'D - P'!O86)","v":""},{"$f":"IF(AND('D - P'!$C86=\"\",'D - P'!$D86=\"\"),\"\",'D - P'!B86)","v":""},{"$f":"IF('D - P'!C86=\"\",\"\",'D - P'!C86)","v":""},{"$f":"IF('D - P'!D86=\"\",\"\",'D - P'!D86)","v":""},null,{"$f":"IF('D - P'!E86=\"\",\"\",'D - P'!E86)","v":""},{"$f":"IF('D - P'!F86=\"\",\"\",'D - P'!F86)","v":""},null,{"$f":"IF('D - P'!I86=\"\",\"\",'D - P'!I86)","v":""},{"$f":"IF('D - P'!J86=\"\",\"\",'D - P'!J86)","v":""},null,{"$f":"IF('D - P'!M86=\"\",\"\",'D - P'!M86)","v":""}]
[null,{"$f":"IF(AND('D - P'!$C87=\"\",'D - P'!$D87=\"\"),\"\",'D - P'!O87)","v":""},{"$f":"IF(AND('D - P'!$C87=\"\",'D - P'!$D87=\"\"),\"\",'D - P'!B87)","v":""},{"$f":"IF('D - P'!C87=\"\",\"\",'D - P'!C87)","v":""},{"$f":"IF('D - P'!D87=\"\",\"\",'D - P'!D87)","v":""},null,{"$f":"IF('D - P'!E87=\"\",\"\",'D - P'!E87)","v":""},{"$f":"IF('D - P'!F87=\"\",\"\",'D - P'!F87)","v":""},null,{"$f":"IF('D - P'!I87=\"\",\"\",'D - P'!I87)","v":""},{"$f":"IF('D - P'!J87=\"\",\"\",'D - P'!J87)","v":""},null,{"$f":"IF('D - P'!M87=\"\",\"\",'D - P'!M87)","v":""}]
[null,{"$f":"IF(AND('D - P'!$C88=\"\",'D - P'!$D88=\"\"),\"\",'D - P'!O88)","v":""},{"$f":"IF(AND('D - P'!$C88=\"\",'D - P'!$D88=\"\"),\"\",'D - P'!B88)","v":""},{"$f":"IF('D - P'!C88=\"\",\"\",'D - P'!C88)","v":""},{"$f":"IF('D - P'!D88=\"\",\"\",'D - P'!D88)","v":""},null,{"$f":"IF('D - P'!E88=\"\",\"\",'D - P'!E88)","v":""},{"$f":"IF('D - P'!F88=\"\",\"\",'D - P'!F88)","v":""},null,{"$f":"IF('D - P'!I88=\"\",\"\",'D - P'!I88)","v":""},{"$f":"IF('D - P'!J88=\"\",\"\",'D - P'!J88)","v":""},null,{"$f":"IF('D - P'!M88=\"\",\"\",'D - P'!M88)","v":""}]
[null,{"$f":"IF(AND('D - P'!$C89=\"\",'D - P'!$D89=\"\"),\"\",'D - P'!O89)","v":""},{"$f":"IF(AND('D - P'!$C89=\"\",'D - P'!$D89=\"\"),\"\",'D - P'!B89)","v":""},{"$f":"IF('D - P'!C89=\"\",\"\",'D - P'!C89)","v":""},{"$f":"IF('D - P'!D89=\"\",\"\",'D - P'!D89)","v":""},null,{"$f":"IF('D - P'!E89=\"\",\"\",'D - P'!E89)","v":""},{"$f":"IF('D - P'!F89=\"\",\"\",'D - P'!F89)","v":""},null,{"$f":"IF('D - P'!I89=\"\",\"\",'D - P'!I89)","v":""},{"$f":"IF('D - P'!J89=\"\",\"\",'D - P'!J89)","v":""},null,{"$f":"IF('D - P'!M89=\"\",\"\",'D - P'!M89)","v":""}]
[null,{"$f":"IF(AND('D - P'!$C90=\"\",'D - P'!$D90=\"\"),\"\",'D - P'!O90)","v":""},{"$f":"IF(AND('D - P'!$C90=\"\",'D - P'!$D90=\"\"),\"\",'D - P'!B90)","v":""},{"$f":"IF('D - P'!C90=\"\",\"\",'D - P'!C90)","v":""},{"$f":"IF('D - P'!D90=\"\",\"\",'D - P'!D90)","v":""},null,{"$f":"IF('D - P'!E90=\"\",\"\",'D - P'!E90)","v":""},{"$f":"IF('D - P'!F90=\"\",\"\",'D - P'!F90)","v":""},null,{"$f":"IF('D - P'!I90=\"\",\"\",'D - P'!I90)","v":""},{"$f":"IF('D - P'!J90=\"\",\"\",'D - P'!J90)","v":""},null,{"$f":"IF('D - P'!M90=\"\",\"\",'D - P'!M90)","v":""}]
[null,{"$f":"IF(AND('D - P'!$C91=\"\",'D - P'!$D91=\"\"),\"\",'D - P'!O91)","v":""},{"$f":"IF(AND('D - P'!$C91=\"\",'D - P'!$D91=\"\"),\"\",'D - P'!B91)","v":""},{"$f":"IF('D - P'!C91=\"\",\"\",'D - P'!C91)","v":""},{"$f":"IF('D - P'!D91=\"\",\"\",'D - P'!D91)","v":""},null,{"$f":"IF('D - P'!E91=\"\",\"\",'D - P'!E91)","v":""},{"$f":"IF('D - P'!F91=\"\",\"\",'D - P'!F91)","v":""},null,{"$f":"IF('D - P'!I91=\"\",\"\",'D - P'!I91)","v":""},{"$f":"IF('D - P'!J91=\"\",\"\",'D - P'!J91)","v":""},null,{"$f":"IF('D - P'!M91=\"\",\"\",'D - P'!M91)","v":""}]
[null,{"$f":"IF(AND('D - P'!$C92=\"\",'D - P'!$D92=\"\"),\"\",'D - P'!O92)","v":""},{"$f":"IF(AND('D - P'!$C92=\"\",'D - P'!$D92=\"\"),\"\",'D - P'!B92)","v":""},{"$f":"IF('D - P'!C92=\"\",\"\",'D - P'!C92)","v":""},{"$f":"IF('D - P'!D92=\"\",\"\",'D - P'!D92)","v":""},null,{"$f":"IF('D - P'!E92=\"\",\"\",'D - P'!E92)","v":""},{"$f":"IF('D - P'!F92=\"\",\"\",'D - P'!F92)","v":""},null,{"$f":"IF('D - P'!I92=\"\",\"\",'D - P'!I92)","v":""},{"$f":"IF('D - P'!J92=\"\",\"\",'D - P'!J92)","v":""},null,{"$f":"IF('D - P'!M92=\"\",\"\",'D - P'!M92)","v":""}]
[null,{"$f":"IF(AND('D - P'!$C93=\"\",'D - P'!$D93=\"\"),\"\",'D - P'!O93)","v":""},{"$f":"IF(AND('D - P'!$C93=\"\",'D - P'!$D93=\"\"),\"\",'D - P'!B93)","v":""},{"$f":"IF('D - P'!C93=\"\",\"\",'D - P'!C93)","v":""},{"$f":"IF('D - P'!D93=\"\",\"\",'D - P'!D93)","v":""},null,{"$f":"IF('D - P'!E93=\"\",\"\",'D - P'!E93)","v":""},{"$f":"IF('D - P'!F93=\"\",\"\",'D - P'!F93)","v":""},null,{"$f":"IF('D - P'!I93=\"\",\"\",'D - P'!I93)","v":""},{"$f":"IF('D - P'!J93=\"\",\"\",'D - P'!J93)","v":""},null,{"$f":"IF('D - P'!M93=\"\",\"\",'D - P'!M93)","v":""}]
[null,{"$f":"IF(AND('D - P'!$C94=\"\",'D - P'!$D94=\"\"),\"\",'D - P'!O94)","v":""},{"$f":"IF(AND('D - P'!$C94=\"\",'D - P'!$D94=\"\"),\"\",'D - P'!B94)","v":""},{"$f":"IF('D - P'!C94=\"\",\"\",'D - P'!C94)","v":""},{"$f":"IF('D - P'!D94=\"\",\"\",'D - P'!D94)","v":""},null,{"$f":"IF('D - P'!E94=\"\",\"\",'D - P'!E94)","v":""},{"$f":"IF('D - P'!F94=\"\",\"\",'D - P'!F94)","v":""},null,{"$f":"IF('D - P'!I94=\"\",\"\",'D - P'!I94)","v":""},{"$f":"IF('D - P'!J94=\"\",\"\",'D - P'!J94)","v":""},null,{"$f":"IF('D - P'!M94=\"\",\"\",'D - P'!M94)","v":""}]
[null,{"$f":"IF(AND('D - P'!$C95=\"\",'D - P'!$D95=\"\"),\"\",'D - P'!O95)","v":""},{"$f":"IF(AND('D - P'!$C95=\"\",'D - P'!$D95=\"\"),\"\",'D - P'!B95)","v":""},{"$f":"IF('D - P'!C95=\"\",\"\",'D - P'!C95)","v":""},{"$f":"IF('D - P'!D95=\"\",\"\",'D - P'!D95)","v":""},null,{"$f":"IF('D - P'!E95=\"\",\"\",'D - P'!E95)","v":""},{"$f":"IF('D - P'!F95=\"\",\"\",'D - P'!F95)","v":""},null,{"$f":"IF('D - P'!I95=\"\",\"\",'D - P'!I95)","v":""},{"$f":"IF('D - P'!J95=\"\",\"\",'D - P'!J95)","v":""},null,{"$f":"IF('D - P'!M95=\"\",\"\",'D - P'!M95)","v":""}]
[null,{"$f":"IF(AND('D - P'!$C96=\"\",'D - P'!$D96=\"\"),\"\",'D - P'!O96)","v":""},{"$f":"IF(AND('D - P'!$C96=\"\",'D - P'!$D96=\"\"),\"\",'D - P'!B96)","v":""},{"$f":"IF('D - P'!C96=\"\",\"\",'D - P'!C96)","v":""},{"$f":"IF('D - P'!D96=\"\",\"\",'D - P'!D96)","v":""},null,{"$f":"IF('D - P'!E96=\"\",\"\",'D - P'!E96)","v":""},{"$f":"IF('D - P'!F96=\"\",\"\",'D - P'!F96)","v":""},null,{"$f":"IF('D - P'!I96=\"\",\"\",'D - P'!I96)","v":""},{"$f":"IF('D - P'!J96=\"\",\"\",'D - P'!J96)","v":""},null,{"$f":"IF('D - P'!M96=\"\",\"\",'D - P'!M96)","v":""}]
[null,{"$f":"IF(AND('D - P'!$C97=\"\",'D - P'!$D97=\"\"),\"\",'D - P'!O97)","v":""},{"$f":"IF(AND('D - P'!$C97=\"\",'D - P'!$D97=\"\"),\"\",'D - P'!B97)","v":""},{"$f":"IF('D - P'!C97=\"\",\"\",'D - P'!C97)","v":""},{"$f":"IF('D - P'!D97=\"\",\"\",'D - P'!D97)","v":""},null,{"$f":"IF('D - P'!E97=\"\",\"\",'D - P'!E97)","v":""},{"$f":"IF('D - P'!F97=\"\",\"\",'D - P'!F97)","v":""},null,{"$f":"IF('D - P'!I97=\"\",\"\",'D - P'!I97)","v":""},{"$f":"IF('D - P'!J97=\"\",\"\",'D - P'!J97)","v":""},null,{"$f":"IF('D - P'!M97=\"\",\"\",'D - P'!M97)","v":""}]
[null,{"$f":"IF(AND('D - P'!$C98=\"\",'D - P'!$D98=\"\"),\"\",'D - P'!O98)","v":""},{"$f":"IF(AND('D - P'!$C98=\"\",'D - P'!$D98=\"\"),\"\",'D - P'!B98)","v":""},{"$f":"IF('D - P'!C98=\"\",\"\",'D - P'!C98)","v":""},{"$f":"IF('D - P'!D98=\"\",\"\",'D - P'!D98)","v":""},null,{"$f":"IF('D - P'!E98=\"\",\"\",'D - P'!E98)","v":""},{"$f":"IF('D - P'!F98=\"\",\"\",'D - P'!F98)","v":""},null,{"$f":"IF('D - P'!I98=\"\",\"\",'D - P'!I98)","v":""},{"$f":"IF('D - P'!J98=\"\",\"\",'D - P'!J98)","v":""},null,{"$f":"IF('D - P'!M98=\"\",\"\",'D - P'!M98)","v":""}]
[null,{"$f":"IF(AND('D - P'!$C99=\"\",'D - P'!$D99=\"\"),\"\",'D - P'!O99)","v":""},{"$f":"IF(AND('D - P'!$C99=\"\",'D - P'!$D99=\"\"),\"\",'D - P'!B99)","v":""},{"$f":"IF('D - P'!C99=\"\",\"\",'D - P'!C99)","v":""},{"$f":"IF('D - P'!D99=\"\",\"\",'D - P'!D99)","v":""},null,{"$f":"IF('D - P'!E99=\"\",\"\",'D - P'!E99)","v":""},{"$f":"IF('D - P'!F99=\"\",\"\",'D - P'!F99)","v":""},null,{"$f":"IF('D - P'!I99=\"\",\"\",'D - P'!I99)","v":""},{"$f":"IF('D - P'!J99=\"\",\"\",'D - P'!J99)","v":""},null,{"$f":"IF('D - P'!M99=\"\",\"\",'D - P'!M99)","v":""}]
[null,{"$f":"IF(AND('D - P'!$C100=\"\",'D - P'!$D100=\"\"),\"\",'D - P'!O100)","v":""},{"$f":"IF(AND('D - P'!$C100=\"\",'D - P'!$D100=\"\"),\"\",'D - P'!B100)","v":""},{"$f":"IF('D - P'!C100=\"\",\"\",'D - P'!C100)","v":""},{"$f":"IF('D - P'!D100=\"\",\"\",'D - P'!D100)","v":""},null,{"$f":"IF('D - P'!E100=\"\",\"\",'D - P'!E100)","v":""},{"$f":"IF('D - P'!F100=\"\",\"\",'D - P'!F100)","v":""},null,{"$f":"IF('D - P'!I100=\"\",\"\",'D - P'!I100)","v":""},{"$f":"IF('D - P'!J100=\"\",\"\",'D - P'!J100)","v":""},null,{"$f":"IF('D - P'!M100=\"\",\"\",'D - P'!M100)","v":""}]
[null,{"$f":"IF(AND('D - P'!$C101=\"\",'D - P'!$D101=\"\"),\"\",'D - P'!O101)","v":""},{"$f":"IF(AND('D - P'!$C101=\"\",'D - P'!$D101=\"\"),\"\",'D - P'!B101)","v":""},{"$f":"IF('D - P'!C101=\"\",\"\",'D - P'!C101)","v":""},{"$f":"IF('D - P'!D101=\"\",\"\",'D - P'!D101)","v":""},null,{"$f":"IF('D - P'!E101=\"\",\"\",'D - P'!E101)","v":""},{"$f":"IF('D - P'!F101=\"\",\"\",'D - P'!F101)","v":""},null,{"$f":"IF('D - P'!I101=\"\",\"\",'D - P'!I101)","v":""},{"$f":"IF('D - P'!J101=\"\",\"\",'D - P'!J101)","v":""},null,{"$f":"IF('D - P'!M101=\"\",\"\",'D - P'!M101)","v":""}]
[null,{"$f":"IF(AND('D - P'!$C102=\"\",'D - P'!$D102=\"\"),\"\",'D - P'!O102)","v":""},{"$f":"IF(AND('D - P'!$C102=\"\",'D - P'!$D102=\"\"),\"\",'D - P'!B102)","v":""},{"$f":"IF('D - P'!C102=\"\",\"\",'D - P'!C102)","v":""},{"$f":"IF('D - P'!D102=\"\",\"\",'D - P'!D102)","v":""},null,{"$f":"IF('D - P'!E102=\"\",\"\",'D - P'!E102)","v":""},{"$f":"IF('D - P'!F102=\"\",\"\",'D - P'!F102)","v":""},null,{"$f":"IF('D - P'!I102=\"\",\"\",'D - P'!I102)","v":""},{"$f":"IF('D - P'!J102=\"\",\"\",'D - P'!J102)","v":""},null,{"$f":"IF('D - P'!M102=\"\",\"\",'D - P'!M102)","v":""}]
[null,{"$f":"IF(AND('D - P'!$C103=\"\",'D - P'!$D103=\"\"),\"\",'D - P'!O103)","v":""},{"$f":"IF(AND('D - P'!$C103=\"\",'D - P'!$D103=\"\"),\"\",'D - P'!B103)","v":""},{"$f":"IF('D - P'!C103=\"\",\"\",'D - P'!C103)","v":""},{"$f":"IF('D - P'!D103=\"\",\"\",'D - P'!D103)","v":""},null,{"$f":"IF('D - P'!E103=\"\",\"\",'D - P'!E103)","v":""},{"$f":"IF('D - P'!F103=\"\",\"\",'D - P'!F103)","v":""},null,{"$f":"IF('D - P'!I103=\"\",\"\",'D - P'!I103)","v":""},{"$f":"IF('D - P'!J103=\"\",\"\",'D - P'!J103)","v":""},null,{"$f":"IF('D - P'!M103=\"\",\"\",'D - P'!M103)","v":""}]
[null,{"$f":"IF(AND('D - P'!$C104=\"\",'D - P'!$D104=\"\"),\"\",'D - P'!O104)","v":""},{"$f":"IF(AND('D - P'!$C104=\"\",'D - P'!$D104=\"\"),\"\",'D - P'!B104)","v":""},{"$f":"IF('D - P'!C104=\"\",\"\",'D - P'!C104)","v":""},{"$f":"IF('D - P'!D104=\"\",\"\",'D - P'!D104)","v":""},null,{"$f":"IF('D - P'!E104=\"\",\"\",'D - P'!E104)","v":""},{"$f":"IF('D - P'!F104=\"\",\"\",'D - P'!F104)","v":""},null,{"$f":"IF('D - P'!I104=\"\",\"\",'D - P'!I104)","v":""},{"$f":"IF('D - P'!J104=\"\",\"\",'D - P'!J104)","v":""},null,{"$f":"IF('D - P'!M104=\"\",\"\",'D - P'!M104)","v":""}]
[null,{"$f":"IF(AND('D - P'!$C105=\"\",'D - P'!$D105=\"\"),\"\",'D - P'!O105)","v":""},{"$f":"IF(AND('D - P'!$C105=\"\",'D - P'!$D105=\"\"),\"\",'D - P'!B105)","v":""},{"$f":"IF('D - P'!C105=\"\",\"\",'D - P'!C105)","v":""},{"$f":"IF('D - P'!D105=\"\",\"\",'D - P'!D105)","v":""},null,{"$f":"IF('D - P'!E105=\"\",\"\",'D - P'!E105)","v":""},{"$f":"IF('D - P'!F105=\"\",\"\",'D - P'!F105)","v":""},null,{"$f":"IF('D - P'!I105=\"\",\"\",'D - P'!I105)","v":""},{"$f":"IF('D - P'!J105=\"\",\"\",'D - P'!J105)","v":""},null,{"$f":"IF('D - P'!M105=\"\",\"\",'D - P'!M105)","v":""}]
[null,{"$f":"IF(AND('D - P'!$C106=\"\",'D - P'!$D106=\"\"),\"\",'D - P'!O106)","v":""},{"$f":"IF(AND('D - P'!$C106=\"\",'D - P'!$D106=\"\"),\"\",'D - P'!B106)","v":""},{"$f":"IF('D - P'!C106=\"\",\"\",'D - P'!C106)","v":""},{"$f":"IF('D - P'!D106=\"\",\"\",'D - P'!D106)","v":""},null,{"$f":"IF('D - P'!E106=\"\",\"\",'D - P'!E106)","v":""},{"$f":"IF('D - P'!F106=\"\",\"\",'D - P'!F106)","v":""},null,{"$f":"IF('D - P'!I106=\"\",\"\",'D - P'!I106)","v":""},{"$f":"IF('D - P'!J106=\"\",\"\",'D - P'!J106)","v":""},null,{"$f":"IF('D - P'!M106=\"\",\"\",'D - P'!M106)","v":""}]
[null,{"$f":"IF(AND('D - P'!$C107=\"\",'D - P'!$D107=\"\"),\"\",'D - P'!O107)","v":""},{"$f":"IF(AND('D - P'!$C107=\"\",'D - P'!$D107=\"\"),\"\",'D - P'!B107)","v":""},{"$f":"IF('D - P'!C107=\"\",\"\",'D - P'!C107)","v":""},{"$f":"IF('D - P'!D107=\"\",\"\",'D - P'!D107)","v":""},null,{"$f":"IF('D - P'!E107=\"\",\"\",'D - P'!E107)","v":""},{"$f":"IF('D - P'!F107=\"\",\"\",'D - P'!F107)","v":""},null,{"$f":"IF('D - P'!I107=\"\",\"\",'D - P'!I107)","v":""},{"$f":"IF('D - P'!J107=\"\",\"\",'D - P'!J107)","v":""},null,{"$f":"IF('D - P'!M107=\"\",\"\",'D - P'!M107)","v":""}]
[null,{"$f":"IF(AND('D - P'!$C108=\"\",'D - P'!$D108=\"\"),\"\",'D - P'!O108)","v":""},{"$f":"IF(AND('D - P'!$C108=\"\",'D - P'!$D108=\"\"),\"\",'D - P'!B108)","v":""},{"$f":"IF('D - P'!C108=\"\",\"\",'D - P'!C108)","v":""},{"$f":"IF('D - P'!D108=\"\",\"\",'D - P'!D108)","v":""},null,{"$f":"IF('D - P'!E108=\"\",\"\",'D - P'!E108)","v":""},{"$f":"IF('D - P'!F108=\"\",\"\",'D - P'!F108)","v":""},null,{"$f":"IF('D - P'!I108=\"\",\"\",'D - P'!I108)","v":""},{"$f":"IF('D - P'!J108=\"\",\"\",'D - P'!J108)","v":""},null,{"$f":"IF('D - P'!M108=\"\",\"\",'D - P'!M108)","v":""}]
[null,{"$f":"B$1","v":"Dvojboj - Celkové pořadí"}]
[]
[null,{"$f":"B$3","v":"VC ČR v požárním útoku družstev HZS krajů a HZS podniků"},null,null,{"$f":"E$3","v":"Petrovice 19.9.2019"}]
[]
[null,{"$f":"Start!$C$5","v":"MUŽI"}]
[null,"Pořadí","Start. číslo","Jméno","kolektiv",null,"100m",null,null,"věž",null,null,"Výsledný čas"]
[null,null,null,null,null,null,"1.pokus","2.pokus",null,"1.pokus","2.pokus"]
[null,{"$f":"IF(AND('D - P'!$C109=\"\",'D - P'!$D109=\"\"),\"\",'D - P'!O109)","v":""},{"$f":"IF(AND('D - P'!$C109=\"\",'D - P'!$D109=\"\"),\"\",'D - P'!B109)","v":""},{"$f":"IF('D - P'!C109=\"\",\"\",'D - P'!C109)","v":""},{"$f":"IF('D - P'!D109=\"\",\"\",'D - P'!D109)","v":""},null,{"$f":"IF('D - P'!E109=\"\",\"\",'D - P'!E109)","v":""},{"$f":"IF('D - P'!F109=\"\",\"\",'D - P'!F109)","v":""},null,{"$f":"IF('D - P'!I109=\"\",\"\",'D - P'!I109)","v":""},{"$f":"IF('D - P'!J109=\"\",\"\",'D - P'!J109)","v":""},null,{"$f":"IF('D - P'!M109=\"\",\"\",'D - P'!M109)","v":""}]
[null,{"$f":"IF(AND('D - P'!$C110=\"\",'D - P'!$D110=\"\"),\"\",'D - P'!O110)","v":""},{"$f":"IF(AND('D - P'!$C110=\"\",'D - P'!$D110=\"\"),\"\",'D - P'!B110)","v":""},{"$f":"IF('D - P'!C110=\"\",\"\",'D - P'!C110)","v":""},{"$f":"IF('D - P'!D110=\"\",\"\",'D - P'!D110)","v":""},null,{"$f":"IF('D - P'!E110=\"\",\"\",'D - P'!E110)","v":""},{"$f":"IF('D - P'!F110=\"\",\"\",'D - P'!F110)","v":""},null,{"$f":"IF('D - P'!I110=\"\",\"\",'D - P'!I110)","v":""},{"$f":"IF('D - P'!J110=\"\",\"\",'D - P'!J110)","v":""},null,{"$f":"IF('D - P'!M110=\"\",\"\",'D - P'!M110)","v":""}]
[null,{"$f":"IF(AND('D - P'!$C111=\"\",'D - P'!$D111=\"\"),\"\",'D - P'!O111)","v":""},{"$f":"IF(AND('D - P'!$C111=\"\",'D - P'!$D111=\"\"),\"\",'D - P'!B111)","v":""},{"$f":"IF('D - P'!C111=\"\",\"\",'D - P'!C111)","v":""},{"$f":"IF('D - P'!D111=\"\",\"\",'D - P'!D111)","v":""},null,{"$f":"IF('D - P'!E111=\"\",\"\",'D - P'!E111)","v":""},{"$f":"IF('D - P'!F111=\"\",\"\",'D - P'!F111)","v":""},null,{"$f":"IF('D - P'!I111=\"\",\"\",'D - P'!I111)","v":""},{"$f":"IF('D - P'!J111=\"\",\"\",'D - P'!J111)","v":""},null,{"$f":"IF('D - P'!M111=\"\",\"\",'D - P'!M111)","v":""}]
[null,{"$f":"IF(AND('D - P'!$C112=\"\",'D - P'!$D112=\"\"),\"\",'D - P'!O112)","v":""},{"$f":"IF(AND('D - P'!$C112=\"\",'D - P'!$D112=\"\"),\"\",'D - P'!B112)","v":""},{"$f":"IF('D - P'!C112=\"\",\"\",'D - P'!C112)","v":""},{"$f":"IF('D - P'!D112=\"\",\"\",'D - P'!D112)","v":""},null,{"$f":"IF('D - P'!E112=\"\",\"\",'D - P'!E112)","v":""},{"$f":"IF('D - P'!F112=\"\",\"\",'D - P'!F112)","v":""},null,{"$f":"IF('D - P'!I112=\"\",\"\",'D - P'!I112)","v":""},{"$f":"IF('D - P'!J112=\"\",\"\",'D - P'!J112)","v":""},null,{"$f":"IF('D - P'!M112=\"\",\"\",'D - P'!M112)","v":""}]
[null,{"$f":"IF(AND('D - P'!$C113=\"\",'D - P'!$D113=\"\"),\"\",'D - P'!O113)","v":""},{"$f":"IF(AND('D - P'!$C113=\"\",'D - P'!$D113=\"\"),\"\",'D - P'!B113)","v":""},{"$f":"IF('D - P'!C113=\"\",\"\",'D - P'!C113)","v":""},{"$f":"IF('D - P'!D113=\"\",\"\",'D - P'!D113)","v":""},null,{"$f":"IF('D - P'!E113=\"\",\"\",'D - P'!E113)","v":""},{"$f":"IF('D - P'!F113=\"\",\"\",'D - P'!F113)","v":""},null,{"$f":"IF('D - P'!I113=\"\",\"\",'D - P'!I113)","v":""},{"$f":"IF('D - P'!J113=\"\",\"\",'D - P'!J113)","v":""},null,{"$f":"IF('D - P'!M113=\"\",\"\",'D - P'!M113)","v":""}]
[null,{"$f":"IF(AND('D - P'!$C114=\"\",'D - P'!$D114=\"\"),\"\",'D - P'!O114)","v":""},{"$f":"IF(AND('D - P'!$C114=\"\",'D - P'!$D114=\"\"),\"\",'D - P'!B114)","v":""},{"$f":"IF('D - P'!C114=\"\",\"\",'D - P'!C114)","v":""},{"$f":"IF('D - P'!D114=\"\",\"\",'D - P'!D114)","v":""},null,{"$f":"IF('D - P'!E114=\"\",\"\",'D - P'!E114)","v":""},{"$f":"IF('D - P'!F114=\"\",\"\",'D - P'!F114)","v":""},null,{"$f":"IF('D - P'!I114=\"\",\"\",'D - P'!I114)","v":""},{"$f":"IF('D - P'!J114=\"\",\"\",'D - P'!J114)","v":""},null,{"$f":"IF('D - P'!M114=\"\",\"\",'D - P'!M114)","v":""}]
[null,{"$f":"IF(AND('D - P'!$C115=\"\",'D - P'!$D115=\"\"),\"\",'D - P'!O115)","v":""},{"$f":"IF(AND('D - P'!$C115=\"\",'D - P'!$D115=\"\"),\"\",'D - P'!B115)","v":""},{"$f":"IF('D - P'!C115=\"\",\"\",'D - P'!C115)","v":""},{"$f":"IF('D - P'!D115=\"\",\"\",'D - P'!D115)","v":""},null,{"$f":"IF('D - P'!E115=\"\",\"\",'D - P'!E115)","v":""},{"$f":"IF('D - P'!F115=\"\",\"\",'D - P'!F115)","v":""},null,{"$f":"IF('D - P'!I115=\"\",\"\",'D - P'!I115)","v":""},{"$f":"IF('D - P'!J115=\"\",\"\",'D - P'!J115)","v":""},null,{"$f":"IF('D - P'!M115=\"\",\"\",'D - P'!M115)","v":""}]
[null,{"$f":"IF(AND('D - P'!$C116=\"\",'D - P'!$D116=\"\"),\"\",'D - P'!O116)","v":""},{"$f":"IF(AND('D - P'!$C116=\"\",'D - P'!$D116=\"\"),\"\",'D - P'!B116)","v":""},{"$f":"IF('D - P'!C116=\"\",\"\",'D - P'!C116)","v":""},{"$f":"IF('D - P'!D116=\"\",\"\",'D - P'!D116)","v":""},null,{"$f":"IF('D - P'!E116=\"\",\"\",'D - P'!E116)","v":""},{"$f":"IF('D - P'!F116=\"\",\"\",'D - P'!F116)","v":""},null,{"$f":"IF('D - P'!I116=\"\",\"\",'D - P'!I116)","v":""},{"$f":"IF('D - P'!J116=\"\",\"\",'D - P'!J116)","v":""},null,{"$f":"IF('D - P'!M116=\"\",\"\",'D - P'!M116)","v":""}]
[null,{"$f":"IF(AND('D - P'!$C117=\"\",'D - P'!$D117=\"\"),\"\",'D - P'!O117)","v":""},{"$f":"IF(AND('D - P'!$C117=\"\",'D - P'!$D117=\"\"),\"\",'D - P'!B117)","v":""},{"$f":"IF('D - P'!C117=\"\",\"\",'D - P'!C117)","v":""},{"$f":"IF('D - P'!D117=\"\",\"\",'D - P'!D117)","v":""},null,{"$f":"IF('D - P'!E117=\"\",\"\",'D - P'!E117)","v":""},{"$f":"IF('D - P'!F117=\"\",\"\",'D - P'!F117)","v":""},null,{"$f":"IF('D - P'!I117=\"\",\"\",'D - P'!I117)","v":""},{"$f":"IF('D - P'!J117=\"\",\"\",'D - P'!J117)","v":""},null,{"$f":"IF('D - P'!M117=\"\",\"\",'D - P'!M117)","v":""}]
[null,{"$f":"IF(AND('D - P'!$C118=\"\",'D - P'!$D118=\"\"),\"\",'D - P'!O118)","v":""},{"$f":"IF(AND('D - P'!$C118=\"\",'D - P'!$D118=\"\"),\"\",'D - P'!B118)","v":""},{"$f":"IF('D - P'!C118=\"\",\"\",'D - P'!C118)","v":""},{"$f":"IF('D - P'!D118=\"\",\"\",'D - P'!D118)","v":""},null,{"$f":"IF('D - P'!E118=\"\",\"\",'D - P'!E118)","v":""},{"$f":"IF('D - P'!F118=\"\",\"\",'D - P'!F118)","v":""},null,{"$f":"IF('D - P'!I118=\"\",\"\",'D - P'!I118)","v":""},{"$f":"IF('D - P'!J118=\"\",\"\",'D - P'!J118)","v":""},null,{"$f":"IF('D - P'!M118=\"\",\"\",'D - P'!M118)","v":""}]
[null,{"$f":"IF(AND('D - P'!$C119=\"\",'D - P'!$D119=\"\"),\"\",'D - P'!O119)","v":""},{"$f":"IF(AND('D - P'!$C119=\"\",'D - P'!$D119=\"\"),\"\",'D - P'!B119)","v":""},{"$f":"IF('D - P'!C119=\"\",\"\",'D - P'!C119)","v":""},{"$f":"IF('D - P'!D119=\"\",\"\",'D - P'!D119)","v":""},null,{"$f":"IF('D - P'!E119=\"\",\"\",'D - P'!E119)","v":""},{"$f":"IF('D - P'!F119=\"\",\"\",'D - P'!F119)","v":""},null,{"$f":"IF('D - P'!I119=\"\",\"\",'D - P'!I119)","v":""},{"$f":"IF('D - P'!J119=\"\",\"\",'D - P'!J119)","v":""},null,{"$f":"IF('D - P'!M119=\"\",\"\",'D - P'!M119)","v":""}]
[null,{"$f":"IF(AND('D - P'!$C120=\"\",'D - P'!$D120=\"\"),\"\",'D - P'!O120)","v":""},{"$f":"IF(AND('D - P'!$C120=\"\",'D - P'!$D120=\"\"),\"\",'D - P'!B120)","v":""},{"$f":"IF('D - P'!C120=\"\",\"\",'D - P'!C120)","v":""},{"$f":"IF('D - P'!D120=\"\",\"\",'D - P'!D120)","v":""},null,{"$f":"IF('D - P'!E120=\"\",\"\",'D - P'!E120)","v":""},{"$f":"IF('D - P'!F120=\"\",\"\",'D - P'!F120)","v":""},null,{"$f":"IF('D - P'!I120=\"\",\"\",'D - P'!I120)","v":""},{"$f":"IF('D - P'!J120=\"\",\"\",'D - P'!J120)","v":""},null,{"$f":"IF('D - P'!M120=\"\",\"\",'D - P'!M120)","v":""}]
[null,{"$f":"IF(AND('D - P'!$C121=\"\",'D - P'!$D121=\"\"),\"\",'D - P'!O121)","v":""},{"$f":"IF(AND('D - P'!$C121=\"\",'D - P'!$D121=\"\"),\"\",'D - P'!B121)","v":""},{"$f":"IF('D - P'!C121=\"\",\"\",'D - P'!C121)","v":""},{"$f":"IF('D - P'!D121=\"\",\"\",'D - P'!D121)","v":""},null,{"$f":"IF('D - P'!E121=\"\",\"\",'D - P'!E121)","v":""},{"$f":"IF('D - P'!F121=\"\",\"\",'D - P'!F121)","v":""},null,{"$f":"IF('D - P'!I121=\"\",\"\",'D - P'!I121)","v":""},{"$f":"IF('D - P'!J121=\"\",\"\",'D - P'!J121)","v":""},null,{"$f":"IF('D - P'!M121=\"\",\"\",'D - P'!M121)","v":""}]
[null,{"$f":"IF(AND('D - P'!$C122=\"\",'D - P'!$D122=\"\"),\"\",'D - P'!O122)","v":""},{"$f":"IF(AND('D - P'!$C122=\"\",'D - P'!$D122=\"\"),\"\",'D - P'!B122)","v":""},{"$f":"IF('D - P'!C122=\"\",\"\",'D - P'!C122)","v":""},{"$f":"IF('D - P'!D122=\"\",\"\",'D - P'!D122)","v":""},null,{"$f":"IF('D - P'!E122=\"\",\"\",'D - P'!E122)","v":""},{"$f":"IF('D - P'!F122=\"\",\"\",'D - P'!F122)","v":""},null,{"$f":"IF('D - P'!I122=\"\",\"\",'D - P'!I122)","v":""},{"$f":"IF('D - P'!J122=\"\",\"\",'D - P'!J122)","v":""},null,{"$f":"IF('D - P'!M122=\"\",\"\",'D - P'!M122)","v":""}]
[null,{"$f":"IF(AND('D - P'!$C123=\"\",'D - P'!$D123=\"\"),\"\",'D - P'!O123)","v":""},{"$f":"IF(AND('D - P'!$C123=\"\",'D - P'!$D123=\"\"),\"\",'D - P'!B123)","v":""},{"$f":"IF('D - P'!C123=\"\",\"\",'D - P'!C123)","v":""},{"$f":"IF('D - P'!D123=\"\",\"\",'D - P'!D123)","v":""},null,{"$f":"IF('D - P'!E123=\"\",\"\",'D - P'!E123)","v":""},{"$f":"IF('D - P'!F123=\"\",\"\",'D - P'!F123)","v":""},null,{"$f":"IF('D - P'!I123=\"\",\"\",'D - P'!I123)","v":""},{"$f":"IF('D - P'!J123=\"\",\"\",'D - P'!J123)","v":""},null,{"$f":"IF('D - P'!M123=\"\",\"\",'D - P'!M123)","v":""}]
[null,{"$f":"IF(AND('D - P'!$C124=\"\",'D - P'!$D124=\"\"),\"\",'D - P'!O124)","v":""},{"$f":"IF(AND('D - P'!$C124=\"\",'D - P'!$D124=\"\"),\"\",'D - P'!B124)","v":""},{"$f":"IF('D - P'!C124=\"\",\"\",'D - P'!C124)","v":""},{"$f":"IF('D - P'!D124=\"\",\"\",'D - P'!D124)","v":""},null,{"$f":"IF('D - P'!E124=\"\",\"\",'D - P'!E124)","v":""},{"$f":"IF('D - P'!F124=\"\",\"\",'D - P'!F124)","v":""},null,{"$f":"IF('D - P'!I124=\"\",\"\",'D - P'!I124)","v":""},{"$f":"IF('D - P'!J124=\"\",\"\",'D - P'!J124)","v":""},null,{"$f":"IF('D - P'!M124=\"\",\"\",'D - P'!M124)","v":""}]
[null,{"$f":"IF(AND('D - P'!$C125=\"\",'D - P'!$D125=\"\"),\"\",'D - P'!O125)","v":""},{"$f":"IF(AND('D - P'!$C125=\"\",'D - P'!$D125=\"\"),\"\",'D - P'!B125)","v":""},{"$f":"IF('D - P'!C125=\"\",\"\",'D - P'!C125)","v":""},{"$f":"IF('D - P'!D125=\"\",\"\",'D - P'!D125)","v":""},null,{"$f":"IF('D - P'!E125=\"\",\"\",'D - P'!E125)","v":""},{"$f":"IF('D - P'!F125=\"\",\"\",'D - P'!F125)","v":""},null,{"$f":"IF('D - P'!I125=\"\",\"\",'D - P'!I125)","v":""},{"$f":"IF('D - P'!J125=\"\",\"\",'D - P'!J125)","v":""},null,{"$f":"IF('D - P'!M125=\"\",\"\",'D - P'!M125)","v":""}]
[null,{"$f":"IF(AND('D - P'!$C126=\"\",'D - P'!$D126=\"\"),\"\",'D - P'!O126)","v":""},{"$f":"IF(AND('D - P'!$C126=\"\",'D - P'!$D126=\"\"),\"\",'D - P'!B126)","v":""},{"$f":"IF('D - P'!C126=\"\",\"\",'D - P'!C126)","v":""},{"$f":"IF('D - P'!D126=\"\",\"\",'D - P'!D126)","v":""},null,{"$f":"IF('D - P'!E126=\"\",\"\",'D - P'!E126)","v":""},{"$f":"IF('D - P'!F126=\"\",\"\",'D - P'!F126)","v":""},null,{"$f":"IF('D - P'!I126=\"\",\"\",'D - P'!I126)","v":""},{"$f":"IF('D - P'!J126=\"\",\"\",'D - P'!J126)","v":""},null,{"$f":"IF('D - P'!M126=\"\",\"\",'D - P'!M126)","v":""}]
[null,{"$f":"IF(AND('D - P'!$C127=\"\",'D - P'!$D127=\"\"),\"\",'D - P'!O127)","v":""},{"$f":"IF(AND('D - P'!$C127=\"\",'D - P'!$D127=\"\"),\"\",'D - P'!B127)","v":""},{"$f":"IF('D - P'!C127=\"\",\"\",'D - P'!C127)","v":""},{"$f":"IF('D - P'!D127=\"\",\"\",'D - P'!D127)","v":""},null,{"$f":"IF('D - P'!E127=\"\",\"\",'D - P'!E127)","v":""},{"$f":"IF('D - P'!F127=\"\",\"\",'D - P'!F127)","v":""},null,{"$f":"IF('D - P'!I127=\"\",\"\",'D - P'!I127)","v":""},{"$f":"IF('D - P'!J127=\"\",\"\",'D - P'!J127)","v":""},null,{"$f":"IF('D - P'!M127=\"\",\"\",'D - P'!M127)","v":""}]
[null,{"$f":"IF(AND('D - P'!$C128=\"\",'D - P'!$D128=\"\"),\"\",'D - P'!O128)","v":""},{"$f":"IF(AND('D - P'!$C128=\"\",'D - P'!$D128=\"\"),\"\",'D - P'!B128)","v":""},{"$f":"IF('D - P'!C128=\"\",\"\",'D - P'!C128)","v":""},{"$f":"IF('D - P'!D128=\"\",\"\",'D - P'!D128)","v":""},null,{"$f":"IF('D - P'!E128=\"\",\"\",'D - P'!E128)","v":""},{"$f":"IF('D - P'!F128=\"\",\"\",'D - P'!F128)","v":""},null,{"$f":"IF('D - P'!I128=\"\",\"\",'D - P'!I128)","v":""},{"$f":"IF('D - P'!J128=\"\",\"\",'D - P'!J128)","v":""},null,{"$f":"IF('D - P'!M128=\"\",\"\",'D - P'!M128)","v":""}]
[null,{"$f":"IF(AND('D - P'!$C129=\"\",'D - P'!$D129=\"\"),\"\",'D - P'!O129)","v":""},{"$f":"IF(AND('D - P'!$C129=\"\",'D - P'!$D129=\"\"),\"\",'D - P'!B129)","v":""},{"$f":"IF('D - P'!C129=\"\",\"\",'D - P'!C129)","v":""},{"$f":"IF('D - P'!D129=\"\",\"\",'D - P'!D129)","v":""},null,{"$f":"IF('D - P'!E129=\"\",\"\",'D - P'!E129)","v":""},{"$f":"IF('D - P'!F129=\"\",\"\",'D - P'!F129)","v":""},null,{"$f":"IF('D - P'!I129=\"\",\"\",'D - P'!I129)","v":""},{"$f":"IF('D - P'!J129=\"\",\"\",'D - P'!J129)","v":""},null,{"$f":"IF('D - P'!M129=\"\",\"\",'D - P'!M129)","v":""}]
[null,{"$f":"IF(AND('D - P'!$C130=\"\",'D - P'!$D130=\"\"),\"\",'D - P'!O130)","v":""},{"$f":"IF(AND('D - P'!$C130=\"\",'D - P'!$D130=\"\"),\"\",'D - P'!B130)","v":""},{"$f":"IF('D - P'!C130=\"\",\"\",'D - P'!C130)","v":""},{"$f":"IF('D - P'!D130=\"\",\"\",'D - P'!D130)","v":""},null,{"$f":"IF('D - P'!E130=\"\",\"\",'D - P'!E130)","v":""},{"$f":"IF('D - P'!F130=\"\",\"\",'D - P'!F130)","v":""},null,{"$f":"IF('D - P'!I130=\"\",\"\",'D - P'!I130)","v":""},{"$f":"IF('D - P'!J130=\"\",\"\",'D - P'!J130)","v":""},null,{"$f":"IF('D - P'!M130=\"\",\"\",'D - P'!M130)","v":""}]
[null,{"$f":"IF(AND('D - P'!$C131=\"\",'D - P'!$D131=\"\"),\"\",'D - P'!O131)","v":""},{"$f":"IF(AND('D - P'!$C131=\"\",'D - P'!$D131=\"\"),\"\",'D - P'!B131)","v":""},{"$f":"IF('D - P'!C131=\"\",\"\",'D - P'!C131)","v":""},{"$f":"IF('D - P'!D131=\"\",\"\",'D - P'!D131)","v":""},null,{"$f":"IF('D - P'!E131=\"\",\"\",'D - P'!E131)","v":""},{"$f":"IF('D - P'!F131=\"\",\"\",'D - P'!F131)","v":""},null,{"$f":"IF('D - P'!I131=\"\",\"\",'D - P'!I131)","v":""},{"$f":"IF('D - P'!J131=\"\",\"\",'D - P'!J131)","v":""},null,{"$f":"IF('D - P'!M131=\"\",\"\",'D - P'!M131)","v":""}]
[null,{"$f":"IF(AND('D - P'!$C132=\"\",'D - P'!$D132=\"\"),\"\",'D - P'!O132)","v":""},{"$f":"IF(AND('D - P'!$C132=\"\",'D - P'!$D132=\"\"),\"\",'D - P'!B132)","v":""},{"$f":"IF('D - P'!C132=\"\",\"\",'D - P'!C132)","v":""},{"$f":"IF('D - P'!D132=\"\",\"\",'D - P'!D132)","v":""},null,{"$f":"IF('D - P'!E132=\"\",\"\",'D - P'!E132)","v":""},{"$f":"IF('D - P'!F132=\"\",\"\",'D - P'!F132)","v":""},null,{"$f":"IF('D - P'!I132=\"\",\"\",'D - P'!I132)","v":""},{"$f":"IF('D - P'!J132=\"\",\"\",'D - P'!J132)","v":""},null,{"$f":"IF('D - P'!M132=\"\",\"\",'D - P'!M132)","v":""}]
[null,{"$f":"IF(AND('D - P'!$C133=\"\",'D - P'!$D133=\"\"),\"\",'D - P'!O133)","v":""},{"$f":"IF(AND('D - P'!$C133=\"\",'D - P'!$D133=\"\"),\"\",'D - P'!B133)","v":""},{"$f":"IF('D - P'!C133=\"\",\"\",'D - P'!C133)","v":""},{"$f":"IF('D - P'!D133=\"\",\"\",'D - P'!D133)","v":""},null,{"$f":"IF('D - P'!E133=\"\",\"\",'D - P'!E133)","v":""},{"$f":"IF('D - P'!F133=\"\",\"\",'D - P'!F133)","v":""},null,{"$f":"IF('D - P'!I133=\"\",\"\",'D - P'!I133)","v":""},{"$f":"IF('D - P'!J133=\"\",\"\",'D - P'!J133)","v":""},null,{"$f":"IF('D - P'!M133=\"\",\"\",'D - P'!M133)","v":""}]
[null,{"$f":"IF(AND('D - P'!$C134=\"\",'D - P'!$D134=\"\"),\"\",'D - P'!O134)","v":""},{"$f":"IF(AND('D - P'!$C134=\"\",'D - P'!$D134=\"\"),\"\",'D - P'!B134)","v":""},{"$f":"IF('D - P'!C134=\"\",\"\",'D - P'!C134)","v":""},{"$f":"IF('D - P'!D134=\"\",\"\",'D - P'!D134)","v":""},null,{"$f":"IF('D - P'!E134=\"\",\"\",'D - P'!E134)","v":""},{"$f":"IF('D - P'!F134=\"\",\"\",'D - P'!F134)","v":""},null,{"$f":"IF('D - P'!I134=\"\",\"\",'D - P'!I134)","v":""},{"$f":"IF('D - P'!J134=\"\",\"\",'D - P'!J134)","v":""},null,{"$f":"IF('D - P'!M134=\"\",\"\",'D - P'!M134)","v":""}]
[null,{"$f":"IF(AND('D - P'!$C135=\"\",'D - P'!$D135=\"\"),\"\",'D - P'!O135)","v":""},{"$f":"IF(AND('D - P'!$C135=\"\",'D - P'!$D135=\"\"),\"\",'D - P'!B135)","v":""},{"$f":"IF('D - P'!C135=\"\",\"\",'D - P'!C135)","v":""},{"$f":"IF('D - P'!D135=\"\",\"\",'D - P'!D135)","v":""},null,{"$f":"IF('D - P'!E135=\"\",\"\",'D - P'!E135)","v":""},{"$f":"IF('D - P'!F135=\"\",\"\",'D - P'!F135)","v":""},null,{"$f":"IF('D - P'!I135=\"\",\"\",'D - P'!I135)","v":""},{"$f":"IF('D - P'!J135=\"\",\"\",'D - P'!J135)","v":""},null,{"$f":"IF('D - P'!M135=\"\",\"\",'D - P'!M135)","v":""}]
[null,{"$f":"IF(AND('D - P'!$C136=\"\",'D - P'!$D136=\"\"),\"\",'D - P'!O136)","v":""},{"$f":"IF(AND('D - P'!$C136=\"\",'D - P'!$D136=\"\"),\"\",'D - P'!B136)","v":""},{"$f":"IF('D - P'!C136=\"\",\"\",'D - P'!C136)","v":""},{"$f":"IF('D - P'!D136=\"\",\"\",'D - P'!D136)","v":""},null,{"$f":"IF('D - P'!E136=\"\",\"\",'D - P'!E136)","v":""},{"$f":"IF('D - P'!F136=\"\",\"\",'D - P'!F136)","v":""},null,{"$f":"IF('D - P'!I136=\"\",\"\",'D - P'!I136)","v":""},{"$f":"IF('D - P'!J136=\"\",\"\",'D - P'!J136)","v":""},null,{"$f":"IF('D - P'!M136=\"\",\"\",'D - P'!M136)","v":""}]
[null,{"$f":"IF(AND('D - P'!$C137=\"\",'D - P'!$D137=\"\"),\"\",'D - P'!O137)","v":""},{"$f":"IF(AND('D - P'!$C137=\"\",'D - P'!$D137=\"\"),\"\",'D - P'!B137)","v":""},{"$f":"IF('D - P'!C137=\"\",\"\",'D - P'!C137)","v":""},{"$f":"IF('D - P'!D137=\"\",\"\",'D - P'!D137)","v":""},null,{"$f":"IF('D - P'!E137=\"\",\"\",'D - P'!E137)","v":""},{"$f":"IF('D - P'!F137=\"\",\"\",'D - P'!F137)","v":""},null,{"$f":"IF('D - P'!I137=\"\",\"\",'D - P'!I137)","v":""},{"$f":"IF('D - P'!J137=\"\",\"\",'D - P'!J137)","v":""},null,{"$f":"IF('D - P'!M137=\"\",\"\",'D - P'!M137)","v":""}]
[null,{"$f":"IF(AND('D - P'!$C138=\"\",'D - P'!$D138=\"\"),\"\",'D - P'!O138)","v":""},{"$f":"IF(AND('D - P'!$C138=\"\",'D - P'!$D138=\"\"),\"\",'D - P'!B138)","v":""},{"$f":"IF('D - P'!C138=\"\",\"\",'D - P'!C138)","v":""},{"$f":"IF('D - P'!D138=\"\",\"\",'D - P'!D138)","v":""},null,{"$f":"IF('D - P'!E138=\"\",\"\",'D - P'!E138)","v":""},{"$f":"IF('D - P'!F138=\"\",\"\",'D - P'!F138)","v":""},null,{"$f":"IF('D - P'!I138=\"\",\"\",'D - P'!I138)","v":""},{"$f":"IF('D - P'!J138=\"\",\"\",'D - P'!J138)","v":""},null,{"$f":"IF('D - P'!M138=\"\",\"\",'D - P'!M138)","v":""}]
[null,{"$f":"IF(AND('D - P'!$C139=\"\",'D - P'!$D139=\"\"),\"\",'D - P'!O139)","v":""},{"$f":"IF(AND('D - P'!$C139=\"\",'D - P'!$D139=\"\"),\"\",'D - P'!B139)","v":""},{"$f":"IF('D - P'!C139=\"\",\"\",'D - P'!C139)","v":""},{"$f":"IF('D - P'!D139=\"\",\"\",'D - P'!D139)","v":""},null,{"$f":"IF('D - P'!E139=\"\",\"\",'D - P'!E139)","v":""},{"$f":"IF('D - P'!F139=\"\",\"\",'D - P'!F139)","v":""},null,{"$f":"IF('D - P'!I139=\"\",\"\",'D - P'!I139)","v":""},{"$f":"IF('D - P'!J139=\"\",\"\",'D - P'!J139)","v":""},null,{"$f":"IF('D - P'!M139=\"\",\"\",'D - P'!M139)","v":""}]
[null,{"$f":"IF(AND('D - P'!$C140=\"\",'D - P'!$D140=\"\"),\"\",'D - P'!O140)","v":""},{"$f":"IF(AND('D - P'!$C140=\"\",'D - P'!$D140=\"\"),\"\",'D - P'!B140)","v":""},{"$f":"IF('D - P'!C140=\"\",\"\",'D - P'!C140)","v":""},{"$f":"IF('D - P'!D140=\"\",\"\",'D - P'!D140)","v":""},null,{"$f":"IF('D - P'!E140=\"\",\"\",'D - P'!E140)","v":""},{"$f":"IF('D - P'!F140=\"\",\"\",'D - P'!F140)","v":""},null,{"$f":"IF('D - P'!I140=\"\",\"\",'D - P'!I140)","v":""},{"$f":"IF('D - P'!J140=\"\",\"\",'D - P'!J140)","v":""},null,{"$f":"IF('D - P'!M140=\"\",\"\",'D - P'!M140)","v":""}]
[null,{"$f":"IF(AND('D - P'!$C141=\"\",'D - P'!$D141=\"\"),\"\",'D - P'!O141)","v":""},{"$f":"IF(AND('D - P'!$C141=\"\",'D - P'!$D141=\"\"),\"\",'D - P'!B141)","v":""},{"$f":"IF('D - P'!C141=\"\",\"\",'D - P'!C141)","v":""},{"$f":"IF('D - P'!D141=\"\",\"\",'D - P'!D141)","v":""},null,{"$f":"IF('D - P'!E141=\"\",\"\",'D - P'!E141)","v":""},{"$f":"IF('D - P'!F141=\"\",\"\",'D - P'!F141)","v":""},null,{"$f":"IF('D - P'!I141=\"\",\"\",'D - P'!I141)","v":""},{"$f":"IF('D - P'!J141=\"\",\"\",'D - P'!J141)","v":""},null,{"$f":"IF('D - P'!M141=\"\",\"\",'D - P'!M141)","v":""}]
[null,{"$f":"IF(AND('D - P'!$C142=\"\",'D - P'!$D142=\"\"),\"\",'D - P'!O142)","v":""},{"$f":"IF(AND('D - P'!$C142=\"\",'D - P'!$D142=\"\"),\"\",'D - P'!B142)","v":""},{"$f":"IF('D - P'!C142=\"\",\"\",'D - P'!C142)","v":""},{"$f":"IF('D - P'!D142=\"\",\"\",'D - P'!D142)","v":""},null,{"$f":"IF('D - P'!E142=\"\",\"\",'D - P'!E142)","v":""},{"$f":"IF('D - P'!F142=\"\",\"\",'D - P'!F142)","v":""},null,{"$f":"IF('D - P'!I142=\"\",\"\",'D - P'!I142)","v":""},{"$f":"IF('D - P'!J142=\"\",\"\",'D - P'!J142)","v":""},null,{"$f":"IF('D - P'!M142=\"\",\"\",'D - P'!M142)","v":""}]
[null,{"$f":"IF(AND('D - P'!$C143=\"\",'D - P'!$D143=\"\"),\"\",'D - P'!O143)","v":""},{"$f":"IF(AND('D - P'!$C143=\"\",'D - P'!$D143=\"\"),\"\",'D - P'!B143)","v":""},{"$f":"IF('D - P'!C143=\"\",\"\",'D - P'!C143)","v":""},{"$f":"IF('D - P'!D143=\"\",\"\",'D - P'!D143)","v":""},null,{"$f":"IF('D - P'!E143=\"\",\"\",'D - P'!E143)","v":""},{"$f":"IF('D - P'!F143=\"\",\"\",'D - P'!F143)","v":""},null,{"$f":"IF('D - P'!I143=\"\",\"\",'D - P'!I143)","v":""},{"$f":"IF('D - P'!J143=\"\",\"\",'D - P'!J143)","v":""},null,{"$f":"IF('D - P'!M143=\"\",\"\",'D - P'!M143)","v":""}]
[null,{"$f":"IF(AND('D - P'!$C144=\"\",'D - P'!$D144=\"\"),\"\",'D - P'!O144)","v":""},{"$f":"IF(AND('D - P'!$C144=\"\",'D - P'!$D144=\"\"),\"\",'D - P'!B144)","v":""},{"$f":"IF('D - P'!C144=\"\",\"\",'D - P'!C144)","v":""},{"$f":"IF('D - P'!D144=\"\",\"\",'D - P'!D144)","v":""},null,{"$f":"IF('D - P'!E144=\"\",\"\",'D - P'!E144)","v":""},{"$f":"IF('D - P'!F144=\"\",\"\",'D - P'!F144)","v":""},null,{"$f":"IF('D - P'!I144=\"\",\"\",'D - P'!I144)","v":""},{"$f":"IF('D - P'!J144=\"\",\"\",'D - P'!J144)","v":""},null,{"$f":"IF('D - P'!M144=\"\",\"\",'D - P'!M144)","v":""}]
[null,{"$f":"B$1","v":"Dvojboj - Celkové pořadí"}]
[]
[null,{"$f":"B$3","v":"VC ČR v požárním útoku družstev HZS krajů a HZS podniků"},null,null,{"$f":"E$3","v":"Petrovice 19.9.2019"}]
[]
[null,{"$f":"Start!$C$5","v":"MUŽI"}]
[null,"Pořadí","Start. číslo","Jméno","kolektiv",null,"100m",null,null,"věž",null,null,"Výsledný čas"]
[null,null,null,null,null,null,"1.pokus","2.pokus",null,"1.pokus","2.pokus"]
[null,{"$f":"IF(AND('D - P'!$C145=\"\",'D - P'!$D145=\"\"),\"\",'D - P'!O145)","v":""},{"$f":"IF(AND('D - P'!$C145=\"\",'D - P'!$D145=\"\"),\"\",'D - P'!B145)","v":""},{"$f":"IF('D - P'!C145=\"\",\"\",'D - P'!C145)","v":""},{"$f":"IF('D - P'!D145=\"\",\"\",'D - P'!D145)","v":""},null,{"$f":"IF('D - P'!E145=\"\",\"\",'D - P'!E145)","v":""},{"$f":"IF('D - P'!F145=\"\",\"\",'D - P'!F145)","v":""},null,{"$f":"IF('D - P'!I145=\"\",\"\",'D - P'!I145)","v":""},{"$f":"IF('D - P'!J145=\"\",\"\",'D - P'!J145)","v":""},null,{"$f":"IF('D - P'!M145=\"\",\"\",'D - P'!M145)","v":""}]
[null,{"$f":"IF(AND('D - P'!$C146=\"\",'D - P'!$D146=\"\"),\"\",'D - P'!O146)","v":""},{"$f":"IF(AND('D - P'!$C146=\"\",'D - P'!$D146=\"\"),\"\",'D - P'!B146)","v":""},{"$f":"IF('D - P'!C146=\"\",\"\",'D - P'!C146)","v":""},{"$f":"IF('D - P'!D146=\"\",\"\",'D - P'!D146)","v":""},null,{"$f":"IF('D - P'!E146=\"\",\"\",'D - P'!E146)","v":""},{"$f":"IF('D - P'!F146=\"\",\"\",'D - P'!F146)","v":""},null,{"$f":"IF('D - P'!I146=\"\",\"\",'D - P'!I146)","v":""},{"$f":"IF('D - P'!J146=\"\",\"\",'D - P'!J146)","v":""},null,{"$f":"IF('D - P'!M146=\"\",\"\",'D - P'!M146)","v":""}]
[null,{"$f":"IF(AND('D - P'!$C147=\"\",'D - P'!$D147=\"\"),\"\",'D - P'!O147)","v":""},{"$f":"IF(AND('D - P'!$C147=\"\",'D - P'!$D147=\"\"),\"\",'D - P'!B147)","v":""},{"$f":"IF('D - P'!C147=\"\",\"\",'D - P'!C147)","v":""},{"$f":"IF('D - P'!D147=\"\",\"\",'D - P'!D147)","v":""},null,{"$f":"IF('D - P'!E147=\"\",\"\",'D - P'!E147)","v":""},{"$f":"IF('D - P'!F147=\"\",\"\",'D - P'!F147)","v":""},null,{"$f":"IF('D - P'!I147=\"\",\"\",'D - P'!I147)","v":""},{"$f":"IF('D - P'!J147=\"\",\"\",'D - P'!J147)","v":""},null,{"$f":"IF('D - P'!M147=\"\",\"\",'D - P'!M147)","v":""}]
[null,{"$f":"IF(AND('D - P'!$C148=\"\",'D - P'!$D148=\"\"),\"\",'D - P'!O148)","v":""},{"$f":"IF(AND('D - P'!$C148=\"\",'D - P'!$D148=\"\"),\"\",'D - P'!B148)","v":""},{"$f":"IF('D - P'!C148=\"\",\"\",'D - P'!C148)","v":""},{"$f":"IF('D - P'!D148=\"\",\"\",'D - P'!D148)","v":""},null,{"$f":"IF('D - P'!E148=\"\",\"\",'D - P'!E148)","v":""},{"$f":"IF('D - P'!F148=\"\",\"\",'D - P'!F148)","v":""},null,{"$f":"IF('D - P'!I148=\"\",\"\",'D - P'!I148)","v":""},{"$f":"IF('D - P'!J148=\"\",\"\",'D - P'!J148)","v":""},null,{"$f":"IF('D - P'!M148=\"\",\"\",'D - P'!M148)","v":""}]
[null,{"$f":"IF(AND('D - P'!$C149=\"\",'D - P'!$D149=\"\"),\"\",'D - P'!O149)","v":""},{"$f":"IF(AND('D - P'!$C149=\"\",'D - P'!$D149=\"\"),\"\",'D - P'!B149)","v":""},{"$f":"IF('D - P'!C149=\"\",\"\",'D - P'!C149)","v":""},{"$f":"IF('D - P'!D149=\"\",\"\",'D - P'!D149)","v":""},null,{"$f":"IF('D - P'!E149=\"\",\"\",'D - P'!E149)","v":""},{"$f":"IF('D - P'!F149=\"\",\"\",'D - P'!F149)","v":""},null,{"$f":"IF('D - P'!I149=\"\",\"\",'D - P'!I149)","v":""},{"$f":"IF('D - P'!J149=\"\",\"\",'D - P'!J149)","v":""},null,{"$f":"IF('D - P'!M149=\"\",\"\",'D - P'!M149)","v":""}]
[null,{"$f":"IF(AND('D - P'!$C150=\"\",'D - P'!$D150=\"\"),\"\",'D - P'!O150)","v":""},{"$f":"IF(AND('D - P'!$C150=\"\",'D - P'!$D150=\"\"),\"\",'D - P'!B150)","v":""},{"$f":"IF('D - P'!C150=\"\",\"\",'D - P'!C150)","v":""},{"$f":"IF('D - P'!D150=\"\",\"\",'D - P'!D150)","v":""},null,{"$f":"IF('D - P'!E150=\"\",\"\",'D - P'!E150)","v":""},{"$f":"IF('D - P'!F150=\"\",\"\",'D - P'!F150)","v":""},null,{"$f":"IF('D - P'!I150=\"\",\"\",'D - P'!I150)","v":""},{"$f":"IF('D - P'!J150=\"\",\"\",'D - P'!J150)","v":""},null,{"$f":"IF('D - P'!M150=\"\",\"\",'D - P'!M150)","v":""}]
[null,{"$f":"IF(AND('D - P'!$C151=\"\",'D - P'!$D151=\"\"),\"\",'D - P'!O151)","v":""},{"$f":"IF(AND('D - P'!$C151=\"\",'D - P'!$D151=\"\"),\"\",'D - P'!B151)","v":""},{"$f":"IF('D - P'!C151=\"\",\"\",'D - P'!C151)","v":""},{"$f":"IF('D - P'!D151=\"\",\"\",'D - P'!D151)","v":""},null,{"$f":"IF('D - P'!E151=\"\",\"\",'D - P'!E151)","v":""},{"$f":"IF('D - P'!F151=\"\",\"\",'D - P'!F151)","v":""},null,{"$f":"IF('D - P'!I151=\"\",\"\",'D - P'!I151)","v":""},{"$f":"IF('D - P'!J151=\"\",\"\",'D - P'!J151)","v":""},null,{"$f":"IF('D - P'!M151=\"\",\"\",'D - P'!M151)","v":""}]
[null,{"$f":"IF(AND('D - P'!$C152=\"\",'D - P'!$D152=\"\"),\"\",'D - P'!O152)","v":""},{"$f":"IF(AND('D - P'!$C152=\"\",'D - P'!$D152=\"\"),\"\",'D - P'!B152)","v":""},{"$f":"IF('D - P'!C152=\"\",\"\",'D - P'!C152)","v":""},{"$f":"IF('D - P'!D152=\"\",\"\",'D - P'!D152)","v":""},null,{"$f":"IF('D - P'!E152=\"\",\"\",'D - P'!E152)","v":""},{"$f":"IF('D - P'!F152=\"\",\"\",'D - P'!F152)","v":""},null,{"$f":"IF('D - P'!I152=\"\",\"\",'D - P'!I152)","v":""},{"$f":"IF('D - P'!J152=\"\",\"\",'D - P'!J152)","v":""},null,{"$f":"IF('D - P'!M152=\"\",\"\",'D - P'!M152)","v":""}]
[null,{"$f":"IF(AND('D - P'!$C153=\"\",'D - P'!$D153=\"\"),\"\",'D - P'!O153)","v":""},{"$f":"IF(AND('D - P'!$C153=\"\",'D - P'!$D153=\"\"),\"\",'D - P'!B153)","v":""},{"$f":"IF('D - P'!C153=\"\",\"\",'D - P'!C153)","v":""},{"$f":"IF('D - P'!D153=\"\",\"\",'D - P'!D153)","v":""},null,{"$f":"IF('D - P'!E153=\"\",\"\",'D - P'!E153)","v":""},{"$f":"IF('D - P'!F153=\"\",\"\",'D - P'!F153)","v":""},null,{"$f":"IF('D - P'!I153=\"\",\"\",'D - P'!I153)","v":""},{"$f":"IF('D - P'!J153=\"\",\"\",'D - P'!J153)","v":""},null,{"$f":"IF('D - P'!M153=\"\",\"\",'D - P'!M153)","v":""}]
[null,{"$f":"IF(AND('D - P'!$C154=\"\",'D - P'!$D154=\"\"),\"\",'D - P'!O154)","v":""},{"$f":"IF(AND('D - P'!$C154=\"\",'D - P'!$D154=\"\"),\"\",'D - P'!B154)","v":""},{"$f":"IF('D - P'!C154=\"\",\"\",'D - P'!C154)","v":""},{"$f":"IF('D - P'!D154=\"\",\"\",'D - P'!D154)","v":""},null,{"$f":"IF('D - P'!E154=\"\",\"\",'D - P'!E154)","v":""},{"$f":"IF('D - P'!F154=\"\",\"\",'D - P'!F154)","v":""},null,{"$f":"IF('D - P'!I154=\"\",\"\",'D - P'!I154)","v":""},{"$f":"IF('D - P'!J154=\"\",\"\",'D - P'!J154)","v":""},null,{"$f":"IF('D - P'!M154=\"\",\"\",'D - P'!M154)","v":""}]
[null,{"$f":"IF(AND('D - P'!$C155=\"\",'D - P'!$D155=\"\"),\"\",'D - P'!O155)","v":""},{"$f":"IF(AND('D - P'!$C155=\"\",'D - P'!$D155=\"\"),\"\",'D - P'!B155)","v":""},{"$f":"IF('D - P'!C155=\"\",\"\",'D - P'!C155)","v":""},{"$f":"IF('D - P'!D155=\"\",\"\",'D - P'!D155)","v":""},null,{"$f":"IF('D - P'!E155=\"\",\"\",'D - P'!E155)","v":""},{"$f":"IF('D - P'!F155=\"\",\"\",'D - P'!F155)","v":""},null,{"$f":"IF('D - P'!I155=\"\",\"\",'D - P'!I155)","v":""},{"$f":"IF('D - P'!J155=\"\",\"\",'D - P'!J155)","v":""},null,{"$f":"IF('D - P'!M155=\"\",\"\",'D - P'!M155)","v":""}]
[null,{"$f":"IF(AND('D - P'!$C156=\"\",'D - P'!$D156=\"\"),\"\",'D - P'!O156)","v":""},{"$f":"IF(AND('D - P'!$C156=\"\",'D - P'!$D156=\"\"),\"\",'D - P'!B156)","v":""},{"$f":"IF('D - P'!C156=\"\",\"\",'D - P'!C156)","v":""},{"$f":"IF('D - P'!D156=\"\",\"\",'D - P'!D156)","v":""},null,{"$f":"IF('D - P'!E156=\"\",\"\",'D - P'!E156)","v":""},{"$f":"IF('D - P'!F156=\"\",\"\",'D - P'!F156)","v":""},null,{"$f":"IF('D - P'!I156=\"\",\"\",'D - P'!I156)","v":""},{"$f":"IF('D - P'!J156=\"\",\"\",'D - P'!J156)","v":""},null,{"$f":"IF('D - P'!M156=\"\",\"\",'D - P'!M156)","v":""}]
[null,{"$f":"IF(AND('D - P'!$C157=\"\",'D - P'!$D157=\"\"),\"\",'D - P'!O157)","v":""},{"$f":"IF(AND('D - P'!$C157=\"\",'D - P'!$D157=\"\"),\"\",'D - P'!B157)","v":""},{"$f":"IF('D - P'!C157=\"\",\"\",'D - P'!C157)","v":""},{"$f":"IF('D - P'!D157=\"\",\"\",'D - P'!D157)","v":""},null,{"$f":"IF('D - P'!E157=\"\",\"\",'D - P'!E157)","v":""},{"$f":"IF('D - P'!F157=\"\",\"\",'D - P'!F157)","v":""},null,{"$f":"IF('D - P'!I157=\"\",\"\",'D - P'!I157)","v":""},{"$f":"IF('D - P'!J157=\"\",\"\",'D - P'!J157)","v":""},null,{"$f":"IF('D - P'!M157=\"\",\"\",'D - P'!M157)","v":""}]
[null,{"$f":"IF(AND('D - P'!$C158=\"\",'D - P'!$D158=\"\"),\"\",'D - P'!O158)","v":""},{"$f":"IF(AND('D - P'!$C158=\"\",'D - P'!$D158=\"\"),\"\",'D - P'!B158)","v":""},{"$f":"IF('D - P'!C158=\"\",\"\",'D - P'!C158)","v":""},{"$f":"IF('D - P'!D158=\"\",\"\",'D - P'!D158)","v":""},null,{"$f":"IF('D - P'!E158=\"\",\"\",'D - P'!E158)","v":""},{"$f":"IF('D - P'!F158=\"\",\"\",'D - P'!F158)","v":""},null,{"$f":"IF('D - P'!I158=\"\",\"\",'D - P'!I158)","v":""},{"$f":"IF('D - P'!J158=\"\",\"\",'D - P'!J158)","v":""},null,{"$f":"IF('D - P'!M158=\"\",\"\",'D - P'!M158)","v":""}]
[null,{"$f":"IF(AND('D - P'!$C159=\"\",'D - P'!$D159=\"\"),\"\",'D - P'!O159)","v":""},{"$f":"IF(AND('D - P'!$C159=\"\",'D - P'!$D159=\"\"),\"\",'D - P'!B159)","v":""},{"$f":"IF('D - P'!C159=\"\",\"\",'D - P'!C159)","v":""},{"$f":"IF('D - P'!D159=\"\",\"\",'D - P'!D159)","v":""},null,{"$f":"IF('D - P'!E159=\"\",\"\",'D - P'!E159)","v":""},{"$f":"IF('D - P'!F159=\"\",\"\",'D - P'!F159)","v":""},null,{"$f":"IF('D - P'!I159=\"\",\"\",'D - P'!I159)","v":""},{"$f":"IF('D - P'!J159=\"\",\"\",'D - P'!J159)","v":""},null,{"$f":"IF('D - P'!M159=\"\",\"\",'D - P'!M159)","v":""}]
[null,{"$f":"IF(AND('D - P'!$C160=\"\",'D - P'!$D160=\"\"),\"\",'D - P'!O160)","v":""},{"$f":"IF(AND('D - P'!$C160=\"\",'D - P'!$D160=\"\"),\"\",'D - P'!B160)","v":""},{"$f":"IF('D - P'!C160=\"\",\"\",'D - P'!C160)","v":""},{"$f":"IF('D - P'!D160=\"\",\"\",'D - P'!D160)","v":""},null,{"$f":"IF('D - P'!E160=\"\",\"\",'D - P'!E160)","v":""},{"$f":"IF('D - P'!F160=\"\",\"\",'D - P'!F160)","v":""},null,{"$f":"IF('D - P'!I160=\"\",\"\",'D - P'!I160)","v":""},{"$f":"IF('D - P'!J160=\"\",\"\",'D - P'!J160)","v":""},null,{"$f":"IF('D - P'!M160=\"\",\"\",'D - P'!M160)","v":""}]
[null,{"$f":"IF(AND('D - P'!$C161=\"\",'D - P'!$D161=\"\"),\"\",'D - P'!O161)","v":""},{"$f":"IF(AND('D - P'!$C161=\"\",'D - P'!$D161=\"\"),\"\",'D - P'!B161)","v":""},{"$f":"IF('D - P'!C161=\"\",\"\",'D - P'!C161)","v":""},{"$f":"IF('D - P'!D161=\"\",\"\",'D - P'!D161)","v":""},null,{"$f":"IF('D - P'!E161=\"\",\"\",'D - P'!E161)","v":""},{"$f":"IF('D - P'!F161=\"\",\"\",'D - P'!F161)","v":""},null,{"$f":"IF('D - P'!I161=\"\",\"\",'D - P'!I161)","v":""},{"$f":"IF('D - P'!J161=\"\",\"\",'D - P'!J161)","v":""},null,{"$f":"IF('D - P'!M161=\"\",\"\",'D - P'!M161)","v":""}]
[null,{"$f":"IF(AND('D - P'!$C162=\"\",'D - P'!$D162=\"\"),\"\",'D - P'!O162)","v":""},{"$f":"IF(AND('D - P'!$C162=\"\",'D - P'!$D162=\"\"),\"\",'D - P'!B162)","v":""},{"$f":"IF('D - P'!C162=\"\",\"\",'D - P'!C162)","v":""},{"$f":"IF('D - P'!D162=\"\",\"\",'D - P'!D162)","v":""},null,{"$f":"IF('D - P'!E162=\"\",\"\",'D - P'!E162)","v":""},{"$f":"IF('D - P'!F162=\"\",\"\",'D - P'!F162)","v":""},null,{"$f":"IF('D - P'!I162=\"\",\"\",'D - P'!I162)","v":""},{"$f":"IF('D - P'!J162=\"\",\"\",'D - P'!J162)","v":""},null,{"$f":"IF('D - P'!M162=\"\",\"\",'D - P'!M162)","v":""}]
[null,{"$f":"IF(AND('D - P'!$C163=\"\",'D - P'!$D163=\"\"),\"\",'D - P'!O163)","v":""},{"$f":"IF(AND('D - P'!$C163=\"\",'D - P'!$D163=\"\"),\"\",'D - P'!B163)","v":""},{"$f":"IF('D - P'!C163=\"\",\"\",'D - P'!C163)","v":""},{"$f":"IF('D - P'!D163=\"\",\"\",'D - P'!D163)","v":""},null,{"$f":"IF('D - P'!E163=\"\",\"\",'D - P'!E163)","v":""},{"$f":"IF('D - P'!F163=\"\",\"\",'D - P'!F163)","v":""},null,{"$f":"IF('D - P'!I163=\"\",\"\",'D - P'!I163)","v":""},{"$f":"IF('D - P'!J163=\"\",\"\",'D - P'!J163)","v":""},null,{"$f":"IF('D - P'!M163=\"\",\"\",'D - P'!M163)","v":""}]
[null,{"$f":"IF(AND('D - P'!$C164=\"\",'D - P'!$D164=\"\"),\"\",'D - P'!O164)","v":""},{"$f":"IF(AND('D - P'!$C164=\"\",'D - P'!$D164=\"\"),\"\",'D - P'!B164)","v":""},{"$f":"IF('D - P'!C164=\"\",\"\",'D - P'!C164)","v":""},{"$f":"IF('D - P'!D164=\"\",\"\",'D - P'!D164)","v":""},null,{"$f":"IF('D - P'!E164=\"\",\"\",'D - P'!E164)","v":""},{"$f":"IF('D - P'!F164=\"\",\"\",'D - P'!F164)","v":""},null,{"$f":"IF('D - P'!I164=\"\",\"\",'D - P'!I164)","v":""},{"$f":"IF('D - P'!J164=\"\",\"\",'D - P'!J164)","v":""},null,{"$f":"IF('D - P'!M164=\"\",\"\",'D - P'!M164)","v":""}]
[null,{"$f":"IF(AND('D - P'!$C165=\"\",'D - P'!$D165=\"\"),\"\",'D - P'!O165)","v":""},{"$f":"IF(AND('D - P'!$C165=\"\",'D - P'!$D165=\"\"),\"\",'D - P'!B165)","v":""},{"$f":"IF('D - P'!C165=\"\",\"\",'D - P'!C165)","v":""},{"$f":"IF('D - P'!D165=\"\",\"\",'D - P'!D165)","v":""},null,{"$f":"IF('D - P'!E165=\"\",\"\",'D - P'!E165)","v":""},{"$f":"IF('D - P'!F165=\"\",\"\",'D - P'!F165)","v":""},null,{"$f":"IF('D - P'!I165=\"\",\"\",'D - P'!I165)","v":""},{"$f":"IF('D - P'!J165=\"\",\"\",'D - P'!J165)","v":""},null,{"$f":"IF('D - P'!M165=\"\",\"\",'D - P'!M165)","v":""}]
[null,{"$f":"IF(AND('D - P'!$C166=\"\",'D - P'!$D166=\"\"),\"\",'D - P'!O166)","v":""},{"$f":"IF(AND('D - P'!$C166=\"\",'D - P'!$D166=\"\"),\"\",'D - P'!B166)","v":""},{"$f":"IF('D - P'!C166=\"\",\"\",'D - P'!C166)","v":""},{"$f":"IF('D - P'!D166=\"\",\"\",'D - P'!D166)","v":""},null,{"$f":"IF('D - P'!E166=\"\",\"\",'D - P'!E166)","v":""},{"$f":"IF('D - P'!F166=\"\",\"\",'D - P'!F166)","v":""},null,{"$f":"IF('D - P'!I166=\"\",\"\",'D - P'!I166)","v":""},{"$f":"IF('D - P'!J166=\"\",\"\",'D - P'!J166)","v":""},null,{"$f":"IF('D - P'!M166=\"\",\"\",'D - P'!M166)","v":""}]
[null,{"$f":"IF(AND('D - P'!$C167=\"\",'D - P'!$D167=\"\"),\"\",'D - P'!O167)","v":""},{"$f":"IF(AND('D - P'!$C167=\"\",'D - P'!$D167=\"\"),\"\",'D - P'!B167)","v":""},{"$f":"IF('D - P'!C167=\"\",\"\",'D - P'!C167)","v":""},{"$f":"IF('D - P'!D167=\"\",\"\",'D - P'!D167)","v":""},null,{"$f":"IF('D - P'!E167=\"\",\"\",'D - P'!E167)","v":""},{"$f":"IF('D - P'!F167=\"\",\"\",'D - P'!F167)","v":""},null,{"$f":"IF('D - P'!I167=\"\",\"\",'D - P'!I167)","v":""},{"$f":"IF('D - P'!J167=\"\",\"\",'D - P'!J167)","v":""},null,{"$f":"IF('D - P'!M167=\"\",\"\",'D - P'!M167)","v":""}]
[null,{"$f":"IF(AND('D - P'!$C168=\"\",'D - P'!$D168=\"\"),\"\",'D - P'!O168)","v":""},{"$f":"IF(AND('D - P'!$C168=\"\",'D - P'!$D168=\"\"),\"\",'D - P'!B168)","v":""},{"$f":"IF('D - P'!C168=\"\",\"\",'D - P'!C168)","v":""},{"$f":"IF('D - P'!D168=\"\",\"\",'D - P'!D168)","v":""},null,{"$f":"IF('D - P'!E168=\"\",\"\",'D - P'!E168)","v":""},{"$f":"IF('D - P'!F168=\"\",\"\",'D - P'!F168)","v":""},null,{"$f":"IF('D - P'!I168=\"\",\"\",'D - P'!I168)","v":""},{"$f":"IF('D - P'!J168=\"\",\"\",'D - P'!J168)","v":""},null,{"$f":"IF('D - P'!M168=\"\",\"\",'D - P'!M168)","v":""}]
[null,{"$f":"IF(AND('D - P'!$C169=\"\",'D - P'!$D169=\"\"),\"\",'D - P'!O169)","v":""},{"$f":"IF(AND('D - P'!$C169=\"\",'D - P'!$D169=\"\"),\"\",'D - P'!B169)","v":""},{"$f":"IF('D - P'!C169=\"\",\"\",'D - P'!C169)","v":""},{"$f":"IF('D - P'!D169=\"\",\"\",'D - P'!D169)","v":""},null,{"$f":"IF('D - P'!E169=\"\",\"\",'D - P'!E169)","v":""},{"$f":"IF('D - P'!F169=\"\",\"\",'D - P'!F169)","v":""},null,{"$f":"IF('D - P'!I169=\"\",\"\",'D - P'!I169)","v":""},{"$f":"IF('D - P'!J169=\"\",\"\",'D - P'!J169)","v":""},null,{"$f":"IF('D - P'!M169=\"\",\"\",'D - P'!M169)","v":""}]
[null,{"$f":"IF(AND('D - P'!$C170=\"\",'D - P'!$D170=\"\"),\"\",'D - P'!O170)","v":""},{"$f":"IF(AND('D - P'!$C170=\"\",'D - P'!$D170=\"\"),\"\",'D - P'!B170)","v":""},{"$f":"IF('D - P'!C170=\"\",\"\",'D - P'!C170)","v":""},{"$f":"IF('D - P'!D170=\"\",\"\",'D - P'!D170)","v":""},null,{"$f":"IF('D - P'!E170=\"\",\"\",'D - P'!E170)","v":""},{"$f":"IF('D - P'!F170=\"\",\"\",'D - P'!F170)","v":""},null,{"$f":"IF('D - P'!I170=\"\",\"\",'D - P'!I170)","v":""},{"$f":"IF('D - P'!J170=\"\",\"\",'D - P'!J170)","v":""},null,{"$f":"IF('D - P'!M170=\"\",\"\",'D - P'!M170)","v":""}]
[null,{"$f":"IF(AND('D - P'!$C171=\"\",'D - P'!$D171=\"\"),\"\",'D - P'!O171)","v":""},{"$f":"IF(AND('D - P'!$C171=\"\",'D - P'!$D171=\"\"),\"\",'D - P'!B171)","v":""},{"$f":"IF('D - P'!C171=\"\",\"\",'D - P'!C171)","v":""},{"$f":"IF('D - P'!D171=\"\",\"\",'D - P'!D171)","v":""},null,{"$f":"IF('D - P'!E171=\"\",\"\",'D - P'!E171)","v":""},{"$f":"IF('D - P'!F171=\"\",\"\",'D - P'!F171)","v":""},null,{"$f":"IF('D - P'!I171=\"\",\"\",'D - P'!I171)","v":""},{"$f":"IF('D - P'!J171=\"\",\"\",'D - P'!J171)","v":""},null,{"$f":"IF('D - P'!M171=\"\",\"\",'D - P'!M171)","v":""}]
[null,{"$f":"IF(AND('D - P'!$C172=\"\",'D - P'!$D172=\"\"),\"\",'D - P'!O172)","v":""},{"$f":"IF(AND('D - P'!$C172=\"\",'D - P'!$D172=\"\"),\"\",'D - P'!B172)","v":""},{"$f":"IF('D - P'!C172=\"\",\"\",'D - P'!C172)","v":""},{"$f":"IF('D - P'!D172=\"\",\"\",'D - P'!D172)","v":""},null,{"$f":"IF('D - P'!E172=\"\",\"\",'D - P'!E172)","v":""},{"$f":"IF('D - P'!F172=\"\",\"\",'D - P'!F172)","v":""},null,{"$f":"IF('D - P'!I172=\"\",\"\",'D - P'!I172)","v":""},{"$f":"IF('D - P'!J172=\"\",\"\",'D - P'!J172)","v":""},null,{"$f":"IF('D - P'!M172=\"\",\"\",'D - P'!M172)","v":""}]
[null,{"$f":"IF(AND('D - P'!$C173=\"\",'D - P'!$D173=\"\"),\"\",'D - P'!O173)","v":""},{"$f":"IF(AND('D - P'!$C173=\"\",'D - P'!$D173=\"\"),\"\",'D - P'!B173)","v":""},{"$f":"IF('D - P'!C173=\"\",\"\",'D - P'!C173)","v":""},{"$f":"IF('D - P'!D173=\"\",\"\",'D - P'!D173)","v":""},null,{"$f":"IF('D - P'!E173=\"\",\"\",'D - P'!E173)","v":""},{"$f":"IF('D - P'!F173=\"\",\"\",'D - P'!F173)","v":""},null,{"$f":"IF('D - P'!I173=\"\",\"\",'D - P'!I173)","v":""},{"$f":"IF('D - P'!J173=\"\",\"\",'D - P'!J173)","v":""},null,{"$f":"IF('D - P'!M173=\"\",\"\",'D - P'!M173)","v":""}]
[null,{"$f":"IF(AND('D - P'!$C174=\"\",'D - P'!$D174=\"\"),\"\",'D - P'!O174)","v":""},{"$f":"IF(AND('D - P'!$C174=\"\",'D - P'!$D174=\"\"),\"\",'D - P'!B174)","v":""},{"$f":"IF('D - P'!C174=\"\",\"\",'D - P'!C174)","v":""},{"$f":"IF('D - P'!D174=\"\",\"\",'D - P'!D174)","v":""},null,{"$f":"IF('D - P'!E174=\"\",\"\",'D - P'!E174)","v":""},{"$f":"IF('D - P'!F174=\"\",\"\",'D - P'!F174)","v":""},null,{"$f":"IF('D - P'!I174=\"\",\"\",'D - P'!I174)","v":""},{"$f":"IF('D - P'!J174=\"\",\"\",'D - P'!J174)","v":""},null,{"$f":"IF('D - P'!M174=\"\",\"\",'D - P'!M174)","v":""}]
[null,{"$f":"IF(AND('D - P'!$C175=\"\",'D - P'!$D175=\"\"),\"\",'D - P'!O175)","v":""},{"$f":"IF(AND('D - P'!$C175=\"\",'D - P'!$D175=\"\"),\"\",'D - P'!B175)","v":""},{"$f":"IF('D - P'!C175=\"\",\"\",'D - P'!C175)","v":""},{"$f":"IF('D - P'!D175=\"\",\"\",'D - P'!D175)","v":""},null,{"$f":"IF('D - P'!E175=\"\",\"\",'D - P'!E175)","v":""},{"$f":"IF('D - P'!F175=\"\",\"\",'D - P'!F175)","v":""},null,{"$f":"IF('D - P'!I175=\"\",\"\",'D - P'!I175)","v":""},{"$f":"IF('D - P'!J175=\"\",\"\",'D - P'!J175)","v":""},null,{"$f":"IF('D - P'!M175=\"\",\"\",'D - P'!M175)","v":""}]
[null,{"$f":"IF(AND('D - P'!$C176=\"\",'D - P'!$D176=\"\"),\"\",'D - P'!O176)","v":""},{"$f":"IF(AND('D - P'!$C176=\"\",'D - P'!$D176=\"\"),\"\",'D - P'!B176)","v":""},{"$f":"IF('D - P'!C176=\"\",\"\",'D - P'!C176)","v":""},{"$f":"IF('D - P'!D176=\"\",\"\",'D - P'!D176)","v":""},null,{"$f":"IF('D - P'!E176=\"\",\"\",'D - P'!E176)","v":""},{"$f":"IF('D - P'!F176=\"\",\"\",'D - P'!F176)","v":""},null,{"$f":"IF('D - P'!I176=\"\",\"\",'D - P'!I176)","v":""},{"$f":"IF('D - P'!J176=\"\",\"\",'D - P'!J176)","v":""},null,{"$f":"IF('D - P'!M176=\"\",\"\",'D - P'!M176)","v":""}]
[null,{"$f":"IF(AND('D - P'!$C177=\"\",'D - P'!$D177=\"\"),\"\",'D - P'!O177)","v":""},{"$f":"IF(AND('D - P'!$C177=\"\",'D - P'!$D177=\"\"),\"\",'D - P'!B177)","v":""},{"$f":"IF('D - P'!C177=\"\",\"\",'D - P'!C177)","v":""},{"$f":"IF('D - P'!D177=\"\",\"\",'D - P'!D177)","v":""},null,{"$f":"IF('D - P'!E177=\"\",\"\",'D - P'!E177)","v":""},{"$f":"IF('D - P'!F177=\"\",\"\",'D - P'!F177)","v":""},null,{"$f":"IF('D - P'!I177=\"\",\"\",'D - P'!I177)","v":""},{"$f":"IF('D - P'!J177=\"\",\"\",'D - P'!J177)","v":""},null,{"$f":"IF('D - P'!M177=\"\",\"\",'D - P'!M177)","v":""}]
[null,{"$f":"IF(AND('D - P'!$C178=\"\",'D - P'!$D178=\"\"),\"\",'D - P'!O178)","v":""},{"$f":"IF(AND('D - P'!$C178=\"\",'D - P'!$D178=\"\"),\"\",'D - P'!B178)","v":""},{"$f":"IF('D - P'!C178=\"\",\"\",'D - P'!C178)","v":""},{"$f":"IF('D - P'!D178=\"\",\"\",'D - P'!D178)","v":""},null,{"$f":"IF('D - P'!E178=\"\",\"\",'D - P'!E178)","v":""},{"$f":"IF('D - P'!F178=\"\",\"\",'D - P'!F178)","v":""},null,{"$f":"IF('D - P'!I178=\"\",\"\",'D - P'!I178)","v":""},{"$f":"IF('D - P'!J178=\"\",\"\",'D - P'!J178)","v":""},null,{"$f":"IF('D - P'!M178=\"\",\"\",'D - P'!M178)","v":""}]
[null,{"$f":"IF(AND('D - P'!$C179=\"\",'D - P'!$D179=\"\"),\"\",'D - P'!O179)","v":""},{"$f":"IF(AND('D - P'!$C179=\"\",'D - P'!$D179=\"\"),\"\",'D - P'!B179)","v":""},{"$f":"IF('D - P'!C179=\"\",\"\",'D - P'!C179)","v":""},{"$f":"IF('D - P'!D179=\"\",\"\",'D - P'!D179)","v":""},null,{"$f":"IF('D - P'!E179=\"\",\"\",'D - P'!E179)","v":""},{"$f":"IF('D - P'!F179=\"\",\"\",'D - P'!F179)","v":""},null,{"$f":"IF('D - P'!I179=\"\",\"\",'D - P'!I179)","v":""},{"$f":"IF('D - P'!J179=\"\",\"\",'D - P'!J179)","v":""},null,{"$f":"IF('D - P'!M179=\"\",\"\",'D - P'!M179)","v":""}]
[null,{"$f":"IF(AND('D - P'!$C180=\"\",'D - P'!$D180=\"\"),\"\",'D - P'!O180)","v":""},{"$f":"IF(AND('D - P'!$C180=\"\",'D - P'!$D180=\"\"),\"\",'D - P'!B180)","v":""},{"$f":"IF('D - P'!C180=\"\",\"\",'D - P'!C180)","v":""},{"$f":"IF('D - P'!D180=\"\",\"\",'D - P'!D180)","v":""},null,{"$f":"IF('D - P'!E180=\"\",\"\",'D - P'!E180)","v":""},{"$f":"IF('D - P'!F180=\"\",\"\",'D - P'!F180)","v":""},null,{"$f":"IF('D - P'!I180=\"\",\"\",'D - P'!I180)","v":""},{"$f":"IF('D - P'!J180=\"\",\"\",'D - P'!J180)","v":""},null,{"$f":"IF('D - P'!M180=\"\",\"\",'D - P'!M180)","v":""}]
[null,{"$f":"B$1","v":"Dvojboj - Celkové pořadí"}]
[]
[null,{"$f":"B$3","v":"VC ČR v požárním útoku družstev HZS krajů a HZS podniků"},null,null,{"$f":"E$3","v":"Petrovice 19.9.2019"}]
[]
[null,{"$f":"Start!$C$5","v":"MUŽI"}]
[null,"Pořadí","Start. číslo","Jméno","kolektiv",null,"100m",null,null,"věž",null,null,"Výsledný čas"]
[null,null,null,null,null,null,"1.pokus","2.pokus",null,"1.pokus","2.pokus"]
[null,{"$f":"IF(AND('D - P'!$C181=\"\",'D - P'!$D181=\"\"),\"\",'D - P'!O181)","v":""},{"$f":"IF(AND('D - P'!$C181=\"\",'D - P'!$D181=\"\"),\"\",'D - P'!B181)","v":""},{"$f":"IF('D - P'!C181=\"\",\"\",'D - P'!C181)","v":""},{"$f":"IF('D - P'!D181=\"\",\"\",'D - P'!D181)","v":""},null,{"$f":"IF('D - P'!E181=\"\",\"\",'D - P'!E181)","v":""},{"$f":"IF('D - P'!F181=\"\",\"\",'D - P'!F181)","v":""},null,{"$f":"IF('D - P'!I181=\"\",\"\",'D - P'!I181)","v":""},{"$f":"IF('D - P'!J181=\"\",\"\",'D - P'!J181)","v":""},null,{"$f":"IF('D - P'!M181=\"\",\"\",'D - P'!M181)","v":""}]
[null,{"$f":"IF(AND('D - P'!$C182=\"\",'D - P'!$D182=\"\"),\"\",'D - P'!O182)","v":""},{"$f":"IF(AND('D - P'!$C182=\"\",'D - P'!$D182=\"\"),\"\",'D - P'!B182)","v":""},{"$f":"IF('D - P'!C182=\"\",\"\",'D - P'!C182)","v":""},{"$f":"IF('D - P'!D182=\"\",\"\",'D - P'!D182)","v":""},null,{"$f":"IF('D - P'!E182=\"\",\"\",'D - P'!E182)","v":""},{"$f":"IF('D - P'!F182=\"\",\"\",'D - P'!F182)","v":""},null,{"$f":"IF('D - P'!I182=\"\",\"\",'D - P'!I182)","v":""},{"$f":"IF('D - P'!J182=\"\",\"\",'D - P'!J182)","v":""},null,{"$f":"IF('D - P'!M182=\"\",\"\",'D - P'!M182)","v":""}]
[null,{"$f":"IF(AND('D - P'!$C183=\"\",'D - P'!$D183=\"\"),\"\",'D - P'!O183)","v":""},{"$f":"IF(AND('D - P'!$C183=\"\",'D - P'!$D183=\"\"),\"\",'D - P'!B183)","v":""},{"$f":"IF('D - P'!C183=\"\",\"\",'D - P'!C183)","v":""},{"$f":"IF('D - P'!D183=\"\",\"\",'D - P'!D183)","v":""},null,{"$f":"IF('D - P'!E183=\"\",\"\",'D - P'!E183)","v":""},{"$f":"IF('D - P'!F183=\"\",\"\",'D - P'!F183)","v":""},null,{"$f":"IF('D - P'!I183=\"\",\"\",'D - P'!I183)","v":""},{"$f":"IF('D - P'!J183=\"\",\"\",'D - P'!J183)","v":""},null,{"$f":"IF('D - P'!M183=\"\",\"\",'D - P'!M183)","v":""}]
[null,{"$f":"IF(AND('D - P'!$C184=\"\",'D - P'!$D184=\"\"),\"\",'D - P'!O184)","v":""},{"$f":"IF(AND('D - P'!$C184=\"\",'D - P'!$D184=\"\"),\"\",'D - P'!B184)","v":""},{"$f":"IF('D - P'!C184=\"\",\"\",'D - P'!C184)","v":""},{"$f":"IF('D - P'!D184=\"\",\"\",'D - P'!D184)","v":""},null,{"$f":"IF('D - P'!E184=\"\",\"\",'D - P'!E184)","v":""},{"$f":"IF('D - P'!F184=\"\",\"\",'D - P'!F184)","v":""},null,{"$f":"IF('D - P'!I184=\"\",\"\",'D - P'!I184)","v":""},{"$f":"IF('D - P'!J184=\"\",\"\",'D - P'!J184)","v":""},null,{"$f":"IF('D - P'!M184=\"\",\"\",'D - P'!M184)","v":""}]
[null,{"$f":"IF(AND('D - P'!$C185=\"\",'D - P'!$D185=\"\"),\"\",'D - P'!O185)","v":""},{"$f":"IF(AND('D - P'!$C185=\"\",'D - P'!$D185=\"\"),\"\",'D - P'!B185)","v":""},{"$f":"IF('D - P'!C185=\"\",\"\",'D - P'!C185)","v":""},{"$f":"IF('D - P'!D185=\"\",\"\",'D - P'!D185)","v":""},null,{"$f":"IF('D - P'!E185=\"\",\"\",'D - P'!E185)","v":""},{"$f":"IF('D - P'!F185=\"\",\"\",'D - P'!F185)","v":""},null,{"$f":"IF('D - P'!I185=\"\",\"\",'D - P'!I185)","v":""},{"$f":"IF('D - P'!J185=\"\",\"\",'D - P'!J185)","v":""},null,{"$f":"IF('D - P'!M185=\"\",\"\",'D - P'!M185)","v":""}]
[null,{"$f":"IF(AND('D - P'!$C186=\"\",'D - P'!$D186=\"\"),\"\",'D - P'!O186)","v":""},{"$f":"IF(AND('D - P'!$C186=\"\",'D - P'!$D186=\"\"),\"\",'D - P'!B186)","v":""},{"$f":"IF('D - P'!C186=\"\",\"\",'D - P'!C186)","v":""},{"$f":"IF('D - P'!D186=\"\",\"\",'D - P'!D186)","v":""},null,{"$f":"IF('D - P'!E186=\"\",\"\",'D - P'!E186)","v":""},{"$f":"IF('D - P'!F186=\"\",\"\",'D - P'!F186)","v":""},null,{"$f":"IF('D - P'!I186=\"\",\"\",'D - P'!I186)","v":""},{"$f":"IF('D - P'!J186=\"\",\"\",'D - P'!J186)","v":""},null,{"$f":"IF('D - P'!M186=\"\",\"\",'D - P'!M186)","v":""}]
[null,{"$f":"IF(AND('D - P'!$C187=\"\",'D - P'!$D187=\"\"),\"\",'D - P'!O187)","v":""},{"$f":"IF(AND('D - P'!$C187=\"\",'D - P'!$D187=\"\"),\"\",'D - P'!B187)","v":""},{"$f":"IF('D - P'!C187=\"\",\"\",'D - P'!C187)","v":""},{"$f":"IF('D - P'!D187=\"\",\"\",'D - P'!D187)","v":""},null,{"$f":"IF('D - P'!E187=\"\",\"\",'D - P'!E187)","v":""},{"$f":"IF('D - P'!F187=\"\",\"\",'D - P'!F187)","v":""},null,{"$f":"IF('D - P'!I187=\"\",\"\",'D - P'!I187)","v":""},{"$f":"IF('D - P'!J187=\"\",\"\",'D - P'!J187)","v":""},null,{"$f":"IF('D - P'!M187=\"\",\"\",'D - P'!M187)","v":""}]
[null,{"$f":"IF(AND('D - P'!$C188=\"\",'D - P'!$D188=\"\"),\"\",'D - P'!O188)","v":""},{"$f":"IF(AND('D - P'!$C188=\"\",'D - P'!$D188=\"\"),\"\",'D - P'!B188)","v":""},{"$f":"IF('D - P'!C188=\"\",\"\",'D - P'!C188)","v":""},{"$f":"IF('D - P'!D188=\"\",\"\",'D - P'!D188)","v":""},null,{"$f":"IF('D - P'!E188=\"\",\"\",'D - P'!E188)","v":""},{"$f":"IF('D - P'!F188=\"\",\"\",'D - P'!F188)","v":""},null,{"$f":"IF('D - P'!I188=\"\",\"\",'D - P'!I188)","v":""},{"$f":"IF('D - P'!J188=\"\",\"\",'D - P'!J188)","v":""},null,{"$f":"IF('D - P'!M188=\"\",\"\",'D - P'!M188)","v":""}]
[null,{"$f":"IF(AND('D - P'!$C189=\"\",'D - P'!$D189=\"\"),\"\",'D - P'!O189)","v":""},{"$f":"IF(AND('D - P'!$C189=\"\",'D - P'!$D189=\"\"),\"\",'D - P'!B189)","v":""},{"$f":"IF('D - P'!C189=\"\",\"\",'D - P'!C189)","v":""},{"$f":"IF('D - P'!D189=\"\",\"\",'D - P'!D189)","v":""},null,{"$f":"IF('D - P'!E189=\"\",\"\",'D - P'!E189)","v":""},{"$f":"IF('D - P'!F189=\"\",\"\",'D - P'!F189)","v":""},null,{"$f":"IF('D - P'!I189=\"\",\"\",'D - P'!I189)","v":""},{"$f":"IF('D - P'!J189=\"\",\"\",'D - P'!J189)","v":""},null,{"$f":"IF('D - P'!M189=\"\",\"\",'D - P'!M189)","v":""}]
[null,{"$f":"IF(AND('D - P'!$C190=\"\",'D - P'!$D190=\"\"),\"\",'D - P'!O190)","v":""},{"$f":"IF(AND('D - P'!$C190=\"\",'D - P'!$D190=\"\"),\"\",'D - P'!B190)","v":""},{"$f":"IF('D - P'!C190=\"\",\"\",'D - P'!C190)","v":""},{"$f":"IF('D - P'!D190=\"\",\"\",'D - P'!D190)","v":""},null,{"$f":"IF('D - P'!E190=\"\",\"\",'D - P'!E190)","v":""},{"$f":"IF('D - P'!F190=\"\",\"\",'D - P'!F190)","v":""},null,{"$f":"IF('D - P'!I190=\"\",\"\",'D - P'!I190)","v":""},{"$f":"IF('D - P'!J190=\"\",\"\",'D - P'!J190)","v":""},null,{"$f":"IF('D - P'!M190=\"\",\"\",'D - P'!M190)","v":""}]
[null,{"$f":"IF(AND('D - P'!$C191=\"\",'D - P'!$D191=\"\"),\"\",'D - P'!O191)","v":""},{"$f":"IF(AND('D - P'!$C191=\"\",'D - P'!$D191=\"\"),\"\",'D - P'!B191)","v":""},{"$f":"IF('D - P'!C191=\"\",\"\",'D - P'!C191)","v":""},{"$f":"IF('D - P'!D191=\"\",\"\",'D - P'!D191)","v":""},null,{"$f":"IF('D - P'!E191=\"\",\"\",'D - P'!E191)","v":""},{"$f":"IF('D - P'!F191=\"\",\"\",'D - P'!F191)","v":""},null,{"$f":"IF('D - P'!I191=\"\",\"\",'D - P'!I191)","v":""},{"$f":"IF('D - P'!J191=\"\",\"\",'D - P'!J191)","v":""},null,{"$f":"IF('D - P'!M191=\"\",\"\",'D - P'!M191)","v":""}]
[null,{"$f":"IF(AND('D - P'!$C192=\"\",'D - P'!$D192=\"\"),\"\",'D - P'!O192)","v":""},{"$f":"IF(AND('D - P'!$C192=\"\",'D - P'!$D192=\"\"),\"\",'D - P'!B192)","v":""},{"$f":"IF('D - P'!C192=\"\",\"\",'D - P'!C192)","v":""},{"$f":"IF('D - P'!D192=\"\",\"\",'D - P'!D192)","v":""},null,{"$f":"IF('D - P'!E192=\"\",\"\",'D - P'!E192)","v":""},{"$f":"IF('D - P'!F192=\"\",\"\",'D - P'!F192)","v":""},null,{"$f":"IF('D - P'!I192=\"\",\"\",'D - P'!I192)","v":""},{"$f":"IF('D - P'!J192=\"\",\"\",'D - P'!J192)","v":""},null,{"$f":"IF('D - P'!M192=\"\",\"\",'D - P'!M192)","v":""}]
[null,{"$f":"IF(AND('D - P'!$C193=\"\",'D - P'!$D193=\"\"),\"\",'D - P'!O193)","v":""},{"$f":"IF(AND('D - P'!$C193=\"\",'D - P'!$D193=\"\"),\"\",'D - P'!B193)","v":""},{"$f":"IF('D - P'!C193=\"\",\"\",'D - P'!C193)","v":""},{"$f":"IF('D - P'!D193=\"\",\"\",'D - P'!D193)","v":""},null,{"$f":"IF('D - P'!E193=\"\",\"\",'D - P'!E193)","v":""},{"$f":"IF('D - P'!F193=\"\",\"\",'D - P'!F193)","v":""},null,{"$f":"IF('D - P'!I193=\"\",\"\",'D - P'!I193)","v":""},{"$f":"IF('D - P'!J193=\"\",\"\",'D - P'!J193)","v":""},null,{"$f":"IF('D - P'!M193=\"\",\"\",'D - P'!M193)","v":""}]
[null,{"$f":"IF(AND('D - P'!$C194=\"\",'D - P'!$D194=\"\"),\"\",'D - P'!O194)","v":""},{"$f":"IF(AND('D - P'!$C194=\"\",'D - P'!$D194=\"\"),\"\",'D - P'!B194)","v":""},{"$f":"IF('D - P'!C194=\"\",\"\",'D - P'!C194)","v":""},{"$f":"IF('D - P'!D194=\"\",\"\",'D - P'!D194)","v":""},null,{"$f":"IF('D - P'!E194=\"\",\"\",'D - P'!E194)","v":""},{"$f":"IF('D - P'!F194=\"\",\"\",'D - P'!F194)","v":""},null,{"$f":"IF('D - P'!I194=\"\",\"\",'D - P'!I194)","v":""},{"$f":"IF('D - P'!J194=\"\",\"\",'D - P'!J194)","v":""},null,{"$f":"IF('D - P'!M194=\"\",\"\",'D - P'!M194)","v":""}]
[null,{"$f":"IF(AND('D - P'!$C195=\"\",'D - P'!$D195=\"\"),\"\",'D - P'!O195)","v":""},{"$f":"IF(AND('D - P'!$C195=\"\",'D - P'!$D195=\"\"),\"\",'D - P'!B195)","v":""},{"$f":"IF('D - P'!C195=\"\",\"\",'D - P'!C195)","v":""},{"$f":"IF('D - P'!D195=\"\",\"\",'D - P'!D195)","v":""},null,{"$f":"IF('D - P'!E195=\"\",\"\",'D - P'!E195)","v":""},{"$f":"IF('D - P'!F195=\"\",\"\",'D - P'!F195)","v":""},null,{"$f":"IF('D - P'!I195=\"\",\"\",'D - P'!I195)","v":""},{"$f":"IF('D - P'!J195=\"\",\"\",'D - P'!J195)","v":""},null,{"$f":"IF('D - P'!M195=\"\",\"\",'D - P'!M195)","v":""}]
[null,{"$f":"IF(AND('D - P'!$C196=\"\",'D - P'!$D196=\"\"),\"\",'D - P'!O196)","v":""},{"$f":"IF(AND('D - P'!$C196=\"\",'D - P'!$D196=\"\"),\"\",'D - P'!B196)","v":""},{"$f":"IF('D - P'!C196=\"\",\"\",'D - P'!C196)","v":""},{"$f":"IF('D - P'!D196=\"\",\"\",'D - P'!D196)","v":""},null,{"$f":"IF('D - P'!E196=\"\",\"\",'D - P'!E196)","v":""},{"$f":"IF('D - P'!F196=\"\",\"\",'D - P'!F196)","v":""},null,{"$f":"IF('D - P'!I196=\"\",\"\",'D - P'!I196)","v":""},{"$f":"IF('D - P'!J196=\"\",\"\",'D - P'!J196)","v":""},null,{"$f":"IF('D - P'!M196=\"\",\"\",'D - P'!M196)","v":""}]
[null,{"$f":"IF(AND('D - P'!$C197=\"\",'D - P'!$D197=\"\"),\"\",'D - P'!O197)","v":""},{"$f":"IF(AND('D - P'!$C197=\"\",'D - P'!$D197=\"\"),\"\",'D - P'!B197)","v":""},{"$f":"IF('D - P'!C197=\"\",\"\",'D - P'!C197)","v":""},{"$f":"IF('D - P'!D197=\"\",\"\",'D - P'!D197)","v":""},null,{"$f":"IF('D - P'!E197=\"\",\"\",'D - P'!E197)","v":""},{"$f":"IF('D - P'!F197=\"\",\"\",'D - P'!F197)","v":""},null,{"$f":"IF('D - P'!I197=\"\",\"\",'D - P'!I197)","v":""},{"$f":"IF('D - P'!J197=\"\",\"\",'D - P'!J197)","v":""},null,{"$f":"IF('D - P'!M197=\"\",\"\",'D - P'!M197)","v":""}]
[null,{"$f":"IF(AND('D - P'!$C198=\"\",'D - P'!$D198=\"\"),\"\",'D - P'!O198)","v":""},{"$f":"IF(AND('D - P'!$C198=\"\",'D - P'!$D198=\"\"),\"\",'D - P'!B198)","v":""},{"$f":"IF('D - P'!C198=\"\",\"\",'D - P'!C198)","v":""},{"$f":"IF('D - P'!D198=\"\",\"\",'D - P'!D198)","v":""},null,{"$f":"IF('D - P'!E198=\"\",\"\",'D - P'!E198)","v":""},{"$f":"IF('D - P'!F198=\"\",\"\",'D - P'!F198)","v":""},null,{"$f":"IF('D - P'!I198=\"\",\"\",'D - P'!I198)","v":""},{"$f":"IF('D - P'!J198=\"\",\"\",'D - P'!J198)","v":""},null,{"$f":"IF('D - P'!M198=\"\",\"\",'D - P'!M198)","v":""}]
[null,{"$f":"IF(AND('D - P'!$C199=\"\",'D - P'!$D199=\"\"),\"\",'D - P'!O199)","v":""},{"$f":"IF(AND('D - P'!$C199=\"\",'D - P'!$D199=\"\"),\"\",'D - P'!B199)","v":""},{"$f":"IF('D - P'!C199=\"\",\"\",'D - P'!C199)","v":""},{"$f":"IF('D - P'!D199=\"\",\"\",'D - P'!D199)","v":""},null,{"$f":"IF('D - P'!E199=\"\",\"\",'D - P'!E199)","v":""},{"$f":"IF('D - P'!F199=\"\",\"\",'D - P'!F199)","v":""},null,{"$f":"IF('D - P'!I199=\"\",\"\",'D - P'!I199)","v":""},{"$f":"IF('D - P'!J199=\"\",\"\",'D - P'!J199)","v":""},null,{"$f":"IF('D - P'!M199=\"\",\"\",'D - P'!M199)","v":""}]
[null,{"$f":"IF(AND('D - P'!$C200=\"\",'D - P'!$D200=\"\"),\"\",'D - P'!O200)","v":""},{"$f":"IF(AND('D - P'!$C200=\"\",'D - P'!$D200=\"\"),\"\",'D - P'!B200)","v":""},{"$f":"IF('D - P'!C200=\"\",\"\",'D - P'!C200)","v":""},{"$f":"IF('D - P'!D200=\"\",\"\",'D - P'!D200)","v":""},null,{"$f":"IF('D - P'!E200=\"\",\"\",'D - P'!E200)","v":""},{"$f":"IF('D - P'!F200=\"\",\"\",'D - P'!F200)","v":""},null,{"$f":"IF('D - P'!I200=\"\",\"\",'D - P'!I200)","v":""},{"$f":"IF('D - P'!J200=\"\",\"\",'D - P'!J200)","v":""},null,{"$f":"IF('D - P'!M200=\"\",\"\",'D - P'!M200)","v":""}]
[null,{"$f":"IF(AND('D - P'!$C201=\"\",'D - P'!$D201=\"\"),\"\",'D - P'!O201)","v":""},{"$f":"IF(AND('D - P'!$C201=\"\",'D - P'!$D201=\"\"),\"\",'D - P'!B201)","v":""},{"$f":"IF('D - P'!C201=\"\",\"\",'D - P'!C201)","v":""},{"$f":"IF('D - P'!D201=\"\",\"\",'D - P'!D201)","v":""},null,{"$f":"IF('D - P'!E201=\"\",\"\",'D - P'!E201)","v":""},{"$f":"IF('D - P'!F201=\"\",\"\",'D - P'!F201)","v":""},null,{"$f":"IF('D - P'!I201=\"\",\"\",'D - P'!I201)","v":""},{"$f":"IF('D - P'!J201=\"\",\"\",'D - P'!J201)","v":""},null,{"$f":"IF('D - P'!M201=\"\",\"\",'D - P'!M201)","v":""}]
[null,{"$f":"IF(AND('D - P'!$C202=\"\",'D - P'!$D202=\"\"),\"\",'D - P'!O202)","v":""},{"$f":"IF(AND('D - P'!$C202=\"\",'D - P'!$D202=\"\"),\"\",'D - P'!B202)","v":""},{"$f":"IF('D - P'!C202=\"\",\"\",'D - P'!C202)","v":""},{"$f":"IF('D - P'!D202=\"\",\"\",'D - P'!D202)","v":""},null,{"$f":"IF('D - P'!E202=\"\",\"\",'D - P'!E202)","v":""},{"$f":"IF('D - P'!F202=\"\",\"\",'D - P'!F202)","v":""},null,{"$f":"IF('D - P'!I202=\"\",\"\",'D - P'!I202)","v":""},{"$f":"IF('D - P'!J202=\"\",\"\",'D - P'!J202)","v":""},null,{"$f":"IF('D - P'!M202=\"\",\"\",'D - P'!M202)","v":""}]
[null,{"$f":"IF(AND('D - P'!$C203=\"\",'D - P'!$D203=\"\"),\"\",'D - P'!O203)","v":""},{"$f":"IF(AND('D - P'!$C203=\"\",'D - P'!$D203=\"\"),\"\",'D - P'!B203)","v":""},{"$f":"IF('D - P'!C203=\"\",\"\",'D - P'!C203)","v":""},{"$f":"IF('D - P'!D203=\"\",\"\",'D - P'!D203)","v":""},null,{"$f":"IF('D - P'!E203=\"\",\"\",'D - P'!E203)","v":""},{"$f":"IF('D - P'!F203=\"\",\"\",'D - P'!F203)","v":""},null,{"$f":"IF('D - P'!I203=\"\",\"\",'D - P'!I203)","v":""},{"$f":"IF('D - P'!J203=\"\",\"\",'D - P'!J203)","v":""},null,{"$f":"IF('D - P'!M203=\"\",\"\",'D - P'!M203)","v":""}]
[null,{"$f":"IF(AND('D - P'!$C204=\"\",'D - P'!$D204=\"\"),\"\",'D - P'!O204)","v":""},{"$f":"IF(AND('D - P'!$C204=\"\",'D - P'!$D204=\"\"),\"\",'D - P'!B204)","v":""},{"$f":"IF('D - P'!C204=\"\",\"\",'D - P'!C204)","v":""},{"$f":"IF('D - P'!D204=\"\",\"\",'D - P'!D204)","v":""},null,{"$f":"IF('D - P'!E204=\"\",\"\",'D - P'!E204)","v":""},{"$f":"IF('D - P'!F204=\"\",\"\",'D - P'!F204)","v":""},null,{"$f":"IF('D - P'!I204=\"\",\"\",'D - P'!I204)","v":""},{"$f":"IF('D - P'!J204=\"\",\"\",'D - P'!J204)","v":""},null,{"$f":"IF('D - P'!M204=\"\",\"\",'D - P'!M204)","v":""}]
[null,{"$f":"IF(AND('D - P'!$C205=\"\",'D - P'!$D205=\"\"),\"\",'D - P'!O205)","v":""},{"$f":"IF(AND('D - P'!$C205=\"\",'D - P'!$D205=\"\"),\"\",'D - P'!B205)","v":""},{"$f":"IF('D - P'!C205=\"\",\"\",'D - P'!C205)","v":""},{"$f":"IF('D - P'!D205=\"\",\"\",'D - P'!D205)","v":""},null,{"$f":"IF('D - P'!E205=\"\",\"\",'D - P'!E205)","v":""},{"$f":"IF('D - P'!F205=\"\",\"\",'D - P'!F205)","v":""},null,{"$f":"IF('D - P'!I205=\"\",\"\",'D - P'!I205)","v":""},{"$f":"IF('D - P'!J205=\"\",\"\",'D - P'!J205)","v":""},null,{"$f":"IF('D - P'!M205=\"\",\"\",'D - P'!M205)","v":""}]
[null,{"$f":"IF(AND('D - P'!$C206=\"\",'D - P'!$D206=\"\"),\"\",'D - P'!O206)","v":""},{"$f":"IF(AND('D - P'!$C206=\"\",'D - P'!$D206=\"\"),\"\",'D - P'!B206)","v":""},{"$f":"IF('D - P'!C206=\"\",\"\",'D - P'!C206)","v":""},{"$f":"IF('D - P'!D206=\"\",\"\",'D - P'!D206)","v":""},null,{"$f":"IF('D - P'!E206=\"\",\"\",'D - P'!E206)","v":""},{"$f":"IF('D - P'!F206=\"\",\"\",'D - P'!F206)","v":""},null,{"$f":"IF('D - P'!I206=\"\",\"\",'D - P'!I206)","v":""},{"$f":"IF('D - P'!J206=\"\",\"\",'D - P'!J206)","v":""},null,{"$f":"IF('D - P'!M206=\"\",\"\",'D - P'!M206)","v":""}]
[null,{"$f":"IF(AND('D - P'!$C207=\"\",'D - P'!$D207=\"\"),\"\",'D - P'!O207)","v":""},{"$f":"IF(AND('D - P'!$C207=\"\",'D - P'!$D207=\"\"),\"\",'D - P'!B207)","v":""},{"$f":"IF('D - P'!C207=\"\",\"\",'D - P'!C207)","v":""},{"$f":"IF('D - P'!D207=\"\",\"\",'D - P'!D207)","v":""},null,{"$f":"IF('D - P'!E207=\"\",\"\",'D - P'!E207)","v":""},{"$f":"IF('D - P'!F207=\"\",\"\",'D - P'!F207)","v":""},null,{"$f":"IF('D - P'!I207=\"\",\"\",'D - P'!I207)","v":""},{"$f":"IF('D - P'!J207=\"\",\"\",'D - P'!J207)","v":""},null,{"$f":"IF('D - P'!M207=\"\",\"\",'D - P'!M207)","v":""}]
[null,{"$f":"IF(AND('D - P'!$C208=\"\",'D - P'!$D208=\"\"),\"\",'D - P'!O208)","v":""},{"$f":"IF(AND('D - P'!$C208=\"\",'D - P'!$D208=\"\"),\"\",'D - P'!B208)","v":""},{"$f":"IF('D - P'!C208=\"\",\"\",'D - P'!C208)","v":""},{"$f":"IF('D - P'!D208=\"\",\"\",'D - P'!D208)","v":""},null,{"$f":"IF('D - P'!E208=\"\",\"\",'D - P'!E208)","v":""},{"$f":"IF('D - P'!F208=\"\",\"\",'D - P'!F208)","v":""},null,{"$f":"IF('D - P'!I208=\"\",\"\",'D - P'!I208)","v":""},{"$f":"IF('D - P'!J208=\"\",\"\",'D - P'!J208)","v":""},null,{"$f":"IF('D - P'!M208=\"\",\"\",'D - P'!M208)","v":""}]
[null,{"$f":"IF(AND('D - P'!$C209=\"\",'D - P'!$D209=\"\"),\"\",'D - P'!O209)","v":""},{"$f":"IF(AND('D - P'!$C209=\"\",'D - P'!$D209=\"\"),\"\",'D - P'!B209)","v":""},{"$f":"IF('D - P'!C209=\"\",\"\",'D - P'!C209)","v":""},{"$f":"IF('D - P'!D209=\"\",\"\",'D - P'!D209)","v":""},null,{"$f":"IF('D - P'!E209=\"\",\"\",'D - P'!E209)","v":""},{"$f":"IF('D - P'!F209=\"\",\"\",'D - P'!F209)","v":""},null,{"$f":"IF('D - P'!I209=\"\",\"\",'D - P'!I209)","v":""},{"$f":"IF('D - P'!J209=\"\",\"\",'D - P'!J209)","v":""},null,{"$f":"IF('D - P'!M209=\"\",\"\",'D - P'!M209)","v":""}]
[null,{"$f":"IF(AND('D - P'!$C210=\"\",'D - P'!$D210=\"\"),\"\",'D - P'!O210)","v":""},{"$f":"IF(AND('D - P'!$C210=\"\",'D - P'!$D210=\"\"),\"\",'D - P'!B210)","v":""},{"$f":"IF('D - P'!C210=\"\",\"\",'D - P'!C210)","v":""},{"$f":"IF('D - P'!D210=\"\",\"\",'D - P'!D210)","v":""},null,{"$f":"IF('D - P'!E210=\"\",\"\",'D - P'!E210)","v":""},{"$f":"IF('D - P'!F210=\"\",\"\",'D - P'!F210)","v":""},null,{"$f":"IF('D - P'!I210=\"\",\"\",'D - P'!I210)","v":""},{"$f":"IF('D - P'!J210=\"\",\"\",'D - P'!J210)","v":""},null,{"$f":"IF('D - P'!M210=\"\",\"\",'D - P'!M210)","v":""}]
[null,{"$f":"IF(AND('D - P'!$C211=\"\",'D - P'!$D211=\"\"),\"\",'D - P'!O211)","v":""},{"$f":"IF(AND('D - P'!$C211=\"\",'D - P'!$D211=\"\"),\"\",'D - P'!B211)","v":""},{"$f":"IF('D - P'!C211=\"\",\"\",'D - P'!C211)","v":""},{"$f":"IF('D - P'!D211=\"\",\"\",'D - P'!D211)","v":""},null,{"$f":"IF('D - P'!E211=\"\",\"\",'D - P'!E211)","v":""},{"$f":"IF('D - P'!F211=\"\",\"\",'D - P'!F211)","v":""},null,{"$f":"IF('D - P'!I211=\"\",\"\",'D - P'!I211)","v":""},{"$f":"IF('D - P'!J211=\"\",\"\",'D - P'!J211)","v":""},null,{"$f":"IF('D - P'!M211=\"\",\"\",'D - P'!M211)","v":""}]
[null,{"$f":"IF(AND('D - P'!$C212=\"\",'D - P'!$D212=\"\"),\"\",'D - P'!O212)","v":""},{"$f":"IF(AND('D - P'!$C212=\"\",'D - P'!$D212=\"\"),\"\",'D - P'!B212)","v":""},{"$f":"IF('D - P'!C212=\"\",\"\",'D - P'!C212)","v":""},{"$f":"IF('D - P'!D212=\"\",\"\",'D - P'!D212)","v":""},null,{"$f":"IF('D - P'!E212=\"\",\"\",'D - P'!E212)","v":""},{"$f":"IF('D - P'!F212=\"\",\"\",'D - P'!F212)","v":""},null,{"$f":"IF('D - P'!I212=\"\",\"\",'D - P'!I212)","v":""},{"$f":"IF('D - P'!J212=\"\",\"\",'D - P'!J212)","v":""},null,{"$f":"IF('D - P'!M212=\"\",\"\",'D - P'!M212)","v":""}]
[null,{"$f":"IF(AND('D - P'!$C213=\"\",'D - P'!$D213=\"\"),\"\",'D - P'!O213)","v":""},{"$f":"IF(AND('D - P'!$C213=\"\",'D - P'!$D213=\"\"),\"\",'D - P'!B213)","v":""},{"$f":"IF('D - P'!C213=\"\",\"\",'D - P'!C213)","v":""},{"$f":"IF('D - P'!D213=\"\",\"\",'D - P'!D213)","v":""},null,{"$f":"IF('D - P'!E213=\"\",\"\",'D - P'!E213)","v":""},{"$f":"IF('D - P'!F213=\"\",\"\",'D - P'!F213)","v":""},null,{"$f":"IF('D - P'!I213=\"\",\"\",'D - P'!I213)","v":""},{"$f":"IF('D - P'!J213=\"\",\"\",'D - P'!J213)","v":""},null,{"$f":"IF('D - P'!M213=\"\",\"\",'D - P'!M213)","v":""}]
[null,{"$f":"IF(AND('D - P'!$C214=\"\",'D - P'!$D214=\"\"),\"\",'D - P'!O214)","v":""},{"$f":"IF(AND('D - P'!$C214=\"\",'D - P'!$D214=\"\"),\"\",'D - P'!B214)","v":""},{"$f":"IF('D - P'!C214=\"\",\"\",'D - P'!C214)","v":""},{"$f":"IF('D - P'!D214=\"\",\"\",'D - P'!D214)","v":""},null,{"$f":"IF('D - P'!E214=\"\",\"\",'D - P'!E214)","v":""},{"$f":"IF('D - P'!F214=\"\",\"\",'D - P'!F214)","v":""},null,{"$f":"IF('D - P'!I214=\"\",\"\",'D - P'!I214)","v":""},{"$f":"IF('D - P'!J214=\"\",\"\",'D - P'!J214)","v":""},null,{"$f":"IF('D - P'!M214=\"\",\"\",'D - P'!M214)","v":""}]
[null,{"$f":"IF(AND('D - P'!$C215=\"\",'D - P'!$D215=\"\"),\"\",'D - P'!O215)","v":""},{"$f":"IF(AND('D - P'!$C215=\"\",'D - P'!$D215=\"\"),\"\",'D - P'!B215)","v":""},{"$f":"IF('D - P'!C215=\"\",\"\",'D - P'!C215)","v":""},{"$f":"IF('D - P'!D215=\"\",\"\",'D - P'!D215)","v":""},null,{"$f":"IF('D - P'!E215=\"\",\"\",'D - P'!E215)","v":""},{"$f":"IF('D - P'!F215=\"\",\"\",'D - P'!F215)","v":""},null,{"$f":"IF('D - P'!I215=\"\",\"\",'D - P'!I215)","v":""},{"$f":"IF('D - P'!J215=\"\",\"\",'D - P'!J215)","v":""},null,{"$f":"IF('D - P'!M215=\"\",\"\",'D - P'!M215)","v":""}]
[null,{"$f":"IF(AND('D - P'!$C216=\"\",'D - P'!$D216=\"\"),\"\",'D - P'!O216)","v":""},{"$f":"IF(AND('D - P'!$C216=\"\",'D - P'!$D216=\"\"),\"\",'D - P'!B216)","v":""},{"$f":"IF('D - P'!C216=\"\",\"\",'D - P'!C216)","v":""},{"$f":"IF('D - P'!D216=\"\",\"\",'D - P'!D216)","v":""},null,{"$f":"IF('D - P'!E216=\"\",\"\",'D - P'!E216)","v":""},{"$f":"IF('D - P'!F216=\"\",\"\",'D - P'!F216)","v":""},null,{"$f":"IF('D - P'!I216=\"\",\"\",'D - P'!I216)","v":""},{"$f":"IF('D - P'!J216=\"\",\"\",'D - P'!J216)","v":""},null,{"$f":"IF('D - P'!M216=\"\",\"\",'D - P'!M216)","v":""}]
[null,{"$f":"B$1","v":"Dvojboj - Celkové pořadí"}]
[]
[null,{"$f":"B$3","v":"VC ČR v požárním útoku družstev HZS krajů a HZS podniků"},null,null,{"$f":"E$3","v":"Petrovice 19.9.2019"}]
[]
[null,{"$f":"Start!$C$5","v":"MUŽI"}]
[null,"Pořadí","Start. číslo","Jméno","kolektiv",null,"100m",null,null,"věž",null,null,"Výsledný čas"]
[null,null,null,null,null,null,"1.pokus","2.pokus",null,"1.pokus","2.pokus"]
[null,{"$f":"IF(AND('D - P'!$C217=\"\",'D - P'!$D217=\"\"),\"\",'D - P'!O217)","v":""},{"$f":"IF(AND('D - P'!$C217=\"\",'D - P'!$D217=\"\"),\"\",'D - P'!B217)","v":""},{"$f":"IF('D - P'!C217=\"\",\"\",'D - P'!C217)","v":""},{"$f":"IF('D - P'!D217=\"\",\"\",'D - P'!D217)","v":""},null,{"$f":"IF('D - P'!E217=\"\",\"\",'D - P'!E217)","v":""},{"$f":"IF('D - P'!F217=\"\",\"\",'D - P'!F217)","v":""},null,{"$f":"IF('D - P'!I217=\"\",\"\",'D - P'!I217)","v":""},{"$f":"IF('D - P'!J217=\"\",\"\",'D - P'!J217)","v":""},null,{"$f":"IF('D - P'!M217=\"\",\"\",'D - P'!M217)","v":""}]
[null,{"$f":"IF(AND('D - P'!$C218=\"\",'D - P'!$D218=\"\"),\"\",'D - P'!O218)","v":""},{"$f":"IF(AND('D - P'!$C218=\"\",'D - P'!$D218=\"\"),\"\",'D - P'!B218)","v":""},{"$f":"IF('D - P'!C218=\"\",\"\",'D - P'!C218)","v":""},{"$f":"IF('D - P'!D218=\"\",\"\",'D - P'!D218)","v":""},null,{"$f":"IF('D - P'!E218=\"\",\"\",'D - P'!E218)","v":""},{"$f":"IF('D - P'!F218=\"\",\"\",'D - P'!F218)","v":""},null,{"$f":"IF('D - P'!I218=\"\",\"\",'D - P'!I218)","v":""},{"$f":"IF('D - P'!J218=\"\",\"\",'D - P'!J218)","v":""},null,{"$f":"IF('D - P'!M218=\"\",\"\",'D - P'!M218)","v":""}]
[null,{"$f":"IF(AND('D - P'!$C219=\"\",'D - P'!$D219=\"\"),\"\",'D - P'!O219)","v":""},{"$f":"IF(AND('D - P'!$C219=\"\",'D - P'!$D219=\"\"),\"\",'D - P'!B219)","v":""},{"$f":"IF('D - P'!C219=\"\",\"\",'D - P'!C219)","v":""},{"$f":"IF('D - P'!D219=\"\",\"\",'D - P'!D219)","v":""},null,{"$f":"IF('D - P'!E219=\"\",\"\",'D - P'!E219)","v":""},{"$f":"IF('D - P'!F219=\"\",\"\",'D - P'!F219)","v":""},null,{"$f":"IF('D - P'!I219=\"\",\"\",'D - P'!I219)","v":""},{"$f":"IF('D - P'!J219=\"\",\"\",'D - P'!J219)","v":""},null,{"$f":"IF('D - P'!M219=\"\",\"\",'D - P'!M219)","v":""}]
[null,{"$f":"IF(AND('D - P'!$C220=\"\",'D - P'!$D220=\"\"),\"\",'D - P'!O220)","v":""},{"$f":"IF(AND('D - P'!$C220=\"\",'D - P'!$D220=\"\"),\"\",'D - P'!B220)","v":""},{"$f":"IF('D - P'!C220=\"\",\"\",'D - P'!C220)","v":""},{"$f":"IF('D - P'!D220=\"\",\"\",'D - P'!D220)","v":""},null,{"$f":"IF('D - P'!E220=\"\",\"\",'D - P'!E220)","v":""},{"$f":"IF('D - P'!F220=\"\",\"\",'D - P'!F220)","v":""},null,{"$f":"IF('D - P'!I220=\"\",\"\",'D - P'!I220)","v":""},{"$f":"IF('D - P'!J220=\"\",\"\",'D - P'!J220)","v":""},null,{"$f":"IF('D - P'!M220=\"\",\"\",'D - P'!M220)","v":""}]
[null,{"$f":"IF(AND('D - P'!$C221=\"\",'D - P'!$D221=\"\"),\"\",'D - P'!O221)","v":""},{"$f":"IF(AND('D - P'!$C221=\"\",'D - P'!$D221=\"\"),\"\",'D - P'!B221)","v":""},{"$f":"IF('D - P'!C221=\"\",\"\",'D - P'!C221)","v":""},{"$f":"IF('D - P'!D221=\"\",\"\",'D - P'!D221)","v":""},null,{"$f":"IF('D - P'!E221=\"\",\"\",'D - P'!E221)","v":""},{"$f":"IF('D - P'!F221=\"\",\"\",'D - P'!F221)","v":""},null,{"$f":"IF('D - P'!I221=\"\",\"\",'D - P'!I221)","v":""},{"$f":"IF('D - P'!J221=\"\",\"\",'D - P'!J221)","v":""},null,{"$f":"IF('D - P'!M221=\"\",\"\",'D - P'!M221)","v":""}]
[null,{"$f":"IF(AND('D - P'!$C222=\"\",'D - P'!$D222=\"\"),\"\",'D - P'!O222)","v":""},{"$f":"IF(AND('D - P'!$C222=\"\",'D - P'!$D222=\"\"),\"\",'D - P'!B222)","v":""},{"$f":"IF('D - P'!C222=\"\",\"\",'D - P'!C222)","v":""},{"$f":"IF('D - P'!D222=\"\",\"\",'D - P'!D222)","v":""},null,{"$f":"IF('D - P'!E222=\"\",\"\",'D - P'!E222)","v":""},{"$f":"IF('D - P'!F222=\"\",\"\",'D - P'!F222)","v":""},null,{"$f":"IF('D - P'!I222=\"\",\"\",'D - P'!I222)","v":""},{"$f":"IF('D - P'!J222=\"\",\"\",'D - P'!J222)","v":""},null,{"$f":"IF('D - P'!M222=\"\",\"\",'D - P'!M222)","v":""}]
[null,{"$f":"IF(AND('D - P'!$C223=\"\",'D - P'!$D223=\"\"),\"\",'D - P'!O223)","v":""},{"$f":"IF(AND('D - P'!$C223=\"\",'D - P'!$D223=\"\"),\"\",'D - P'!B223)","v":""},{"$f":"IF('D - P'!C223=\"\",\"\",'D - P'!C223)","v":""},{"$f":"IF('D - P'!D223=\"\",\"\",'D - P'!D223)","v":""},null,{"$f":"IF('D - P'!E223=\"\",\"\",'D - P'!E223)","v":""},{"$f":"IF('D - P'!F223=\"\",\"\",'D - P'!F223)","v":""},null,{"$f":"IF('D - P'!I223=\"\",\"\",'D - P'!I223)","v":""},{"$f":"IF('D - P'!J223=\"\",\"\",'D - P'!J223)","v":""},null,{"$f":"IF('D - P'!M223=\"\",\"\",'D - P'!M223)","v":""}]
[null,{"$f":"IF(AND('D - P'!$C224=\"\",'D - P'!$D224=\"\"),\"\",'D - P'!O224)","v":""},{"$f":"IF(AND('D - P'!$C224=\"\",'D - P'!$D224=\"\"),\"\",'D - P'!B224)","v":""},{"$f":"IF('D - P'!C224=\"\",\"\",'D - P'!C224)","v":""},{"$f":"IF('D - P'!D224=\"\",\"\",'D - P'!D224)","v":""},null,{"$f":"IF('D - P'!E224=\"\",\"\",'D - P'!E224)","v":""},{"$f":"IF('D - P'!F224=\"\",\"\",'D - P'!F224)","v":""},null,{"$f":"IF('D - P'!I224=\"\",\"\",'D - P'!I224)","v":""},{"$f":"IF('D - P'!J224=\"\",\"\",'D - P'!J224)","v":""},null,{"$f":"IF('D - P'!M224=\"\",\"\",'D - P'!M224)","v":""}]
[null,{"$f":"IF(AND('D - P'!$C225=\"\",'D - P'!$D225=\"\"),\"\",'D - P'!O225)","v":""},{"$f":"IF(AND('D - P'!$C225=\"\",'D - P'!$D225=\"\"),\"\",'D - P'!B225)","v":""},{"$f":"IF('D - P'!C225=\"\",\"\",'D - P'!C225)","v":""},{"$f":"IF('D - P'!D225=\"\",\"\",'D - P'!D225)","v":""},null,{"$f":"IF('D - P'!E225=\"\",\"\",'D - P'!E225)","v":""},{"$f":"IF('D - P'!F225=\"\",\"\",'D - P'!F225)","v":""},null,{"$f":"IF('D - P'!I225=\"\",\"\",'D - P'!I225)","v":""},{"$f":"IF('D - P'!J225=\"\",\"\",'D - P'!J225)","v":""},null,{"$f":"IF('D - P'!M225=\"\",\"\",'D - P'!M225)","v":""}]
[null,{"$f":"IF(AND('D - P'!$C226=\"\",'D - P'!$D226=\"\"),\"\",'D - P'!O226)","v":""},{"$f":"IF(AND('D - P'!$C226=\"\",'D - P'!$D226=\"\"),\"\",'D - P'!B226)","v":""},{"$f":"IF('D - P'!C226=\"\",\"\",'D - P'!C226)","v":""},{"$f":"IF('D - P'!D226=\"\",\"\",'D - P'!D226)","v":""},null,{"$f":"IF('D - P'!E226=\"\",\"\",'D - P'!E226)","v":""},{"$f":"IF('D - P'!F226=\"\",\"\",'D - P'!F226)","v":""},null,{"$f":"IF('D - P'!I226=\"\",\"\",'D - P'!I226)","v":""},{"$f":"IF('D - P'!J226=\"\",\"\",'D - P'!J226)","v":""},null,{"$f":"IF('D - P'!M226=\"\",\"\",'D - P'!M226)","v":""}]
[null,{"$f":"IF(AND('D - P'!$C227=\"\",'D - P'!$D227=\"\"),\"\",'D - P'!O227)","v":""},{"$f":"IF(AND('D - P'!$C227=\"\",'D - P'!$D227=\"\"),\"\",'D - P'!B227)","v":""},{"$f":"IF('D - P'!C227=\"\",\"\",'D - P'!C227)","v":""},{"$f":"IF('D - P'!D227=\"\",\"\",'D - P'!D227)","v":""},null,{"$f":"IF('D - P'!E227=\"\",\"\",'D - P'!E227)","v":""},{"$f":"IF('D - P'!F227=\"\",\"\",'D - P'!F227)","v":""},null,{"$f":"IF('D - P'!I227=\"\",\"\",'D - P'!I227)","v":""},{"$f":"IF('D - P'!J227=\"\",\"\",'D - P'!J227)","v":""},null,{"$f":"IF('D - P'!M227=\"\",\"\",'D - P'!M227)","v":""}]
[null,{"$f":"IF(AND('D - P'!$C228=\"\",'D - P'!$D228=\"\"),\"\",'D - P'!O228)","v":""},{"$f":"IF(AND('D - P'!$C228=\"\",'D - P'!$D228=\"\"),\"\",'D - P'!B228)","v":""},{"$f":"IF('D - P'!C228=\"\",\"\",'D - P'!C228)","v":""},{"$f":"IF('D - P'!D228=\"\",\"\",'D - P'!D228)","v":""},null,{"$f":"IF('D - P'!E228=\"\",\"\",'D - P'!E228)","v":""},{"$f":"IF('D - P'!F228=\"\",\"\",'D - P'!F228)","v":""},null,{"$f":"IF('D - P'!I228=\"\",\"\",'D - P'!I228)","v":""},{"$f":"IF('D - P'!J228=\"\",\"\",'D - P'!J228)","v":""},null,{"$f":"IF('D - P'!M228=\"\",\"\",'D - P'!M228)","v":""}]
[null,{"$f":"IF(AND('D - P'!$C229=\"\",'D - P'!$D229=\"\"),\"\",'D - P'!O229)","v":""},{"$f":"IF(AND('D - P'!$C229=\"\",'D - P'!$D229=\"\"),\"\",'D - P'!B229)","v":""},{"$f":"IF('D - P'!C229=\"\",\"\",'D - P'!C229)","v":""},{"$f":"IF('D - P'!D229=\"\",\"\",'D - P'!D229)","v":""},null,{"$f":"IF('D - P'!E229=\"\",\"\",'D - P'!E229)","v":""},{"$f":"IF('D - P'!F229=\"\",\"\",'D - P'!F229)","v":""},null,{"$f":"IF('D - P'!I229=\"\",\"\",'D - P'!I229)","v":""},{"$f":"IF('D - P'!J229=\"\",\"\",'D - P'!J229)","v":""},null,{"$f":"IF('D - P'!M229=\"\",\"\",'D - P'!M229)","v":""}]
[null,{"$f":"IF(AND('D - P'!$C230=\"\",'D - P'!$D230=\"\"),\"\",'D - P'!O230)","v":""},{"$f":"IF(AND('D - P'!$C230=\"\",'D - P'!$D230=\"\"),\"\",'D - P'!B230)","v":""},{"$f":"IF('D - P'!C230=\"\",\"\",'D - P'!C230)","v":""},{"$f":"IF('D - P'!D230=\"\",\"\",'D - P'!D230)","v":""},null,{"$f":"IF('D - P'!E230=\"\",\"\",'D - P'!E230)","v":""},{"$f":"IF('D - P'!F230=\"\",\"\",'D - P'!F230)","v":""},null,{"$f":"IF('D - P'!I230=\"\",\"\",'D - P'!I230)","v":""},{"$f":"IF('D - P'!J230=\"\",\"\",'D - P'!J230)","v":""},null,{"$f":"IF('D - P'!M230=\"\",\"\",'D - P'!M230)","v":""}]
[null,{"$f":"IF(AND('D - P'!$C231=\"\",'D - P'!$D231=\"\"),\"\",'D - P'!O231)","v":""},{"$f":"IF(AND('D - P'!$C231=\"\",'D - P'!$D231=\"\"),\"\",'D - P'!B231)","v":""},{"$f":"IF('D - P'!C231=\"\",\"\",'D - P'!C231)","v":""},{"$f":"IF('D - P'!D231=\"\",\"\",'D - P'!D231)","v":""},null,{"$f":"IF('D - P'!E231=\"\",\"\",'D - P'!E231)","v":""},{"$f":"IF('D - P'!F231=\"\",\"\",'D - P'!F231)","v":""},null,{"$f":"IF('D - P'!I231=\"\",\"\",'D - P'!I231)","v":""},{"$f":"IF('D - P'!J231=\"\",\"\",'D - P'!J231)","v":""},null,{"$f":"IF('D - P'!M231=\"\",\"\",'D - P'!M231)","v":""}]
[null,{"$f":"IF(AND('D - P'!$C232=\"\",'D - P'!$D232=\"\"),\"\",'D - P'!O232)","v":""},{"$f":"IF(AND('D - P'!$C232=\"\",'D - P'!$D232=\"\"),\"\",'D - P'!B232)","v":""},{"$f":"IF('D - P'!C232=\"\",\"\",'D - P'!C232)","v":""},{"$f":"IF('D - P'!D232=\"\",\"\",'D - P'!D232)","v":""},null,{"$f":"IF('D - P'!E232=\"\",\"\",'D - P'!E232)","v":""},{"$f":"IF('D - P'!F232=\"\",\"\",'D - P'!F232)","v":""},null,{"$f":"IF('D - P'!I232=\"\",\"\",'D - P'!I232)","v":""},{"$f":"IF('D - P'!J232=\"\",\"\",'D - P'!J232)","v":""},null,{"$f":"IF('D - P'!M232=\"\",\"\",'D - P'!M232)","v":""}]
[null,{"$f":"IF(AND('D - P'!$C233=\"\",'D - P'!$D233=\"\"),\"\",'D - P'!O233)","v":""},{"$f":"IF(AND('D - P'!$C233=\"\",'D - P'!$D233=\"\"),\"\",'D - P'!B233)","v":""},{"$f":"IF('D - P'!C233=\"\",\"\",'D - P'!C233)","v":""},{"$f":"IF('D - P'!D233=\"\",\"\",'D - P'!D233)","v":""},null,{"$f":"IF('D - P'!E233=\"\",\"\",'D - P'!E233)","v":""},{"$f":"IF('D - P'!F233=\"\",\"\",'D - P'!F233)","v":""},null,{"$f":"IF('D - P'!I233=\"\",\"\",'D - P'!I233)","v":""},{"$f":"IF('D - P'!J233=\"\",\"\",'D - P'!J233)","v":""},null,{"$f":"IF('D - P'!M233=\"\",\"\",'D - P'!M233)","v":""}]
[null,{"$f":"IF(AND('D - P'!$C234=\"\",'D - P'!$D234=\"\"),\"\",'D - P'!O234)","v":""},{"$f":"IF(AND('D - P'!$C234=\"\",'D - P'!$D234=\"\"),\"\",'D - P'!B234)","v":""},{"$f":"IF('D - P'!C234=\"\",\"\",'D - P'!C234)","v":""},{"$f":"IF('D - P'!D234=\"\",\"\",'D - P'!D234)","v":""},null,{"$f":"IF('D - P'!E234=\"\",\"\",'D - P'!E234)","v":""},{"$f":"IF('D - P'!F234=\"\",\"\",'D - P'!F234)","v":""},null,{"$f":"IF('D - P'!I234=\"\",\"\",'D - P'!I234)","v":""},{"$f":"IF('D - P'!J234=\"\",\"\",'D - P'!J234)","v":""},null,{"$f":"IF('D - P'!M234=\"\",\"\",'D - P'!M234)","v":""}]
[null,{"$f":"IF(AND('D - P'!$C235=\"\",'D - P'!$D235=\"\"),\"\",'D - P'!O235)","v":""},{"$f":"IF(AND('D - P'!$C235=\"\",'D - P'!$D235=\"\"),\"\",'D - P'!B235)","v":""},{"$f":"IF('D - P'!C235=\"\",\"\",'D - P'!C235)","v":""},{"$f":"IF('D - P'!D235=\"\",\"\",'D - P'!D235)","v":""},null,{"$f":"IF('D - P'!E235=\"\",\"\",'D - P'!E235)","v":""},{"$f":"IF('D - P'!F235=\"\",\"\",'D - P'!F235)","v":""},null,{"$f":"IF('D - P'!I235=\"\",\"\",'D - P'!I235)","v":""},{"$f":"IF('D - P'!J235=\"\",\"\",'D - P'!J235)","v":""},null,{"$f":"IF('D - P'!M235=\"\",\"\",'D - P'!M235)","v":""}]
[null,{"$f":"IF(AND('D - P'!$C236=\"\",'D - P'!$D236=\"\"),\"\",'D - P'!O236)","v":""},{"$f":"IF(AND('D - P'!$C236=\"\",'D - P'!$D236=\"\"),\"\",'D - P'!B236)","v":""},{"$f":"IF('D - P'!C236=\"\",\"\",'D - P'!C236)","v":""},{"$f":"IF('D - P'!D236=\"\",\"\",'D - P'!D236)","v":""},null,{"$f":"IF('D - P'!E236=\"\",\"\",'D - P'!E236)","v":""},{"$f":"IF('D - P'!F236=\"\",\"\",'D - P'!F236)","v":""},null,{"$f":"IF('D - P'!I236=\"\",\"\",'D - P'!I236)","v":""},{"$f":"IF('D - P'!J236=\"\",\"\",'D - P'!J236)","v":""},null,{"$f":"IF('D - P'!M236=\"\",\"\",'D - P'!M236)","v":""}]
[null,{"$f":"IF(AND('D - P'!$C237=\"\",'D - P'!$D237=\"\"),\"\",'D - P'!O237)","v":""},{"$f":"IF(AND('D - P'!$C237=\"\",'D - P'!$D237=\"\"),\"\",'D - P'!B237)","v":""},{"$f":"IF('D - P'!C237=\"\",\"\",'D - P'!C237)","v":""},{"$f":"IF('D - P'!D237=\"\",\"\",'D - P'!D237)","v":""},null,{"$f":"IF('D - P'!E237=\"\",\"\",'D - P'!E237)","v":""},{"$f":"IF('D - P'!F237=\"\",\"\",'D - P'!F237)","v":""},null,{"$f":"IF('D - P'!I237=\"\",\"\",'D - P'!I237)","v":""},{"$f":"IF('D - P'!J237=\"\",\"\",'D - P'!J237)","v":""},null,{"$f":"IF('D - P'!M237=\"\",\"\",'D - P'!M237)","v":""}]
[null,{"$f":"IF(AND('D - P'!$C238=\"\",'D - P'!$D238=\"\"),\"\",'D - P'!O238)","v":""},{"$f":"IF(AND('D - P'!$C238=\"\",'D - P'!$D238=\"\"),\"\",'D - P'!B238)","v":""},{"$f":"IF('D - P'!C238=\"\",\"\",'D - P'!C238)","v":""},{"$f":"IF('D - P'!D238=\"\",\"\",'D - P'!D238)","v":""},null,{"$f":"IF('D - P'!E238=\"\",\"\",'D - P'!E238)","v":""},{"$f":"IF('D - P'!F238=\"\",\"\",'D - P'!F238)","v":""},null,{"$f":"IF('D - P'!I238=\"\",\"\",'D - P'!I238)","v":""},{"$f":"IF('D - P'!J238=\"\",\"\",'D - P'!J238)","v":""},null,{"$f":"IF('D - P'!M238=\"\",\"\",'D - P'!M238)","v":""}]
[null,{"$f":"IF(AND('D - P'!$C239=\"\",'D - P'!$D239=\"\"),\"\",'D - P'!O239)","v":""},{"$f":"IF(AND('D - P'!$C239=\"\",'D - P'!$D239=\"\"),\"\",'D - P'!B239)","v":""},{"$f":"IF('D - P'!C239=\"\",\"\",'D - P'!C239)","v":""},{"$f":"IF('D - P'!D239=\"\",\"\",'D - P'!D239)","v":""},null,{"$f":"IF('D - P'!E239=\"\",\"\",'D - P'!E239)","v":""},{"$f":"IF('D - P'!F239=\"\",\"\",'D - P'!F239)","v":""},null,{"$f":"IF('D - P'!I239=\"\",\"\",'D - P'!I239)","v":""},{"$f":"IF('D - P'!J239=\"\",\"\",'D - P'!J239)","v":""},null,{"$f":"IF('D - P'!M239=\"\",\"\",'D - P'!M239)","v":""}]
[null,{"$f":"IF(AND('D - P'!$C240=\"\",'D - P'!$D240=\"\"),\"\",'D - P'!O240)","v":""},{"$f":"IF(AND('D - P'!$C240=\"\",'D - P'!$D240=\"\"),\"\",'D - P'!B240)","v":""},{"$f":"IF('D - P'!C240=\"\",\"\",'D - P'!C240)","v":""},{"$f":"IF('D - P'!D240=\"\",\"\",'D - P'!D240)","v":""},null,{"$f":"IF('D - P'!E240=\"\",\"\",'D - P'!E240)","v":""},{"$f":"IF('D - P'!F240=\"\",\"\",'D - P'!F240)","v":""},null,{"$f":"IF('D - P'!I240=\"\",\"\",'D - P'!I240)","v":""},{"$f":"IF('D - P'!J240=\"\",\"\",'D - P'!J240)","v":""},null,{"$f":"IF('D - P'!M240=\"\",\"\",'D - P'!M240)","v":""}]
[null,{"$f":"IF(AND('D - P'!$C241=\"\",'D - P'!$D241=\"\"),\"\",'D - P'!O241)","v":""},{"$f":"IF(AND('D - P'!$C241=\"\",'D - P'!$D241=\"\"),\"\",'D - P'!B241)","v":""},{"$f":"IF('D - P'!C241=\"\",\"\",'D - P'!C241)","v":""},{"$f":"IF('D - P'!D241=\"\",\"\",'D - P'!D241)","v":""},null,{"$f":"IF('D - P'!E241=\"\",\"\",'D - P'!E241)","v":""},{"$f":"IF('D - P'!F241=\"\",\"\",'D - P'!F241)","v":""},null,{"$f":"IF('D - P'!I241=\"\",\"\",'D - P'!I241)","v":""},{"$f":"IF('D - P'!J241=\"\",\"\",'D - P'!J241)","v":""},null,{"$f":"IF('D - P'!M241=\"\",\"\",'D - P'!M241)","v":""}]
[null,{"$f":"IF(AND('D - P'!$C242=\"\",'D - P'!$D242=\"\"),\"\",'D - P'!O242)","v":""},{"$f":"IF(AND('D - P'!$C242=\"\",'D - P'!$D242=\"\"),\"\",'D - P'!B242)","v":""},{"$f":"IF('D - P'!C242=\"\",\"\",'D - P'!C242)","v":""},{"$f":"IF('D - P'!D242=\"\",\"\",'D - P'!D242)","v":""},null,{"$f":"IF('D - P'!E242=\"\",\"\",'D - P'!E242)","v":""},{"$f":"IF('D - P'!F242=\"\",\"\",'D - P'!F242)","v":""},null,{"$f":"IF('D - P'!I242=\"\",\"\",'D - P'!I242)","v":""},{"$f":"IF('D - P'!J242=\"\",\"\",'D - P'!J242)","v":""},null,{"$f":"IF('D - P'!M242=\"\",\"\",'D - P'!M242)","v":""}]
[null,{"$f":"IF(AND('D - P'!$C243=\"\",'D - P'!$D243=\"\"),\"\",'D - P'!O243)","v":""},{"$f":"IF(AND('D - P'!$C243=\"\",'D - P'!$D243=\"\"),\"\",'D - P'!B243)","v":""},{"$f":"IF('D - P'!C243=\"\",\"\",'D - P'!C243)","v":""},{"$f":"IF('D - P'!D243=\"\",\"\",'D - P'!D243)","v":""},null,{"$f":"IF('D - P'!E243=\"\",\"\",'D - P'!E243)","v":""},{"$f":"IF('D - P'!F243=\"\",\"\",'D - P'!F243)","v":""},null,{"$f":"IF('D - P'!I243=\"\",\"\",'D - P'!I243)","v":""},{"$f":"IF('D - P'!J243=\"\",\"\",'D - P'!J243)","v":""},null,{"$f":"IF('D - P'!M243=\"\",\"\",'D - P'!M243)","v":""}]
[null,{"$f":"IF(AND('D - P'!$C244=\"\",'D - P'!$D244=\"\"),\"\",'D - P'!O244)","v":""},{"$f":"IF(AND('D - P'!$C244=\"\",'D - P'!$D244=\"\"),\"\",'D - P'!B244)","v":""},{"$f":"IF('D - P'!C244=\"\",\"\",'D - P'!C244)","v":""},{"$f":"IF('D - P'!D244=\"\",\"\",'D - P'!D244)","v":""},null,{"$f":"IF('D - P'!E244=\"\",\"\",'D - P'!E244)","v":""},{"$f":"IF('D - P'!F244=\"\",\"\",'D - P'!F244)","v":""},null,{"$f":"IF('D - P'!I244=\"\",\"\",'D - P'!I244)","v":""},{"$f":"IF('D - P'!J244=\"\",\"\",'D - P'!J244)","v":""},null,{"$f":"IF('D - P'!M244=\"\",\"\",'D - P'!M244)","v":""}]
[null,{"$f":"IF(AND('D - P'!$C245=\"\",'D - P'!$D245=\"\"),\"\",'D - P'!O245)","v":""},{"$f":"IF(AND('D - P'!$C245=\"\",'D - P'!$D245=\"\"),\"\",'D - P'!B245)","v":""},{"$f":"IF('D - P'!C245=\"\",\"\",'D - P'!C245)","v":""},{"$f":"IF('D - P'!D245=\"\",\"\",'D - P'!D245)","v":""},null,{"$f":"IF('D - P'!E245=\"\",\"\",'D - P'!E245)","v":""},{"$f":"IF('D - P'!F245=\"\",\"\",'D - P'!F245)","v":""},null,{"$f":"IF('D - P'!I245=\"\",\"\",'D - P'!I245)","v":""},{"$f":"IF('D - P'!J245=\"\",\"\",'D - P'!J245)","v":""},null,{"$f":"IF('D - P'!M245=\"\",\"\",'D - P'!M245)","v":""}]
[null,{"$f":"IF(AND('D - P'!$C246=\"\",'D - P'!$D246=\"\"),\"\",'D - P'!O246)","v":""},{"$f":"IF(AND('D - P'!$C246=\"\",'D - P'!$D246=\"\"),\"\",'D - P'!B246)","v":""},{"$f":"IF('D - P'!C246=\"\",\"\",'D - P'!C246)","v":""},{"$f":"IF('D - P'!D246=\"\",\"\",'D - P'!D246)","v":""},null,{"$f":"IF('D - P'!E246=\"\",\"\",'D - P'!E246)","v":""},{"$f":"IF('D - P'!F246=\"\",\"\",'D - P'!F246)","v":""},null,{"$f":"IF('D - P'!I246=\"\",\"\",'D - P'!I246)","v":""},{"$f":"IF('D - P'!J246=\"\",\"\",'D - P'!J246)","v":""},null,{"$f":"IF('D - P'!M246=\"\",\"\",'D - P'!M246)","v":""}]
[null,{"$f":"IF(AND('D - P'!$C247=\"\",'D - P'!$D247=\"\"),\"\",'D - P'!O247)","v":""},{"$f":"IF(AND('D - P'!$C247=\"\",'D - P'!$D247=\"\"),\"\",'D - P'!B247)","v":""},{"$f":"IF('D - P'!C247=\"\",\"\",'D - P'!C247)","v":""},{"$f":"IF('D - P'!D247=\"\",\"\",'D - P'!D247)","v":""},null,{"$f":"IF('D - P'!E247=\"\",\"\",'D - P'!E247)","v":""},{"$f":"IF('D - P'!F247=\"\",\"\",'D - P'!F247)","v":""},null,{"$f":"IF('D - P'!I247=\"\",\"\",'D - P'!I247)","v":""},{"$f":"IF('D - P'!J247=\"\",\"\",'D - P'!J247)","v":""},null,{"$f":"IF('D - P'!M247=\"\",\"\",'D - P'!M247)","v":""}]
[null,{"$f":"IF(AND('D - P'!$C248=\"\",'D - P'!$D248=\"\"),\"\",'D - P'!O248)","v":""},{"$f":"IF(AND('D - P'!$C248=\"\",'D - P'!$D248=\"\"),\"\",'D - P'!B248)","v":""},{"$f":"IF('D - P'!C248=\"\",\"\",'D - P'!C248)","v":""},{"$f":"IF('D - P'!D248=\"\",\"\",'D - P'!D248)","v":""},null,{"$f":"IF('D - P'!E248=\"\",\"\",'D - P'!E248)","v":""},{"$f":"IF('D - P'!F248=\"\",\"\",'D - P'!F248)","v":""},null,{"$f":"IF('D - P'!I248=\"\",\"\",'D - P'!I248)","v":""},{"$f":"IF('D - P'!J248=\"\",\"\",'D - P'!J248)","v":""},null,{"$f":"IF('D - P'!M248=\"\",\"\",'D - P'!M248)","v":""}]
[null,{"$f":"IF(AND('D - P'!$C249=\"\",'D - P'!$D249=\"\"),\"\",'D - P'!O249)","v":""},{"$f":"IF(AND('D - P'!$C249=\"\",'D - P'!$D249=\"\"),\"\",'D - P'!B249)","v":""},{"$f":"IF('D - P'!C249=\"\",\"\",'D - P'!C249)","v":""},{"$f":"IF('D - P'!D249=\"\",\"\",'D - P'!D249)","v":""},null,{"$f":"IF('D - P'!E249=\"\",\"\",'D - P'!E249)","v":""},{"$f":"IF('D - P'!F249=\"\",\"\",'D - P'!F249)","v":""},null,{"$f":"IF('D - P'!I249=\"\",\"\",'D - P'!I249)","v":""},{"$f":"IF('D - P'!J249=\"\",\"\",'D - P'!J249)","v":""},null,{"$f":"IF('D - P'!M249=\"\",\"\",'D - P'!M249)","v":""}]
[null,{"$f":"IF(AND('D - P'!$C250=\"\",'D - P'!$D250=\"\"),\"\",'D - P'!O250)","v":""},{"$f":"IF(AND('D - P'!$C250=\"\",'D - P'!$D250=\"\"),\"\",'D - P'!B250)","v":""},{"$f":"IF('D - P'!C250=\"\",\"\",'D - P'!C250)","v":""},{"$f":"IF('D - P'!D250=\"\",\"\",'D - P'!D250)","v":""},null,{"$f":"IF('D - P'!E250=\"\",\"\",'D - P'!E250)","v":""},{"$f":"IF('D - P'!F250=\"\",\"\",'D - P'!F250)","v":""},null,{"$f":"IF('D - P'!I250=\"\",\"\",'D - P'!I250)","v":""},{"$f":"IF('D - P'!J250=\"\",\"\",'D - P'!J250)","v":""},null,{"$f":"IF('D - P'!M250=\"\",\"\",'D - P'!M250)","v":""}]
[null,{"$f":"IF(AND('D - P'!$C251=\"\",'D - P'!$D251=\"\"),\"\",'D - P'!O251)","v":""},{"$f":"IF(AND('D - P'!$C251=\"\",'D - P'!$D251=\"\"),\"\",'D - P'!B251)","v":""},{"$f":"IF('D - P'!C251=\"\",\"\",'D - P'!C251)","v":""},{"$f":"IF('D - P'!D251=\"\",\"\",'D - P'!D251)","v":""},null,{"$f":"IF('D - P'!E251=\"\",\"\",'D - P'!E251)","v":""},{"$f":"IF('D - P'!F251=\"\",\"\",'D - P'!F251)","v":""},null,{"$f":"IF('D - P'!I251=\"\",\"\",'D - P'!I251)","v":""},{"$f":"IF('D - P'!J251=\"\",\"\",'D - P'!J251)","v":""},null,{"$f":"IF('D - P'!M251=\"\",\"\",'D - P'!M251)","v":""}]
[null,{"$f":"IF(AND('D - P'!$C252=\"\",'D - P'!$D252=\"\"),\"\",'D - P'!O252)","v":""},{"$f":"IF(AND('D - P'!$C252=\"\",'D - P'!$D252=\"\"),\"\",'D - P'!B252)","v":""},{"$f":"IF('D - P'!C252=\"\",\"\",'D - P'!C252)","v":""},{"$f":"IF('D - P'!D252=\"\",\"\",'D - P'!D252)","v":""},null,{"$f":"IF('D - P'!E252=\"\",\"\",'D - P'!E252)","v":""},{"$f":"IF('D - P'!F252=\"\",\"\",'D - P'!F252)","v":""},null,{"$f":"IF('D - P'!I252=\"\",\"\",'D - P'!I252)","v":""},{"$f":"IF('D - P'!J252=\"\",\"\",'D - P'!J252)","v":""},null,{"$f":"IF('D - P'!M252=\"\",\"\",'D - P'!M252)","v":""}]
[null,{"$f":"B$1","v":"Dvojboj - Celkové pořadí"}]
[]
[null,{"$f":"B$3","v":"VC ČR v požárním útoku družstev HZS krajů a HZS podniků"},null,null,{"$f":"E$3","v":"Petrovice 19.9.2019"}]
[]
[null,{"$f":"Start!$C$5","v":"MUŽI"}]
[null,"Pořadí","Start. číslo","Jméno","kolektiv",null,"100m",null,null,"věž",null,null,"Výsledný čas"]
[null,null,null,null,null,null,"1.pokus","2.pokus",null,"1.pokus","2.pokus"]
[null,{"$f":"IF(AND('D - P'!$C253=\"\",'D - P'!$D253=\"\"),\"\",'D - P'!O253)","v":""},{"$f":"IF(AND('D - P'!$C253=\"\",'D - P'!$D253=\"\"),\"\",'D - P'!B253)","v":""},{"$f":"IF('D - P'!C253=\"\",\"\",'D - P'!C253)","v":""},{"$f":"IF('D - P'!D253=\"\",\"\",'D - P'!D253)","v":""},null,{"$f":"IF('D - P'!E253=\"\",\"\",'D - P'!E253)","v":""},{"$f":"IF('D - P'!F253=\"\",\"\",'D - P'!F253)","v":""},null,{"$f":"IF('D - P'!I253=\"\",\"\",'D - P'!I253)","v":""},{"$f":"IF('D - P'!J253=\"\",\"\",'D - P'!J253)","v":""},null,{"$f":"IF('D - P'!M253=\"\",\"\",'D - P'!M253)","v":""}]
[null,{"$f":"IF(AND('D - P'!$C254=\"\",'D - P'!$D254=\"\"),\"\",'D - P'!O254)","v":""},{"$f":"IF(AND('D - P'!$C254=\"\",'D - P'!$D254=\"\"),\"\",'D - P'!B254)","v":""},{"$f":"IF('D - P'!C254=\"\",\"\",'D - P'!C254)","v":""},{"$f":"IF('D - P'!D254=\"\",\"\",'D - P'!D254)","v":""},null,{"$f":"IF('D - P'!E254=\"\",\"\",'D - P'!E254)","v":""},{"$f":"IF('D - P'!F254=\"\",\"\",'D - P'!F254)","v":""},null,{"$f":"IF('D - P'!I254=\"\",\"\",'D - P'!I254)","v":""},{"$f":"IF('D - P'!J254=\"\",\"\",'D - P'!J254)","v":""},null,{"$f":"IF('D - P'!M254=\"\",\"\",'D - P'!M254)","v":""}]
[null,{"$f":"IF(AND('D - P'!$C255=\"\",'D - P'!$D255=\"\"),\"\",'D - P'!O255)","v":""},{"$f":"IF(AND('D - P'!$C255=\"\",'D - P'!$D255=\"\"),\"\",'D - P'!B255)","v":""},{"$f":"IF('D - P'!C255=\"\",\"\",'D - P'!C255)","v":""},{"$f":"IF('D - P'!D255=\"\",\"\",'D - P'!D255)","v":""},null,{"$f":"IF('D - P'!E255=\"\",\"\",'D - P'!E255)","v":""},{"$f":"IF('D - P'!F255=\"\",\"\",'D - P'!F255)","v":""},null,{"$f":"IF('D - P'!I255=\"\",\"\",'D - P'!I255)","v":""},{"$f":"IF('D - P'!J255=\"\",\"\",'D - P'!J255)","v":""},null,{"$f":"IF('D - P'!M255=\"\",\"\",'D - P'!M255)","v":""}]
[null,{"$f":"IF(AND('D - P'!$C256=\"\",'D - P'!$D256=\"\"),\"\",'D - P'!O256)","v":""},{"$f":"IF(AND('D - P'!$C256=\"\",'D - P'!$D256=\"\"),\"\",'D - P'!B256)","v":""},{"$f":"IF('D - P'!C256=\"\",\"\",'D - P'!C256)","v":""},{"$f":"IF('D - P'!D256=\"\",\"\",'D - P'!D256)","v":""},null,{"$f":"IF('D - P'!E256=\"\",\"\",'D - P'!E256)","v":""},{"$f":"IF('D - P'!F256=\"\",\"\",'D - P'!F256)","v":""},null,{"$f":"IF('D - P'!I256=\"\",\"\",'D - P'!I256)","v":""},{"$f":"IF('D - P'!J256=\"\",\"\",'D - P'!J256)","v":""},null,{"$f":"IF('D - P'!M256=\"\",\"\",'D - P'!M256)","v":""}]
[null,{"$f":"IF(AND('D - P'!$C257=\"\",'D - P'!$D257=\"\"),\"\",'D - P'!O257)","v":""},{"$f":"IF(AND('D - P'!$C257=\"\",'D - P'!$D257=\"\"),\"\",'D - P'!B257)","v":""},{"$f":"IF('D - P'!C257=\"\",\"\",'D - P'!C257)","v":""},{"$f":"IF('D - P'!D257=\"\",\"\",'D - P'!D257)","v":""},null,{"$f":"IF('D - P'!E257=\"\",\"\",'D - P'!E257)","v":""},{"$f":"IF('D - P'!F257=\"\",\"\",'D - P'!F257)","v":""},null,{"$f":"IF('D - P'!I257=\"\",\"\",'D - P'!I257)","v":""},{"$f":"IF('D - P'!J257=\"\",\"\",'D - P'!J257)","v":""},null,{"$f":"IF('D - P'!M257=\"\",\"\",'D - P'!M257)","v":""}]
[null,{"$f":"IF(AND('D - P'!$C258=\"\",'D - P'!$D258=\"\"),\"\",'D - P'!O258)","v":""},{"$f":"IF(AND('D - P'!$C258=\"\",'D - P'!$D258=\"\"),\"\",'D - P'!B258)","v":""},{"$f":"IF('D - P'!C258=\"\",\"\",'D - P'!C258)","v":""},{"$f":"IF('D - P'!D258=\"\",\"\",'D - P'!D258)","v":""},null,{"$f":"IF('D - P'!E258=\"\",\"\",'D - P'!E258)","v":""},{"$f":"IF('D - P'!F258=\"\",\"\",'D - P'!F258)","v":""},null,{"$f":"IF('D - P'!I258=\"\",\"\",'D - P'!I258)","v":""},{"$f":"IF('D - P'!J258=\"\",\"\",'D - P'!J258)","v":""},null,{"$f":"IF('D - P'!M258=\"\",\"\",'D - P'!M258)","v":""}]
[null,{"$f":"IF(AND('D - P'!$C259=\"\",'D - P'!$D259=\"\"),\"\",'D - P'!O259)","v":""},{"$f":"IF(AND('D - P'!$C259=\"\",'D - P'!$D259=\"\"),\"\",'D - P'!B259)","v":""},{"$f":"IF('D - P'!C259=\"\",\"\",'D - P'!C259)","v":""},{"$f":"IF('D - P'!D259=\"\",\"\",'D - P'!D259)","v":""},null,{"$f":"IF('D - P'!E259=\"\",\"\",'D - P'!E259)","v":""},{"$f":"IF('D - P'!F259=\"\",\"\",'D - P'!F259)","v":""},null,{"$f":"IF('D - P'!I259=\"\",\"\",'D - P'!I259)","v":""},{"$f":"IF('D - P'!J259=\"\",\"\",'D - P'!J259)","v":""},null,{"$f":"IF('D - P'!M259=\"\",\"\",'D - P'!M259)","v":""}]
[null,{"$f":"IF(AND('D - P'!$C260=\"\",'D - P'!$D260=\"\"),\"\",'D - P'!O260)","v":""},{"$f":"IF(AND('D - P'!$C260=\"\",'D - P'!$D260=\"\"),\"\",'D - P'!B260)","v":""},{"$f":"IF('D - P'!C260=\"\",\"\",'D - P'!C260)","v":""},{"$f":"IF('D - P'!D260=\"\",\"\",'D - P'!D260)","v":""},null,{"$f":"IF('D - P'!E260=\"\",\"\",'D - P'!E260)","v":""},{"$f":"IF('D - P'!F260=\"\",\"\",'D - P'!F260)","v":""},null,{"$f":"IF('D - P'!I260=\"\",\"\",'D - P'!I260)","v":""},{"$f":"IF('D - P'!J260=\"\",\"\",'D - P'!J260)","v":""},null,{"$f":"IF('D - P'!M260=\"\",\"\",'D - P'!M260)","v":""}]
[null,{"$f":"IF(AND('D - P'!$C261=\"\",'D - P'!$D261=\"\"),\"\",'D - P'!O261)","v":""},{"$f":"IF(AND('D - P'!$C261=\"\",'D - P'!$D261=\"\"),\"\",'D - P'!B261)","v":""},{"$f":"IF('D - P'!C261=\"\",\"\",'D - P'!C261)","v":""},{"$f":"IF('D - P'!D261=\"\",\"\",'D - P'!D261)","v":""},null,{"$f":"IF('D - P'!E261=\"\",\"\",'D - P'!E261)","v":""},{"$f":"IF('D - P'!F261=\"\",\"\",'D - P'!F261)","v":""},null,{"$f":"IF('D - P'!I261=\"\",\"\",'D - P'!I261)","v":""},{"$f":"IF('D - P'!J261=\"\",\"\",'D - P'!J261)","v":""},null,{"$f":"IF('D - P'!M261=\"\",\"\",'D - P'!M261)","v":""}]
[null,{"$f":"IF(AND('D - P'!$C262=\"\",'D - P'!$D262=\"\"),\"\",'D - P'!O262)","v":""},{"$f":"IF(AND('D - P'!$C262=\"\",'D - P'!$D262=\"\"),\"\",'D - P'!B262)","v":""},{"$f":"IF('D - P'!C262=\"\",\"\",'D - P'!C262)","v":""},{"$f":"IF('D - P'!D262=\"\",\"\",'D - P'!D262)","v":""},null,{"$f":"IF('D - P'!E262=\"\",\"\",'D - P'!E262)","v":""},{"$f":"IF('D - P'!F262=\"\",\"\",'D - P'!F262)","v":""},null,{"$f":"IF('D - P'!I262=\"\",\"\",'D - P'!I262)","v":""},{"$f":"IF('D - P'!J262=\"\",\"\",'D - P'!J262)","v":""},null,{"$f":"IF('D - P'!M262=\"\",\"\",'D - P'!M262)","v":""}]
[null,{"$f":"IF(AND('D - P'!$C263=\"\",'D - P'!$D263=\"\"),\"\",'D - P'!O263)","v":""},{"$f":"IF(AND('D - P'!$C263=\"\",'D - P'!$D263=\"\"),\"\",'D - P'!B263)","v":""},{"$f":"IF('D - P'!C263=\"\",\"\",'D - P'!C263)","v":""},{"$f":"IF('D - P'!D263=\"\",\"\",'D - P'!D263)","v":""},null,{"$f":"IF('D - P'!E263=\"\",\"\",'D - P'!E263)","v":""},{"$f":"IF('D - P'!F263=\"\",\"\",'D - P'!F263)","v":""},null,{"$f":"IF('D - P'!I263=\"\",\"\",'D - P'!I263)","v":""},{"$f":"IF('D - P'!J263=\"\",\"\",'D - P'!J263)","v":""},null,{"$f":"IF('D - P'!M263=\"\",\"\",'D - P'!M263)","v":""}]
[null,{"$f":"IF(AND('D - P'!$C264=\"\",'D - P'!$D264=\"\"),\"\",'D - P'!O264)","v":""},{"$f":"IF(AND('D - P'!$C264=\"\",'D - P'!$D264=\"\"),\"\",'D - P'!B264)","v":""},{"$f":"IF('D - P'!C264=\"\",\"\",'D - P'!C264)","v":""},{"$f":"IF('D - P'!D264=\"\",\"\",'D - P'!D264)","v":""},null,{"$f":"IF('D - P'!E264=\"\",\"\",'D - P'!E264)","v":""},{"$f":"IF('D - P'!F264=\"\",\"\",'D - P'!F264)","v":""},null,{"$f":"IF('D - P'!I264=\"\",\"\",'D - P'!I264)","v":""},{"$f":"IF('D - P'!J264=\"\",\"\",'D - P'!J264)","v":""},null,{"$f":"IF('D - P'!M264=\"\",\"\",'D - P'!M264)","v":""}]
[null,{"$f":"IF(AND('D - P'!$C265=\"\",'D - P'!$D265=\"\"),\"\",'D - P'!O265)","v":""},{"$f":"IF(AND('D - P'!$C265=\"\",'D - P'!$D265=\"\"),\"\",'D - P'!B265)","v":""},{"$f":"IF('D - P'!C265=\"\",\"\",'D - P'!C265)","v":""},{"$f":"IF('D - P'!D265=\"\",\"\",'D - P'!D265)","v":""},null,{"$f":"IF('D - P'!E265=\"\",\"\",'D - P'!E265)","v":""},{"$f":"IF('D - P'!F265=\"\",\"\",'D - P'!F265)","v":""},null,{"$f":"IF('D - P'!I265=\"\",\"\",'D - P'!I265)","v":""},{"$f":"IF('D - P'!J265=\"\",\"\",'D - P'!J265)","v":""},null,{"$f":"IF('D - P'!M265=\"\",\"\",'D - P'!M265)","v":""}]
[null,{"$f":"IF(AND('D - P'!$C266=\"\",'D - P'!$D266=\"\"),\"\",'D - P'!O266)","v":""},{"$f":"IF(AND('D - P'!$C266=\"\",'D - P'!$D266=\"\"),\"\",'D - P'!B266)","v":""},{"$f":"IF('D - P'!C266=\"\",\"\",'D - P'!C266)","v":""},{"$f":"IF('D - P'!D266=\"\",\"\",'D - P'!D266)","v":""},null,{"$f":"IF('D - P'!E266=\"\",\"\",'D - P'!E266)","v":""},{"$f":"IF('D - P'!F266=\"\",\"\",'D - P'!F266)","v":""},null,{"$f":"IF('D - P'!I266=\"\",\"\",'D - P'!I266)","v":""},{"$f":"IF('D - P'!J266=\"\",\"\",'D - P'!J266)","v":""},null,{"$f":"IF('D - P'!M266=\"\",\"\",'D - P'!M266)","v":""}]
[null,{"$f":"IF(AND('D - P'!$C267=\"\",'D - P'!$D267=\"\"),\"\",'D - P'!O267)","v":""},{"$f":"IF(AND('D - P'!$C267=\"\",'D - P'!$D267=\"\"),\"\",'D - P'!B267)","v":""},{"$f":"IF('D - P'!C267=\"\",\"\",'D - P'!C267)","v":""},{"$f":"IF('D - P'!D267=\"\",\"\",'D - P'!D267)","v":""},null,{"$f":"IF('D - P'!E267=\"\",\"\",'D - P'!E267)","v":""},{"$f":"IF('D - P'!F267=\"\",\"\",'D - P'!F267)","v":""},null,{"$f":"IF('D - P'!I267=\"\",\"\",'D - P'!I267)","v":""},{"$f":"IF('D - P'!J267=\"\",\"\",'D - P'!J267)","v":""},null,{"$f":"IF('D - P'!M267=\"\",\"\",'D - P'!M267)","v":""}]
[null,{"$f":"IF(AND('D - P'!$C268=\"\",'D - P'!$D268=\"\"),\"\",'D - P'!O268)","v":""},{"$f":"IF(AND('D - P'!$C268=\"\",'D - P'!$D268=\"\"),\"\",'D - P'!B268)","v":""},{"$f":"IF('D - P'!C268=\"\",\"\",'D - P'!C268)","v":""},{"$f":"IF('D - P'!D268=\"\",\"\",'D - P'!D268)","v":""},null,{"$f":"IF('D - P'!E268=\"\",\"\",'D - P'!E268)","v":""},{"$f":"IF('D - P'!F268=\"\",\"\",'D - P'!F268)","v":""},null,{"$f":"IF('D - P'!I268=\"\",\"\",'D - P'!I268)","v":""},{"$f":"IF('D - P'!J268=\"\",\"\",'D - P'!J268)","v":""},null,{"$f":"IF('D - P'!M268=\"\",\"\",'D - P'!M268)","v":""}]
[null,{"$f":"IF(AND('D - P'!$C269=\"\",'D - P'!$D269=\"\"),\"\",'D - P'!O269)","v":""},{"$f":"IF(AND('D - P'!$C269=\"\",'D - P'!$D269=\"\"),\"\",'D - P'!B269)","v":""},{"$f":"IF('D - P'!C269=\"\",\"\",'D - P'!C269)","v":""},{"$f":"IF('D - P'!D269=\"\",\"\",'D - P'!D269)","v":""},null,{"$f":"IF('D - P'!E269=\"\",\"\",'D - P'!E269)","v":""},{"$f":"IF('D - P'!F269=\"\",\"\",'D - P'!F269)","v":""},null,{"$f":"IF('D - P'!I269=\"\",\"\",'D - P'!I269)","v":""},{"$f":"IF('D - P'!J269=\"\",\"\",'D - P'!J269)","v":""},null,{"$f":"IF('D - P'!M269=\"\",\"\",'D - P'!M269)","v":""}]
[null,{"$f":"IF(AND('D - P'!$C270=\"\",'D - P'!$D270=\"\"),\"\",'D - P'!O270)","v":""},{"$f":"IF(AND('D - P'!$C270=\"\",'D - P'!$D270=\"\"),\"\",'D - P'!B270)","v":""},{"$f":"IF('D - P'!C270=\"\",\"\",'D - P'!C270)","v":""},{"$f":"IF('D - P'!D270=\"\",\"\",'D - P'!D270)","v":""},null,{"$f":"IF('D - P'!E270=\"\",\"\",'D - P'!E270)","v":""},{"$f":"IF('D - P'!F270=\"\",\"\",'D - P'!F270)","v":""},null,{"$f":"IF('D - P'!I270=\"\",\"\",'D - P'!I270)","v":""},{"$f":"IF('D - P'!J270=\"\",\"\",'D - P'!J270)","v":""},null,{"$f":"IF('D - P'!M270=\"\",\"\",'D - P'!M270)","v":""}]
[null,{"$f":"IF(AND('D - P'!$C271=\"\",'D - P'!$D271=\"\"),\"\",'D - P'!O271)","v":""},{"$f":"IF(AND('D - P'!$C271=\"\",'D - P'!$D271=\"\"),\"\",'D - P'!B271)","v":""},{"$f":"IF('D - P'!C271=\"\",\"\",'D - P'!C271)","v":""},{"$f":"IF('D - P'!D271=\"\",\"\",'D - P'!D271)","v":""},null,{"$f":"IF('D - P'!E271=\"\",\"\",'D - P'!E271)","v":""},{"$f":"IF('D - P'!F271=\"\",\"\",'D - P'!F271)","v":""},null,{"$f":"IF('D - P'!I271=\"\",\"\",'D - P'!I271)","v":""},{"$f":"IF('D - P'!J271=\"\",\"\",'D - P'!J271)","v":""},null,{"$f":"IF('D - P'!M271=\"\",\"\",'D - P'!M271)","v":""}]
[null,{"$f":"IF(AND('D - P'!$C272=\"\",'D - P'!$D272=\"\"),\"\",'D - P'!O272)","v":""},{"$f":"IF(AND('D - P'!$C272=\"\",'D - P'!$D272=\"\"),\"\",'D - P'!B272)","v":""},{"$f":"IF('D - P'!C272=\"\",\"\",'D - P'!C272)","v":""},{"$f":"IF('D - P'!D272=\"\",\"\",'D - P'!D272)","v":""},null,{"$f":"IF('D - P'!E272=\"\",\"\",'D - P'!E272)","v":""},{"$f":"IF('D - P'!F272=\"\",\"\",'D - P'!F272)","v":""},null,{"$f":"IF('D - P'!I272=\"\",\"\",'D - P'!I272)","v":""},{"$f":"IF('D - P'!J272=\"\",\"\",'D - P'!J272)","v":""},null,{"$f":"IF('D - P'!M272=\"\",\"\",'D - P'!M272)","v":""}]
[null,{"$f":"IF(AND('D - P'!$C273=\"\",'D - P'!$D273=\"\"),\"\",'D - P'!O273)","v":""},{"$f":"IF(AND('D - P'!$C273=\"\",'D - P'!$D273=\"\"),\"\",'D - P'!B273)","v":""},{"$f":"IF('D - P'!C273=\"\",\"\",'D - P'!C273)","v":""},{"$f":"IF('D - P'!D273=\"\",\"\",'D - P'!D273)","v":""},null,{"$f":"IF('D - P'!E273=\"\",\"\",'D - P'!E273)","v":""},{"$f":"IF('D - P'!F273=\"\",\"\",'D - P'!F273)","v":""},null,{"$f":"IF('D - P'!I273=\"\",\"\",'D - P'!I273)","v":""},{"$f":"IF('D - P'!J273=\"\",\"\",'D - P'!J273)","v":""},null,{"$f":"IF('D - P'!M273=\"\",\"\",'D - P'!M273)","v":""}]
[null,{"$f":"IF(AND('D - P'!$C274=\"\",'D - P'!$D274=\"\"),\"\",'D - P'!O274)","v":""},{"$f":"IF(AND('D - P'!$C274=\"\",'D - P'!$D274=\"\"),\"\",'D - P'!B274)","v":""},{"$f":"IF('D - P'!C274=\"\",\"\",'D - P'!C274)","v":""},{"$f":"IF('D - P'!D274=\"\",\"\",'D - P'!D274)","v":""},null,{"$f":"IF('D - P'!E274=\"\",\"\",'D - P'!E274)","v":""},{"$f":"IF('D - P'!F274=\"\",\"\",'D - P'!F274)","v":""},null,{"$f":"IF('D - P'!I274=\"\",\"\",'D - P'!I274)","v":""},{"$f":"IF('D - P'!J274=\"\",\"\",'D - P'!J274)","v":""},null,{"$f":"IF('D - P'!M274=\"\",\"\",'D - P'!M274)","v":""}]
[null,{"$f":"IF(AND('D - P'!$C275=\"\",'D - P'!$D275=\"\"),\"\",'D - P'!O275)","v":""},{"$f":"IF(AND('D - P'!$C275=\"\",'D - P'!$D275=\"\"),\"\",'D - P'!B275)","v":""},{"$f":"IF('D - P'!C275=\"\",\"\",'D - P'!C275)","v":""},{"$f":"IF('D - P'!D275=\"\",\"\",'D - P'!D275)","v":""},null,{"$f":"IF('D - P'!E275=\"\",\"\",'D - P'!E275)","v":""},{"$f":"IF('D - P'!F275=\"\",\"\",'D - P'!F275)","v":""},null,{"$f":"IF('D - P'!I275=\"\",\"\",'D - P'!I275)","v":""},{"$f":"IF('D - P'!J275=\"\",\"\",'D - P'!J275)","v":""},null,{"$f":"IF('D - P'!M275=\"\",\"\",'D - P'!M275)","v":""}]
[null,{"$f":"IF(AND('D - P'!$C276=\"\",'D - P'!$D276=\"\"),\"\",'D - P'!O276)","v":""},{"$f":"IF(AND('D - P'!$C276=\"\",'D - P'!$D276=\"\"),\"\",'D - P'!B276)","v":""},{"$f":"IF('D - P'!C276=\"\",\"\",'D - P'!C276)","v":""},{"$f":"IF('D - P'!D276=\"\",\"\",'D - P'!D276)","v":""},null,{"$f":"IF('D - P'!E276=\"\",\"\",'D - P'!E276)","v":""},{"$f":"IF('D - P'!F276=\"\",\"\",'D - P'!F276)","v":""},null,{"$f":"IF('D - P'!I276=\"\",\"\",'D - P'!I276)","v":""},{"$f":"IF('D - P'!J276=\"\",\"\",'D - P'!J276)","v":""},null,{"$f":"IF('D - P'!M276=\"\",\"\",'D - P'!M276)","v":""}]
[null,{"$f":"IF(AND('D - P'!$C277=\"\",'D - P'!$D277=\"\"),\"\",'D - P'!O277)","v":""},{"$f":"IF(AND('D - P'!$C277=\"\",'D - P'!$D277=\"\"),\"\",'D - P'!B277)","v":""},{"$f":"IF('D - P'!C277=\"\",\"\",'D - P'!C277)","v":""},{"$f":"IF('D - P'!D277=\"\",\"\",'D - P'!D277)","v":""},null,{"$f":"IF('D - P'!E277=\"\",\"\",'D - P'!E277)","v":""},{"$f":"IF('D - P'!F277=\"\",\"\",'D - P'!F277)","v":""},null,{"$f":"IF('D - P'!I277=\"\",\"\",'D - P'!I277)","v":""},{"$f":"IF('D - P'!J277=\"\",\"\",'D - P'!J277)","v":""},null,{"$f":"IF('D - P'!M277=\"\",\"\",'D - P'!M277)","v":""}]
[null,{"$f":"IF(AND('D - P'!$C278=\"\",'D - P'!$D278=\"\"),\"\",'D - P'!O278)","v":""},{"$f":"IF(AND('D - P'!$C278=\"\",'D - P'!$D278=\"\"),\"\",'D - P'!B278)","v":""},{"$f":"IF('D - P'!C278=\"\",\"\",'D - P'!C278)","v":""},{"$f":"IF('D - P'!D278=\"\",\"\",'D - P'!D278)","v":""},null,{"$f":"IF('D - P'!E278=\"\",\"\",'D - P'!E278)","v":""},{"$f":"IF('D - P'!F278=\"\",\"\",'D - P'!F278)","v":""},null,{"$f":"IF('D - P'!I278=\"\",\"\",'D - P'!I278)","v":""},{"$f":"IF('D - P'!J278=\"\",\"\",'D - P'!J278)","v":""},null,{"$f":"IF('D - P'!M278=\"\",\"\",'D - P'!M278)","v":""}]
[null,{"$f":"IF(AND('D - P'!$C279=\"\",'D - P'!$D279=\"\"),\"\",'D - P'!O279)","v":""},{"$f":"IF(AND('D - P'!$C279=\"\",'D - P'!$D279=\"\"),\"\",'D - P'!B279)","v":""},{"$f":"IF('D - P'!C279=\"\",\"\",'D - P'!C279)","v":""},{"$f":"IF('D - P'!D279=\"\",\"\",'D - P'!D279)","v":""},null,{"$f":"IF('D - P'!E279=\"\",\"\",'D - P'!E279)","v":""},{"$f":"IF('D - P'!F279=\"\",\"\",'D - P'!F279)","v":""},null,{"$f":"IF('D - P'!I279=\"\",\"\",'D - P'!I279)","v":""},{"$f":"IF('D - P'!J279=\"\",\"\",'D - P'!J279)","v":""},null,{"$f":"IF('D - P'!M279=\"\",\"\",'D - P'!M279)","v":""}]
[null,{"$f":"IF(AND('D - P'!$C280=\"\",'D - P'!$D280=\"\"),\"\",'D - P'!O280)","v":""},{"$f":"IF(AND('D - P'!$C280=\"\",'D - P'!$D280=\"\"),\"\",'D - P'!B280)","v":""},{"$f":"IF('D - P'!C280=\"\",\"\",'D - P'!C280)","v":""},{"$f":"IF('D - P'!D280=\"\",\"\",'D - P'!D280)","v":""},null,{"$f":"IF('D - P'!E280=\"\",\"\",'D - P'!E280)","v":""},{"$f":"IF('D - P'!F280=\"\",\"\",'D - P'!F280)","v":""},null,{"$f":"IF('D - P'!I280=\"\",\"\",'D - P'!I280)","v":""},{"$f":"IF('D - P'!J280=\"\",\"\",'D - P'!J280)","v":""},null,{"$f":"IF('D - P'!M280=\"\",\"\",'D - P'!M280)","v":""}]
[null,{"$f":"IF(AND('D - P'!$C281=\"\",'D - P'!$D281=\"\"),\"\",'D - P'!O281)","v":""},{"$f":"IF(AND('D - P'!$C281=\"\",'D - P'!$D281=\"\"),\"\",'D - P'!B281)","v":""},{"$f":"IF('D - P'!C281=\"\",\"\",'D - P'!C281)","v":""},{"$f":"IF('D - P'!D281=\"\",\"\",'D - P'!D281)","v":""},null,{"$f":"IF('D - P'!E281=\"\",\"\",'D - P'!E281)","v":""},{"$f":"IF('D - P'!F281=\"\",\"\",'D - P'!F281)","v":""},null,{"$f":"IF('D - P'!I281=\"\",\"\",'D - P'!I281)","v":""},{"$f":"IF('D - P'!J281=\"\",\"\",'D - P'!J281)","v":""},null,{"$f":"IF('D - P'!M281=\"\",\"\",'D - P'!M281)","v":""}]
[null,{"$f":"IF(AND('D - P'!$C282=\"\",'D - P'!$D282=\"\"),\"\",'D - P'!O282)","v":""},{"$f":"IF(AND('D - P'!$C282=\"\",'D - P'!$D282=\"\"),\"\",'D - P'!B282)","v":""},{"$f":"IF('D - P'!C282=\"\",\"\",'D - P'!C282)","v":""},{"$f":"IF('D - P'!D282=\"\",\"\",'D - P'!D282)","v":""},null,{"$f":"IF('D - P'!E282=\"\",\"\",'D - P'!E282)","v":""},{"$f":"IF('D - P'!F282=\"\",\"\",'D - P'!F282)","v":""},null,{"$f":"IF('D - P'!I282=\"\",\"\",'D - P'!I282)","v":""},{"$f":"IF('D - P'!J282=\"\",\"\",'D - P'!J282)","v":""},null,{"$f":"IF('D - P'!M282=\"\",\"\",'D - P'!M282)","v":""}]
[null,{"$f":"IF(AND('D - P'!$C283=\"\",'D - P'!$D283=\"\"),\"\",'D - P'!O283)","v":""},{"$f":"IF(AND('D - P'!$C283=\"\",'D - P'!$D283=\"\"),\"\",'D - P'!B283)","v":""},{"$f":"IF('D - P'!C283=\"\",\"\",'D - P'!C283)","v":""},{"$f":"IF('D - P'!D283=\"\",\"\",'D - P'!D283)","v":""},null,{"$f":"IF('D - P'!E283=\"\",\"\",'D - P'!E283)","v":""},{"$f":"IF('D - P'!F283=\"\",\"\",'D - P'!F283)","v":""},null,{"$f":"IF('D - P'!I283=\"\",\"\",'D - P'!I283)","v":""},{"$f":"IF('D - P'!J283=\"\",\"\",'D - P'!J283)","v":""},null,{"$f":"IF('D - P'!M283=\"\",\"\",'D - P'!M283)","v":""}]
[null,{"$f":"IF(AND('D - P'!$C284=\"\",'D - P'!$D284=\"\"),\"\",'D - P'!O284)","v":""},{"$f":"IF(AND('D - P'!$C284=\"\",'D - P'!$D284=\"\"),\"\",'D - P'!B284)","v":""},{"$f":"IF('D - P'!C284=\"\",\"\",'D - P'!C284)","v":""},{"$f":"IF('D - P'!D284=\"\",\"\",'D - P'!D284)","v":""},null,{"$f":"IF('D - P'!E284=\"\",\"\",'D - P'!E284)","v":""},{"$f":"IF('D - P'!F284=\"\",\"\",'D - P'!F284)","v":""},null,{"$f":"IF('D - P'!I284=\"\",\"\",'D - P'!I284)","v":""},{"$f":"IF('D - P'!J284=\"\",\"\",'D - P'!J284)","v":""},null,{"$f":"IF('D - P'!M284=\"\",\"\",'D - P'!M284)","v":""}]
[null,{"$f":"IF(AND('D - P'!$C285=\"\",'D - P'!$D285=\"\"),\"\",'D - P'!O285)","v":""},{"$f":"IF(AND('D - P'!$C285=\"\",'D - P'!$D285=\"\"),\"\",'D - P'!B285)","v":""},{"$f":"IF('D - P'!C285=\"\",\"\",'D - P'!C285)","v":""},{"$f":"IF('D - P'!D285=\"\",\"\",'D - P'!D285)","v":""},null,{"$f":"IF('D - P'!E285=\"\",\"\",'D - P'!E285)","v":""},{"$f":"IF('D - P'!F285=\"\",\"\",'D - P'!F285)","v":""},null,{"$f":"IF('D - P'!I285=\"\",\"\",'D - P'!I285)","v":""},{"$f":"IF('D - P'!J285=\"\",\"\",'D - P'!J285)","v":""},null,{"$f":"IF('D - P'!M285=\"\",\"\",'D - P'!M285)","v":""}]
[null,{"$f":"IF(AND('D - P'!$C286=\"\",'D - P'!$D286=\"\"),\"\",'D - P'!O286)","v":""},{"$f":"IF(AND('D - P'!$C286=\"\",'D - P'!$D286=\"\"),\"\",'D - P'!B286)","v":""},{"$f":"IF('D - P'!C286=\"\",\"\",'D - P'!C286)","v":""},{"$f":"IF('D - P'!D286=\"\",\"\",'D - P'!D286)","v":""},null,{"$f":"IF('D - P'!E286=\"\",\"\",'D - P'!E286)","v":""},{"$f":"IF('D - P'!F286=\"\",\"\",'D - P'!F286)","v":""},null,{"$f":"IF('D - P'!I286=\"\",\"\",'D - P'!I286)","v":""},{"$f":"IF('D - P'!J286=\"\",\"\",'D - P'!J286)","v":""},null,{"$f":"IF('D - P'!M286=\"\",\"\",'D - P'!M286)","v":""}]
[null,{"$f":"IF(AND('D - P'!$C287=\"\",'D - P'!$D287=\"\"),\"\",'D - P'!O287)","v":""},{"$f":"IF(AND('D - P'!$C287=\"\",'D - P'!$D287=\"\"),\"\",'D - P'!B287)","v":""},{"$f":"IF('D - P'!C287=\"\",\"\",'D - P'!C287)","v":""},{"$f":"IF('D - P'!D287=\"\",\"\",'D - P'!D287)","v":""},null,{"$f":"IF('D - P'!E287=\"\",\"\",'D - P'!E287)","v":""},{"$f":"IF('D - P'!F287=\"\",\"\",'D - P'!F287)","v":""},null,{"$f":"IF('D - P'!I287=\"\",\"\",'D - P'!I287)","v":""},{"$f":"IF('D - P'!J287=\"\",\"\",'D - P'!J287)","v":""},null,{"$f":"IF('D - P'!M287=\"\",\"\",'D - P'!M287)","v":""}]
[null,{"$f":"IF(AND('D - P'!$C288=\"\",'D - P'!$D288=\"\"),\"\",'D - P'!O288)","v":""},{"$f":"IF(AND('D - P'!$C288=\"\",'D - P'!$D288=\"\"),\"\",'D - P'!B288)","v":""},{"$f":"IF('D - P'!C288=\"\",\"\",'D - P'!C288)","v":""},{"$f":"IF('D - P'!D288=\"\",\"\",'D - P'!D288)","v":""},null,{"$f":"IF('D - P'!E288=\"\",\"\",'D - P'!E288)","v":""},{"$f":"IF('D - P'!F288=\"\",\"\",'D - P'!F288)","v":""},null,{"$f":"IF('D - P'!I288=\"\",\"\",'D - P'!I288)","v":""},{"$f":"IF('D - P'!J288=\"\",\"\",'D - P'!J288)","v":""},null,{"$f":"IF('D - P'!M288=\"\",\"\",'D - P'!M288)","v":""}]
[null,{"$f":"B$1","v":"Dvojboj - Celkové pořadí"}]
[]
[null,{"$f":"B$3","v":"VC ČR v požárním útoku družstev HZS krajů a HZS podniků"},null,null,{"$f":"E$3","v":"Petrovice 19.9.2019"}]
[]
[null,{"$f":"Start!$C$5","v":"MUŽI"}]
[null,"Pořadí","Start. číslo","Jméno","kolektiv",null,"100m",null,null,"věž",null,null,"Výsledný čas"]
[null,null,null,null,null,null,"1.pokus","2.pokus",null,"1.pokus","2.pokus"]
[null,{"$f":"IF(AND('D - P'!$C289=\"\",'D - P'!$D289=\"\"),\"\",'D - P'!O289)","v":""},{"$f":"IF(AND('D - P'!$C289=\"\",'D - P'!$D289=\"\"),\"\",'D - P'!B289)","v":""},{"$f":"IF('D - P'!C289=\"\",\"\",'D - P'!C289)","v":""},{"$f":"IF('D - P'!D289=\"\",\"\",'D - P'!D289)","v":""},null,{"$f":"IF('D - P'!E289=\"\",\"\",'D - P'!E289)","v":""},{"$f":"IF('D - P'!F289=\"\",\"\",'D - P'!F289)","v":""},null,{"$f":"IF('D - P'!I289=\"\",\"\",'D - P'!I289)","v":""},{"$f":"IF('D - P'!J289=\"\",\"\",'D - P'!J289)","v":""},null,{"$f":"IF('D - P'!M289=\"\",\"\",'D - P'!M289)","v":""}]
[null,{"$f":"IF(AND('D - P'!$C290=\"\",'D - P'!$D290=\"\"),\"\",'D - P'!O290)","v":""},{"$f":"IF(AND('D - P'!$C290=\"\",'D - P'!$D290=\"\"),\"\",'D - P'!B290)","v":""},{"$f":"IF('D - P'!C290=\"\",\"\",'D - P'!C290)","v":""},{"$f":"IF('D - P'!D290=\"\",\"\",'D - P'!D290)","v":""},null,{"$f":"IF('D - P'!E290=\"\",\"\",'D - P'!E290)","v":""},{"$f":"IF('D - P'!F290=\"\",\"\",'D - P'!F290)","v":""},null,{"$f":"IF('D - P'!I290=\"\",\"\",'D - P'!I290)","v":""},{"$f":"IF('D - P'!J290=\"\",\"\",'D - P'!J290)","v":""},null,{"$f":"IF('D - P'!M290=\"\",\"\",'D - P'!M290)","v":""}]
[null,{"$f":"IF(AND('D - P'!$C291=\"\",'D - P'!$D291=\"\"),\"\",'D - P'!O291)","v":""},{"$f":"IF(AND('D - P'!$C291=\"\",'D - P'!$D291=\"\"),\"\",'D - P'!B291)","v":""},{"$f":"IF('D - P'!C291=\"\",\"\",'D - P'!C291)","v":""},{"$f":"IF('D - P'!D291=\"\",\"\",'D - P'!D291)","v":""},null,{"$f":"IF('D - P'!E291=\"\",\"\",'D - P'!E291)","v":""},{"$f":"IF('D - P'!F291=\"\",\"\",'D - P'!F291)","v":""},null,{"$f":"IF('D - P'!I291=\"\",\"\",'D - P'!I291)","v":""},{"$f":"IF('D - P'!J291=\"\",\"\",'D - P'!J291)","v":""},null,{"$f":"IF('D - P'!M291=\"\",\"\",'D - P'!M291)","v":""}]
[null,{"$f":"IF(AND('D - P'!$C292=\"\",'D - P'!$D292=\"\"),\"\",'D - P'!O292)","v":""},{"$f":"IF(AND('D - P'!$C292=\"\",'D - P'!$D292=\"\"),\"\",'D - P'!B292)","v":""},{"$f":"IF('D - P'!C292=\"\",\"\",'D - P'!C292)","v":""},{"$f":"IF('D - P'!D292=\"\",\"\",'D - P'!D292)","v":""},null,{"$f":"IF('D - P'!E292=\"\",\"\",'D - P'!E292)","v":""},{"$f":"IF('D - P'!F292=\"\",\"\",'D - P'!F292)","v":""},null,{"$f":"IF('D - P'!I292=\"\",\"\",'D - P'!I292)","v":""},{"$f":"IF('D - P'!J292=\"\",\"\",'D - P'!J292)","v":""},null,{"$f":"IF('D - P'!M292=\"\",\"\",'D - P'!M292)","v":""}]
[null,{"$f":"IF(AND('D - P'!$C293=\"\",'D - P'!$D293=\"\"),\"\",'D - P'!O293)","v":""},{"$f":"IF(AND('D - P'!$C293=\"\",'D - P'!$D293=\"\"),\"\",'D - P'!B293)","v":""},{"$f":"IF('D - P'!C293=\"\",\"\",'D - P'!C293)","v":""},{"$f":"IF('D - P'!D293=\"\",\"\",'D - P'!D293)","v":""},null,{"$f":"IF('D - P'!E293=\"\",\"\",'D - P'!E293)","v":""},{"$f":"IF('D - P'!F293=\"\",\"\",'D - P'!F293)","v":""},null,{"$f":"IF('D - P'!I293=\"\",\"\",'D - P'!I293)","v":""},{"$f":"IF('D - P'!J293=\"\",\"\",'D - P'!J293)","v":""},null,{"$f":"IF('D - P'!M293=\"\",\"\",'D - P'!M293)","v":""}]
[null,{"$f":"IF(AND('D - P'!$C294=\"\",'D - P'!$D294=\"\"),\"\",'D - P'!O294)","v":""},{"$f":"IF(AND('D - P'!$C294=\"\",'D - P'!$D294=\"\"),\"\",'D - P'!B294)","v":""},{"$f":"IF('D - P'!C294=\"\",\"\",'D - P'!C294)","v":""},{"$f":"IF('D - P'!D294=\"\",\"\",'D - P'!D294)","v":""},null,{"$f":"IF('D - P'!E294=\"\",\"\",'D - P'!E294)","v":""},{"$f":"IF('D - P'!F294=\"\",\"\",'D - P'!F294)","v":""},null,{"$f":"IF('D - P'!I294=\"\",\"\",'D - P'!I294)","v":""},{"$f":"IF('D - P'!J294=\"\",\"\",'D - P'!J294)","v":""},null,{"$f":"IF('D - P'!M294=\"\",\"\",'D - P'!M294)","v":""}]
[null,{"$f":"IF(AND('D - P'!$C295=\"\",'D - P'!$D295=\"\"),\"\",'D - P'!O295)","v":""},{"$f":"IF(AND('D - P'!$C295=\"\",'D - P'!$D295=\"\"),\"\",'D - P'!B295)","v":""},{"$f":"IF('D - P'!C295=\"\",\"\",'D - P'!C295)","v":""},{"$f":"IF('D - P'!D295=\"\",\"\",'D - P'!D295)","v":""},null,{"$f":"IF('D - P'!E295=\"\",\"\",'D - P'!E295)","v":""},{"$f":"IF('D - P'!F295=\"\",\"\",'D - P'!F295)","v":""},null,{"$f":"IF('D - P'!I295=\"\",\"\",'D - P'!I295)","v":""},{"$f":"IF('D - P'!J295=\"\",\"\",'D - P'!J295)","v":""},null,{"$f":"IF('D - P'!M295=\"\",\"\",'D - P'!M295)","v":""}]
[null,{"$f":"IF(AND('D - P'!$C296=\"\",'D - P'!$D296=\"\"),\"\",'D - P'!O296)","v":""},{"$f":"IF(AND('D - P'!$C296=\"\",'D - P'!$D296=\"\"),\"\",'D - P'!B296)","v":""},{"$f":"IF('D - P'!C296=\"\",\"\",'D - P'!C296)","v":""},{"$f":"IF('D - P'!D296=\"\",\"\",'D - P'!D296)","v":""},null,{"$f":"IF('D - P'!E296=\"\",\"\",'D - P'!E296)","v":""},{"$f":"IF('D - P'!F296=\"\",\"\",'D - P'!F296)","v":""},null,{"$f":"IF('D - P'!I296=\"\",\"\",'D - P'!I296)","v":""},{"$f":"IF('D - P'!J296=\"\",\"\",'D - P'!J296)","v":""},null,{"$f":"IF('D - P'!M296=\"\",\"\",'D - P'!M296)","v":""}]
[null,{"$f":"IF(AND('D - P'!$C297=\"\",'D - P'!$D297=\"\"),\"\",'D - P'!O297)","v":""},{"$f":"IF(AND('D - P'!$C297=\"\",'D - P'!$D297=\"\"),\"\",'D - P'!B297)","v":""},{"$f":"IF('D - P'!C297=\"\",\"\",'D - P'!C297)","v":""},{"$f":"IF('D - P'!D297=\"\",\"\",'D - P'!D297)","v":""},null,{"$f":"IF('D - P'!E297=\"\",\"\",'D - P'!E297)","v":""},{"$f":"IF('D - P'!F297=\"\",\"\",'D - P'!F297)","v":""},null,{"$f":"IF('D - P'!I297=\"\",\"\",'D - P'!I297)","v":""},{"$f":"IF('D - P'!J297=\"\",\"\",'D - P'!J297)","v":""},null,{"$f":"IF('D - P'!M297=\"\",\"\",'D - P'!M297)","v":""}]
[null,{"$f":"IF(AND('D - P'!$C298=\"\",'D - P'!$D298=\"\"),\"\",'D - P'!O298)","v":""},{"$f":"IF(AND('D - P'!$C298=\"\",'D - P'!$D298=\"\"),\"\",'D - P'!B298)","v":""},{"$f":"IF('D - P'!C298=\"\",\"\",'D - P'!C298)","v":""},{"$f":"IF('D - P'!D298=\"\",\"\",'D - P'!D298)","v":""},null,{"$f":"IF('D - P'!E298=\"\",\"\",'D - P'!E298)","v":""},{"$f":"IF('D - P'!F298=\"\",\"\",'D - P'!F298)","v":""},null,{"$f":"IF('D - P'!I298=\"\",\"\",'D - P'!I298)","v":""},{"$f":"IF('D - P'!J298=\"\",\"\",'D - P'!J298)","v":""},null,{"$f":"IF('D - P'!M298=\"\",\"\",'D - P'!M298)","v":""}]
[null,{"$f":"IF(AND('D - P'!$C299=\"\",'D - P'!$D299=\"\"),\"\",'D - P'!O299)","v":""},{"$f":"IF(AND('D - P'!$C299=\"\",'D - P'!$D299=\"\"),\"\",'D - P'!B299)","v":""},{"$f":"IF('D - P'!C299=\"\",\"\",'D - P'!C299)","v":""},{"$f":"IF('D - P'!D299=\"\",\"\",'D - P'!D299)","v":""},null,{"$f":"IF('D - P'!E299=\"\",\"\",'D - P'!E299)","v":""},{"$f":"IF('D - P'!F299=\"\",\"\",'D - P'!F299)","v":""},null,{"$f":"IF('D - P'!I299=\"\",\"\",'D - P'!I299)","v":""},{"$f":"IF('D - P'!J299=\"\",\"\",'D - P'!J299)","v":""},null,{"$f":"IF('D - P'!M299=\"\",\"\",'D - P'!M299)","v":""}]
[null,{"$f":"IF(AND('D - P'!$C300=\"\",'D - P'!$D300=\"\"),\"\",'D - P'!O300)","v":""},{"$f":"IF(AND('D - P'!$C300=\"\",'D - P'!$D300=\"\"),\"\",'D - P'!B300)","v":""},{"$f":"IF('D - P'!C300=\"\",\"\",'D - P'!C300)","v":""},{"$f":"IF('D - P'!D300=\"\",\"\",'D - P'!D300)","v":""},null,{"$f":"IF('D - P'!E300=\"\",\"\",'D - P'!E300)","v":""},{"$f":"IF('D - P'!F300=\"\",\"\",'D - P'!F300)","v":""},null,{"$f":"IF('D - P'!I300=\"\",\"\",'D - P'!I300)","v":""},{"$f":"IF('D - P'!J300=\"\",\"\",'D - P'!J300)","v":""},null,{"$f":"IF('D - P'!M300=\"\",\"\",'D - P'!M300)","v":""}]
[null,{"$f":"IF(AND('D - P'!$C301=\"\",'D - P'!$D301=\"\"),\"\",'D - P'!O301)","v":""},{"$f":"IF(AND('D - P'!$C301=\"\",'D - P'!$D301=\"\"),\"\",'D - P'!B301)","v":""},{"$f":"IF('D - P'!C301=\"\",\"\",'D - P'!C301)","v":""},{"$f":"IF('D - P'!D301=\"\",\"\",'D - P'!D301)","v":""},null,{"$f":"IF('D - P'!E301=\"\",\"\",'D - P'!E301)","v":""},{"$f":"IF('D - P'!F301=\"\",\"\",'D - P'!F301)","v":""},null,{"$f":"IF('D - P'!I301=\"\",\"\",'D - P'!I301)","v":""},{"$f":"IF('D - P'!J301=\"\",\"\",'D - P'!J301)","v":""},null,{"$f":"IF('D - P'!M301=\"\",\"\",'D - P'!M301)","v":""}]
[null,{"$f":"IF(AND('D - P'!$C302=\"\",'D - P'!$D302=\"\"),\"\",'D - P'!O302)","v":""},{"$f":"IF(AND('D - P'!$C302=\"\",'D - P'!$D302=\"\"),\"\",'D - P'!B302)","v":""},{"$f":"IF('D - P'!C302=\"\",\"\",'D - P'!C302)","v":""},{"$f":"IF('D - P'!D302=\"\",\"\",'D - P'!D302)","v":""},null,{"$f":"IF('D - P'!E302=\"\",\"\",'D - P'!E302)","v":""},{"$f":"IF('D - P'!F302=\"\",\"\",'D - P'!F302)","v":""},null,{"$f":"IF('D - P'!I302=\"\",\"\",'D - P'!I302)","v":""},{"$f":"IF('D - P'!J302=\"\",\"\",'D - P'!J302)","v":""},null,{"$f":"IF('D - P'!M302=\"\",\"\",'D - P'!M302)","v":""}]
[null,{"$f":"IF(AND('D - P'!$C303=\"\",'D - P'!$D303=\"\"),\"\",'D - P'!O303)","v":""},{"$f":"IF(AND('D - P'!$C303=\"\",'D - P'!$D303=\"\"),\"\",'D - P'!B303)","v":""},{"$f":"IF('D - P'!C303=\"\",\"\",'D - P'!C303)","v":""},{"$f":"IF('D - P'!D303=\"\",\"\",'D - P'!D303)","v":""},null,{"$f":"IF('D - P'!E303=\"\",\"\",'D - P'!E303)","v":""},{"$f":"IF('D - P'!F303=\"\",\"\",'D - P'!F303)","v":""},null,{"$f":"IF('D - P'!I303=\"\",\"\",'D - P'!I303)","v":""},{"$f":"IF('D - P'!J303=\"\",\"\",'D - P'!J303)","v":""},null,{"$f":"IF('D - P'!M303=\"\",\"\",'D - P'!M303)","v":""}]
[null,{"$f":"IF(AND('D - P'!$C304=\"\",'D - P'!$D304=\"\"),\"\",'D - P'!O304)","v":""},{"$f":"IF(AND('D - P'!$C304=\"\",'D - P'!$D304=\"\"),\"\",'D - P'!B304)","v":""},{"$f":"IF('D - P'!C304=\"\",\"\",'D - P'!C304)","v":""},{"$f":"IF('D - P'!D304=\"\",\"\",'D - P'!D304)","v":""},null,{"$f":"IF('D - P'!E304=\"\",\"\",'D - P'!E304)","v":""},{"$f":"IF('D - P'!F304=\"\",\"\",'D - P'!F304)","v":""},null,{"$f":"IF('D - P'!I304=\"\",\"\",'D - P'!I304)","v":""},{"$f":"IF('D - P'!J304=\"\",\"\",'D - P'!J304)","v":""},null,{"$f":"IF('D - P'!M304=\"\",\"\",'D - P'!M304)","v":""}]
[null,{"$f":"IF(AND('D - P'!$C305=\"\",'D - P'!$D305=\"\"),\"\",'D - P'!O305)","v":""},{"$f":"IF(AND('D - P'!$C305=\"\",'D - P'!$D305=\"\"),\"\",'D - P'!B305)","v":""},{"$f":"IF('D - P'!C305=\"\",\"\",'D - P'!C305)","v":""},{"$f":"IF('D - P'!D305=\"\",\"\",'D - P'!D305)","v":""},null,{"$f":"IF('D - P'!E305=\"\",\"\",'D - P'!E305)","v":""},{"$f":"IF('D - P'!F305=\"\",\"\",'D - P'!F305)","v":""},null,{"$f":"IF('D - P'!I305=\"\",\"\",'D - P'!I305)","v":""},{"$f":"IF('D - P'!J305=\"\",\"\",'D - P'!J305)","v":""},null,{"$f":"IF('D - P'!M305=\"\",\"\",'D - P'!M305)","v":""}]
[null,{"$f":"IF(AND('D - P'!$C306=\"\",'D - P'!$D306=\"\"),\"\",'D - P'!O306)","v":""},{"$f":"IF(AND('D - P'!$C306=\"\",'D - P'!$D306=\"\"),\"\",'D - P'!B306)","v":""},{"$f":"IF('D - P'!C306=\"\",\"\",'D - P'!C306)","v":""},{"$f":"IF('D - P'!D306=\"\",\"\",'D - P'!D306)","v":""},null,{"$f":"IF('D - P'!E306=\"\",\"\",'D - P'!E306)","v":""},{"$f":"IF('D - P'!F306=\"\",\"\",'D - P'!F306)","v":""},null,{"$f":"IF('D - P'!I306=\"\",\"\",'D - P'!I306)","v":""},{"$f":"IF('D - P'!J306=\"\",\"\",'D - P'!J306)","v":""},null,{"$f":"IF('D - P'!M306=\"\",\"\",'D - P'!M306)","v":""}]
[null,{"$f":"IF(AND('D - P'!$C307=\"\",'D - P'!$D307=\"\"),\"\",'D - P'!O307)","v":""},{"$f":"IF(AND('D - P'!$C307=\"\",'D - P'!$D307=\"\"),\"\",'D - P'!B307)","v":""},{"$f":"IF('D - P'!C307=\"\",\"\",'D - P'!C307)","v":""},{"$f":"IF('D - P'!D307=\"\",\"\",'D - P'!D307)","v":""},null,{"$f":"IF('D - P'!E307=\"\",\"\",'D - P'!E307)","v":""},{"$f":"IF('D - P'!F307=\"\",\"\",'D - P'!F307)","v":""},null,{"$f":"IF('D - P'!I307=\"\",\"\",'D - P'!I307)","v":""},{"$f":"IF('D - P'!J307=\"\",\"\",'D - P'!J307)","v":""},null,{"$f":"IF('D - P'!M307=\"\",\"\",'D - P'!M307)","v":""}]
[null,{"$f":"IF(AND('D - P'!$C308=\"\",'D - P'!$D308=\"\"),\"\",'D - P'!O308)","v":""},{"$f":"IF(AND('D - P'!$C308=\"\",'D - P'!$D308=\"\"),\"\",'D - P'!B308)","v":""},{"$f":"IF('D - P'!C308=\"\",\"\",'D - P'!C308)","v":""},{"$f":"IF('D - P'!D308=\"\",\"\",'D - P'!D308)","v":""},null,{"$f":"IF('D - P'!E308=\"\",\"\",'D - P'!E308)","v":""},{"$f":"IF('D - P'!F308=\"\",\"\",'D - P'!F308)","v":""},null,{"$f":"IF('D - P'!I308=\"\",\"\",'D - P'!I308)","v":""},{"$f":"IF('D - P'!J308=\"\",\"\",'D - P'!J308)","v":""},null,{"$f":"IF('D - P'!M308=\"\",\"\",'D - P'!M308)","v":""}]
[null,{"$f":"IF(AND('D - P'!$C309=\"\",'D - P'!$D309=\"\"),\"\",'D - P'!O309)","v":""},{"$f":"IF(AND('D - P'!$C309=\"\",'D - P'!$D309=\"\"),\"\",'D - P'!B309)","v":""},{"$f":"IF('D - P'!C309=\"\",\"\",'D - P'!C309)","v":""},{"$f":"IF('D - P'!D309=\"\",\"\",'D - P'!D309)","v":""},null,{"$f":"IF('D - P'!E309=\"\",\"\",'D - P'!E309)","v":""},{"$f":"IF('D - P'!F309=\"\",\"\",'D - P'!F309)","v":""},null,{"$f":"IF('D - P'!I309=\"\",\"\",'D - P'!I309)","v":""},{"$f":"IF('D - P'!J309=\"\",\"\",'D - P'!J309)","v":""},null,{"$f":"IF('D - P'!M309=\"\",\"\",'D - P'!M309)","v":""}]
[null,{"$f":"IF(AND('D - P'!$C310=\"\",'D - P'!$D310=\"\"),\"\",'D - P'!O310)","v":""},{"$f":"IF(AND('D - P'!$C310=\"\",'D - P'!$D310=\"\"),\"\",'D - P'!B310)","v":""},{"$f":"IF('D - P'!C310=\"\",\"\",'D - P'!C310)","v":""},{"$f":"IF('D - P'!D310=\"\",\"\",'D - P'!D310)","v":""},null,{"$f":"IF('D - P'!E310=\"\",\"\",'D - P'!E310)","v":""},{"$f":"IF('D - P'!F310=\"\",\"\",'D - P'!F310)","v":""},null,{"$f":"IF('D - P'!I310=\"\",\"\",'D - P'!I310)","v":""},{"$f":"IF('D - P'!J310=\"\",\"\",'D - P'!J310)","v":""},null,{"$f":"IF('D - P'!M310=\"\",\"\",'D - P'!M310)","v":""}]
[null,{"$f":"IF(AND('D - P'!$C311=\"\",'D - P'!$D311=\"\"),\"\",'D - P'!O311)","v":""},{"$f":"IF(AND('D - P'!$C311=\"\",'D - P'!$D311=\"\"),\"\",'D - P'!B311)","v":""},{"$f":"IF('D - P'!C311=\"\",\"\",'D - P'!C311)","v":""},{"$f":"IF('D - P'!D311=\"\",\"\",'D - P'!D311)","v":""},null,{"$f":"IF('D - P'!E311=\"\",\"\",'D - P'!E311)","v":""},{"$f":"IF('D - P'!F311=\"\",\"\",'D - P'!F311)","v":""},null,{"$f":"IF('D - P'!I311=\"\",\"\",'D - P'!I311)","v":""},{"$f":"IF('D - P'!J311=\"\",\"\",'D - P'!J311)","v":""},null,{"$f":"IF('D - P'!M311=\"\",\"\",'D - P'!M311)","v":""}]
[null,{"$f":"IF(AND('D - P'!$C312=\"\",'D - P'!$D312=\"\"),\"\",'D - P'!O312)","v":""},{"$f":"IF(AND('D - P'!$C312=\"\",'D - P'!$D312=\"\"),\"\",'D - P'!B312)","v":""},{"$f":"IF('D - P'!C312=\"\",\"\",'D - P'!C312)","v":""},{"$f":"IF('D - P'!D312=\"\",\"\",'D - P'!D312)","v":""},null,{"$f":"IF('D - P'!E312=\"\",\"\",'D - P'!E312)","v":""},{"$f":"IF('D - P'!F312=\"\",\"\",'D - P'!F312)","v":""},null,{"$f":"IF('D - P'!I312=\"\",\"\",'D - P'!I312)","v":""},{"$f":"IF('D - P'!J312=\"\",\"\",'D - P'!J312)","v":""},null,{"$f":"IF('D - P'!M312=\"\",\"\",'D - P'!M312)","v":""}]
[null,{"$f":"IF(AND('D - P'!$C313=\"\",'D - P'!$D313=\"\"),\"\",'D - P'!O313)","v":""},{"$f":"IF(AND('D - P'!$C313=\"\",'D - P'!$D313=\"\"),\"\",'D - P'!B313)","v":""},{"$f":"IF('D - P'!C313=\"\",\"\",'D - P'!C313)","v":""},{"$f":"IF('D - P'!D313=\"\",\"\",'D - P'!D313)","v":""},null,{"$f":"IF('D - P'!E313=\"\",\"\",'D - P'!E313)","v":""},{"$f":"IF('D - P'!F313=\"\",\"\",'D - P'!F313)","v":""},null,{"$f":"IF('D - P'!I313=\"\",\"\",'D - P'!I313)","v":""},{"$f":"IF('D - P'!J313=\"\",\"\",'D - P'!J313)","v":""},null,{"$f":"IF('D - P'!M313=\"\",\"\",'D - P'!M313)","v":""}]
[null,{"$f":"IF(AND('D - P'!$C314=\"\",'D - P'!$D314=\"\"),\"\",'D - P'!O314)","v":""},{"$f":"IF(AND('D - P'!$C314=\"\",'D - P'!$D314=\"\"),\"\",'D - P'!B314)","v":""},{"$f":"IF('D - P'!C314=\"\",\"\",'D - P'!C314)","v":""},{"$f":"IF('D - P'!D314=\"\",\"\",'D - P'!D314)","v":""},null,{"$f":"IF('D - P'!E314=\"\",\"\",'D - P'!E314)","v":""},{"$f":"IF('D - P'!F314=\"\",\"\",'D - P'!F314)","v":""},null,{"$f":"IF('D - P'!I314=\"\",\"\",'D - P'!I314)","v":""},{"$f":"IF('D - P'!J314=\"\",\"\",'D - P'!J314)","v":""},null,{"$f":"IF('D - P'!M314=\"\",\"\",'D - P'!M314)","v":""}]
[null,{"$f":"IF(AND('D - P'!$C315=\"\",'D - P'!$D315=\"\"),\"\",'D - P'!O315)","v":""},{"$f":"IF(AND('D - P'!$C315=\"\",'D - P'!$D315=\"\"),\"\",'D - P'!B315)","v":""},{"$f":"IF('D - P'!C315=\"\",\"\",'D - P'!C315)","v":""},{"$f":"IF('D - P'!D315=\"\",\"\",'D - P'!D315)","v":""},null,{"$f":"IF('D - P'!E315=\"\",\"\",'D - P'!E315)","v":""},{"$f":"IF('D - P'!F315=\"\",\"\",'D - P'!F315)","v":""},null,{"$f":"IF('D - P'!I315=\"\",\"\",'D - P'!I315)","v":""},{"$f":"IF('D - P'!J315=\"\",\"\",'D - P'!J315)","v":""},null,{"$f":"IF('D - P'!M315=\"\",\"\",'D - P'!M315)","v":""}]
[null,{"$f":"IF(AND('D - P'!$C316=\"\",'D - P'!$D316=\"\"),\"\",'D - P'!O316)","v":""},{"$f":"IF(AND('D - P'!$C316=\"\",'D - P'!$D316=\"\"),\"\",'D - P'!B316)","v":""},{"$f":"IF('D - P'!C316=\"\",\"\",'D - P'!C316)","v":""},{"$f":"IF('D - P'!D316=\"\",\"\",'D - P'!D316)","v":""},null,{"$f":"IF('D - P'!E316=\"\",\"\",'D - P'!E316)","v":""},{"$f":"IF('D - P'!F316=\"\",\"\",'D - P'!F316)","v":""},null,{"$f":"IF('D - P'!I316=\"\",\"\",'D - P'!I316)","v":""},{"$f":"IF('D - P'!J316=\"\",\"\",'D - P'!J316)","v":""},null,{"$f":"IF('D - P'!M316=\"\",\"\",'D - P'!M316)","v":""}]
[null,{"$f":"IF(AND('D - P'!$C317=\"\",'D - P'!$D317=\"\"),\"\",'D - P'!O317)","v":""},{"$f":"IF(AND('D - P'!$C317=\"\",'D - P'!$D317=\"\"),\"\",'D - P'!B317)","v":""},{"$f":"IF('D - P'!C317=\"\",\"\",'D - P'!C317)","v":""},{"$f":"IF('D - P'!D317=\"\",\"\",'D - P'!D317)","v":""},null,{"$f":"IF('D - P'!E317=\"\",\"\",'D - P'!E317)","v":""},{"$f":"IF('D - P'!F317=\"\",\"\",'D - P'!F317)","v":""},null,{"$f":"IF('D - P'!I317=\"\",\"\",'D - P'!I317)","v":""},{"$f":"IF('D - P'!J317=\"\",\"\",'D - P'!J317)","v":""},null,{"$f":"IF('D - P'!M317=\"\",\"\",'D - P'!M317)","v":""}]
[null,{"$f":"IF(AND('D - P'!$C318=\"\",'D - P'!$D318=\"\"),\"\",'D - P'!O318)","v":""},{"$f":"IF(AND('D - P'!$C318=\"\",'D - P'!$D318=\"\"),\"\",'D - P'!B318)","v":""},{"$f":"IF('D - P'!C318=\"\",\"\",'D - P'!C318)","v":""},{"$f":"IF('D - P'!D318=\"\",\"\",'D - P'!D318)","v":""},null,{"$f":"IF('D - P'!E318=\"\",\"\",'D - P'!E318)","v":""},{"$f":"IF('D - P'!F318=\"\",\"\",'D - P'!F318)","v":""},null,{"$f":"IF('D - P'!I318=\"\",\"\",'D - P'!I318)","v":""},{"$f":"IF('D - P'!J318=\"\",\"\",'D - P'!J318)","v":""},null,{"$f":"IF('D - P'!M318=\"\",\"\",'D - P'!M318)","v":""}]
[null,{"$f":"IF(AND('D - P'!$C319=\"\",'D - P'!$D319=\"\"),\"\",'D - P'!O319)","v":""},{"$f":"IF(AND('D - P'!$C319=\"\",'D - P'!$D319=\"\"),\"\",'D - P'!B319)","v":""},{"$f":"IF('D - P'!C319=\"\",\"\",'D - P'!C319)","v":""},{"$f":"IF('D - P'!D319=\"\",\"\",'D - P'!D319)","v":""},null,{"$f":"IF('D - P'!E319=\"\",\"\",'D - P'!E319)","v":""},{"$f":"IF('D - P'!F319=\"\",\"\",'D - P'!F319)","v":""},null,{"$f":"IF('D - P'!I319=\"\",\"\",'D - P'!I319)","v":""},{"$f":"IF('D - P'!J319=\"\",\"\",'D - P'!J319)","v":""},null,{"$f":"IF('D - P'!M319=\"\",\"\",'D - P'!M319)","v":""}]
[null,{"$f":"IF(AND('D - P'!$C320=\"\",'D - P'!$D320=\"\"),\"\",'D - P'!O320)","v":""},{"$f":"IF(AND('D - P'!$C320=\"\",'D - P'!$D320=\"\"),\"\",'D - P'!B320)","v":""},{"$f":"IF('D - P'!C320=\"\",\"\",'D - P'!C320)","v":""},{"$f":"IF('D - P'!D320=\"\",\"\",'D - P'!D320)","v":""},null,{"$f":"IF('D - P'!E320=\"\",\"\",'D - P'!E320)","v":""},{"$f":"IF('D - P'!F320=\"\",\"\",'D - P'!F320)","v":""},null,{"$f":"IF('D - P'!I320=\"\",\"\",'D - P'!I320)","v":""},{"$f":"IF('D - P'!J320=\"\",\"\",'D - P'!J320)","v":""},null,{"$f":"IF('D - P'!M320=\"\",\"\",'D - P'!M320)","v":""}]
[null,{"$f":"IF(AND('D - P'!$C321=\"\",'D - P'!$D321=\"\"),\"\",'D - P'!O321)","v":""},{"$f":"IF(AND('D - P'!$C321=\"\",'D - P'!$D321=\"\"),\"\",'D - P'!B321)","v":""},{"$f":"IF('D - P'!C321=\"\",\"\",'D - P'!C321)","v":""},{"$f":"IF('D - P'!D321=\"\",\"\",'D - P'!D321)","v":""},null,{"$f":"IF('D - P'!E321=\"\",\"\",'D - P'!E321)","v":""},{"$f":"IF('D - P'!F321=\"\",\"\",'D - P'!F321)","v":""},null,{"$f":"IF('D - P'!I321=\"\",\"\",'D - P'!I321)","v":""},{"$f":"IF('D - P'!J321=\"\",\"\",'D - P'!J321)","v":""},null,{"$f":"IF('D - P'!M321=\"\",\"\",'D - P'!M321)","v":""}]
[null,{"$f":"IF(AND('D - P'!$C322=\"\",'D - P'!$D322=\"\"),\"\",'D - P'!O322)","v":""},{"$f":"IF(AND('D - P'!$C322=\"\",'D - P'!$D322=\"\"),\"\",'D - P'!B322)","v":""},{"$f":"IF('D - P'!C322=\"\",\"\",'D - P'!C322)","v":""},{"$f":"IF('D - P'!D322=\"\",\"\",'D - P'!D322)","v":""},null,{"$f":"IF('D - P'!E322=\"\",\"\",'D - P'!E322)","v":""},{"$f":"IF('D - P'!F322=\"\",\"\",'D - P'!F322)","v":""},null,{"$f":"IF('D - P'!I322=\"\",\"\",'D - P'!I322)","v":""},{"$f":"IF('D - P'!J322=\"\",\"\",'D - P'!J322)","v":""},null,{"$f":"IF('D - P'!M322=\"\",\"\",'D - P'!M322)","v":""}]
[null,{"$f":"IF(AND('D - P'!$C323=\"\",'D - P'!$D323=\"\"),\"\",'D - P'!O323)","v":""},{"$f":"IF(AND('D - P'!$C323=\"\",'D - P'!$D323=\"\"),\"\",'D - P'!B323)","v":""},{"$f":"IF('D - P'!C323=\"\",\"\",'D - P'!C323)","v":""},{"$f":"IF('D - P'!D323=\"\",\"\",'D - P'!D323)","v":""},null,{"$f":"IF('D - P'!E323=\"\",\"\",'D - P'!E323)","v":""},{"$f":"IF('D - P'!F323=\"\",\"\",'D - P'!F323)","v":""},null,{"$f":"IF('D - P'!I323=\"\",\"\",'D - P'!I323)","v":""},{"$f":"IF('D - P'!J323=\"\",\"\",'D - P'!J323)","v":""},null,{"$f":"IF('D - P'!M323=\"\",\"\",'D - P'!M323)","v":""}]
[null,{"$f":"IF(AND('D - P'!$C324=\"\",'D - P'!$D324=\"\"),\"\",'D - P'!O324)","v":""},{"$f":"IF(AND('D - P'!$C324=\"\",'D - P'!$D324=\"\"),\"\",'D - P'!B324)","v":""},{"$f":"IF('D - P'!C324=\"\",\"\",'D - P'!C324)","v":""},{"$f":"IF('D - P'!D324=\"\",\"\",'D - P'!D324)","v":""},null,{"$f":"IF('D - P'!E324=\"\",\"\",'D - P'!E324)","v":""},{"$f":"IF('D - P'!F324=\"\",\"\",'D - P'!F324)","v":""},null,{"$f":"IF('D - P'!I324=\"\",\"\",'D - P'!I324)","v":""},{"$f":"IF('D - P'!J324=\"\",\"\",'D - P'!J324)","v":""},null,{"$f":"IF('D - P'!M324=\"\",\"\",'D - P'!M324)","v":""}]
[null,{"$f":"B$1","v":"Dvojboj - Celkové pořadí"}]
[]
[null,{"$f":"B$3","v":"VC ČR v požárním útoku družstev HZS krajů a HZS podniků"},null,null,{"$f":"E$3","v":"Petrovice 19.9.2019"}]
[]
[null,{"$f":"Start!$C$5","v":"MUŽI"}]
[null,"Pořadí","Start. číslo","Jméno","kolektiv",null,"100m",null,null,"věž",null,null,"Výsledný čas"]
[null,null,null,null,null,null,"1.pokus","2.pokus",null,"1.pokus","2.pokus"]
[null,{"$f":"IF(AND('D - P'!$C325=\"\",'D - P'!$D325=\"\"),\"\",'D - P'!O325)","v":""},{"$f":"IF(AND('D - P'!$C325=\"\",'D - P'!$D325=\"\"),\"\",'D - P'!B325)","v":""},{"$f":"IF('D - P'!C325=\"\",\"\",'D - P'!C325)","v":""},{"$f":"IF('D - P'!D325=\"\",\"\",'D - P'!D325)","v":""},null,{"$f":"IF('D - P'!E325=\"\",\"\",'D - P'!E325)","v":""},{"$f":"IF('D - P'!F325=\"\",\"\",'D - P'!F325)","v":""},null,{"$f":"IF('D - P'!I325=\"\",\"\",'D - P'!I325)","v":""},{"$f":"IF('D - P'!J325=\"\",\"\",'D - P'!J325)","v":""},null,{"$f":"IF('D - P'!M325=\"\",\"\",'D - P'!M325)","v":""}]
[null,{"$f":"IF(AND('D - P'!$C326=\"\",'D - P'!$D326=\"\"),\"\",'D - P'!O326)","v":""},{"$f":"IF(AND('D - P'!$C326=\"\",'D - P'!$D326=\"\"),\"\",'D - P'!B326)","v":""},{"$f":"IF('D - P'!C326=\"\",\"\",'D - P'!C326)","v":""},{"$f":"IF('D - P'!D326=\"\",\"\",'D - P'!D326)","v":""},null,{"$f":"IF('D - P'!E326=\"\",\"\",'D - P'!E326)","v":""},{"$f":"IF('D - P'!F326=\"\",\"\",'D - P'!F326)","v":""},null,{"$f":"IF('D - P'!I326=\"\",\"\",'D - P'!I326)","v":""},{"$f":"IF('D - P'!J326=\"\",\"\",'D - P'!J326)","v":""},null,{"$f":"IF('D - P'!M326=\"\",\"\",'D - P'!M326)","v":""}]
[null,{"$f":"IF(AND('D - P'!$C327=\"\",'D - P'!$D327=\"\"),\"\",'D - P'!O327)","v":""},{"$f":"IF(AND('D - P'!$C327=\"\",'D - P'!$D327=\"\"),\"\",'D - P'!B327)","v":""},{"$f":"IF('D - P'!C327=\"\",\"\",'D - P'!C327)","v":""},{"$f":"IF('D - P'!D327=\"\",\"\",'D - P'!D327)","v":""},null,{"$f":"IF('D - P'!E327=\"\",\"\",'D - P'!E327)","v":""},{"$f":"IF('D - P'!F327=\"\",\"\",'D - P'!F327)","v":""},null,{"$f":"IF('D - P'!I327=\"\",\"\",'D - P'!I327)","v":""},{"$f":"IF('D - P'!J327=\"\",\"\",'D - P'!J327)","v":""},null,{"$f":"IF('D - P'!M327=\"\",\"\",'D - P'!M327)","v":""}]
[null,{"$f":"IF(AND('D - P'!$C328=\"\",'D - P'!$D328=\"\"),\"\",'D - P'!O328)","v":""},{"$f":"IF(AND('D - P'!$C328=\"\",'D - P'!$D328=\"\"),\"\",'D - P'!B328)","v":""},{"$f":"IF('D - P'!C328=\"\",\"\",'D - P'!C328)","v":""},{"$f":"IF('D - P'!D328=\"\",\"\",'D - P'!D328)","v":""},null,{"$f":"IF('D - P'!E328=\"\",\"\",'D - P'!E328)","v":""},{"$f":"IF('D - P'!F328=\"\",\"\",'D - P'!F328)","v":""},null,{"$f":"IF('D - P'!I328=\"\",\"\",'D - P'!I328)","v":""},{"$f":"IF('D - P'!J328=\"\",\"\",'D - P'!J328)","v":""},null,{"$f":"IF('D - P'!M328=\"\",\"\",'D - P'!M328)","v":""}]
[null,{"$f":"IF(AND('D - P'!$C329=\"\",'D - P'!$D329=\"\"),\"\",'D - P'!O329)","v":""},{"$f":"IF(AND('D - P'!$C329=\"\",'D - P'!$D329=\"\"),\"\",'D - P'!B329)","v":""},{"$f":"IF('D - P'!C329=\"\",\"\",'D - P'!C329)","v":""},{"$f":"IF('D - P'!D329=\"\",\"\",'D - P'!D329)","v":""},null,{"$f":"IF('D - P'!E329=\"\",\"\",'D - P'!E329)","v":""},{"$f":"IF('D - P'!F329=\"\",\"\",'D - P'!F329)","v":""},null,{"$f":"IF('D - P'!I329=\"\",\"\",'D - P'!I329)","v":""},{"$f":"IF('D - P'!J329=\"\",\"\",'D - P'!J329)","v":""},null,{"$f":"IF('D - P'!M329=\"\",\"\",'D - P'!M329)","v":""}]
[null,{"$f":"IF(AND('D - P'!$C330=\"\",'D - P'!$D330=\"\"),\"\",'D - P'!O330)","v":""},{"$f":"IF(AND('D - P'!$C330=\"\",'D - P'!$D330=\"\"),\"\",'D - P'!B330)","v":""},{"$f":"IF('D - P'!C330=\"\",\"\",'D - P'!C330)","v":""},{"$f":"IF('D - P'!D330=\"\",\"\",'D - P'!D330)","v":""},null,{"$f":"IF('D - P'!E330=\"\",\"\",'D - P'!E330)","v":""},{"$f":"IF('D - P'!F330=\"\",\"\",'D - P'!F330)","v":""},null,{"$f":"IF('D - P'!I330=\"\",\"\",'D - P'!I330)","v":""},{"$f":"IF('D - P'!J330=\"\",\"\",'D - P'!J330)","v":""},null,{"$f":"IF('D - P'!M330=\"\",\"\",'D - P'!M330)","v":""}]
[null,{"$f":"IF(AND('D - P'!$C331=\"\",'D - P'!$D331=\"\"),\"\",'D - P'!O331)","v":""},{"$f":"IF(AND('D - P'!$C331=\"\",'D - P'!$D331=\"\"),\"\",'D - P'!B331)","v":""},{"$f":"IF('D - P'!C331=\"\",\"\",'D - P'!C331)","v":""},{"$f":"IF('D - P'!D331=\"\",\"\",'D - P'!D331)","v":""},null,{"$f":"IF('D - P'!E331=\"\",\"\",'D - P'!E331)","v":""},{"$f":"IF('D - P'!F331=\"\",\"\",'D - P'!F331)","v":""},null,{"$f":"IF('D - P'!I331=\"\",\"\",'D - P'!I331)","v":""},{"$f":"IF('D - P'!J331=\"\",\"\",'D - P'!J331)","v":""},null,{"$f":"IF('D - P'!M331=\"\",\"\",'D - P'!M331)","v":""}]
[null,{"$f":"IF(AND('D - P'!$C332=\"\",'D - P'!$D332=\"\"),\"\",'D - P'!O332)","v":""},{"$f":"IF(AND('D - P'!$C332=\"\",'D - P'!$D332=\"\"),\"\",'D - P'!B332)","v":""},{"$f":"IF('D - P'!C332=\"\",\"\",'D - P'!C332)","v":""},{"$f":"IF('D - P'!D332=\"\",\"\",'D - P'!D332)","v":""},null,{"$f":"IF('D - P'!E332=\"\",\"\",'D - P'!E332)","v":""},{"$f":"IF('D - P'!F332=\"\",\"\",'D - P'!F332)","v":""},null,{"$f":"IF('D - P'!I332=\"\",\"\",'D - P'!I332)","v":""},{"$f":"IF('D - P'!J332=\"\",\"\",'D - P'!J332)","v":""},null,{"$f":"IF('D - P'!M332=\"\",\"\",'D - P'!M332)","v":""}]
[null,{"$f":"IF(AND('D - P'!$C333=\"\",'D - P'!$D333=\"\"),\"\",'D - P'!O333)","v":""},{"$f":"IF(AND('D - P'!$C333=\"\",'D - P'!$D333=\"\"),\"\",'D - P'!B333)","v":""},{"$f":"IF('D - P'!C333=\"\",\"\",'D - P'!C333)","v":""},{"$f":"IF('D - P'!D333=\"\",\"\",'D - P'!D333)","v":""},null,{"$f":"IF('D - P'!E333=\"\",\"\",'D - P'!E333)","v":""},{"$f":"IF('D - P'!F333=\"\",\"\",'D - P'!F333)","v":""},null,{"$f":"IF('D - P'!I333=\"\",\"\",'D - P'!I333)","v":""},{"$f":"IF('D - P'!J333=\"\",\"\",'D - P'!J333)","v":""},null,{"$f":"IF('D - P'!M333=\"\",\"\",'D - P'!M333)","v":""}]
[null,{"$f":"IF(AND('D - P'!$C334=\"\",'D - P'!$D334=\"\"),\"\",'D - P'!O334)","v":""},{"$f":"IF(AND('D - P'!$C334=\"\",'D - P'!$D334=\"\"),\"\",'D - P'!B334)","v":""},{"$f":"IF('D - P'!C334=\"\",\"\",'D - P'!C334)","v":""},{"$f":"IF('D - P'!D334=\"\",\"\",'D - P'!D334)","v":""},null,{"$f":"IF('D - P'!E334=\"\",\"\",'D - P'!E334)","v":""},{"$f":"IF('D - P'!F334=\"\",\"\",'D - P'!F334)","v":""},null,{"$f":"IF('D - P'!I334=\"\",\"\",'D - P'!I334)","v":""},{"$f":"IF('D - P'!J334=\"\",\"\",'D - P'!J334)","v":""},null,{"$f":"IF('D - P'!M334=\"\",\"\",'D - P'!M334)","v":""}]
[null,{"$f":"IF(AND('D - P'!$C335=\"\",'D - P'!$D335=\"\"),\"\",'D - P'!O335)","v":""},{"$f":"IF(AND('D - P'!$C335=\"\",'D - P'!$D335=\"\"),\"\",'D - P'!B335)","v":""},{"$f":"IF('D - P'!C335=\"\",\"\",'D - P'!C335)","v":""},{"$f":"IF('D - P'!D335=\"\",\"\",'D - P'!D335)","v":""},null,{"$f":"IF('D - P'!E335=\"\",\"\",'D - P'!E335)","v":""},{"$f":"IF('D - P'!F335=\"\",\"\",'D - P'!F335)","v":""},null,{"$f":"IF('D - P'!I335=\"\",\"\",'D - P'!I335)","v":""},{"$f":"IF('D - P'!J335=\"\",\"\",'D - P'!J335)","v":""},null,{"$f":"IF('D - P'!M335=\"\",\"\",'D - P'!M335)","v":""}]
[null,{"$f":"IF(AND('D - P'!$C336=\"\",'D - P'!$D336=\"\"),\"\",'D - P'!O336)","v":""},{"$f":"IF(AND('D - P'!$C336=\"\",'D - P'!$D336=\"\"),\"\",'D - P'!B336)","v":""},{"$f":"IF('D - P'!C336=\"\",\"\",'D - P'!C336)","v":""},{"$f":"IF('D - P'!D336=\"\",\"\",'D - P'!D336)","v":""},null,{"$f":"IF('D - P'!E336=\"\",\"\",'D - P'!E336)","v":""},{"$f":"IF('D - P'!F336=\"\",\"\",'D - P'!F336)","v":""},null,{"$f":"IF('D - P'!I336=\"\",\"\",'D - P'!I336)","v":""},{"$f":"IF('D - P'!J336=\"\",\"\",'D - P'!J336)","v":""},null,{"$f":"IF('D - P'!M336=\"\",\"\",'D - P'!M336)","v":""}]
[null,{"$f":"IF(AND('D - P'!$C337=\"\",'D - P'!$D337=\"\"),\"\",'D - P'!O337)","v":""},{"$f":"IF(AND('D - P'!$C337=\"\",'D - P'!$D337=\"\"),\"\",'D - P'!B337)","v":""},{"$f":"IF('D - P'!C337=\"\",\"\",'D - P'!C337)","v":""},{"$f":"IF('D - P'!D337=\"\",\"\",'D - P'!D337)","v":""},null,{"$f":"IF('D - P'!E337=\"\",\"\",'D - P'!E337)","v":""},{"$f":"IF('D - P'!F337=\"\",\"\",'D - P'!F337)","v":""},null,{"$f":"IF('D - P'!I337=\"\",\"\",'D - P'!I337)","v":""},{"$f":"IF('D - P'!J337=\"\",\"\",'D - P'!J337)","v":""},null,{"$f":"IF('D - P'!M337=\"\",\"\",'D - P'!M337)","v":""}]
[null,{"$f":"IF(AND('D - P'!$C338=\"\",'D - P'!$D338=\"\"),\"\",'D - P'!O338)","v":""},{"$f":"IF(AND('D - P'!$C338=\"\",'D - P'!$D338=\"\"),\"\",'D - P'!B338)","v":""},{"$f":"IF('D - P'!C338=\"\",\"\",'D - P'!C338)","v":""},{"$f":"IF('D - P'!D338=\"\",\"\",'D - P'!D338)","v":""},null,{"$f":"IF('D - P'!E338=\"\",\"\",'D - P'!E338)","v":""},{"$f":"IF('D - P'!F338=\"\",\"\",'D - P'!F338)","v":""},null,{"$f":"IF('D - P'!I338=\"\",\"\",'D - P'!I338)","v":""},{"$f":"IF('D - P'!J338=\"\",\"\",'D - P'!J338)","v":""},null,{"$f":"IF('D - P'!M338=\"\",\"\",'D - P'!M338)","v":""}]
[null,{"$f":"IF(AND('D - P'!$C339=\"\",'D - P'!$D339=\"\"),\"\",'D - P'!O339)","v":""},{"$f":"IF(AND('D - P'!$C339=\"\",'D - P'!$D339=\"\"),\"\",'D - P'!B339)","v":""},{"$f":"IF('D - P'!C339=\"\",\"\",'D - P'!C339)","v":""},{"$f":"IF('D - P'!D339=\"\",\"\",'D - P'!D339)","v":""},null,{"$f":"IF('D - P'!E339=\"\",\"\",'D - P'!E339)","v":""},{"$f":"IF('D - P'!F339=\"\",\"\",'D - P'!F339)","v":""},null,{"$f":"IF('D - P'!I339=\"\",\"\",'D - P'!I339)","v":""},{"$f":"IF('D - P'!J339=\"\",\"\",'D - P'!J339)","v":""},null,{"$f":"IF('D - P'!M339=\"\",\"\",'D - P'!M339)","v":""}]
[null,{"$f":"IF(AND('D - P'!$C340=\"\",'D - P'!$D340=\"\"),\"\",'D - P'!O340)","v":""},{"$f":"IF(AND('D - P'!$C340=\"\",'D - P'!$D340=\"\"),\"\",'D - P'!B340)","v":""},{"$f":"IF('D - P'!C340=\"\",\"\",'D - P'!C340)","v":""},{"$f":"IF('D - P'!D340=\"\",\"\",'D - P'!D340)","v":""},null,{"$f":"IF('D - P'!E340=\"\",\"\",'D - P'!E340)","v":""},{"$f":"IF('D - P'!F340=\"\",\"\",'D - P'!F340)","v":""},null,{"$f":"IF('D - P'!I340=\"\",\"\",'D - P'!I340)","v":""},{"$f":"IF('D - P'!J340=\"\",\"\",'D - P'!J340)","v":""},null,{"$f":"IF('D - P'!M340=\"\",\"\",'D - P'!M340)","v":""}]
[null,{"$f":"IF(AND('D - P'!$C341=\"\",'D - P'!$D341=\"\"),\"\",'D - P'!O341)","v":""},{"$f":"IF(AND('D - P'!$C341=\"\",'D - P'!$D341=\"\"),\"\",'D - P'!B341)","v":""},{"$f":"IF('D - P'!C341=\"\",\"\",'D - P'!C341)","v":""},{"$f":"IF('D - P'!D341=\"\",\"\",'D - P'!D341)","v":""},null,{"$f":"IF('D - P'!E341=\"\",\"\",'D - P'!E341)","v":""},{"$f":"IF('D - P'!F341=\"\",\"\",'D - P'!F341)","v":""},null,{"$f":"IF('D - P'!I341=\"\",\"\",'D - P'!I341)","v":""},{"$f":"IF('D - P'!J341=\"\",\"\",'D - P'!J341)","v":""},null,{"$f":"IF('D - P'!M341=\"\",\"\",'D - P'!M341)","v":""}]
[null,{"$f":"IF(AND('D - P'!$C342=\"\",'D - P'!$D342=\"\"),\"\",'D - P'!O342)","v":""},{"$f":"IF(AND('D - P'!$C342=\"\",'D - P'!$D342=\"\"),\"\",'D - P'!B342)","v":""},{"$f":"IF('D - P'!C342=\"\",\"\",'D - P'!C342)","v":""},{"$f":"IF('D - P'!D342=\"\",\"\",'D - P'!D342)","v":""},null,{"$f":"IF('D - P'!E342=\"\",\"\",'D - P'!E342)","v":""},{"$f":"IF('D - P'!F342=\"\",\"\",'D - P'!F342)","v":""},null,{"$f":"IF('D - P'!I342=\"\",\"\",'D - P'!I342)","v":""},{"$f":"IF('D - P'!J342=\"\",\"\",'D - P'!J342)","v":""},null,{"$f":"IF('D - P'!M342=\"\",\"\",'D - P'!M342)","v":""}]
[null,{"$f":"IF(AND('D - P'!$C343=\"\",'D - P'!$D343=\"\"),\"\",'D - P'!O343)","v":""},{"$f":"IF(AND('D - P'!$C343=\"\",'D - P'!$D343=\"\"),\"\",'D - P'!B343)","v":""},{"$f":"IF('D - P'!C343=\"\",\"\",'D - P'!C343)","v":""},{"$f":"IF('D - P'!D343=\"\",\"\",'D - P'!D343)","v":""},null,{"$f":"IF('D - P'!E343=\"\",\"\",'D - P'!E343)","v":""},{"$f":"IF('D - P'!F343=\"\",\"\",'D - P'!F343)","v":""},null,{"$f":"IF('D - P'!I343=\"\",\"\",'D - P'!I343)","v":""},{"$f":"IF('D - P'!J343=\"\",\"\",'D - P'!J343)","v":""},null,{"$f":"IF('D - P'!M343=\"\",\"\",'D - P'!M343)","v":""}]
[null,{"$f":"IF(AND('D - P'!$C344=\"\",'D - P'!$D344=\"\"),\"\",'D - P'!O344)","v":""},{"$f":"IF(AND('D - P'!$C344=\"\",'D - P'!$D344=\"\"),\"\",'D - P'!B344)","v":""},{"$f":"IF('D - P'!C344=\"\",\"\",'D - P'!C344)","v":""},{"$f":"IF('D - P'!D344=\"\",\"\",'D - P'!D344)","v":""},null,{"$f":"IF('D - P'!E344=\"\",\"\",'D - P'!E344)","v":""},{"$f":"IF('D - P'!F344=\"\",\"\",'D - P'!F344)","v":""},null,{"$f":"IF('D - P'!I344=\"\",\"\",'D - P'!I344)","v":""},{"$f":"IF('D - P'!J344=\"\",\"\",'D - P'!J344)","v":""},null,{"$f":"IF('D - P'!M344=\"\",\"\",'D - P'!M344)","v":""}]
[null,{"$f":"IF(AND('D - P'!$C345=\"\",'D - P'!$D345=\"\"),\"\",'D - P'!O345)","v":""},{"$f":"IF(AND('D - P'!$C345=\"\",'D - P'!$D345=\"\"),\"\",'D - P'!B345)","v":""},{"$f":"IF('D - P'!C345=\"\",\"\",'D - P'!C345)","v":""},{"$f":"IF('D - P'!D345=\"\",\"\",'D - P'!D345)","v":""},null,{"$f":"IF('D - P'!E345=\"\",\"\",'D - P'!E345)","v":""},{"$f":"IF('D - P'!F345=\"\",\"\",'D - P'!F345)","v":""},null,{"$f":"IF('D - P'!I345=\"\",\"\",'D - P'!I345)","v":""},{"$f":"IF('D - P'!J345=\"\",\"\",'D - P'!J345)","v":""},null,{"$f":"IF('D - P'!M345=\"\",\"\",'D - P'!M345)","v":""}]
[null,{"$f":"IF(AND('D - P'!$C346=\"\",'D - P'!$D346=\"\"),\"\",'D - P'!O346)","v":""},{"$f":"IF(AND('D - P'!$C346=\"\",'D - P'!$D346=\"\"),\"\",'D - P'!B346)","v":""},{"$f":"IF('D - P'!C346=\"\",\"\",'D - P'!C346)","v":""},{"$f":"IF('D - P'!D346=\"\",\"\",'D - P'!D346)","v":""},null,{"$f":"IF('D - P'!E346=\"\",\"\",'D - P'!E346)","v":""},{"$f":"IF('D - P'!F346=\"\",\"\",'D - P'!F346)","v":""},null,{"$f":"IF('D - P'!I346=\"\",\"\",'D - P'!I346)","v":""},{"$f":"IF('D - P'!J346=\"\",\"\",'D - P'!J346)","v":""},null,{"$f":"IF('D - P'!M346=\"\",\"\",'D - P'!M346)","v":""}]
[null,{"$f":"IF(AND('D - P'!$C347=\"\",'D - P'!$D347=\"\"),\"\",'D - P'!O347)","v":""},{"$f":"IF(AND('D - P'!$C347=\"\",'D - P'!$D347=\"\"),\"\",'D - P'!B347)","v":""},{"$f":"IF('D - P'!C347=\"\",\"\",'D - P'!C347)","v":""},{"$f":"IF('D - P'!D347=\"\",\"\",'D - P'!D347)","v":""},null,{"$f":"IF('D - P'!E347=\"\",\"\",'D - P'!E347)","v":""},{"$f":"IF('D - P'!F347=\"\",\"\",'D - P'!F347)","v":""},null,{"$f":"IF('D - P'!I347=\"\",\"\",'D - P'!I347)","v":""},{"$f":"IF('D - P'!J347=\"\",\"\",'D - P'!J347)","v":""},null,{"$f":"IF('D - P'!M347=\"\",\"\",'D - P'!M347)","v":""}]
[null,{"$f":"IF(AND('D - P'!$C348=\"\",'D - P'!$D348=\"\"),\"\",'D - P'!O348)","v":""},{"$f":"IF(AND('D - P'!$C348=\"\",'D - P'!$D348=\"\"),\"\",'D - P'!B348)","v":""},{"$f":"IF('D - P'!C348=\"\",\"\",'D - P'!C348)","v":""},{"$f":"IF('D - P'!D348=\"\",\"\",'D - P'!D348)","v":""},null,{"$f":"IF('D - P'!E348=\"\",\"\",'D - P'!E348)","v":""},{"$f":"IF('D - P'!F348=\"\",\"\",'D - P'!F348)","v":""},null,{"$f":"IF('D - P'!I348=\"\",\"\",'D - P'!I348)","v":""},{"$f":"IF('D - P'!J348=\"\",\"\",'D - P'!J348)","v":""},null,{"$f":"IF('D - P'!M348=\"\",\"\",'D - P'!M348)","v":""}]
[null,{"$f":"IF(AND('D - P'!$C349=\"\",'D - P'!$D349=\"\"),\"\",'D - P'!O349)","v":""},{"$f":"IF(AND('D - P'!$C349=\"\",'D - P'!$D349=\"\"),\"\",'D - P'!B349)","v":""},{"$f":"IF('D - P'!C349=\"\",\"\",'D - P'!C349)","v":""},{"$f":"IF('D - P'!D349=\"\",\"\",'D - P'!D349)","v":""},null,{"$f":"IF('D - P'!E349=\"\",\"\",'D - P'!E349)","v":""},{"$f":"IF('D - P'!F349=\"\",\"\",'D - P'!F349)","v":""},null,{"$f":"IF('D - P'!I349=\"\",\"\",'D - P'!I349)","v":""},{"$f":"IF('D - P'!J349=\"\",\"\",'D - P'!J349)","v":""},null,{"$f":"IF('D - P'!M349=\"\",\"\",'D - P'!M349)","v":""}]
[null,{"$f":"IF(AND('D - P'!$C350=\"\",'D - P'!$D350=\"\"),\"\",'D - P'!O350)","v":""},{"$f":"IF(AND('D - P'!$C350=\"\",'D - P'!$D350=\"\"),\"\",'D - P'!B350)","v":""},{"$f":"IF('D - P'!C350=\"\",\"\",'D - P'!C350)","v":""},{"$f":"IF('D - P'!D350=\"\",\"\",'D - P'!D350)","v":""},null,{"$f":"IF('D - P'!E350=\"\",\"\",'D - P'!E350)","v":""},{"$f":"IF('D - P'!F350=\"\",\"\",'D - P'!F350)","v":""},null,{"$f":"IF('D - P'!I350=\"\",\"\",'D - P'!I350)","v":""},{"$f":"IF('D - P'!J350=\"\",\"\",'D - P'!J350)","v":""},null,{"$f":"IF('D - P'!M350=\"\",\"\",'D - P'!M350)","v":""}]
[null,{"$f":"IF(AND('D - P'!$C351=\"\",'D - P'!$D351=\"\"),\"\",'D - P'!O351)","v":""},{"$f":"IF(AND('D - P'!$C351=\"\",'D - P'!$D351=\"\"),\"\",'D - P'!B351)","v":""},{"$f":"IF('D - P'!C351=\"\",\"\",'D - P'!C351)","v":""},{"$f":"IF('D - P'!D351=\"\",\"\",'D - P'!D351)","v":""},null,{"$f":"IF('D - P'!E351=\"\",\"\",'D - P'!E351)","v":""},{"$f":"IF('D - P'!F351=\"\",\"\",'D - P'!F351)","v":""},null,{"$f":"IF('D - P'!I351=\"\",\"\",'D - P'!I351)","v":""},{"$f":"IF('D - P'!J351=\"\",\"\",'D - P'!J351)","v":""},null,{"$f":"IF('D - P'!M351=\"\",\"\",'D - P'!M351)","v":""}]
[null,{"$f":"IF(AND('D - P'!$C352=\"\",'D - P'!$D352=\"\"),\"\",'D - P'!O352)","v":""},{"$f":"IF(AND('D - P'!$C352=\"\",'D - P'!$D352=\"\"),\"\",'D - P'!B352)","v":""},{"$f":"IF('D - P'!C352=\"\",\"\",'D - P'!C352)","v":""},{"$f":"IF('D - P'!D352=\"\",\"\",'D - P'!D352)","v":""},null,{"$f":"IF('D - P'!E352=\"\",\"\",'D - P'!E352)","v":""},{"$f":"IF('D - P'!F352=\"\",\"\",'D - P'!F352)","v":""},null,{"$f":"IF('D - P'!I352=\"\",\"\",'D - P'!I352)","v":""},{"$f":"IF('D - P'!J352=\"\",\"\",'D - P'!J352)","v":""},null,{"$f":"IF('D - P'!M352=\"\",\"\",'D - P'!M352)","v":""}]
[null,{"$f":"IF(AND('D - P'!$C353=\"\",'D - P'!$D353=\"\"),\"\",'D - P'!O353)","v":""},{"$f":"IF(AND('D - P'!$C353=\"\",'D - P'!$D353=\"\"),\"\",'D - P'!B353)","v":""},{"$f":"IF('D - P'!C353=\"\",\"\",'D - P'!C353)","v":""},{"$f":"IF('D - P'!D353=\"\",\"\",'D - P'!D353)","v":""},null,{"$f":"IF('D - P'!E353=\"\",\"\",'D - P'!E353)","v":""},{"$f":"IF('D - P'!F353=\"\",\"\",'D - P'!F353)","v":""},null,{"$f":"IF('D - P'!I353=\"\",\"\",'D - P'!I353)","v":""},{"$f":"IF('D - P'!J353=\"\",\"\",'D - P'!J353)","v":""},null,{"$f":"IF('D - P'!M353=\"\",\"\",'D - P'!M353)","v":""}]
[null,{"$f":"IF(AND('D - P'!$C354=\"\",'D - P'!$D354=\"\"),\"\",'D - P'!O354)","v":""},{"$f":"IF(AND('D - P'!$C354=\"\",'D - P'!$D354=\"\"),\"\",'D - P'!B354)","v":""},{"$f":"IF('D - P'!C354=\"\",\"\",'D - P'!C354)","v":""},{"$f":"IF('D - P'!D354=\"\",\"\",'D - P'!D354)","v":""},null,{"$f":"IF('D - P'!E354=\"\",\"\",'D - P'!E354)","v":""},{"$f":"IF('D - P'!F354=\"\",\"\",'D - P'!F354)","v":""},null,{"$f":"IF('D - P'!I354=\"\",\"\",'D - P'!I354)","v":""},{"$f":"IF('D - P'!J354=\"\",\"\",'D - P'!J354)","v":""},null,{"$f":"IF('D - P'!M354=\"\",\"\",'D - P'!M354)","v":""}]
[null,{"$f":"IF(AND('D - P'!$C355=\"\",'D - P'!$D355=\"\"),\"\",'D - P'!O355)","v":""},{"$f":"IF(AND('D - P'!$C355=\"\",'D - P'!$D355=\"\"),\"\",'D - P'!B355)","v":""},{"$f":"IF('D - P'!C355=\"\",\"\",'D - P'!C355)","v":""},{"$f":"IF('D - P'!D355=\"\",\"\",'D - P'!D355)","v":""},null,{"$f":"IF('D - P'!E355=\"\",\"\",'D - P'!E355)","v":""},{"$f":"IF('D - P'!F355=\"\",\"\",'D - P'!F355)","v":""},null,{"$f":"IF('D - P'!I355=\"\",\"\",'D - P'!I355)","v":""},{"$f":"IF('D - P'!J355=\"\",\"\",'D - P'!J355)","v":""},null,{"$f":"IF('D - P'!M355=\"\",\"\",'D - P'!M355)","v":""}]
[null,{"$f":"IF(AND('D - P'!$C356=\"\",'D - P'!$D356=\"\"),\"\",'D - P'!O356)","v":""},{"$f":"IF(AND('D - P'!$C356=\"\",'D - P'!$D356=\"\"),\"\",'D - P'!B356)","v":""},{"$f":"IF('D - P'!C356=\"\",\"\",'D - P'!C356)","v":""},{"$f":"IF('D - P'!D356=\"\",\"\",'D - P'!D356)","v":""},null,{"$f":"IF('D - P'!E356=\"\",\"\",'D - P'!E356)","v":""},{"$f":"IF('D - P'!F356=\"\",\"\",'D - P'!F356)","v":""},null,{"$f":"IF('D - P'!I356=\"\",\"\",'D - P'!I356)","v":""},{"$f":"IF('D - P'!J356=\"\",\"\",'D - P'!J356)","v":""},null,{"$f":"IF('D - P'!M356=\"\",\"\",'D - P'!M356)","v":""}]
[null,{"$f":"IF(AND('D - P'!$C357=\"\",'D - P'!$D357=\"\"),\"\",'D - P'!O357)","v":""},{"$f":"IF(AND('D - P'!$C357=\"\",'D - P'!$D357=\"\"),\"\",'D - P'!B357)","v":""},{"$f":"IF('D - P'!C357=\"\",\"\",'D - P'!C357)","v":""},{"$f":"IF('D - P'!D357=\"\",\"\",'D - P'!D357)","v":""},null,{"$f":"IF('D - P'!E357=\"\",\"\",'D - P'!E357)","v":""},{"$f":"IF('D - P'!F357=\"\",\"\",'D - P'!F357)","v":""},null,{"$f":"IF('D - P'!I357=\"\",\"\",'D - P'!I357)","v":""},{"$f":"IF('D - P'!J357=\"\",\"\",'D - P'!J357)","v":""},null,{"$f":"IF('D - P'!M357=\"\",\"\",'D - P'!M357)","v":""}]
[null,{"$f":"IF(AND('D - P'!$C358=\"\",'D - P'!$D358=\"\"),\"\",'D - P'!O358)","v":""},{"$f":"IF(AND('D - P'!$C358=\"\",'D - P'!$D358=\"\"),\"\",'D - P'!B358)","v":""},{"$f":"IF('D - P'!C358=\"\",\"\",'D - P'!C358)","v":""},{"$f":"IF('D - P'!D358=\"\",\"\",'D - P'!D358)","v":""},null,{"$f":"IF('D - P'!E358=\"\",\"\",'D - P'!E358)","v":""},{"$f":"IF('D - P'!F358=\"\",\"\",'D - P'!F358)","v":""},null,{"$f":"IF('D - P'!I358=\"\",\"\",'D - P'!I358)","v":""},{"$f":"IF('D - P'!J358=\"\",\"\",'D - P'!J358)","v":""},null,{"$f":"IF('D - P'!M358=\"\",\"\",'D - P'!M358)","v":""}]
[null,{"$f":"IF(AND('D - P'!$C359=\"\",'D - P'!$D359=\"\"),\"\",'D - P'!O359)","v":""},{"$f":"IF(AND('D - P'!$C359=\"\",'D - P'!$D359=\"\"),\"\",'D - P'!B359)","v":""},{"$f":"IF('D - P'!C359=\"\",\"\",'D - P'!C359)","v":""},{"$f":"IF('D - P'!D359=\"\",\"\",'D - P'!D359)","v":""},null,{"$f":"IF('D - P'!E359=\"\",\"\",'D - P'!E359)","v":""},{"$f":"IF('D - P'!F359=\"\",\"\",'D - P'!F359)","v":""},null,{"$f":"IF('D - P'!I359=\"\",\"\",'D - P'!I359)","v":""},{"$f":"IF('D - P'!J359=\"\",\"\",'D - P'!J359)","v":""},null,{"$f":"IF('D - P'!M359=\"\",\"\",'D - P'!M359)","v":""}]
[null,{"$f":"IF(AND('D - P'!$C360=\"\",'D - P'!$D360=\"\"),\"\",'D - P'!O360)","v":""},{"$f":"IF(AND('D - P'!$C360=\"\",'D - P'!$D360=\"\"),\"\",'D - P'!B360)","v":""},{"$f":"IF('D - P'!C360=\"\",\"\",'D - P'!C360)","v":""},{"$f":"IF('D - P'!D360=\"\",\"\",'D - P'!D360)","v":""},null,{"$f":"IF('D - P'!E360=\"\",\"\",'D - P'!E360)","v":""},{"$f":"IF('D - P'!F360=\"\",\"\",'D - P'!F360)","v":""},null,{"$f":"IF('D - P'!I360=\"\",\"\",'D - P'!I360)","v":""},{"$f":"IF('D - P'!J360=\"\",\"\",'D - P'!J360)","v":""},null,{"$f":"IF('D - P'!M360=\"\",\"\",'D - P'!M360)","v":""}]
[null,{"$f":"B$1","v":"Dvojboj - Celkové pořadí"}]
[]
[null,{"$f":"B$3","v":"VC ČR v požárním útoku družstev HZS krajů a HZS podniků"},null,null,{"$f":"E$3","v":"Petrovice 19.9.2019"}]
[]
[null,{"$f":"Start!$C$5","v":"MUŽI"}]
[null,"Pořadí","Start. číslo","Jméno","kolektiv",null,"100m",null,null,"věž",null,null,"Výsledný čas"]
[null,null,null,null,null,null,"1.pokus","2.pokus",null,"1.pokus","2.pokus"]
[null,{"$f":"IF(AND('D - P'!$C361=\"\",'D - P'!$D361=\"\"),\"\",'D - P'!O361)","v":""},{"$f":"IF(AND('D - P'!$C361=\"\",'D - P'!$D361=\"\"),\"\",'D - P'!B361)","v":""},{"$f":"IF('D - P'!C361=\"\",\"\",'D - P'!C361)","v":""},{"$f":"IF('D - P'!D361=\"\",\"\",'D - P'!D361)","v":""},null,{"$f":"IF('D - P'!E361=\"\",\"\",'D - P'!E361)","v":""},{"$f":"IF('D - P'!F361=\"\",\"\",'D - P'!F361)","v":""},null,{"$f":"IF('D - P'!I361=\"\",\"\",'D - P'!I361)","v":""},{"$f":"IF('D - P'!J361=\"\",\"\",'D - P'!J361)","v":""},null,{"$f":"IF('D - P'!M361=\"\",\"\",'D - P'!M361)","v":""}]
[null,{"$f":"IF(AND('D - P'!$C362=\"\",'D - P'!$D362=\"\"),\"\",'D - P'!O362)","v":""},{"$f":"IF(AND('D - P'!$C362=\"\",'D - P'!$D362=\"\"),\"\",'D - P'!B362)","v":""},{"$f":"IF('D - P'!C362=\"\",\"\",'D - P'!C362)","v":""},{"$f":"IF('D - P'!D362=\"\",\"\",'D - P'!D362)","v":""},null,{"$f":"IF('D - P'!E362=\"\",\"\",'D - P'!E362)","v":""},{"$f":"IF('D - P'!F362=\"\",\"\",'D - P'!F362)","v":""},null,{"$f":"IF('D - P'!I362=\"\",\"\",'D - P'!I362)","v":""},{"$f":"IF('D - P'!J362=\"\",\"\",'D - P'!J362)","v":""},null,{"$f":"IF('D - P'!M362=\"\",\"\",'D - P'!M362)","v":""}]
[null,{"$f":"IF(AND('D - P'!$C363=\"\",'D - P'!$D363=\"\"),\"\",'D - P'!O363)","v":""},{"$f":"IF(AND('D - P'!$C363=\"\",'D - P'!$D363=\"\"),\"\",'D - P'!B363)","v":""},{"$f":"IF('D - P'!C363=\"\",\"\",'D - P'!C363)","v":""},{"$f":"IF('D - P'!D363=\"\",\"\",'D - P'!D363)","v":""},null,{"$f":"IF('D - P'!E363=\"\",\"\",'D - P'!E363)","v":""},{"$f":"IF('D - P'!F363=\"\",\"\",'D - P'!F363)","v":""},null,{"$f":"IF('D - P'!I363=\"\",\"\",'D - P'!I363)","v":""},{"$f":"IF('D - P'!J363=\"\",\"\",'D - P'!J363)","v":""},null,{"$f":"IF('D - P'!M363=\"\",\"\",'D - P'!M363)","v":""}]
[null,{"$f":"IF(AND('D - P'!$C364=\"\",'D - P'!$D364=\"\"),\"\",'D - P'!O364)","v":""},{"$f":"IF(AND('D - P'!$C364=\"\",'D - P'!$D364=\"\"),\"\",'D - P'!B364)","v":""},{"$f":"IF('D - P'!C364=\"\",\"\",'D - P'!C364)","v":""},{"$f":"IF('D - P'!D364=\"\",\"\",'D - P'!D364)","v":""},null,{"$f":"IF('D - P'!E364=\"\",\"\",'D - P'!E364)","v":""},{"$f":"IF('D - P'!F364=\"\",\"\",'D - P'!F364)","v":""},null,{"$f":"IF('D - P'!I364=\"\",\"\",'D - P'!I364)","v":""},{"$f":"IF('D - P'!J364=\"\",\"\",'D - P'!J364)","v":""},null,{"$f":"IF('D - P'!M364=\"\",\"\",'D - P'!M364)","v":""}]
[null,{"$f":"IF(AND('D - P'!$C365=\"\",'D - P'!$D365=\"\"),\"\",'D - P'!O365)","v":""},{"$f":"IF(AND('D - P'!$C365=\"\",'D - P'!$D365=\"\"),\"\",'D - P'!B365)","v":""},{"$f":"IF('D - P'!C365=\"\",\"\",'D - P'!C365)","v":""},{"$f":"IF('D - P'!D365=\"\",\"\",'D - P'!D365)","v":""},null,{"$f":"IF('D - P'!E365=\"\",\"\",'D - P'!E365)","v":""},{"$f":"IF('D - P'!F365=\"\",\"\",'D - P'!F365)","v":""},null,{"$f":"IF('D - P'!I365=\"\",\"\",'D - P'!I365)","v":""},{"$f":"IF('D - P'!J365=\"\",\"\",'D - P'!J365)","v":""},null,{"$f":"IF('D - P'!M365=\"\",\"\",'D - P'!M365)","v":""}]
[null,{"$f":"IF(AND('D - P'!$C366=\"\",'D - P'!$D366=\"\"),\"\",'D - P'!O366)","v":""},{"$f":"IF(AND('D - P'!$C366=\"\",'D - P'!$D366=\"\"),\"\",'D - P'!B366)","v":""},{"$f":"IF('D - P'!C366=\"\",\"\",'D - P'!C366)","v":""},{"$f":"IF('D - P'!D366=\"\",\"\",'D - P'!D366)","v":""},null,{"$f":"IF('D - P'!E366=\"\",\"\",'D - P'!E366)","v":""},{"$f":"IF('D - P'!F366=\"\",\"\",'D - P'!F366)","v":""},null,{"$f":"IF('D - P'!I366=\"\",\"\",'D - P'!I366)","v":""},{"$f":"IF('D - P'!J366=\"\",\"\",'D - P'!J366)","v":""},null,{"$f":"IF('D - P'!M366=\"\",\"\",'D - P'!M366)","v":""}]
[null,{"$f":"IF(AND('D - P'!$C367=\"\",'D - P'!$D367=\"\"),\"\",'D - P'!O367)","v":""},{"$f":"IF(AND('D - P'!$C367=\"\",'D - P'!$D367=\"\"),\"\",'D - P'!B367)","v":""},{"$f":"IF('D - P'!C367=\"\",\"\",'D - P'!C367)","v":""},{"$f":"IF('D - P'!D367=\"\",\"\",'D - P'!D367)","v":""},null,{"$f":"IF('D - P'!E367=\"\",\"\",'D - P'!E367)","v":""},{"$f":"IF('D - P'!F367=\"\",\"\",'D - P'!F367)","v":""},null,{"$f":"IF('D - P'!I367=\"\",\"\",'D - P'!I367)","v":""},{"$f":"IF('D - P'!J367=\"\",\"\",'D - P'!J367)","v":""},null,{"$f":"IF('D - P'!M367=\"\",\"\",'D - P'!M367)","v":""}]
[null,{"$f":"IF(AND('D - P'!$C368=\"\",'D - P'!$D368=\"\"),\"\",'D - P'!O368)","v":""},{"$f":"IF(AND('D - P'!$C368=\"\",'D - P'!$D368=\"\"),\"\",'D - P'!B368)","v":""},{"$f":"IF('D - P'!C368=\"\",\"\",'D - P'!C368)","v":""},{"$f":"IF('D - P'!D368=\"\",\"\",'D - P'!D368)","v":""},null,{"$f":"IF('D - P'!E368=\"\",\"\",'D - P'!E368)","v":""},{"$f":"IF('D - P'!F368=\"\",\"\",'D - P'!F368)","v":""},null,{"$f":"IF('D - P'!I368=\"\",\"\",'D - P'!I368)","v":""},{"$f":"IF('D - P'!J368=\"\",\"\",'D - P'!J368)","v":""},null,{"$f":"IF('D - P'!M368=\"\",\"\",'D - P'!M368)","v":""}]
[null,{"$f":"IF(AND('D - P'!$C369=\"\",'D - P'!$D369=\"\"),\"\",'D - P'!O369)","v":""},{"$f":"IF(AND('D - P'!$C369=\"\",'D - P'!$D369=\"\"),\"\",'D - P'!B369)","v":""},{"$f":"IF('D - P'!C369=\"\",\"\",'D - P'!C369)","v":""},{"$f":"IF('D - P'!D369=\"\",\"\",'D - P'!D369)","v":""},null,{"$f":"IF('D - P'!E369=\"\",\"\",'D - P'!E369)","v":""},{"$f":"IF('D - P'!F369=\"\",\"\",'D - P'!F369)","v":""},null,{"$f":"IF('D - P'!I369=\"\",\"\",'D - P'!I369)","v":""},{"$f":"IF('D - P'!J369=\"\",\"\",'D - P'!J369)","v":""},null,{"$f":"IF('D - P'!M369=\"\",\"\",'D - P'!M369)","v":""}]
[null,{"$f":"IF(AND('D - P'!$C370=\"\",'D - P'!$D370=\"\"),\"\",'D - P'!O370)","v":""},{"$f":"IF(AND('D - P'!$C370=\"\",'D - P'!$D370=\"\"),\"\",'D - P'!B370)","v":""},{"$f":"IF('D - P'!C370=\"\",\"\",'D - P'!C370)","v":""},{"$f":"IF('D - P'!D370=\"\",\"\",'D - P'!D370)","v":""},null,{"$f":"IF('D - P'!E370=\"\",\"\",'D - P'!E370)","v":""},{"$f":"IF('D - P'!F370=\"\",\"\",'D - P'!F370)","v":""},null,{"$f":"IF('D - P'!I370=\"\",\"\",'D - P'!I370)","v":""},{"$f":"IF('D - P'!J370=\"\",\"\",'D - P'!J370)","v":""},null,{"$f":"IF('D - P'!M370=\"\",\"\",'D - P'!M370)","v":""}]
[null,{"$f":"IF(AND('D - P'!$C371=\"\",'D - P'!$D371=\"\"),\"\",'D - P'!O371)","v":""},{"$f":"IF(AND('D - P'!$C371=\"\",'D - P'!$D371=\"\"),\"\",'D - P'!B371)","v":""},{"$f":"IF('D - P'!C371=\"\",\"\",'D - P'!C371)","v":""},{"$f":"IF('D - P'!D371=\"\",\"\",'D - P'!D371)","v":""},null,{"$f":"IF('D - P'!E371=\"\",\"\",'D - P'!E371)","v":""},{"$f":"IF('D - P'!F371=\"\",\"\",'D - P'!F371)","v":""},null,{"$f":"IF('D - P'!I371=\"\",\"\",'D - P'!I371)","v":""},{"$f":"IF('D - P'!J371=\"\",\"\",'D - P'!J371)","v":""},null,{"$f":"IF('D - P'!M371=\"\",\"\",'D - P'!M371)","v":""}]
[null,{"$f":"IF(AND('D - P'!$C372=\"\",'D - P'!$D372=\"\"),\"\",'D - P'!O372)","v":""},{"$f":"IF(AND('D - P'!$C372=\"\",'D - P'!$D372=\"\"),\"\",'D - P'!B372)","v":""},{"$f":"IF('D - P'!C372=\"\",\"\",'D - P'!C372)","v":""},{"$f":"IF('D - P'!D372=\"\",\"\",'D - P'!D372)","v":""},null,{"$f":"IF('D - P'!E372=\"\",\"\",'D - P'!E372)","v":""},{"$f":"IF('D - P'!F372=\"\",\"\",'D - P'!F372)","v":""},null,{"$f":"IF('D - P'!I372=\"\",\"\",'D - P'!I372)","v":""},{"$f":"IF('D - P'!J372=\"\",\"\",'D - P'!J372)","v":""},null,{"$f":"IF('D - P'!M372=\"\",\"\",'D - P'!M372)","v":""}]
[null,{"$f":"IF(AND('D - P'!$C373=\"\",'D - P'!$D373=\"\"),\"\",'D - P'!O373)","v":""},{"$f":"IF(AND('D - P'!$C373=\"\",'D - P'!$D373=\"\"),\"\",'D - P'!B373)","v":""},{"$f":"IF('D - P'!C373=\"\",\"\",'D - P'!C373)","v":""},{"$f":"IF('D - P'!D373=\"\",\"\",'D - P'!D373)","v":""},null,{"$f":"IF('D - P'!E373=\"\",\"\",'D - P'!E373)","v":""},{"$f":"IF('D - P'!F373=\"\",\"\",'D - P'!F373)","v":""},null,{"$f":"IF('D - P'!I373=\"\",\"\",'D - P'!I373)","v":""},{"$f":"IF('D - P'!J373=\"\",\"\",'D - P'!J373)","v":""},null,{"$f":"IF('D - P'!M373=\"\",\"\",'D - P'!M373)","v":""}]
[null,{"$f":"IF(AND('D - P'!$C374=\"\",'D - P'!$D374=\"\"),\"\",'D - P'!O374)","v":""},{"$f":"IF(AND('D - P'!$C374=\"\",'D - P'!$D374=\"\"),\"\",'D - P'!B374)","v":""},{"$f":"IF('D - P'!C374=\"\",\"\",'D - P'!C374)","v":""},{"$f":"IF('D - P'!D374=\"\",\"\",'D - P'!D374)","v":""},null,{"$f":"IF('D - P'!E374=\"\",\"\",'D - P'!E374)","v":""},{"$f":"IF('D - P'!F374=\"\",\"\",'D - P'!F374)","v":""},null,{"$f":"IF('D - P'!I374=\"\",\"\",'D - P'!I374)","v":""},{"$f":"IF('D - P'!J374=\"\",\"\",'D - P'!J374)","v":""},null,{"$f":"IF('D - P'!M374=\"\",\"\",'D - P'!M374)","v":""}]
[null,{"$f":"IF(AND('D - P'!$C375=\"\",'D - P'!$D375=\"\"),\"\",'D - P'!O375)","v":""},{"$f":"IF(AND('D - P'!$C375=\"\",'D - P'!$D375=\"\"),\"\",'D - P'!B375)","v":""},{"$f":"IF('D - P'!C375=\"\",\"\",'D - P'!C375)","v":""},{"$f":"IF('D - P'!D375=\"\",\"\",'D - P'!D375)","v":""},null,{"$f":"IF('D - P'!E375=\"\",\"\",'D - P'!E375)","v":""},{"$f":"IF('D - P'!F375=\"\",\"\",'D - P'!F375)","v":""},null,{"$f":"IF('D - P'!I375=\"\",\"\",'D - P'!I375)","v":""},{"$f":"IF('D - P'!J375=\"\",\"\",'D - P'!J375)","v":""},null,{"$f":"IF('D - P'!M375=\"\",\"\",'D - P'!M375)","v":""}]
[null,{"$f":"IF(AND('D - P'!$C376=\"\",'D - P'!$D376=\"\"),\"\",'D - P'!O376)","v":""},{"$f":"IF(AND('D - P'!$C376=\"\",'D - P'!$D376=\"\"),\"\",'D - P'!B376)","v":""},{"$f":"IF('D - P'!C376=\"\",\"\",'D - P'!C376)","v":""},{"$f":"IF('D - P'!D376=\"\",\"\",'D - P'!D376)","v":""},null,{"$f":"IF('D - P'!E376=\"\",\"\",'D - P'!E376)","v":""},{"$f":"IF('D - P'!F376=\"\",\"\",'D - P'!F376)","v":""},null,{"$f":"IF('D - P'!I376=\"\",\"\",'D - P'!I376)","v":""},{"$f":"IF('D - P'!J376=\"\",\"\",'D - P'!J376)","v":""},null,{"$f":"IF('D - P'!M376=\"\",\"\",'D - P'!M376)","v":""}]
[null,{"$f":"IF(AND('D - P'!$C377=\"\",'D - P'!$D377=\"\"),\"\",'D - P'!O377)","v":""},{"$f":"IF(AND('D - P'!$C377=\"\",'D - P'!$D377=\"\"),\"\",'D - P'!B377)","v":""},{"$f":"IF('D - P'!C377=\"\",\"\",'D - P'!C377)","v":""},{"$f":"IF('D - P'!D377=\"\",\"\",'D - P'!D377)","v":""},null,{"$f":"IF('D - P'!E377=\"\",\"\",'D - P'!E377)","v":""},{"$f":"IF('D - P'!F377=\"\",\"\",'D - P'!F377)","v":""},null,{"$f":"IF('D - P'!I377=\"\",\"\",'D - P'!I377)","v":""},{"$f":"IF('D - P'!J377=\"\",\"\",'D - P'!J377)","v":""},null,{"$f":"IF('D - P'!M377=\"\",\"\",'D - P'!M377)","v":""}]
[null,{"$f":"IF(AND('D - P'!$C378=\"\",'D - P'!$D378=\"\"),\"\",'D - P'!O378)","v":""},{"$f":"IF(AND('D - P'!$C378=\"\",'D - P'!$D378=\"\"),\"\",'D - P'!B378)","v":""},{"$f":"IF('D - P'!C378=\"\",\"\",'D - P'!C378)","v":""},{"$f":"IF('D - P'!D378=\"\",\"\",'D - P'!D378)","v":""},null,{"$f":"IF('D - P'!E378=\"\",\"\",'D - P'!E378)","v":""},{"$f":"IF('D - P'!F378=\"\",\"\",'D - P'!F378)","v":""},null,{"$f":"IF('D - P'!I378=\"\",\"\",'D - P'!I378)","v":""},{"$f":"IF('D - P'!J378=\"\",\"\",'D - P'!J378)","v":""},null,{"$f":"IF('D - P'!M378=\"\",\"\",'D - P'!M378)","v":""}]
[null,{"$f":"IF(AND('D - P'!$C379=\"\",'D - P'!$D379=\"\"),\"\",'D - P'!O379)","v":""},{"$f":"IF(AND('D - P'!$C379=\"\",'D - P'!$D379=\"\"),\"\",'D - P'!B379)","v":""},{"$f":"IF('D - P'!C379=\"\",\"\",'D - P'!C379)","v":""},{"$f":"IF('D - P'!D379=\"\",\"\",'D - P'!D379)","v":""},null,{"$f":"IF('D - P'!E379=\"\",\"\",'D - P'!E379)","v":""},{"$f":"IF('D - P'!F379=\"\",\"\",'D - P'!F379)","v":""},null,{"$f":"IF('D - P'!I379=\"\",\"\",'D - P'!I379)","v":""},{"$f":"IF('D - P'!J379=\"\",\"\",'D - P'!J379)","v":""},null,{"$f":"IF('D - P'!M379=\"\",\"\",'D - P'!M379)","v":""}]
[null,{"$f":"IF(AND('D - P'!$C380=\"\",'D - P'!$D380=\"\"),\"\",'D - P'!O380)","v":""},{"$f":"IF(AND('D - P'!$C380=\"\",'D - P'!$D380=\"\"),\"\",'D - P'!B380)","v":""},{"$f":"IF('D - P'!C380=\"\",\"\",'D - P'!C380)","v":""},{"$f":"IF('D - P'!D380=\"\",\"\",'D - P'!D380)","v":""},null,{"$f":"IF('D - P'!E380=\"\",\"\",'D - P'!E380)","v":""},{"$f":"IF('D - P'!F380=\"\",\"\",'D - P'!F380)","v":""},null,{"$f":"IF('D - P'!I380=\"\",\"\",'D - P'!I380)","v":""},{"$f":"IF('D - P'!J380=\"\",\"\",'D - P'!J380)","v":""},null,{"$f":"IF('D - P'!M380=\"\",\"\",'D - P'!M380)","v":""}]
[null,{"$f":"IF(AND('D - P'!$C381=\"\",'D - P'!$D381=\"\"),\"\",'D - P'!O381)","v":""},{"$f":"IF(AND('D - P'!$C381=\"\",'D - P'!$D381=\"\"),\"\",'D - P'!B381)","v":""},{"$f":"IF('D - P'!C381=\"\",\"\",'D - P'!C381)","v":""},{"$f":"IF('D - P'!D381=\"\",\"\",'D - P'!D381)","v":""},null,{"$f":"IF('D - P'!E381=\"\",\"\",'D - P'!E381)","v":""},{"$f":"IF('D - P'!F381=\"\",\"\",'D - P'!F381)","v":""},null,{"$f":"IF('D - P'!I381=\"\",\"\",'D - P'!I381)","v":""},{"$f":"IF('D - P'!J381=\"\",\"\",'D - P'!J381)","v":""},null,{"$f":"IF('D - P'!M381=\"\",\"\",'D - P'!M381)","v":""}]
[null,{"$f":"IF(AND('D - P'!$C382=\"\",'D - P'!$D382=\"\"),\"\",'D - P'!O382)","v":""},{"$f":"IF(AND('D - P'!$C382=\"\",'D - P'!$D382=\"\"),\"\",'D - P'!B382)","v":""},{"$f":"IF('D - P'!C382=\"\",\"\",'D - P'!C382)","v":""},{"$f":"IF('D - P'!D382=\"\",\"\",'D - P'!D382)","v":""},null,{"$f":"IF('D - P'!E382=\"\",\"\",'D - P'!E382)","v":""},{"$f":"IF('D - P'!F382=\"\",\"\",'D - P'!F382)","v":""},null,{"$f":"IF('D - P'!I382=\"\",\"\",'D - P'!I382)","v":""},{"$f":"IF('D - P'!J382=\"\",\"\",'D - P'!J382)","v":""},null,{"$f":"IF('D - P'!M382=\"\",\"\",'D - P'!M382)","v":""}]
[null,{"$f":"IF(AND('D - P'!$C383=\"\",'D - P'!$D383=\"\"),\"\",'D - P'!O383)","v":""},{"$f":"IF(AND('D - P'!$C383=\"\",'D - P'!$D383=\"\"),\"\",'D - P'!B383)","v":""},{"$f":"IF('D - P'!C383=\"\",\"\",'D - P'!C383)","v":""},{"$f":"IF('D - P'!D383=\"\",\"\",'D - P'!D383)","v":""},null,{"$f":"IF('D - P'!E383=\"\",\"\",'D - P'!E383)","v":""},{"$f":"IF('D - P'!F383=\"\",\"\",'D - P'!F383)","v":""},null,{"$f":"IF('D - P'!I383=\"\",\"\",'D - P'!I383)","v":""},{"$f":"IF('D - P'!J383=\"\",\"\",'D - P'!J383)","v":""},null,{"$f":"IF('D - P'!M383=\"\",\"\",'D - P'!M383)","v":""}]
[null,{"$f":"IF(AND('D - P'!$C384=\"\",'D - P'!$D384=\"\"),\"\",'D - P'!O384)","v":""},{"$f":"IF(AND('D - P'!$C384=\"\",'D - P'!$D384=\"\"),\"\",'D - P'!B384)","v":""},{"$f":"IF('D - P'!C384=\"\",\"\",'D - P'!C384)","v":""},{"$f":"IF('D - P'!D384=\"\",\"\",'D - P'!D384)","v":""},null,{"$f":"IF('D - P'!E384=\"\",\"\",'D - P'!E384)","v":""},{"$f":"IF('D - P'!F384=\"\",\"\",'D - P'!F384)","v":""},null,{"$f":"IF('D - P'!I384=\"\",\"\",'D - P'!I384)","v":""},{"$f":"IF('D - P'!J384=\"\",\"\",'D - P'!J384)","v":""},null,{"$f":"IF('D - P'!M384=\"\",\"\",'D - P'!M384)","v":""}]
[null,{"$f":"IF(AND('D - P'!$C385=\"\",'D - P'!$D385=\"\"),\"\",'D - P'!O385)","v":""},{"$f":"IF(AND('D - P'!$C385=\"\",'D - P'!$D385=\"\"),\"\",'D - P'!B385)","v":""},{"$f":"IF('D - P'!C385=\"\",\"\",'D - P'!C385)","v":""},{"$f":"IF('D - P'!D385=\"\",\"\",'D - P'!D385)","v":""},null,{"$f":"IF('D - P'!E385=\"\",\"\",'D - P'!E385)","v":""},{"$f":"IF('D - P'!F385=\"\",\"\",'D - P'!F385)","v":""},null,{"$f":"IF('D - P'!I385=\"\",\"\",'D - P'!I385)","v":""},{"$f":"IF('D - P'!J385=\"\",\"\",'D - P'!J385)","v":""},null,{"$f":"IF('D - P'!M385=\"\",\"\",'D - P'!M385)","v":""}]
[null,{"$f":"IF(AND('D - P'!$C386=\"\",'D - P'!$D386=\"\"),\"\",'D - P'!O386)","v":""},{"$f":"IF(AND('D - P'!$C386=\"\",'D - P'!$D386=\"\"),\"\",'D - P'!B386)","v":""},{"$f":"IF('D - P'!C386=\"\",\"\",'D - P'!C386)","v":""},{"$f":"IF('D - P'!D386=\"\",\"\",'D - P'!D386)","v":""},null,{"$f":"IF('D - P'!E386=\"\",\"\",'D - P'!E386)","v":""},{"$f":"IF('D - P'!F386=\"\",\"\",'D - P'!F386)","v":""},null,{"$f":"IF('D - P'!I386=\"\",\"\",'D - P'!I386)","v":""},{"$f":"IF('D - P'!J386=\"\",\"\",'D - P'!J386)","v":""},null,{"$f":"IF('D - P'!M386=\"\",\"\",'D - P'!M386)","v":""}]
[null,{"$f":"IF(AND('D - P'!$C387=\"\",'D - P'!$D387=\"\"),\"\",'D - P'!O387)","v":""},{"$f":"IF(AND('D - P'!$C387=\"\",'D - P'!$D387=\"\"),\"\",'D - P'!B387)","v":""},{"$f":"IF('D - P'!C387=\"\",\"\",'D - P'!C387)","v":""},{"$f":"IF('D - P'!D387=\"\",\"\",'D - P'!D387)","v":""},null,{"$f":"IF('D - P'!E387=\"\",\"\",'D - P'!E387)","v":""},{"$f":"IF('D - P'!F387=\"\",\"\",'D - P'!F387)","v":""},null,{"$f":"IF('D - P'!I387=\"\",\"\",'D - P'!I387)","v":""},{"$f":"IF('D - P'!J387=\"\",\"\",'D - P'!J387)","v":""},null,{"$f":"IF('D - P'!M387=\"\",\"\",'D - P'!M387)","v":""}]
[null,{"$f":"IF(AND('D - P'!$C388=\"\",'D - P'!$D388=\"\"),\"\",'D - P'!O388)","v":""},{"$f":"IF(AND('D - P'!$C388=\"\",'D - P'!$D388=\"\"),\"\",'D - P'!B388)","v":""},{"$f":"IF('D - P'!C388=\"\",\"\",'D - P'!C388)","v":""},{"$f":"IF('D - P'!D388=\"\",\"\",'D - P'!D388)","v":""},null,{"$f":"IF('D - P'!E388=\"\",\"\",'D - P'!E388)","v":""},{"$f":"IF('D - P'!F388=\"\",\"\",'D - P'!F388)","v":""},null,{"$f":"IF('D - P'!I388=\"\",\"\",'D - P'!I388)","v":""},{"$f":"IF('D - P'!J388=\"\",\"\",'D - P'!J388)","v":""},null,{"$f":"IF('D - P'!M388=\"\",\"\",'D - P'!M388)","v":""}]
[null,{"$f":"IF(AND('D - P'!$C389=\"\",'D - P'!$D389=\"\"),\"\",'D - P'!O389)","v":""},{"$f":"IF(AND('D - P'!$C389=\"\",'D - P'!$D389=\"\"),\"\",'D - P'!B389)","v":""},{"$f":"IF('D - P'!C389=\"\",\"\",'D - P'!C389)","v":""},{"$f":"IF('D - P'!D389=\"\",\"\",'D - P'!D389)","v":""},null,{"$f":"IF('D - P'!E389=\"\",\"\",'D - P'!E389)","v":""},{"$f":"IF('D - P'!F389=\"\",\"\",'D - P'!F389)","v":""},null,{"$f":"IF('D - P'!I389=\"\",\"\",'D - P'!I389)","v":""},{"$f":"IF('D - P'!J389=\"\",\"\",'D - P'!J389)","v":""},null,{"$f":"IF('D - P'!M389=\"\",\"\",'D - P'!M389)","v":""}]
[null,{"$f":"IF(AND('D - P'!$C390=\"\",'D - P'!$D390=\"\"),\"\",'D - P'!O390)","v":""},{"$f":"IF(AND('D - P'!$C390=\"\",'D - P'!$D390=\"\"),\"\",'D - P'!B390)","v":""},{"$f":"IF('D - P'!C390=\"\",\"\",'D - P'!C390)","v":""},{"$f":"IF('D - P'!D390=\"\",\"\",'D - P'!D390)","v":""},null,{"$f":"IF('D - P'!E390=\"\",\"\",'D - P'!E390)","v":""},{"$f":"IF('D - P'!F390=\"\",\"\",'D - P'!F390)","v":""},null,{"$f":"IF('D - P'!I390=\"\",\"\",'D - P'!I390)","v":""},{"$f":"IF('D - P'!J390=\"\",\"\",'D - P'!J390)","v":""},null,{"$f":"IF('D - P'!M390=\"\",\"\",'D - P'!M390)","v":""}]
[null,{"$f":"IF(AND('D - P'!$C391=\"\",'D - P'!$D391=\"\"),\"\",'D - P'!O391)","v":""},{"$f":"IF(AND('D - P'!$C391=\"\",'D - P'!$D391=\"\"),\"\",'D - P'!B391)","v":""},{"$f":"IF('D - P'!C391=\"\",\"\",'D - P'!C391)","v":""},{"$f":"IF('D - P'!D391=\"\",\"\",'D - P'!D391)","v":""},null,{"$f":"IF('D - P'!E391=\"\",\"\",'D - P'!E391)","v":""},{"$f":"IF('D - P'!F391=\"\",\"\",'D - P'!F391)","v":""},null,{"$f":"IF('D - P'!I391=\"\",\"\",'D - P'!I391)","v":""},{"$f":"IF('D - P'!J391=\"\",\"\",'D - P'!J391)","v":""},null,{"$f":"IF('D - P'!M391=\"\",\"\",'D - P'!M391)","v":""}]
[null,{"$f":"IF(AND('D - P'!$C392=\"\",'D - P'!$D392=\"\"),\"\",'D - P'!O392)","v":""},{"$f":"IF(AND('D - P'!$C392=\"\",'D - P'!$D392=\"\"),\"\",'D - P'!B392)","v":""},{"$f":"IF('D - P'!C392=\"\",\"\",'D - P'!C392)","v":""},{"$f":"IF('D - P'!D392=\"\",\"\",'D - P'!D392)","v":""},null,{"$f":"IF('D - P'!E392=\"\",\"\",'D - P'!E392)","v":""},{"$f":"IF('D - P'!F392=\"\",\"\",'D - P'!F392)","v":""},null,{"$f":"IF('D - P'!I392=\"\",\"\",'D - P'!I392)","v":""},{"$f":"IF('D - P'!J392=\"\",\"\",'D - P'!J392)","v":""},null,{"$f":"IF('D - P'!M392=\"\",\"\",'D - P'!M392)","v":""}]
[null,{"$f":"IF(AND('D - P'!$C393=\"\",'D - P'!$D393=\"\"),\"\",'D - P'!O393)","v":""},{"$f":"IF(AND('D - P'!$C393=\"\",'D - P'!$D393=\"\"),\"\",'D - P'!B393)","v":""},{"$f":"IF('D - P'!C393=\"\",\"\",'D - P'!C393)","v":""},{"$f":"IF('D - P'!D393=\"\",\"\",'D - P'!D393)","v":""},null,{"$f":"IF('D - P'!E393=\"\",\"\",'D - P'!E393)","v":""},{"$f":"IF('D - P'!F393=\"\",\"\",'D - P'!F393)","v":""},null,{"$f":"IF('D - P'!I393=\"\",\"\",'D - P'!I393)","v":""},{"$f":"IF('D - P'!J393=\"\",\"\",'D - P'!J393)","v":""},null,{"$f":"IF('D - P'!M393=\"\",\"\",'D - P'!M393)","v":""}]
[null,{"$f":"IF(AND('D - P'!$C394=\"\",'D - P'!$D394=\"\"),\"\",'D - P'!O394)","v":""},{"$f":"IF(AND('D - P'!$C394=\"\",'D - P'!$D394=\"\"),\"\",'D - P'!B394)","v":""},{"$f":"IF('D - P'!C394=\"\",\"\",'D - P'!C394)","v":""},{"$f":"IF('D - P'!D394=\"\",\"\",'D - P'!D394)","v":""},null,{"$f":"IF('D - P'!E394=\"\",\"\",'D - P'!E394)","v":""},{"$f":"IF('D - P'!F394=\"\",\"\",'D - P'!F394)","v":""},null,{"$f":"IF('D - P'!I394=\"\",\"\",'D - P'!I394)","v":""},{"$f":"IF('D - P'!J394=\"\",\"\",'D - P'!J394)","v":""},null,{"$f":"IF('D - P'!M394=\"\",\"\",'D - P'!M394)","v":""}]
[null,{"$f":"IF(AND('D - P'!$C395=\"\",'D - P'!$D395=\"\"),\"\",'D - P'!O395)","v":""},{"$f":"IF(AND('D - P'!$C395=\"\",'D - P'!$D395=\"\"),\"\",'D - P'!B395)","v":""},{"$f":"IF('D - P'!C395=\"\",\"\",'D - P'!C395)","v":""},{"$f":"IF('D - P'!D395=\"\",\"\",'D - P'!D395)","v":""},null,{"$f":"IF('D - P'!E395=\"\",\"\",'D - P'!E395)","v":""},{"$f":"IF('D - P'!F395=\"\",\"\",'D - P'!F395)","v":""},null,{"$f":"IF('D - P'!I395=\"\",\"\",'D - P'!I395)","v":""},{"$f":"IF('D - P'!J395=\"\",\"\",'D - P'!J395)","v":""},null,{"$f":"IF('D - P'!M395=\"\",\"\",'D - P'!M395)","v":""}]
[null,{"$f":"IF(AND('D - P'!$C396=\"\",'D - P'!$D396=\"\"),\"\",'D - P'!O396)","v":""},{"$f":"IF(AND('D - P'!$C396=\"\",'D - P'!$D396=\"\"),\"\",'D - P'!B396)","v":""},{"$f":"IF('D - P'!C396=\"\",\"\",'D - P'!C396)","v":""},{"$f":"IF('D - P'!D396=\"\",\"\",'D - P'!D396)","v":""},null,{"$f":"IF('D - P'!E396=\"\",\"\",'D - P'!E396)","v":""},{"$f":"IF('D - P'!F396=\"\",\"\",'D - P'!F396)","v":""},null,{"$f":"IF('D - P'!I396=\"\",\"\",'D - P'!I396)","v":""},{"$f":"IF('D - P'!J396=\"\",\"\",'D - P'!J396)","v":""},null,{"$f":"IF('D - P'!M396=\"\",\"\",'D - P'!M396)","v":""}]
[null,{"$f":"B$1","v":"Dvojboj - Celkové pořadí"}]
[]
[null,{"$f":"B$3","v":"VC ČR v požárním útoku družstev HZS krajů a HZS podniků"},null,null,{"$f":"E$3","v":"Petrovice 19.9.2019"}]
[]
[null,{"$f":"Start!$C$5","v":"MUŽI"}]
[null,"Pořadí","Start. číslo","Jméno","kolektiv",null,"100m",null,null,"věž",null,null,"Výsledný čas"]
[null,null,null,null,null,null,"1.pokus","2.pokus",null,"1.pokus","2.pokus"]
[null,{"$f":"IF(AND('D - P'!$C397=\"\",'D - P'!$D397=\"\"),\"\",'D - P'!O397)","v":""},{"$f":"IF(AND('D - P'!$C397=\"\",'D - P'!$D397=\"\"),\"\",'D - P'!B397)","v":""},{"$f":"IF('D - P'!C397=\"\",\"\",'D - P'!C397)","v":""},{"$f":"IF('D - P'!D397=\"\",\"\",'D - P'!D397)","v":""},null,{"$f":"IF('D - P'!E397=\"\",\"\",'D - P'!E397)","v":""},{"$f":"IF('D - P'!F397=\"\",\"\",'D - P'!F397)","v":""},null,{"$f":"IF('D - P'!I397=\"\",\"\",'D - P'!I397)","v":""},{"$f":"IF('D - P'!J397=\"\",\"\",'D - P'!J397)","v":""},null,{"$f":"IF('D - P'!M397=\"\",\"\",'D - P'!M397)","v":""}]
[null,{"$f":"IF(AND('D - P'!$C398=\"\",'D - P'!$D398=\"\"),\"\",'D - P'!O398)","v":""},{"$f":"IF(AND('D - P'!$C398=\"\",'D - P'!$D398=\"\"),\"\",'D - P'!B398)","v":""},{"$f":"IF('D - P'!C398=\"\",\"\",'D - P'!C398)","v":""},{"$f":"IF('D - P'!D398=\"\",\"\",'D - P'!D398)","v":""},null,{"$f":"IF('D - P'!E398=\"\",\"\",'D - P'!E398)","v":""},{"$f":"IF('D - P'!F398=\"\",\"\",'D - P'!F398)","v":""},null,{"$f":"IF('D - P'!I398=\"\",\"\",'D - P'!I398)","v":""},{"$f":"IF('D - P'!J398=\"\",\"\",'D - P'!J398)","v":""},null,{"$f":"IF('D - P'!M398=\"\",\"\",'D - P'!M398)","v":""}]
[null,{"$f":"IF(AND('D - P'!$C399=\"\",'D - P'!$D399=\"\"),\"\",'D - P'!O399)","v":""},{"$f":"IF(AND('D - P'!$C399=\"\",'D - P'!$D399=\"\"),\"\",'D - P'!B399)","v":""},{"$f":"IF('D - P'!C399=\"\",\"\",'D - P'!C399)","v":""},{"$f":"IF('D - P'!D399=\"\",\"\",'D - P'!D399)","v":""},null,{"$f":"IF('D - P'!E399=\"\",\"\",'D - P'!E399)","v":""},{"$f":"IF('D - P'!F399=\"\",\"\",'D - P'!F399)","v":""},null,{"$f":"IF('D - P'!I399=\"\",\"\",'D - P'!I399)","v":""},{"$f":"IF('D - P'!J399=\"\",\"\",'D - P'!J399)","v":""},null,{"$f":"IF('D - P'!M399=\"\",\"\",'D - P'!M399)","v":""}]
[null,{"$f":"IF(AND('D - P'!$C400=\"\",'D - P'!$D400=\"\"),\"\",'D - P'!O400)","v":""},{"$f":"IF(AND('D - P'!$C400=\"\",'D - P'!$D400=\"\"),\"\",'D - P'!B400)","v":""},{"$f":"IF('D - P'!C400=\"\",\"\",'D - P'!C400)","v":""},{"$f":"IF('D - P'!D400=\"\",\"\",'D - P'!D400)","v":""},null,{"$f":"IF('D - P'!E400=\"\",\"\",'D - P'!E400)","v":""},{"$f":"IF('D - P'!F400=\"\",\"\",'D - P'!F400)","v":""},null,{"$f":"IF('D - P'!I400=\"\",\"\",'D - P'!I400)","v":""},{"$f":"IF('D - P'!J400=\"\",\"\",'D - P'!J400)","v":""},null,{"$f":"IF('D - P'!M400=\"\",\"\",'D - P'!M400)","v":""}]

{"sheet":"PÚ","index":22,"n_rows":44,"n_cols":19,"rows_kept":44,"cut":false,"hidden":false,"merged":[[2,3,2,6],[2,7,2,10],[0,1,0,13],[1,3,1,11]]}
[null,"Požární útok"]
[null,null,null,"Upozornění: Pořadí je platné pouze při vstupu na stránku či kliknutí na zelené tlačítko"]
[null,null,{"$f":"Start!$C$5","v":"MUŽI"},"I.p.",null,null,null,"II.p."]
[null,"st.č.","SDH","Levý","Pravý",3,"čas","Levý","Pravý",3,"čas","C.čas",null,"Poř.",null,"Poř.","I.p.","II.p.","P.čas"]
[null,{"$f":"Start!B7","v":1},{"$f":"IF(Start!C7=\"\",\"\",Start!C7)","v":"HZS Jihočeského kraje"},"NP","NP",null,{"$f":"IF($C5=\"\",\"\",IF(OR($D5=\"DNF\",$E5=\"DNF\",$F5=\"DNF\",AND($D5=\"\",$E5=\"\",$F5=\"\")),\"DNF\",IF(OR($D5=\"NP\",$E5=\"NP\",$F5=\"NP\"),\"NP\",IF(ISERROR(MEDIAN($D5:$F5)),\"DNF\",IF(OR($D5=\"X\",$E5=\"X\",$F5=\"X\",$D5=\"\",$E5=\"\",$F5=\"\",$D5=\"x\",$E5=\"x\",$F5=\"x\"),MAX($D5:$F5),MEDIAN($D5:$F5))))))","v":"NP"},26.05,29.2,null,{"$f":"IF($C5=\"\",\"\",IF(OR($H5=\"DNF\",$I5=\"DNF\",$J5=\"DNF\",AND($H5=\"\",$I5=\"\",$J5=\"\")),\"DNF\",IF(OR($H5=\"NP\",$I5=\"NP\",$J5=\"NP\"),\"NP\",IF(ISERROR(MEDIAN($H5:$J5)),\"DNF\",IF(OR($H5=\"X\",$I5=\"X\",$J5=\"X\",$H5=\"\",$I5=\"\",$J5=\"\",$H5=\"x\",$I5=\"x\",$J5=\"x\"),MAX($H5:$J5),MEDIAN($H5:$J5))))))","v":29.2},{"$f":"IF(C5=\"\",\"\",IF(OR(AND(G5=\"NP\",K5=\"NP\"),AND(G5=\"DNF\",K5=\"DNF\")),G5,IF(AND(G5=\"NP\",K5=\"DNF\"),G5,IF(AND(G5=\"DNF\",K5=\"NP\"),K5,MIN(G5,K5)))))","v":29.2},null,6,null,{"$f":"IF(C5=\"\",\"\",IF(OR(L5=\"NP\",L5=\"DNF\"),Start!$E$5,RANK(L5,L$5:L$44,1)))","v":6},{"$f":"IF($C5=\"\",\"\",IF(OR($G5=\"NP\",$G5=\"DNF\"),9000,$G5))","v":9000},{"$f":"IF($C5=\"\",\"\",IF(OR($K5=\"NP\",$K5=\"DNF\"),9000,$K5))","v":29.2},{"$f":"IF($C5=\"\",\"\",SUM($Q5:$R5))","v":9029.2000000000007}]
[null,{"$f":"Start!B8","v":2},{"$f":"IF(Start!C8=\"\",\"\",Start!C8)","v":"HZS Kraje Vysočina"},35.67,37.450000000000003,null,{"$f":"IF($C6=\"\",\"\",IF(OR($D6=\"DNF\",$E6=\"DNF\",$F6=\"DNF\",AND($D6=\"\",$E6=\"\",$F6=\"\")),\"DNF\",IF(OR($D6=\"NP\",$E6=\"NP\",$F6=\"NP\"),\"NP\",IF(ISERROR(MEDIAN($D6:$F6)),\"DNF\",IF(OR($D6=\"X\",$E6=\"X\",$F6=\"X\",$D6=\"\",$E6=\"\",$F6=\"\",$D6=\"x\",$E6=\"x\",$F6=\"x\"),MAX($D6:$F6),MEDIAN($D6:$F6))))))","v":37.450000000000003},38.299999999999997,30.75,null,{"$f":"IF($C6=\"\",\"\",IF(OR($H6=\"DNF\",$I6=\"DNF\",$J6=\"DNF\",AND($H6=\"\",$I6=\"\",$J6=\"\")),\"DNF\",IF(OR($H6=\"NP\",$I6=\"NP\",$J6=\"NP\"),\"NP\",IF(ISERROR(MEDIAN($H6:$J6)),\"DNF\",IF(OR($H6=\"X\",$I6=\"X\",$J6=\"X\",$H6=\"\",$I6=\"\",$J6=\"\",$H6=\"x\",$I6=\"x\",$J6=\"x\"),MAX($H6:$J6),MEDIAN($H6:$J6))))))","v":38.299999999999997},{"$f":"IF(C6=\"\",\"\",IF(OR(AND(G6=\"NP\",K6=\"NP\"),AND(G6=\"DNF\",K6=\"DNF\")),G6,IF(AND(G6=\"NP\",K6=\"DNF\"),G6,IF(AND(G6=\"DNF\",K6=\"NP\"),K6,MIN(G6,K6)))))","v":37.450000000000003},null,8,null,{"$f":"IF(C6=\"\",\"\",IF(OR(L6=\"NP\",L6=\"DNF\"),Start!$E$5,RANK(L6,L$5:L$44,1)))","v":8},{"$f":"IF($C6=\"\",\"\",IF(OR($G6=\"NP\",$G6=\"DNF\"),9000,$G6))","v":37.450000000000003},{"$f":"IF($C6=\"\",\"\",IF(OR($K6=\"NP\",$K6=\"DNF\"),9000,$K6))","v":38.299999999999997},75.75]
[null,{"$f":"Start!B9","v":3},{"$f":"IF(Start!C9=\"\",\"\",Start!C9)","v":"HZS Zlínského Kraje"},25.04,25.43,null,25.43,25.61,27.37,null,27.37,25.43,null,1,null,{"$f":"IF(C7=\"\",\"\",IF(OR(L7=\"NP\",L7=\"DNF\"),Start!$E$5,RANK(L7,L$5:L$44,1)))","v":1},25.43,27.37,52.8]
[null,{"$f":"Start!B10","v":4},{"$f":"IF(Start!C10=\"\",\"\",Start!C10)","v":"HZS správa železnic"},27.58,27.49,null,27.58,"NP","NP",null,"NP",27.58,null,2,null,{"$f":"IF(C8=\"\",\"\",IF(OR(L8=\"NP\",L8=\"DNF\"),Start!$E$5,RANK(L8,L$5:L$44,1)))","v":2},27.58,9000,9027.58]
[null,{"$f":"Start!B11","v":5},{"$f":"IF(Start!C11=\"\",\"\",Start!C11)","v":"HZS Libereckého Kraje"},36,41.84,null,41.84,"NP",39.51,null,"NP",41.84,null,9,null,{"$f":"IF(C9=\"\",\"\",IF(OR(L9=\"NP\",L9=\"DNF\"),Start!$E$5,RANK(L9,L$5:L$44,1)))","v":9},41.84,9000,9041.84]
[null,{"$f":"Start!B12","v":6},{"$f":"IF(Start!C12=\"\",\"\",Start!C12)","v":"HZS Pardubického Kraje"},28.11,28.59,null,28.59,28.11,31.71,null,31.71,28.59,null,3,null,{"$f":"IF(C10=\"\",\"\",IF(OR(L10=\"NP\",L10=\"DNF\"),Start!$E$5,RANK(L10,L$5:L$44,1)))","v":3},28.59,31.71,60.3]
[null,{"$f":"Start!B13","v":7},{"$f":"IF(Start!C13=\"\",\"\",Start!C13)","v":"HZS Královohradeckého Kr."},26.16,29.14,null,29.14,26.06,39.71,null,39.71,29.14,null,4,null,{"$f":"IF(C11=\"\",\"\",IF(OR(L11=\"NP\",L11=\"DNF\"),Start!$E$5,RANK(L11,L$5:L$44,1)))","v":4},29.14,39.71,68.849999999999994]
[null,{"$f":"Start!B14","v":8},{"$f":"IF(Start!C14=\"\",\"\",Start!C14)","v":"HZS Plzeňského Kraje"},27.82,31.37,null,31.37,28.17,29.15,null,29.15,29.15,null,5,null,{"$f":"IF(C12=\"\",\"\",IF(OR(L12=\"NP\",L12=\"DNF\"),Start!$E$5,RANK(L12,L$5:L$44,1)))","v":5},31.37,29.15,60.519999999999996]
[null,{"$f":"Start!B15","v":9},{"$f":"IF(Start!C15=\"\",\"\",Start!C15)","v":"HZSP Deza"},42,39.46,null,42,36.5,34.97,null,36.5,36.5,null,7,null,{"$f":"IF(C13=\"\",\"\",IF(OR(L13=\"NP\",L13=\"DNF\"),Start!$E$5,RANK(L13,L$5:L$44,1)))","v":7},42,36.5,78.5]
[null,{"$f":"Start!B16","v":10},{"$f":"IF(Start!C16=\"\",\"\",Start!C16)","v":""},null,null,null,"",null,null,null,"","",null,null,null,{"$f":"IF(C14=\"\",\"\",IF(OR(L14=\"NP\",L14=\"DNF\"),Start!$E$5,RANK(L14,L$5:L$44,1)))","v":""},"","",""]
[null,{"$f":"Start!B17","v":11},{"$f":"IF(Start!C17=\"\",\"\",Start!C17)","v":""},null,null,null,"",null,null,null,"","",null,null,null,{"$f":"IF(C15=\"\",\"\",IF(OR(L15=\"NP\",L15=\"DNF\"),Start!$E$5,RANK(L15,L$5:L$44,1)))","v":""},"","",""]
[null,{"$f":"Start!B18","v":12},{"$f":"IF(Start!C18=\"\",\"\",Start!C18)","v":""},null,null,null,"",null,null,null,"","",null,null,null,{"$f":"IF(C16=\"\",\"\",IF(OR(L16=\"NP\",L16=\"DNF\"),Start!$E$5,RANK(L16,L$5:L$44,1)))","v":""},"","",""]
[null,{"$f":"Start!B19","v":13},{"$f":"IF(Start!C19=\"\",\"\",Start!C19)","v":""},null,null,null,"",null,null,null,"","",null,null,null,{"$f":"IF(C17=\"\",\"\",IF(OR(L17=\"NP\",L17=\"DNF\"),Start!$E$5,RANK(L17,L$5:L$44,1)))","v":""},"","",""]
[null,{"$f":"Start!B20","v":14},{"$f":"IF(Start!C20=\"\",\"\",Start!C20)","v":""},null,null,null,"",null,null,null,"","",null,null,null,{"$f":"IF(C18=\"\",\"\",IF(OR(L18=\"NP\",L18=\"DNF\"),Start!$E$5,RANK(L18,L$5:L$44,1)))","v":""},"","",""]
[null,{"$f":"Start!B21","v":15},{"$f":"IF(Start!C21=\"\",\"\",Start!C21)","v":""},null,null,null,"",null,null,null,"","",null,null,null,{"$f":"IF(C19=\"\",\"\",IF(OR(L19=\"NP\",L19=\"DNF\"),Start!$E$5,RANK(L19,L$5:L$44,1)))","v":""},"","",""]
[null,{"$f":"Start!B22","v":16},{"$f":"IF(Start!C22=\"\",\"\",Start!C22)","v":""},null,null,null,"",null,null,null,"","",null,null,null,{"$f":"IF(C20=\"\",\"\",IF(OR(L20=\"NP\",L20=\"DNF\"),Start!$E$5,RANK(L20,L$5:L$44,1)))","v":""},"","",""]
[null,{"$f":"Start!B23","v":17},{"$f":"IF(Start!C23=\"\",\"\",Start!C23)","v":""},null,null,null,"",null,null,null,"","",null,null,null,{"$f":"IF(C21=\"\",\"\",IF(OR(L21=\"NP\",L21=\"DNF\"),Start!$E$5,RANK(L21,L$5:L$44,1)))","v":""},"","",""]
[null,{"$f":"Start!B24","v":18},{"$f":"IF(Start!C24=\"\",\"\",Start!C24)","v":""},null,null,null,"",null,null,null,"","",null,null,null,{"$f":"IF(C22=\"\",\"\",IF(OR(L22=\"NP\",L22=\"DNF\"),Start!$E$5,RANK(L22,L$5:L$44,1)))","v":""},"","",""]
[null,{"$f":"Start!B25","v":19},{"$f":"IF(Start!C25=\"\",\"\",Start!C25)","v":""},null,null,null,"",null,null,null,"","",null,null,null,{"$f":"IF(C23=\"\",\"\",IF(OR(L23=\"NP\",L23=\"DNF\"),Start!$E$5,RANK(L23,L$5:L$44,1)))","v":""},"","",""]
[null,{"$f":"Start!B26","v":20},{"$f":"IF(Start!C26=\"\",\"\",Start!C26)","v":""},null,null,null,"",null,null,null,"","",null,null,null,{"$f":"IF(C24=\"\",\"\",IF(OR(L24=\"NP\",L24=\"DNF\"),Start!$E$5,RANK(L24,L$5:L$44,1)))","v":""},"","",""]
[null,{"$f":"Start!B27","v":21},{"$f":"IF(Start!C27=\"\",\"\",Start!C27)","v":""},null,null,null,"",null,null,null,"","",null,null,null,{"$f":"IF(C25=\"\",\"\",IF(OR(L25=\"NP\",L25=\"DNF\"),Start!$E$5,RANK(L25,L$5:L$44,1)))","v":""},"","",""]
[null,{"$f":"Start!B28","v":22},{"$f":"IF(Start!C28=\"\",\"\",Start!C28)","v":""},null,null,null,"",null,null,null,"","",null,null,null,{"$f":"IF(C26=\"\",\"\",IF(OR(L26=\"NP\",L26=\"DNF\"),Start!$E$5,RANK(L26,L$5:L$44,1)))","v":""},"","",""]
[null,{"$f":"Start!B29","v":23},{"$f":"IF(Start!C29=\"\",\"\",Start!C29)","v":""},null,null,null,"",null,null,null,"","",null,null,null,{"$f":"IF(C27=\"\",\"\",IF(OR(L27=\"NP\",L27=\"DNF\"),Start!$E$5,RANK(L27,L$5:L$44,1)))","v":""},"","",""]
[null,{"$f":"Start!B30","v":24},{"$f":"IF(Start!C30=\"\",\"\",Start!C30)","v":""},null,null,null,"",null,null,null,"","",null,null,null,{"$f":"IF(C28=\"\",\"\",IF(OR(L28=\"NP\",L28=\"DNF\"),Start!$E$5,RANK(L28,L$5:L$44,1)))","v":""},"","",""]
[null,{"$f":"Start!B31","v":25},{"$f":"IF(Start!C31=\"\",\"\",Start!C31)","v":""},null,null,null,"",null,null,null,"","",null,null,null,{"$f":"IF(C29=\"\",\"\",IF(OR(L29=\"NP\",L29=\"DNF\"),Start!$E$5,RANK(L29,L$5:L$44,1)))","v":""},"","",""]
[null,{"$f":"Start!B32","v":26},{"$f":"IF(Start!C32=\"\",\"\",Start!C32)","v":""},null,null,null,"",null,null,null,"",{"$f":"IF(C30=\"\",\"\",IF(OR(AND(G30=\"NP\",K30=\"NP\"),AND(G30=\"DNF\",K30=\"DNF\")),G30,IF(AND(G30=\"NP\",K30=\"DNF\"),G30,IF(AND(G30=\"DNF\",K30=\"NP\"),K30,MIN(G30,K30)))))","v":""},null,null,null,{"$f":"IF(C30=\"\",\"\",IF(OR(L30=\"NP\",L30=\"DNF\"),Start!$E$5,RANK(L30,L$5:L$44,1)))","v":""},"","",""]
[null,{"$f":"Start!B33","v":27},{"$f":"IF(Start!C33=\"\",\"\",Start!C33)","v":""},null,null,null,"",null,null,null,"",{"$f":"IF(C31=\"\",\"\",IF(OR(AND(G31=\"NP\",K31=\"NP\"),AND(G31=\"DNF\",K31=\"DNF\")),G31,IF(AND(G31=\"NP\",K31=\"DNF\"),G31,IF(AND(G31=\"DNF\",K31=\"NP\"),K31,MIN(G31,K31)))))","v":""},null,null,null,{"$f":"IF(C31=\"\",\"\",IF(OR(L31=\"NP\",L31=\"DNF\"),Start!$E$5,RANK(L31,L$5:L$44,1)))","v":""},"","",""]
[null,{"$f":"Start!B34","v":28},{"$f":"IF(Start!C34=\"\",\"\",Start!C34)","v":""},null,null,null,"",null,null,null,"","",null,null,null,{"$f":"IF(C32=\"\",\"\",IF(OR(L32=\"NP\",L32=\"DNF\"),Start!$E$5,RANK(L32,L$5:L$44,1)))","v":""},"","",""]
[null,{"$f":"Start!B35","v":29},{"$f":"IF(Start!C35=\"\",\"\",Start!C35)","v":""},null,null,null,"",null,null,null,"","",null,null,null,{"$f":"IF(C33=\"\",\"\",IF(OR(L33=\"NP\",L33=\"DNF\"),Start!$E$5,RANK(L33,L$5:L$44,1)))","v":""},"","",""]
[null,{"$f":"Start!B36","v":30},{"$f":"IF(Start!C36=\"\",\"\",Start!C36)","v":""},null,null,null,"",null,null,null,"","",null,null,null,{"$f":"IF(C34=\"\",\"\",IF(OR(L34=\"NP\",L34=\"DNF\"),Start!$E$5,RANK(L34,L$5:L$44,1)))","v":""},"","",""]
[null,{"$f":"Start!B37","v":31},{"$f":"IF(Start!C37=\"\",\"\",Start!C37)","v":""},null,null,null,"",null,null,null,"","",null,null,null,{"$f":"IF(C35=\"\",\"\",IF(OR(L35=\"NP\",L35=\"DNF\"),Start!$E$5,RANK(L35,L$5:L$44,1)))","v":""},"","",""]
[null,{"$f":"Start!B38","v":32},{"$f":"IF(Start!C38=\"\",\"\",Start!C38)","v":""},null,null,null,"",null,null,null,"","",null,null,null,{"$f":"IF(C36=\"\",\"\",IF(OR(L36=\"NP\",L36=\"DNF\"),Start!$E$5,RANK(L36,L$5:L$44,1)))","v":""},"","",""]
[null,{"$f":"Start!B39","v":33},{"$f":"IF(Start!C39=\"\",\"\",Start!C39)","v":""},null,null,null,"",null,null,null,"","",null,null,null,{"$f":"IF(C37=\"\",\"\",IF(OR(L37=\"NP\",L37=\"DNF\"),Start!$E$5,RANK(L37,L$5:L$44,1)))","v":""},"","",{"$f":"IF($C37=\"\",\"\",SUM($Q37:$R37))","v":""}]
[null,{"$f":"Start!B40","v":34},{"$f":"IF(Start!C40=\"\",\"\",Start!C40)","v":""},null,null,null,"",null,null,null,"","",null,null,null,{"$f":"IF(C38=\"\",\"\",IF(OR(L38=\"NP\",L38=\"DNF\"),Start!$E$5,RANK(L38,L$5:L$44,1)))","v":""},"","",""]
[null,{"$f":"Start!B41","v":35},{"$f":"IF(Start!C41=\"\",\"\",Start!C41)","v":""},null,null,null,"",null,null,null,"","",null,null,null,{"$f":"IF(C39=\"\",\"\",IF(OR(L39=\"NP\",L39=\"DNF\"),Start!$E$5,RANK(L39,L$5:L$44,1)))","v":""},"","",""]
[null,{"$f":"Start!B42","v":36},{"$f":"IF(Start!C42=\"\",\"\",Start!C42)","v":""},null,null,null,"",null,null,null,"","",null,null,null,{"$f":"IF(C40=\"\",\"\",IF(OR(L40=\"NP\",L40=\"DNF\"),Start!$E$5,RANK(L40,L$5:L$44,1)))","v":""},"","",""]
[null,{"$f":"Start!B43","v":37},{"$f":"IF(Start!C43=\"\",\"\",Start!C43)","v":""},null,null,null,"",null,null,null,"","",null,null,null,{"$f":"IF(C41=\"\",\"\",IF(OR(L41=\"NP\",L41=\"DNF\"),Start!$E$5,RANK(L41,L$5:L$44,1)))","v":""},"","",""]
[null,{"$f":"Start!B44","v":38},{"$f":"IF(Start!C44=\"\",\"\",Start!C44)","v":""},null,null,null,"",null,null,null,"","",null,null,null,{"$f":"IF(C42=\"\",\"\",IF(OR(L42=\"NP\",L42=\"DNF\"),Start!$E$5,RANK(L42,L$5:L$44,1)))","v":""},"","",""]
[null,{"$f":"Start!B45","v":39},{"$f":"IF(Start!C45=\"\",\"\",Start!C45)","v":""},null,null,null,"",null,null,null,"","",null,null,null,{"$f":"IF(C43=\"\",\"\",IF(OR(L43=\"NP\",L43=\"DNF\"),Start!$E$5,RANK(L43,L$5:L$44,1)))","v":""},"","",""]
[null,{"$f":"Start!B46","v":40},{"$f":"IF(Start!C46=\"\",\"\",Start!C46)","v":""},null,null,null,"",null,null,null,"","",null,null,null,{"$f":"IF(C44=\"\",\"\",IF(OR(L44=\"NP\",L44=\"DNF\"),Start!$E$5,RANK(L44,L$5:L$44,1)))","v":""},"","",""]

{"sheet":"PÚ - P","index":23,"n_rows":44,"n_cols":19,"rows_kept":44,"cut":false,"hidden":false,"merged":[[0,1,0,13],[2,3,2,6],[2,7,2,10],[1,3,1,11]]}
[null,"Požární útok"]
[null,null,null,"Upozornění: Pořadí je platné pouze při vstupu na stránku či kliknutí na zelené tlačítko"]
[null,null,{"$f":"Start!$C$5","v":"MUŽI"},"I.p.",null,null,null,"II.p."]
[null,"st.č.","SDH",1,2,3,"čas",1,2,3,"čas","C.čas",null,"Poř.",null,"Poř.","I.p.","II.p.","P.čas"]
[null,{"$f":"Start!B7","v":1},"HZS Jihočeského kraje","NP","NP",null,"NP",26.05,29.2,null,29.2,29.2,null,6,null,6,9000,29.2,9029.2000000000007]
[null,{"$f":"Start!B8","v":2},"HZS Kraje Vysočina",35.67,37.450000000000003,null,37.450000000000003,38.299999999999997,30.75,null,38.299999999999997,37.450000000000003,null,8,null,8,37.450000000000003,38.299999999999997,75.75]
[null,{"$f":"Start!B9","v":3},"HZS Zlínského Kraje",25.04,25.43,null,25.43,25.61,27.37,null,27.37,25.43,null,1,null,1,25.43,27.37,52.8]
[null,{"$f":"Start!B10","v":4},"HZS správa železnic",27.58,27.49,null,27.58,"NP","NP",null,"NP",27.58,null,2,null,2,27.58,9000,9027.58]
[null,{"$f":"Start!B11","v":5},"HZS Libereckého Kraje",36,41.84,null,41.84,"NP",39.51,null,"NP",41.84,null,9,null,9,41.84,9000,9041.84]
[null,{"$f":"Start!B12","v":6},"HZS Pardubického Kraje",28.11,28.59,null,28.59,28.11,31.71,null,31.71,28.59,null,3,null,3,28.59,31.71,60.3]
[null,{"$f":"Start!B13","v":7},"HZS Královohradeckého Kr.",26.16,29.14,null,29.14,26.06,39.71,null,39.71,29.14,null,4,null,4,29.14,39.71,68.849999999999994]
[null,{"$f":"Start!B14","v":8},"HZS Plzeňského Kraje",27.82,31.37,null,31.37,28.17,29.15,null,29.15,29.15,null,5,null,5,31.37,29.15,60.519999999999996]
[null,{"$f":"Start!B15","v":9},"HZSP Deza",42,39.46,null,42,36.5,34.97,null,36.5,36.5,null,7,null,7,42,36.5,78.5]
[null,{"$f":"Start!B16","v":10},"",null,null,null,"",null,null,null,"","",null,null,null,"","","",""]
[null,{"$f":"Start!B17","v":11},"",null,null,null,"",null,null,null,"","",null,null,null,"","","",""]
[null,{"$f":"Start!B18","v":12},"",null,null,null,"",null,null,null,"","",null,null,null,"","","",""]
[null,{"$f":"Start!B19","v":13},"",null,null,null,"",null,null,null,"","",null,null,null,"","","",""]
[null,{"$f":"Start!B20","v":14},"",null,null,null,"",null,null,null,"","",null,null,null,"","","",""]
[null,{"$f":"Start!B21","v":15},"",null,null,null,"",null,null,null,"","",null,null,null,"","","",""]
[null,{"$f":"Start!B22","v":16},"",null,null,null,"",null,null,null,"","",null,null,null,"","","",""]
[null,{"$f":"Start!B23","v":17},"",null,null,null,"",null,null,null,"","",null,null,null,"","","",""]
[null,{"$f":"Start!B24","v":18},"",null,null,null,"",null,null,null,"","",null,null,null,"","","",""]
[null,{"$f":"Start!B25","v":19},"",null,null,null,"",null,null,null,"","",null,null,null,"","","",""]
[null,{"$f":"Start!B26","v":20},"",null,null,null,"",null,null,null,"","",null,null,null,"","","",""]
[null,{"$f":"Start!B27","v":21},"",null,null,null,"",null,null,null,"","",null,null,null,"","","",""]
[null,{"$f":"Start!B28","v":22},"",null,null,null,"",null,null,null,"","",null,null,null,"","","",""]
[null,{"$f":"Start!B29","v":23},"",null,null,null,"",null,null,null,"","",null,null,null,"","","",""]
[null,{"$f":"Start!B30","v":24},"",null,null,null,"",null,null,null,"","",null,null,null,"","","",""]
[null,{"$f":"Start!B31","v":25},"",null,null,null,"",null,null,null,"","",null,null,null,"","","",""]
[null,{"$f":"Start!B32","v":26},"",null,null,null,"",null,null,null,"","",null,null,null,"","","",""]
[null,{"$f":"Start!B33","v":27},"",null,null,null,"",null,null,null,"","",null,null,null,"","","",""]
[null,{"$f":"Start!B34","v":28},"",null,null,null,"",null,null,null,"","",null,null,null,"","","",""]
[null,{"$f":"Start!B35","v":29},"",null,null,null,"",null,null,null,"","",null,null,null,"","","",""]
[null,{"$f":"Start!B36","v":30},"",null,null,null,"",null,null,null,"","",null,null,null,"","","",""]
[null,{"$f":"Start!B37","v":31},"",null,null,null,"",null,null,null,"","",null,null,null,"","","",""]
[null,{"$f":"Start!B38","v":32},"",null,null,null,"",null,null,null,"","",null,null,null,"","","",""]
[null,{"$f":"Start!B39","v":33},"",null,null,null,"",null,null,null,"","",null,null,null,"","","",""]
[null,{"$f":"Start!B40","v":34},"",null,null,null,"",null,null,null,"","",null,null,null,"","","",""]
[null,{"$f":"Start!B41","v":35},"",null,null,null,"",null,null,null,"","",null,null,null,"","","",""]
[null,{"$f":"Start!B42","v":36},"",null,null,null,"",null,null,null,"","",null,null,null,"","","",""]
[null,{"$f":"Start!B43","v":37},"",null,null,null,"",null,null,null,"","",null,null,null,"","","",""]
[null,{"$f":"Start!B44","v":38},"",null,null,null,"",null,null,null,"","",null,null,null,"","","",""]
[null,{"$f":"Start!B45","v":39},"",null,null,null,"",null,null,null,"","",null,null,null,"","","",""]
[null,{"$f":"Start!B46","v":40},"",null,null,null,"",null,null,null,"","",null,null,null,"","","",""]

{"sheet":"Výsledky","index":24,"n_rows":56,"n_cols":20,"rows_kept":56,"cut":false,"hidden":false,"merged":[[0,1,0,18],[2,2,2,7],[2,11,2,17],[5,7,5,8],[5,17,5,18]]}
[null,"Celkové výsledky - varianta OLD"]
[]
[null,null,{"$f":"Start!B2","v":"VC ČR v požárním útoku družstev HZS krajů a HZS podniků"},null,null,null,null,null,null,null,null,{"$f":"Start!B3","v":"Petrovice 19.9.2019"}]
[]
[null,null,{"$f":"Start!$C$5","v":"MUŽI"}]
[null," startovní číslo"," SDH"," PÚ"," Štafeta 4x100m"," Přebor jednotlivců",null,"Celkový součet",null,null,null," Celokvé pořadí "," SDH"," PÚ"," Štafeta 4x100m"," Přebor jednotlivců",null,"Celkový součet"]
[null,{"$f":"Start!B7","v":1},{"$f":"IF(Start!C7=\"\",\"\",Start!C7)","v":"HZS Jihočeského kraje"},{"$f":"IF(C7=\"\",\"\",PÚ!$L5)","v":29.2},{"$f":"IF(C7=\"\",\"\",'4x100m'!$L5)","v":0},{"$f":"IF(C7=\"\",\"\",'PJ-C'!$O5)","v":"DNF"},null,{"$f":"IF(C7=\"\",\"\",SUM(D7:G7))","v":29.2},{"$f":"IF(C7=\"\",\"\",IF(OR(COUNTIF(D7:G7,\"NP\")>0,COUNTIF(D7:G7,\"DNF\")>0),\"X\",\"\"))","v":"X"},{"$f":"IF(C7=\"\",\"\",SUM(D7:G7)+COUNTIF(D7:G7,\"NP\")*600+COUNTIF(D7:G7,\"DNF\")*3600)","v":3629.2},null,1,null,null,null,null,null,null,null,3603]
[null,{"$f":"Start!B8","v":2},{"$f":"IF(Start!C8=\"\",\"\",Start!C8)","v":"HZS Kraje Vysočina"},{"$f":"IF(C8=\"\",\"\",PÚ!$L6)","v":37.450000000000003},{"$f":"IF(C8=\"\",\"\",'4x100m'!$L6)","v":0},{"$f":"IF(C8=\"\",\"\",'PJ-C'!$O8)","v":"DNF"},null,{"$f":"IF(C8=\"\",\"\",SUM(D8:G8))","v":37.450000000000003},{"$f":"IF(C8=\"\",\"\",IF(OR(COUNTIF(D8:G8,\"NP\")>0,COUNTIF(D8:G8,\"DNF\")>0),\"X\",\"\"))","v":"X"},{"$f":"IF(C8=\"\",\"\",SUM(D8:G8)+COUNTIF(D8:G8,\"NP\")*600+COUNTIF(D8:G8,\"DNF\")*3600)","v":3637.45},null,2,null,null,null,null,null,null,null,3603]
[null,{"$f":"Start!B9","v":3},{"$f":"IF(Start!C9=\"\",\"\",Start!C9)","v":"HZS Zlínského Kraje"},{"$f":"IF(C9=\"\",\"\",PÚ!$L7)","v":25.43},{"$f":"IF(C9=\"\",\"\",'4x100m'!$L7)","v":0},{"$f":"IF(C9=\"\",\"\",'PJ-C'!$O11)","v":"DNF"},null,25.43,"X",3625.43,null,3,null,null,null,null,null,null,null,3604]
[null,{"$f":"Start!B10","v":4},{"$f":"IF(Start!C10=\"\",\"\",Start!C10)","v":"HZS správa železnic"},{"$f":"IF(C10=\"\",\"\",PÚ!$L8)","v":27.58},{"$f":"IF(C10=\"\",\"\",'4x100m'!$L8)","v":0},{"$f":"IF(C10=\"\",\"\",'PJ-C'!$O14)","v":"DNF"},null,27.58,"X",3627.58,null,4,null,null,null,null,null,null,null,3606]
[null,{"$f":"Start!B11","v":5},{"$f":"IF(Start!C11=\"\",\"\",Start!C11)","v":"HZS Libereckého Kraje"},{"$f":"IF(C11=\"\",\"\",PÚ!$L9)","v":41.84},{"$f":"IF(C11=\"\",\"\",'4x100m'!$L9)","v":0},{"$f":"IF(C11=\"\",\"\",'PJ-C'!$O17)","v":"DNF"},null,41.84,"X",3641.84,null,5,null,null,null,null,null,null,null,3608]
[null,{"$f":"Start!B12","v":6},{"$f":"IF(Start!C12=\"\",\"\",Start!C12)","v":"HZS Pardubického Kraje"},{"$f":"IF(C12=\"\",\"\",PÚ!$L10)","v":28.59},{"$f":"IF(C12=\"\",\"\",'4x100m'!$L10)","v":0},{"$f":"IF(C12=\"\",\"\",'PJ-C'!$O20)","v":"DNF"},null,28.59,"X",3628.59,null,6,null,null,null,null,null,null,null,3609]
[null,{"$f":"Start!B13","v":7},{"$f":"IF(Start!C13=\"\",\"\",Start!C13)","v":"HZS Královohradeckého Kr."},{"$f":"IF(C13=\"\",\"\",PÚ!$L11)","v":29.14},{"$f":"IF(C13=\"\",\"\",'4x100m'!$L11)","v":0},{"$f":"IF(C13=\"\",\"\",'PJ-C'!$O23)","v":"DNF"},null,29.14,"X",3629.14,null,7,null,null,null,null,null,null,null,3609]
[null,{"$f":"Start!B14","v":8},{"$f":"IF(Start!C14=\"\",\"\",Start!C14)","v":"HZS Plzeňského Kraje"},{"$f":"IF(C14=\"\",\"\",PÚ!$L12)","v":29.15},{"$f":"IF(C14=\"\",\"\",'4x100m'!$L12)","v":0},{"$f":"IF(C14=\"\",\"\",'PJ-C'!$O26)","v":"DNF"},null,29.15,"X",3629.15,null,8,null,null,null,null,null,null,null,3610]
[null,{"$f":"Start!B15","v":9},{"$f":"IF(Start!C15=\"\",\"\",Start!C15)","v":"HZSP Deza"},{"$f":"IF(C15=\"\",\"\",PÚ!$L13)","v":36.5},{"$f":"IF(C15=\"\",\"\",'4x100m'!$L13)","v":0},{"$f":"IF(C15=\"\",\"\",'PJ-C'!$O29)","v":"DNF"},null,36.5,"X",3636.5,null,9,null,null,null,null,null,null,null,3611]
[null,{"$f":"Start!B16","v":10},{"$f":"IF(Start!C16=\"\",\"\",Start!C16)","v":""},{"$f":"IF(C16=\"\",\"\",PÚ!$L14)","v":""},{"$f":"IF(C16=\"\",\"\",'4x100m'!$L14)","v":""},{"$f":"IF(C16=\"\",\"\",'PJ-C'!$O32)","v":""},null,"","","",null,10,null,null,null,null,null,null,null,3611]
[null,{"$f":"Start!B17","v":11},{"$f":"IF(Start!C17=\"\",\"\",Start!C17)","v":""},{"$f":"IF(C17=\"\",\"\",PÚ!$L15)","v":""},{"$f":"IF(C17=\"\",\"\",'4x100m'!$L15)","v":""},{"$f":"IF(C17=\"\",\"\",'PJ-C'!$O39)","v":""},null,"","","",null,11,null,null,null,null,null,null,null,3611]
[null,{"$f":"Start!B18","v":12},{"$f":"IF(Start!C18=\"\",\"\",Start!C18)","v":""},{"$f":"IF(C18=\"\",\"\",PÚ!$L16)","v":""},{"$f":"IF(C18=\"\",\"\",'4x100m'!$L16)","v":""},{"$f":"IF(C18=\"\",\"\",'PJ-C'!$O42)","v":""},null,"","","",null,12,null,null,null,null,null,null,null,3611]
[null,{"$f":"Start!B19","v":13},{"$f":"IF(Start!C19=\"\",\"\",Start!C19)","v":""},{"$f":"IF(C19=\"\",\"\",PÚ!$L17)","v":""},{"$f":"IF(C19=\"\",\"\",'4x100m'!$L17)","v":""},{"$f":"IF(C19=\"\",\"\",'PJ-C'!$O45)","v":""},null,"","","",null,13,null,null,null,null,null,null,null,3613]
[null,{"$f":"Start!B20","v":14},{"$f":"IF(Start!C20=\"\",\"\",Start!C20)","v":""},{"$f":"IF(C20=\"\",\"\",PÚ!$L18)","v":""},{"$f":"IF(C20=\"\",\"\",'4x100m'!$L18)","v":""},{"$f":"IF(C20=\"\",\"\",'PJ-C'!$O48)","v":""},null,"","","",null,14,null,null,null,null,null,null,null,3620]
[null,{"$f":"Start!B21","v":15},{"$f":"IF(Start!C21=\"\",\"\",Start!C21)","v":""},{"$f":"IF(C21=\"\",\"\",PÚ!$L19)","v":""},{"$f":"IF(C21=\"\",\"\",'4x100m'!$L19)","v":""},{"$f":"IF(C21=\"\",\"\",'PJ-C'!$O51)","v":""},null,"","","",null,15,null,null,null,null,null,null,null,3644]
[null,{"$f":"Start!B22","v":16},{"$f":"IF(Start!C22=\"\",\"\",Start!C22)","v":""},{"$f":"IF(C22=\"\",\"\",PÚ!$L20)","v":""},{"$f":"IF(C22=\"\",\"\",'4x100m'!$L20)","v":""},{"$f":"IF(C22=\"\",\"\",'PJ-C'!$O54)","v":""},null,"","","",null,16,null,null,null,null,null,null,null,3655]
[null,{"$f":"Start!B23","v":17},{"$f":"IF(Start!C23=\"\",\"\",Start!C23)","v":""},{"$f":"IF(C23=\"\",\"\",PÚ!$L21)","v":""},{"$f":"IF(C23=\"\",\"\",'4x100m'!$L21)","v":""},{"$f":"IF(C23=\"\",\"\",'PJ-C'!$O57)","v":""},null,"","","",null,17,null,null,null,null,null,null,null,3665]
[null,{"$f":"Start!B24","v":18},{"$f":"IF(Start!C24=\"\",\"\",Start!C24)","v":""},{"$f":"IF(C24=\"\",\"\",PÚ!$L22)","v":""},{"$f":"IF(C24=\"\",\"\",'4x100m'!$L22)","v":""},{"$f":"IF(C24=\"\",\"\",'PJ-C'!$O60)","v":""},null,"","","",null,18,null,null,null,null,null,null,null,3668]
[null,{"$f":"Start!B25","v":19},{"$f":"IF(Start!C25=\"\",\"\",Start!C25)","v":""},{"$f":"IF(C25=\"\",\"\",PÚ!$L23)","v":""},{"$f":"IF(C25=\"\",\"\",'4x100m'!$L23)","v":""},{"$f":"IF(C25=\"\",\"\",'PJ-C'!$O63)","v":""},null,"","","",null,19,null,null,null,null,null,null,null,3671]
[null,{"$f":"Start!B26","v":20},{"$f":"IF(Start!C26=\"\",\"\",Start!C26)","v":""},{"$f":"IF(C26=\"\",\"\",PÚ!$L24)","v":""},{"$f":"IF(C26=\"\",\"\",'4x100m'!$L24)","v":""},{"$f":"IF(C26=\"\",\"\",'PJ-C'!$O66)","v":""},null,"","","",null,20,null,null,null,null,null,null,null,3677]
[null,{"$f":"Start!B27","v":21},{"$f":"IF(Start!C27=\"\",\"\",Start!C27)","v":""},{"$f":"IF(C27=\"\",\"\",PÚ!$L25)","v":""},{"$f":"IF(C27=\"\",\"\",'4x100m'!$L25)","v":""},{"$f":"IF(C27=\"\",\"\",'PJ-C'!$O73)","v":""},null,"","","",null,21,null,null,null,null,null,null,null,""]
[null,{"$f":"Start!B28","v":22},{"$f":"IF(Start!C28=\"\",\"\",Start!C28)","v":""},{"$f":"IF(C28=\"\",\"\",PÚ!$L26)","v":""},{"$f":"IF(C28=\"\",\"\",'4x100m'!$L26)","v":""},{"$f":"IF(C28=\"\",\"\",'PJ-C'!$O76)","v":""},null,"","","",null,22,null,null,null,null,null,null,null,""]
[null,{"$f":"Start!B29","v":23},{"$f":"IF(Start!C29=\"\",\"\",Start!C29)","v":""},{"$f":"IF(C29=\"\",\"\",PÚ!$L27)","v":""},{"$f":"IF(C29=\"\",\"\",'4x100m'!$L27)","v":""},{"$f":"IF(C29=\"\",\"\",'PJ-C'!$O79)","v":""},null,"","","",null,23,null,null,null,null,null,null,null,""]
[null,{"$f":"Start!B30","v":24},{"$f":"IF(Start!C30=\"\",\"\",Start!C30)","v":""},{"$f":"IF(C30=\"\",\"\",PÚ!$L28)","v":""},{"$f":"IF(C30=\"\",\"\",'4x100m'!$L28)","v":""},{"$f":"IF(C30=\"\",\"\",'PJ-C'!$O82)","v":""},null,"","","",null,24,null,null,null,null,null,null,null,""]
[null,{"$f":"Start!B31","v":25},{"$f":"IF(Start!C31=\"\",\"\",Start!C31)","v":""},{"$f":"IF(C31=\"\",\"\",PÚ!$L29)","v":""},{"$f":"IF(C31=\"\",\"\",'4x100m'!$L29)","v":""},{"$f":"IF(C31=\"\",\"\",'PJ-C'!$O85)","v":""},null,"","","",null,25,null,null,null,null,null,null,null,""]
[null,{"$f":"Start!F7","v":0},{"$f":"IF(Start!G7=\"\",\"\",Start!G7)","v":""},{"$f":"IF(C32=\"\",\"\",PÚ!$L30)","v":""},{"$f":"IF(C32=\"\",\"\",'4x100m'!$L30)","v":""},{"$f":"IF(C32=\"\",\"\",'PJ-C'!$O88)","v":""},null,"","","",null,26,null,null,null,null,null,null,null,""]
[null,{"$f":"Start!F8","v":0},{"$f":"IF(Start!G8=\"\",\"\",Start!G8)","v":""},{"$f":"IF(C33=\"\",\"\",PÚ!$L31)","v":""},{"$f":"IF(C33=\"\",\"\",'4x100m'!$L31)","v":""},{"$f":"IF(C33=\"\",\"\",'PJ-C'!$O91)","v":""},null,"","","",null,27,null,null,null,null,null,null,null,""]
[null,{"$f":"Start!F9","v":0},{"$f":"IF(Start!G9=\"\",\"\",Start!G9)","v":""},{"$f":"IF(C34=\"\",\"\",PÚ!$L32)","v":""},{"$f":"IF(C34=\"\",\"\",'4x100m'!$L32)","v":""},{"$f":"IF(C34=\"\",\"\",'PJ-C'!$O94)","v":""},null,"","","",null,28,null,null,null,null,null,null,null,""]
[null,{"$f":"Start!F10","v":0},{"$f":"IF(Start!G10=\"\",\"\",Start!G10)","v":""},{"$f":"IF(C35=\"\",\"\",PÚ!$L33)","v":""},{"$f":"IF(C35=\"\",\"\",'4x100m'!$L33)","v":""},{"$f":"IF(C35=\"\",\"\",'PJ-C'!$O97)","v":""},null,"","","",null,29,null,null,null,null,null,null,null,""]
[null,{"$f":"Start!F11","v":0},{"$f":"IF(Start!G11=\"\",\"\",Start!G11)","v":""},{"$f":"IF(C36=\"\",\"\",PÚ!$L34)","v":""},{"$f":"IF(C36=\"\",\"\",'4x100m'!$L34)","v":""},{"$f":"IF(C36=\"\",\"\",'PJ-C'!$O100)","v":""},null,"","","",null,30,null,null,null,null,null,null,null,""]
[null,{"$f":"Start!F12","v":0},{"$f":"IF(Start!G12=\"\",\"\",Start!G12)","v":""},{"$f":"IF(C37=\"\",\"\",PÚ!$L35)","v":""},{"$f":"IF(C37=\"\",\"\",'4x100m'!$L35)","v":""},{"$f":"IF(C37=\"\",\"\",'PJ-C'!$O107)","v":""},null,"","","",null,31,null,null,null,null,null,null,null,""]
[null,{"$f":"Start!F13","v":0},{"$f":"IF(Start!G13=\"\",\"\",Start!G13)","v":""},{"$f":"IF(C38=\"\",\"\",PÚ!$L36)","v":""},{"$f":"IF(C38=\"\",\"\",'4x100m'!$L36)","v":""},{"$f":"IF(C38=\"\",\"\",'PJ-C'!$O110)","v":""},null,"","","",null,32,null,null,null,null,null,null,null,""]
[null,{"$f":"Start!F14","v":0},{"$f":"IF(Start!G14=\"\",\"\",Start!G14)","v":""},{"$f":"IF(C39=\"\",\"\",PÚ!$L37)","v":""},{"$f":"IF(C39=\"\",\"\",'4x100m'!$L37)","v":""},{"$f":"IF(C39=\"\",\"\",'PJ-C'!$O113)","v":""},null,"","","",null,33,null,null,null,null,null,null,null,""]
[null,{"$f":"Start!F15","v":0},{"$f":"IF(Start!G15=\"\",\"\",Start!G15)","v":""},{"$f":"IF(C40=\"\",\"\",PÚ!$L38)","v":""},{"$f":"IF(C40=\"\",\"\",'4x100m'!$L38)","v":""},{"$f":"IF(C40=\"\",\"\",'PJ-C'!$O116)","v":""},null,"","","",null,34,null,null,null,null,null,null,null,""]
[null,{"$f":"Start!F16","v":0},{"$f":"IF(Start!G16=\"\",\"\",Start!G16)","v":""},{"$f":"IF(C41=\"\",\"\",PÚ!$L39)","v":""},{"$f":"IF(C41=\"\",\"\",'4x100m'!$L39)","v":""},{"$f":"IF(C41=\"\",\"\",'PJ-C'!$O119)","v":""},null,"","","",null,35,null,null,null,null,null,null,null,""]
[null,{"$f":"Start!F17","v":0},{"$f":"IF(Start!G17=\"\",\"\",Start!G17)","v":""},{"$f":"IF(C42=\"\",\"\",PÚ!$L40)","v":""},{"$f":"IF(C42=\"\",\"\",'4x100m'!$L40)","v":""},{"$f":"IF(C42=\"\",\"\",'PJ-C'!$O122)","v":""},null,"","","",null,36,null,null,null,null,null,null,null,""]
[null,{"$f":"Start!F18","v":0},{"$f":"IF(Start!G18=\"\",\"\",Start!G18)","v":""},{"$f":"IF(C43=\"\",\"\",PÚ!$L41)","v":""},{"$f":"IF(C43=\"\",\"\",'4x100m'!$L41)","v":""},{"$f":"IF(C43=\"\",\"\",'PJ-C'!$O125)","v":""},null,"","","",null,37,null,null,null,null,null,null,null,""]
[null,{"$f":"Start!F19","v":0},{"$f":"IF(Start!G19=\"\",\"\",Start!G19)","v":""},{"$f":"IF(C44=\"\",\"\",PÚ!$L42)","v":""},{"$f":"IF(C44=\"\",\"\",'4x100m'!$L42)","v":""},{"$f":"IF(C44=\"\",\"\",'PJ-C'!$O128)","v":""},null,"","","",null,38,null,null,null,null,null,null,null,""]
[null,{"$f":"Start!F20","v":0},{"$f":"IF(Start!G20=\"\",\"\",Start!G20)","v":""},{"$f":"IF(C45=\"\",\"\",PÚ!$L43)","v":""},{"$f":"IF(C45=\"\",\"\",'4x100m'!$L43)","v":""},{"$f":"IF(C45=\"\",\"\",'PJ-C'!$O131)","v":""},null,"","","",null,39,null,null,null,null,null,null,null,""]
[null,{"$f":"Start!F21","v":0},{"$f":"IF(Start!G21=\"\",\"\",Start!G21)","v":""},{"$f":"IF(C46=\"\",\"\",PÚ!#REF!)","v":""},{"$f":"IF(C46=\"\",\"\",'4x100m'!#REF!)","v":""},{"$f":"IF(C46=\"\",\"\",'PJ-C'!$O134)","v":""},null,"","","",null,40,null,null,null,null,null,null,null,""]
[null,{"$f":"Start!F22","v":0},{"$f":"IF(Start!G22=\"\",\"\",Start!G22)","v":""},{"$f":"IF(C47=\"\",\"\",PÚ!#REF!)","v":""},{"$f":"IF(C47=\"\",\"\",'4x100m'!#REF!)","v":""},{"$f":"IF(C47=\"\",\"\",'PJ-C'!#REF!)","v":""},null,"","","",null,41,null,null,null,null,null,null,null,""]
[null,{"$f":"Start!F23","v":0},{"$f":"IF(Start!G23=\"\",\"\",Start!G23)","v":""},{"$f":"IF(C48=\"\",\"\",PÚ!#REF!)","v":""},{"$f":"IF(C48=\"\",\"\",'4x100m'!#REF!)","v":""},{"$f":"IF(C48=\"\",\"\",'PJ-C'!#REF!)","v":""},null,"","","",null,42,null,null,null,null,null,null,null,""]
[null,{"$f":"Start!F24","v":0},{"$f":"IF(Start!G24=\"\",\"\",Start!G24)","v":""},{"$f":"IF(C49=\"\",\"\",PÚ!#REF!)","v":""},{"$f":"IF(C49=\"\",\"\",'4x100m'!#REF!)","v":""},{"$f":"IF(C49=\"\",\"\",'PJ-C'!#REF!)","v":""},null,"","","",null,43,null,null,null,null,null,null,null,""]
[null,{"$f":"Start!F25","v":0},{"$f":"IF(Start!G25=\"\",\"\",Start!G25)","v":""},{"$f":"IF(C50=\"\",\"\",PÚ!#REF!)","v":""},{"$f":"IF(C50=\"\",\"\",'4x100m'!#REF!)","v":""},{"$f":"IF(C50=\"\",\"\",'PJ-C'!#REF!)","v":""},null,"","","",null,44,null,null,null,null,null,null,null,""]
[null,{"$f":"Start!F26","v":0},{"$f":"IF(Start!G26=\"\",\"\",Start!G26)","v":""},{"$f":"IF(C51=\"\",\"\",PÚ!#REF!)","v":""},{"$f":"IF(C51=\"\",\"\",'4x100m'!#REF!)","v":""},{"$f":"IF(C51=\"\",\"\",'PJ-C'!#REF!)","v":""},null,"","","",null,45,null,null,null,null,null,null,null,""]
[null,{"$f":"Start!F27","v":0},{"$f":"IF(Start!G27=\"\",\"\",Start!G27)","v":""},{"$f":"IF(C52=\"\",\"\",PÚ!#REF!)","v":""},{"$f":"IF(C52=\"\",\"\",'4x100m'!#REF!)","v":""},{"$f":"IF(C52=\"\",\"\",'PJ-C'!#REF!)","v":""},null,"","","",null,46,null,null,null,null,null,null,null,""]
[null,{"$f":"Start!F28","v":0},{"$f":"IF(Start!G28=\"\",\"\",Start!G28)","v":""},{"$f":"IF(C53=\"\",\"\",PÚ!#REF!)","v":""},{"$f":"IF(C53=\"\",\"\",'4x100m'!#REF!)","v":""},{"$f":"IF(C53=\"\",\"\",'PJ-C'!#REF!)","v":""},null,"","","",null,47,null,null,null,null,null,null,null,""]
[null,{"$f":"Start!F29","v":0},{"$f":"IF(Start!G29=\"\",\"\",Start!G29)","v":""},{"$f":"IF(C54=\"\",\"\",PÚ!#REF!)","v":""},{"$f":"IF(C54=\"\",\"\",'4x100m'!#REF!)","v":""},{"$f":"IF(C54=\"\",\"\",'PJ-C'!#REF!)","v":""},null,"","","",null,48,null,null,null,null,null,null,null,""]
[null,{"$f":"Start!F30","v":0},{"$f":"IF(Start!G30=\"\",\"\",Start!G30)","v":""},{"$f":"IF(C55=\"\",\"\",PÚ!#REF!)","v":""},{"$f":"IF(C55=\"\",\"\",'4x100m'!#REF!)","v":""},{"$f":"IF(C55=\"\",\"\",'PJ-C'!#REF!)","v":""},null,"","","",null,49,null,null,null,null,null,null,null,""]
[null,{"$f":"Start!F31","v":0},{"$f":"IF(Start!G31=\"\",\"\",Start!G31)","v":""},{"$f":"IF(C56=\"\",\"\",PÚ!$L44)","v":""},{"$f":"IF(C56=\"\",\"\",'4x100m'!$L44)","v":""},{"$f":"IF(C56=\"\",\"\",'PJ-C'!#REF!)","v":""},null,"","","",null,50,null,null,null,null,null,null,null,""]

{"sheet":"Výsledky3","index":25,"n_rows":46,"n_cols":18,"rows_kept":46,"cut":false,"hidden":false,"merged":[[0,1,0,18],[2,2,2,7],[2,11,2,17],[5,7,5,8],[5,17,5,18]]}
[null,"Celkové výsledky"]
[]
[null,null,{"$f":"Start!B2","v":"VC ČR v požárním útoku družstev HZS krajů a HZS podniků"},null,null,null,null,null,null,null,null,{"$f":"Start!B3","v":"Petrovice 19.9.2019"}]
[]
[null,null,{"$f":"Start!$C$5","v":"MUŽI"}]
[null," startovní číslo"," SDH"," PÚ"," Štafeta 4x100m","100m","Věž","Celkový součet",null,null,null," Celokvé pořadí "," SDH"," PÚ"," Štafeta 4x100m","100m","Věž","Celkový součet"]
[null,{"$f":"Start!B7","v":1},{"$f":"IF(Start!C7=\"\",\"\",Start!C7)","v":"HZS Jihočeského kraje"},{"$f":"IF(C7=\"\",\"\",PÚ!$N5)","v":6},{"$f":"IF(C7=\"\",\"\",'4x100m'!$N5)","v":1},{"$f":"IF(C7=\"\",\"\",IF(Seznam!$H$5=0,\"\",'PJ-C'!$Q5))","v":""},{"$f":"IF(C7=\"\",\"\",IF(Seznam!$J$5=0,\"\",'V-C'!$Q5))","v":""},{"$f":"IF(C7=\"\",\"\",SUM(D7:G7))","v":7},{"$f":"IF(C7=\"\",\"\",IF(OR(COUNTIF(D7:G7,\"NP\")>0,COUNTIF(D7:G7,\"DNF\")>0),\"X\",\"\"))","v":""},null,null,1,"HZS Plzeňského kraje Domažlice",0,0,null,null,0]
[null,{"$f":"Start!B8","v":2},{"$f":"IF(Start!C8=\"\",\"\",Start!C8)","v":"HZS Kraje Vysočina"},{"$f":"IF(C8=\"\",\"\",PÚ!$N6)","v":8},{"$f":"IF(C8=\"\",\"\",'4x100m'!$N6)","v":1},{"$f":"IF(C8=\"\",\"\",IF(Seznam!$H$5=0,\"\",'PJ-C'!$Q8))","v":""},{"$f":"IF(C8=\"\",\"\",IF(Seznam!$J$5=0,\"\",'V-C'!$Q8))","v":""},{"$f":"IF(C8=\"\",\"\",SUM(D8:G8))","v":9},{"$f":"IF(C8=\"\",\"\",IF(OR(COUNTIF(D8:G8,\"NP\")>0,COUNTIF(D8:G8,\"DNF\")>0),\"X\",\"\"))","v":""},null,null,1,"HZS Plzeňského kraje Plžeň",0,0,null,null,0]
[null,{"$f":"Start!B9","v":3},{"$f":"IF(Start!C9=\"\",\"\",Start!C9)","v":"HZS Zlínského Kraje"},{"$f":"IF(C9=\"\",\"\",PÚ!$N7)","v":1},{"$f":"IF(C9=\"\",\"\",'4x100m'!$N7)","v":1},{"$f":"IF(C9=\"\",\"\",IF(Seznam!$H$5=0,\"\",'PJ-C'!$Q11))","v":""},{"$f":"IF(C9=\"\",\"\",IF(Seznam!$J$5=0,\"\",'V-C'!$Q11))","v":""},2,"",null,null,1,"HZS Středočeského kraje Kraj. Výběr",0,0,null,null,0]
[null,{"$f":"Start!B10","v":4},{"$f":"IF(Start!C10=\"\",\"\",Start!C10)","v":"HZS správa železnic"},{"$f":"IF(C10=\"\",\"\",PÚ!$N8)","v":2},{"$f":"IF(C10=\"\",\"\",'4x100m'!$N8)","v":1},{"$f":"IF(C10=\"\",\"\",IF(Seznam!$H$5=0,\"\",'PJ-C'!$Q14))","v":""},{"$f":"IF(C10=\"\",\"\",IF(Seznam!$J$5=0,\"\",'V-C'!$Q14))","v":""},3,"",null,null,1,"HZS Královéhradeckého kraje",0,0,null,null,0]
[null,{"$f":"Start!B11","v":5},{"$f":"IF(Start!C11=\"\",\"\",Start!C11)","v":"HZS Libereckého Kraje"},{"$f":"IF(C11=\"\",\"\",PÚ!$N9)","v":9},{"$f":"IF(C11=\"\",\"\",'4x100m'!$N9)","v":1},{"$f":"IF(C11=\"\",\"\",IF(Seznam!$H$5=0,\"\",'PJ-C'!$Q17))","v":""},{"$f":"IF(C11=\"\",\"\",IF(Seznam!$J$5=0,\"\",'V-C'!$Q17))","v":""},10,"",null,null,1,"HZS Hlavního města Prahy",0,0,null,null,0]
[null,{"$f":"Start!B12","v":6},{"$f":"IF(Start!C12=\"\",\"\",Start!C12)","v":"HZS Pardubického Kraje"},{"$f":"IF(C12=\"\",\"\",PÚ!$N10)","v":3},{"$f":"IF(C12=\"\",\"\",'4x100m'!$N10)","v":1},{"$f":"IF(C12=\"\",\"\",IF(Seznam!$H$5=0,\"\",'PJ-C'!$Q20))","v":""},{"$f":"IF(C12=\"\",\"\",IF(Seznam!$J$5=0,\"\",'V-C'!$Q20))","v":""},4,"",null,null,1,"HZS Moravskoslezského kraje Karviná",0,0,null,null,0]
[null,{"$f":"Start!B13","v":7},{"$f":"IF(Start!C13=\"\",\"\",Start!C13)","v":"HZS Královohradeckého Kr."},{"$f":"IF(C13=\"\",\"\",PÚ!$N11)","v":4},{"$f":"IF(C13=\"\",\"\",'4x100m'!$N11)","v":1},{"$f":"IF(C13=\"\",\"\",IF(Seznam!$H$5=0,\"\",'PJ-C'!$Q23))","v":""},{"$f":"IF(C13=\"\",\"\",IF(Seznam!$J$5=0,\"\",'V-C'!$Q23))","v":""},5,"",null,null,1,"HZS Středočeského kraje M.Boleslav",0,0,null,null,0]
[null,{"$f":"Start!B14","v":8},{"$f":"IF(Start!C14=\"\",\"\",Start!C14)","v":"HZS Plzeňského Kraje"},{"$f":"IF(C14=\"\",\"\",PÚ!$N12)","v":5},{"$f":"IF(C14=\"\",\"\",'4x100m'!$N12)","v":1},{"$f":"IF(C14=\"\",\"\",IF(Seznam!$H$5=0,\"\",'PJ-C'!$Q26))","v":""},{"$f":"IF(C14=\"\",\"\",IF(Seznam!$J$5=0,\"\",'V-C'!$Q26))","v":""},6,"",null,null,1,"HZS Jihočeského kraje Strakonice",0,0,null,null,0]
[null,{"$f":"Start!B15","v":9},{"$f":"IF(Start!C15=\"\",\"\",Start!C15)","v":"HZSP Deza"},{"$f":"IF(C15=\"\",\"\",PÚ!$N13)","v":7},{"$f":"IF(C15=\"\",\"\",'4x100m'!$N13)","v":1},{"$f":"IF(C15=\"\",\"\",IF(Seznam!$H$5=0,\"\",'PJ-C'!$Q29))","v":""},{"$f":"IF(C15=\"\",\"\",IF(Seznam!$J$5=0,\"\",'V-C'!$Q29))","v":""},8,"",null,null,1,"HZSP SŽDC Plzeň",0,0,null,null,0]
[null,{"$f":"Start!B16","v":10},{"$f":"IF(Start!C16=\"\",\"\",Start!C16)","v":""},{"$f":"IF(C16=\"\",\"\",PÚ!$N14)","v":""},{"$f":"IF(C16=\"\",\"\",'4x100m'!$N14)","v":""},{"$f":"IF(C16=\"\",\"\",IF(Seznam!$H$5=0,\"\",'PJ-C'!$Q32))","v":""},{"$f":"IF(C16=\"\",\"\",IF(Seznam!$J$5=0,\"\",'V-C'!$Q32))","v":""},"","",null,null,1,"SDH DNEBOH",0,0,null,null,0]
[null,{"$f":"Start!B17","v":11},{"$f":"IF(Start!C17=\"\",\"\",Start!C17)","v":""},{"$f":"IF(C17=\"\",\"\",PÚ!$N15)","v":""},{"$f":"IF(C17=\"\",\"\",'4x100m'!$N15)","v":""},{"$f":"IF(C17=\"\",\"\",IF(Seznam!$H$5=0,\"\",'PJ-C'!$Q39))","v":""},{"$f":"IF(C17=\"\",\"\",IF(Seznam!$J$5=0,\"\",'V-C'!$Q39))","v":""},"","",null,null,11,"HZS Zlínského kraje",20,1,null,null,21]
[null,{"$f":"Start!B18","v":12},{"$f":"IF(Start!C18=\"\",\"\",Start!C18)","v":""},{"$f":"IF(C18=\"\",\"\",PÚ!$N16)","v":""},{"$f":"IF(C18=\"\",\"\",'4x100m'!$N16)","v":""},{"$f":"IF(C18=\"\",\"\",IF(Seznam!$H$5=0,\"\",'PJ-C'!$Q42))","v":""},{"$f":"IF(C18=\"\",\"\",IF(Seznam!$J$5=0,\"\",'V-C'!$Q42))","v":""},"","",null,null,11,"HZS Moravskoslezského kraje Ostrava",20,1,null,null,21]
[null,{"$f":"Start!B19","v":13},{"$f":"IF(Start!C19=\"\",\"\",Start!C19)","v":""},{"$f":"IF(C19=\"\",\"\",PÚ!$N17)","v":""},{"$f":"IF(C19=\"\",\"\",'4x100m'!$N17)","v":""},{"$f":"IF(C19=\"\",\"\",IF(Seznam!$H$5=0,\"\",'PJ-C'!$Q45))","v":""},{"$f":"IF(C19=\"\",\"\",IF(Seznam!$J$5=0,\"\",'V-C'!$Q45))","v":""},"","",null,null,11,"HZS Kraje Vysočina",20,1,null,null,21]
[null,{"$f":"Start!B20","v":14},{"$f":"IF(Start!C20=\"\",\"\",Start!C20)","v":""},{"$f":"IF(C20=\"\",\"\",PÚ!$N18)","v":""},{"$f":"IF(C20=\"\",\"\",'4x100m'!$N18)","v":""},{"$f":"IF(C20=\"\",\"\",IF(Seznam!$H$5=0,\"\",'PJ-C'!$Q48))","v":""},{"$f":"IF(C20=\"\",\"\",IF(Seznam!$J$5=0,\"\",'V-C'!$Q48))","v":""},"","",null,null,11,"HZS Pardubického kraje Pardubice",20,1,null,null,21]
[null,{"$f":"Start!B21","v":15},{"$f":"IF(Start!C21=\"\",\"\",Start!C21)","v":""},{"$f":"IF(C21=\"\",\"\",PÚ!$N19)","v":""},{"$f":"IF(C21=\"\",\"\",'4x100m'!$N19)","v":""},{"$f":"IF(C21=\"\",\"\",IF(Seznam!$H$5=0,\"\",'PJ-C'!$Q51))","v":""},{"$f":"IF(C21=\"\",\"\",IF(Seznam!$J$5=0,\"\",'V-C'!$Q51))","v":""},"","",null,null,11,"HZS Olomouckého kraje Přerov",20,1,null,null,21]
[null,{"$f":"Start!B22","v":16},{"$f":"IF(Start!C22=\"\",\"\",Start!C22)","v":""},{"$f":"IF(C22=\"\",\"\",PÚ!$N20)","v":""},{"$f":"IF(C22=\"\",\"\",'4x100m'!$N20)","v":""},{"$f":"IF(C22=\"\",\"\",IF(Seznam!$H$5=0,\"\",'PJ-C'!$Q54))","v":""},{"$f":"IF(C22=\"\",\"\",IF(Seznam!$J$5=0,\"\",'V-C'!$Q54))","v":""},"","",null,null,11,"HZSP SŽDC Č. Třebová",20,1,null,null,21]
[null,{"$f":"Start!B23","v":17},{"$f":"IF(Start!C23=\"\",\"\",Start!C23)","v":""},{"$f":"IF(C23=\"\",\"\",PÚ!$N21)","v":""},{"$f":"IF(C23=\"\",\"\",'4x100m'!$N21)","v":""},{"$f":"IF(C23=\"\",\"\",IF(Seznam!$H$5=0,\"\",'PJ-C'!$Q57))","v":""},{"$f":"IF(C23=\"\",\"\",IF(Seznam!$J$5=0,\"\",'V-C'!$Q57))","v":""},"","",null,null,11,"HZS Jihočeského kraje",20,1,null,null,21]
[null,{"$f":"Start!B24","v":18},{"$f":"IF(Start!C24=\"\",\"\",Start!C24)","v":""},{"$f":"IF(C24=\"\",\"\",PÚ!$N22)","v":""},{"$f":"IF(C24=\"\",\"\",'4x100m'!$N22)","v":""},{"$f":"IF(C24=\"\",\"\",IF(Seznam!$H$5=0,\"\",'PJ-C'!$Q60))","v":""},{"$f":"IF(C24=\"\",\"\",IF(Seznam!$J$5=0,\"\",'V-C'!$Q60))","v":""},"","",null,null,11,"HZSP DEZA Valaš. Meziříčí",20,1,null,null,21]
[null,{"$f":"Start!B25","v":19},{"$f":"IF(Start!C25=\"\",\"\",Start!C25)","v":""},{"$f":"IF(C25=\"\",\"\",PÚ!$N23)","v":""},{"$f":"IF(C25=\"\",\"\",'4x100m'!$N23)","v":""},{"$f":"IF(C25=\"\",\"\",IF(Seznam!$H$5=0,\"\",'PJ-C'!$Q63))","v":""},{"$f":"IF(C25=\"\",\"\",IF(Seznam!$J$5=0,\"\",'V-C'!$Q63))","v":""},"","",null,null,11,"HZS Libereckého kraje",20,1,null,null,21]
[null,{"$f":"Start!B26","v":20},{"$f":"IF(Start!C26=\"\",\"\",Start!C26)","v":""},{"$f":"IF(C26=\"\",\"\",PÚ!$N24)","v":""},{"$f":"IF(C26=\"\",\"\",'4x100m'!$N24)","v":""},{"$f":"IF(C26=\"\",\"\",IF(Seznam!$H$5=0,\"\",'PJ-C'!$Q66))","v":""},{"$f":"IF(C26=\"\",\"\",IF(Seznam!$J$5=0,\"\",'V-C'!$Q66))","v":""},"","",null,null,11,"HZS Olomouckého kraje Prostějov",20,1,null,null,21]
[null,{"$f":"Start!B27","v":21},{"$f":"IF(Start!C27=\"\",\"\",Start!C27)","v":""},{"$f":"IF(C27=\"\",\"\",PÚ!$N25)","v":""},{"$f":"IF(C27=\"\",\"\",'4x100m'!$N25)","v":""},{"$f":"IF(C27=\"\",\"\",IF(Seznam!$H$5=0,\"\",'PJ-C'!$Q73))","v":""},{"$f":"IF(C27=\"\",\"\",IF(Seznam!$J$5=0,\"\",'V-C'!$Q73))","v":""},"",""]
[null,{"$f":"Start!B28","v":22},{"$f":"IF(Start!C28=\"\",\"\",Start!C28)","v":""},{"$f":"IF(C28=\"\",\"\",PÚ!$N26)","v":""},{"$f":"IF(C28=\"\",\"\",'4x100m'!$N26)","v":""},{"$f":"IF(C28=\"\",\"\",IF(Seznam!$H$5=0,\"\",'PJ-C'!$Q76))","v":""},{"$f":"IF(C28=\"\",\"\",IF(Seznam!$J$5=0,\"\",'V-C'!$Q76))","v":""},"",""]
[null,{"$f":"Start!B29","v":23},{"$f":"IF(Start!C29=\"\",\"\",Start!C29)","v":""},{"$f":"IF(C29=\"\",\"\",PÚ!$N27)","v":""},{"$f":"IF(C29=\"\",\"\",'4x100m'!$N27)","v":""},{"$f":"IF(C29=\"\",\"\",IF(Seznam!$H$5=0,\"\",'PJ-C'!$Q79))","v":""},{"$f":"IF(C29=\"\",\"\",IF(Seznam!$J$5=0,\"\",'V-C'!$Q79))","v":""},"",""]
[null,{"$f":"Start!B30","v":24},{"$f":"IF(Start!C30=\"\",\"\",Start!C30)","v":""},{"$f":"IF(C30=\"\",\"\",PÚ!$N28)","v":""},{"$f":"IF(C30=\"\",\"\",'4x100m'!$N28)","v":""},{"$f":"IF(C30=\"\",\"\",IF(Seznam!$H$5=0,\"\",'PJ-C'!$Q82))","v":""},{"$f":"IF(C30=\"\",\"\",IF(Seznam!$J$5=0,\"\",'V-C'!$Q82))","v":""},"",""]
[null,{"$f":"Start!B31","v":25},{"$f":"IF(Start!C31=\"\",\"\",Start!C31)","v":""},{"$f":"IF(C31=\"\",\"\",PÚ!$N29)","v":""},{"$f":"IF(C31=\"\",\"\",'4x100m'!$N29)","v":""},{"$f":"IF(C31=\"\",\"\",IF(Seznam!$H$5=0,\"\",'PJ-C'!$Q85))","v":""},{"$f":"IF(C31=\"\",\"\",IF(Seznam!$J$5=0,\"\",'V-C'!$Q85))","v":""},"",""]
[null,{"$f":"Start!B32","v":26},{"$f":"IF(Start!C32=\"\",\"\",Start!C32)","v":""},{"$f":"IF(C32=\"\",\"\",PÚ!$N30)","v":""},{"$f":"IF(C32=\"\",\"\",'4x100m'!$N30)","v":""},{"$f":"IF(C32=\"\",\"\",IF(Seznam!$H$5=0,\"\",'PJ-C'!$Q88))","v":""},{"$f":"IF(C32=\"\",\"\",IF(Seznam!$J$5=0,\"\",'V-C'!$Q88))","v":""},{"$f":"IF(C32=\"\",\"\",SUM(D32:G32))","v":""},{"$f":"IF(C32=\"\",\"\",IF(OR(COUNTIF(D32:G32,\"NP\")>0,COUNTIF(D32:G32,\"DNF\")>0),\"X\",\"\"))","v":""}]
[null,{"$f":"Start!B33","v":27},{"$f":"IF(Start!C33=\"\",\"\",Start!C33)","v":""},{"$f":"IF(C33=\"\",\"\",PÚ!$N31)","v":""},{"$f":"IF(C33=\"\",\"\",'4x100m'!$N31)","v":""},{"$f":"IF(C33=\"\",\"\",IF(Seznam!$H$5=0,\"\",'PJ-C'!$Q91))","v":""},{"$f":"IF(C33=\"\",\"\",IF(Seznam!$J$5=0,\"\",'V-C'!$Q91))","v":""},"",""]
[null,{"$f":"Start!B34","v":28},{"$f":"IF(Start!C34=\"\",\"\",Start!C34)","v":""},{"$f":"IF(C34=\"\",\"\",PÚ!$N32)","v":""},{"$f":"IF(C34=\"\",\"\",'4x100m'!$N32)","v":""},{"$f":"IF(C34=\"\",\"\",IF(Seznam!$H$5=0,\"\",'PJ-C'!$Q94))","v":""},{"$f":"IF(C34=\"\",\"\",IF(Seznam!$J$5=0,\"\",'V-C'!$Q94))","v":""},"",""]
[null,{"$f":"Start!B35","v":29},{"$f":"IF(Start!C35=\"\",\"\",Start!C35)","v":""},{"$f":"IF(C35=\"\",\"\",PÚ!$N33)","v":""},{"$f":"IF(C35=\"\",\"\",'4x100m'!$N33)","v":""},{"$f":"IF(C35=\"\",\"\",IF(Seznam!$H$5=0,\"\",'PJ-C'!$Q97))","v":""},{"$f":"IF(C35=\"\",\"\",IF(Seznam!$J$5=0,\"\",'V-C'!$Q97))","v":""},"",""]
[null,{"$f":"Start!B36","v":30},{"$f":"IF(Start!C36=\"\",\"\",Start!C36)","v":""},{"$f":"IF(C36=\"\",\"\",PÚ!$N34)","v":""},{"$f":"IF(C36=\"\",\"\",'4x100m'!$N34)","v":""},{"$f":"IF(C36=\"\",\"\",IF(Seznam!$H$5=0,\"\",'PJ-C'!$Q100))","v":""},{"$f":"IF(C36=\"\",\"\",IF(Seznam!$J$5=0,\"\",'V-C'!$Q100))","v":""},"",""]
[null,{"$f":"Start!B37","v":31},{"$f":"IF(Start!C37=\"\",\"\",Start!C37)","v":""},{"$f":"IF(C37=\"\",\"\",PÚ!$N35)","v":""},{"$f":"IF(C37=\"\",\"\",'4x100m'!$N35)","v":""},{"$f":"IF(C37=\"\",\"\",IF(Seznam!$H$5=0,\"\",'PJ-C'!$Q107))","v":""},{"$f":"IF(C37=\"\",\"\",IF(Seznam!$J$5=0,\"\",'V-C'!$Q107))","v":""},"",""]
[null,{"$f":"Start!B38","v":32},{"$f":"IF(Start!C38=\"\",\"\",Start!C38)","v":""},{"$f":"IF(C38=\"\",\"\",PÚ!$N36)","v":""},{"$f":"IF(C38=\"\",\"\",'4x100m'!$N36)","v":""},{"$f":"IF(C38=\"\",\"\",IF(Seznam!$H$5=0,\"\",'PJ-C'!$Q110))","v":""},{"$f":"IF(C38=\"\",\"\",IF(Seznam!$J$5=0,\"\",'V-C'!$Q110))","v":""},"",""]
[null,{"$f":"Start!B39","v":33},{"$f":"IF(Start!C39=\"\",\"\",Start!C39)","v":""},{"$f":"IF(C39=\"\",\"\",PÚ!$N37)","v":""},{"$f":"IF(C39=\"\",\"\",'4x100m'!$N37)","v":""},{"$f":"IF(C39=\"\",\"\",IF(Seznam!$H$5=0,\"\",'PJ-C'!$Q113))","v":""},{"$f":"IF(C39=\"\",\"\",IF(Seznam!$J$5=0,\"\",'V-C'!$Q113))","v":""},"",""]
[null,{"$f":"Start!B40","v":34},{"$f":"IF(Start!C40=\"\",\"\",Start!C40)","v":""},{"$f":"IF(C40=\"\",\"\",PÚ!$N38)","v":""},{"$f":"IF(C40=\"\",\"\",'4x100m'!$N38)","v":""},{"$f":"IF(C40=\"\",\"\",IF(Seznam!$H$5=0,\"\",'PJ-C'!$Q116))","v":""},{"$f":"IF(C40=\"\",\"\",IF(Seznam!$J$5=0,\"\",'V-C'!$Q116))","v":""},"",""]
[null,{"$f":"Start!B41","v":35},{"$f":"IF(Start!C41=\"\",\"\",Start!C41)","v":""},{"$f":"IF(C41=\"\",\"\",PÚ!$N39)","v":""},{"$f":"IF(C41=\"\",\"\",'4x100m'!$N39)","v":""},{"$f":"IF(C41=\"\",\"\",IF(Seznam!$H$5=0,\"\",'PJ-C'!$Q119))","v":""},{"$f":"IF(C41=\"\",\"\",IF(Seznam!$J$5=0,\"\",'V-C'!$Q119))","v":""},"",""]
[null,{"$f":"Start!B42","v":36},{"$f":"IF(Start!C42=\"\",\"\",Start!C42)","v":""},{"$f":"IF(C42=\"\",\"\",PÚ!$N40)","v":""},{"$f":"IF(C42=\"\",\"\",'4x100m'!$N40)","v":""},{"$f":"IF(C42=\"\",\"\",IF(Seznam!$H$5=0,\"\",'PJ-C'!$Q122))","v":""},{"$f":"IF(C42=\"\",\"\",IF(Seznam!$J$5=0,\"\",'V-C'!$Q122))","v":""},"",""]
[null,{"$f":"Start!B43","v":37},{"$f":"IF(Start!C43=\"\",\"\",Start!C43)","v":""},{"$f":"IF(C43=\"\",\"\",PÚ!$N41)","v":""},{"$f":"IF(C43=\"\",\"\",'4x100m'!$N41)","v":""},{"$f":"IF(C43=\"\",\"\",IF(Seznam!$H$5=0,\"\",'PJ-C'!$Q125))","v":""},{"$f":"IF(C43=\"\",\"\",IF(Seznam!$J$5=0,\"\",'V-C'!$Q125))","v":""},"",""]
[null,{"$f":"Start!B44","v":38},{"$f":"IF(Start!C44=\"\",\"\",Start!C44)","v":""},{"$f":"IF(C44=\"\",\"\",PÚ!$N42)","v":""},{"$f":"IF(C44=\"\",\"\",'4x100m'!$N42)","v":""},{"$f":"IF(C44=\"\",\"\",IF(Seznam!$H$5=0,\"\",'PJ-C'!$Q128))","v":""},{"$f":"IF(C44=\"\",\"\",IF(Seznam!$J$5=0,\"\",'V-C'!$Q128))","v":""},"",""]
[null,{"$f":"Start!B45","v":39},{"$f":"IF(Start!C45=\"\",\"\",Start!C45)","v":""},{"$f":"IF(C45=\"\",\"\",PÚ!$N43)","v":""},{"$f":"IF(C45=\"\",\"\",'4x100m'!$N43)","v":""},{"$f":"IF(C45=\"\",\"\",IF(Seznam!$H$5=0,\"\",'PJ-C'!$Q131))","v":""},{"$f":"IF(C45=\"\",\"\",IF(Seznam!$J$5=0,\"\",'V-C'!$Q131))","v":""},"",""]
[null,{"$f":"Start!B46","v":40},{"$f":"IF(Start!C46=\"\",\"\",Start!C46)","v":""},{"$f":"IF(C46=\"\",\"\",PÚ!$N44)","v":""},{"$f":"IF(C46=\"\",\"\",'4x100m'!$N44)","v":""},{"$f":"IF(C46=\"\",\"\",IF(Seznam!$H$5=0,\"\",'PJ-C'!$Q134))","v":""},{"$f":"IF(C46=\"\",\"\",IF(Seznam!$J$5=0,\"\",'V-C'!$Q134))","v":""},{"$f":"IF(C46=\"\",\"\",SUM(D46:G46))","v":""},{"$f":"IF(C46=\"\",\"\",IF(OR(COUNTIF(D46:G46,\"NP\")>0,COUNTIF(D46:G46,\"DNF\")>0),\"X\",\"\"))","v":""}]

{"sheet":"Tisk-v1","index":26,"n_rows":184,"n_cols":10,"rows_kept":184,"cut":false,"hidden":false,"merged":[[92,1,92,10],[97,2,137,2],[94,2,94,9],[95,1,95,4],[95,5,95,10],[143,2,183,2],[138,1,138,10],[140,2,140,9],[141,1,141,4],[141,5,141,10],[2,2,2,9],[0,1,0,10],[3,1,3,4],[51,2,91,2],[3,5,3,10],[48,2,48,9],[49,1,49,4],[49,5,49,10],[46,1,46,10],[5,2,45,2]]}
[null,"Tisková sestava"]
[]
[null,null,{"$f":"Start!$B$2","v":"VC ČR v požárním útoku družstev HZS krajů a HZS podniků"}]
[null,{"$f":"\"Kategorie: \"&Start!$C$5","v":"Kategorie: MUŽI"},null,null,null,{"$f":"Start!B3","v":"Petrovice 19.9.2019"}]
[]
[null,null,"Požární útok","st.č.","SDH","1.pokus","2.pokus","čas",null,"Poř."]
[null,null,null,{"$f":"Start!$B7","v":1},{"$f":"IF(Start!$C7=\"\",\"\",Start!$C7)","v":"HZS Jihočeského kraje"},{"$f":"IF(E7=\"\",\"\",PÚ!$G5)","v":"NP"},{"$f":"IF(E7=\"\",\"\",PÚ!$K5)","v":29.2},{"$f":"IF(E7=\"\",\"\",PÚ!$L5)","v":29.2},null,{"$f":"IF(E7=\"\",\"\",PÚ!$N5)","v":6}]
[null,null,null,{"$f":"Start!$B8","v":2},{"$f":"IF(Start!$C8=\"\",\"\",Start!$C8)","v":"HZS Kraje Vysočina"},{"$f":"IF(E8=\"\",\"\",PÚ!$G6)","v":37.450000000000003},{"$f":"IF(E8=\"\",\"\",PÚ!$K6)","v":38.299999999999997},{"$f":"IF(E8=\"\",\"\",PÚ!$L6)","v":37.450000000000003},null,{"$f":"IF(E8=\"\",\"\",PÚ!$N6)","v":8}]
[null,null,null,{"$f":"Start!$B9","v":3},{"$f":"IF(Start!$C9=\"\",\"\",Start!$C9)","v":"HZS Zlínského Kraje"},{"$f":"IF(E9=\"\",\"\",PÚ!$G7)","v":25.43},{"$f":"IF(E9=\"\",\"\",PÚ!$K7)","v":27.37},{"$f":"IF(E9=\"\",\"\",PÚ!$L7)","v":25.43},null,{"$f":"IF(E9=\"\",\"\",PÚ!$N7)","v":1}]
[null,null,null,{"$f":"Start!$B10","v":4},{"$f":"IF(Start!$C10=\"\",\"\",Start!$C10)","v":"HZS správa železnic"},{"$f":"IF(E10=\"\",\"\",PÚ!$G8)","v":27.58},{"$f":"IF(E10=\"\",\"\",PÚ!$K8)","v":"NP"},{"$f":"IF(E10=\"\",\"\",PÚ!$L8)","v":27.58},null,{"$f":"IF(E10=\"\",\"\",PÚ!$N8)","v":2}]
[null,null,null,{"$f":"Start!$B11","v":5},{"$f":"IF(Start!$C11=\"\",\"\",Start!$C11)","v":"HZS Libereckého Kraje"},{"$f":"IF(E11=\"\",\"\",PÚ!$G9)","v":41.84},{"$f":"IF(E11=\"\",\"\",PÚ!$K9)","v":"NP"},{"$f":"IF(E11=\"\",\"\",PÚ!$L9)","v":41.84},null,{"$f":"IF(E11=\"\",\"\",PÚ!$N9)","v":9}]
[null,null,null,{"$f":"Start!$B12","v":6},{"$f":"IF(Start!$C12=\"\",\"\",Start!$C12)","v":"HZS Pardubického Kraje"},{"$f":"IF(E12=\"\",\"\",PÚ!$G10)","v":28.59},{"$f":"IF(E12=\"\",\"\",PÚ!$K10)","v":31.71},{"$f":"IF(E12=\"\",\"\",PÚ!$L10)","v":28.59},null,{"$f":"IF(E12=\"\",\"\",PÚ!$N10)","v":3}]
[null,null,null,{"$f":"Start!$B13","v":7},{"$f":"IF(Start!$C13=\"\",\"\",Start!$C13)","v":"HZS Královohradeckého Kr."},{"$f":"IF(E13=\"\",\"\",PÚ!$G11)","v":29.14},{"$f":"IF(E13=\"\",\"\",PÚ!$K11)","v":39.71},{"$f":"IF(E13=\"\",\"\",PÚ!$L11)","v":29.14},null,{"$f":"IF(E13=\"\",\"\",PÚ!$N11)","v":4}]
[null,null,null,{"$f":"Start!$B14","v":8},{"$f":"IF(Start!$C14=\"\",\"\",Start!$C14)","v":"HZS Plzeňského Kraje"},{"$f":"IF(E14=\"\",\"\",PÚ!$G12)","v":31.37},{"$f":"IF(E14=\"\",\"\",PÚ!$K12)","v":29.15},{"$f":"IF(E14=\"\",\"\",PÚ!$L12)","v":29.15},null,{"$f":"IF(E14=\"\",\"\",PÚ!$N12)","v":5}]
[null,null,null,{"$f":"Start!$B15","v":9},{"$f":"IF(Start!$C15=\"\",\"\",Start!$C15)","v":"HZSP Deza"},{"$f":"IF(E15=\"\",\"\",PÚ!$G13)","v":42},{"$f":"IF(E15=\"\",\"\",PÚ!$K13)","v":36.5},{"$f":"IF(E15=\"\",\"\",PÚ!$L13)","v":36.5},null,{"$f":"IF(E15=\"\",\"\",PÚ!$N13)","v":7}]
[null,null,null,{"$f":"Start!$B16","v":10},{"$f":"IF(Start!$C16=\"\",\"\",Start!$C16)","v":""},{"$f":"IF(E16=\"\",\"\",PÚ!$G14)","v":""},{"$f":"IF(E16=\"\",\"\",PÚ!$K14)","v":""},{"$f":"IF(E16=\"\",\"\",PÚ!$L14)","v":""},null,{"$f":"IF(E16=\"\",\"\",PÚ!$N14)","v":""}]
[null,null,null,{"$f":"Start!$B17","v":11},{"$f":"IF(Start!$C17=\"\",\"\",Start!$C17)","v":""},{"$f":"IF(E17=\"\",\"\",PÚ!$G15)","v":""},{"$f":"IF(E17=\"\",\"\",PÚ!$K15)","v":""},{"$f":"IF(E17=\"\",\"\",PÚ!$L15)","v":""},null,{"$f":"IF(E17=\"\",\"\",PÚ!$N15)","v":""}]
[null,null,null,{"$f":"Start!$B18","v":12},{"$f":"IF(Start!$C18=\"\",\"\",Start!$C18)","v":""},{"$f":"IF(E18=\"\",\"\",PÚ!$G16)","v":""},{"$f":"IF(E18=\"\",\"\",PÚ!$K16)","v":""},{"$f":"IF(E18=\"\",\"\",PÚ!$L16)","v":""},null,{"$f":"IF(E18=\"\",\"\",PÚ!$N16)","v":""}]
[null,null,null,{"$f":"Start!$B19","v":13},{"$f":"IF(Start!$C19=\"\",\"\",Start!$C19)","v":""},{"$f":"IF(E19=\"\",\"\",PÚ!$G17)","v":""},{"$f":"IF(E19=\"\",\"\",PÚ!$K17)","v":""},{"$f":"IF(E19=\"\",\"\",PÚ!$L17)","v":""},null,{"$f":"IF(E19=\"\",\"\",PÚ!$N17)","v":""}]
[null,null,null,{"$f":"Start!$B20","v":14},{"$f":"IF(Start!$C20=\"\",\"\",Start!$C20)","v":""},{"$f":"IF(E20=\"\",\"\",PÚ!$G18)","v":""},{"$f":"IF(E20=\"\",\"\",PÚ!$K18)","v":""},{"$f":"IF(E20=\"\",\"\",PÚ!$L18)","v":""},null,{"$f":"IF(E20=\"\",\"\",PÚ!$N18)","v":""}]
[null,null,null,{"$f":"Start!$B21","v":15},{"$f":"IF(Start!$C21=\"\",\"\",Start!$C21)","v":""},{"$f":"IF(E21=\"\",\"\",PÚ!$G19)","v":""},{"$f":"IF(E21=\"\",\"\",PÚ!$K19)","v":""},{"$f":"IF(E21=\"\",\"\",PÚ!$L19)","v":""},null,{"$f":"IF(E21=\"\",\"\",PÚ!$N19)","v":""}]
[null,null,null,{"$f":"Start!$B22","v":16},{"$f":"IF(Start!$C22=\"\",\"\",Start!$C22)","v":""},{"$f":"IF(E22=\"\",\"\",PÚ!$G20)","v":""},{"$f":"IF(E22=\"\",\"\",PÚ!$K20)","v":""},{"$f":"IF(E22=\"\",\"\",PÚ!$L20)","v":""},null,{"$f":"IF(E22=\"\",\"\",PÚ!$N20)","v":""}]
[null,null,null,{"$f":"Start!$B23","v":17},{"$f":"IF(Start!$C23=\"\",\"\",Start!$C23)","v":""},{"$f":"IF(E23=\"\",\"\",PÚ!$G21)","v":""},{"$f":"IF(E23=\"\",\"\",PÚ!$K21)","v":""},{"$f":"IF(E23=\"\",\"\",PÚ!$L21)","v":""},null,{"$f":"IF(E23=\"\",\"\",PÚ!$N21)","v":""}]
[null,null,null,{"$f":"Start!$B24","v":18},{"$f":"IF(Start!$C24=\"\",\"\",Start!$C24)","v":""},{"$f":"IF(E24=\"\",\"\",PÚ!$G22)","v":""},{"$f":"IF(E24=\"\",\"\",PÚ!$K22)","v":""},{"$f":"IF(E24=\"\",\"\",PÚ!$L22)","v":""},null,{"$f":"IF(E24=\"\",\"\",PÚ!$N22)","v":""}]
[null,null,null,{"$f":"Start!$B25","v":19},{"$f":"IF(Start!$C25=\"\",\"\",Start!$C25)","v":""},{"$f":"IF(E25=\"\",\"\",PÚ!$G23)","v":""},{"$f":"IF(E25=\"\",\"\",PÚ!$K23)","v":""},{"$f":"IF(E25=\"\",\"\",PÚ!$L23)","v":""},null,{"$f":"IF(E25=\"\",\"\",PÚ!$N23)","v":""}]
[null,null,null,{"$f":"Start!$B26","v":20},{"$f":"IF(Start!$C26=\"\",\"\",Start!$C26)","v":""},{"$f":"IF(E26=\"\",\"\",PÚ!$G24)","v":""},{"$f":"IF(E26=\"\",\"\",PÚ!$K24)","v":""},{"$f":"IF(E26=\"\",\"\",PÚ!$L24)","v":""},null,{"$f":"IF(E26=\"\",\"\",PÚ!$N24)","v":""}]
[null,null,null,{"$f":"Start!$B27","v":21},{"$f":"IF(Start!$C27=\"\",\"\",Start!$C27)","v":""},{"$f":"IF(E27=\"\",\"\",PÚ!$G25)","v":""},{"$f":"IF(E27=\"\",\"\",PÚ!$K25)","v":""},{"$f":"IF(E27=\"\",\"\",PÚ!$L25)","v":""},null,{"$f":"IF(E27=\"\",\"\",PÚ!$N25)","v":""}]
[null,null,null,{"$f":"Start!$B28","v":22},{"$f":"IF(Start!$C28=\"\",\"\",Start!$C28)","v":""},{"$f":"IF(E28=\"\",\"\",PÚ!$G26)","v":""},{"$f":"IF(E28=\"\",\"\",PÚ!$K26)","v":""},{"$f":"IF(E28=\"\",\"\",PÚ!$L26)","v":""},null,{"$f":"IF(E28=\"\",\"\",PÚ!$N26)","v":""}]
[null,null,null,{"$f":"Start!$B29","v":23},{"$f":"IF(Start!$C29=\"\",\"\",Start!$C29)","v":""},{"$f":"IF(E29=\"\",\"\",PÚ!$G27)","v":""},{"$f":"IF(E29=\"\",\"\",PÚ!$K27)","v":""},{"$f":"IF(E29=\"\",\"\",PÚ!$L27)","v":""},null,{"$f":"IF(E29=\"\",\"\",PÚ!$N27)","v":""}]
[null,null,null,{"$f":"Start!$B30","v":24},{"$f":"IF(Start!$C30=\"\",\"\",Start!$C30)","v":""},{"$f":"IF(E30=\"\",\"\",PÚ!$G28)","v":""},{"$f":"IF(E30=\"\",\"\",PÚ!$K28)","v":""},{"$f":"IF(E30=\"\",\"\",PÚ!$L28)","v":""},null,{"$f":"IF(E30=\"\",\"\",PÚ!$N28)","v":""}]
[null,null,null,{"$f":"Start!$B31","v":25},{"$f":"IF(Start!$C31=\"\",\"\",Start!$C31)","v":""},{"$f":"IF(E31=\"\",\"\",PÚ!$G29)","v":""},{"$f":"IF(E31=\"\",\"\",PÚ!$K29)","v":""},{"$f":"IF(E31=\"\",\"\",PÚ!$L29)","v":""},null,{"$f":"IF(E31=\"\",\"\",PÚ!$N29)","v":""}]
[null,null,null,{"$f":"Start!$B32","v":26},{"$f":"IF(Start!$C32=\"\",\"\",Start!$C32)","v":""},{"$f":"IF(E32=\"\",\"\",PÚ!$G30)","v":""},{"$f":"IF(E32=\"\",\"\",PÚ!$K30)","v":""},{"$f":"IF(E32=\"\",\"\",PÚ!$L30)","v":""},null,{"$f":"IF(E32=\"\",\"\",PÚ!$N30)","v":""}]
[null,null,null,{"$f":"Start!$B33","v":27},{"$f":"IF(Start!$C33=\"\",\"\",Start!$C33)","v":""},{"$f":"IF(E33=\"\",\"\",PÚ!$G31)","v":""},{"$f":"IF(E33=\"\",\"\",PÚ!$K31)","v":""},{"$f":"IF(E33=\"\",\"\",PÚ!$L31)","v":""},null,{"$f":"IF(E33=\"\",\"\",PÚ!$N31)","v":""}]
[null,null,null,{"$f":"Start!$B34","v":28},{"$f":"IF(Start!$C34=\"\",\"\",Start!$C34)","v":""},{"$f":"IF(E34=\"\",\"\",PÚ!$G32)","v":""},{"$f":"IF(E34=\"\",\"\",PÚ!$K32)","v":""},{"$f":"IF(E34=\"\",\"\",PÚ!$L32)","v":""},null,{"$f":"IF(E34=\"\",\"\",PÚ!$N32)","v":""}]
[null,null,null,{"$f":"Start!$B35","v":29},{"$f":"IF(Start!$C35=\"\",\"\",Start!$C35)","v":""},{"$f":"IF(E35=\"\",\"\",PÚ!$G33)","v":""},{"$f":"IF(E35=\"\",\"\",PÚ!$K33)","v":""},{"$f":"IF(E35=\"\",\"\",PÚ!$L33)","v":""},null,{"$f":"IF(E35=\"\",\"\",PÚ!$N33)","v":""}]
[null,null,null,{"$f":"Start!$B36","v":30},{"$f":"IF(Start!$C36=\"\",\"\",Start!$C36)","v":""},{"$f":"IF(E36=\"\",\"\",PÚ!$G34)","v":""},{"$f":"IF(E36=\"\",\"\",PÚ!$K34)","v":""},{"$f":"IF(E36=\"\",\"\",PÚ!$L34)","v":""},null,{"$f":"IF(E36=\"\",\"\",PÚ!$N34)","v":""}]
[null,null,null,{"$f":"Start!$B37","v":31},{"$f":"IF(Start!$C37=\"\",\"\",Start!$C37)","v":""},{"$f":"IF(E37=\"\",\"\",PÚ!$G35)","v":""},{"$f":"IF(E37=\"\",\"\",PÚ!$K35)","v":""},{"$f":"IF(E37=\"\",\"\",PÚ!$L35)","v":""},null,{"$f":"IF(E37=\"\",\"\",PÚ!$N35)","v":""}]
[null,null,null,{"$f":"Start!$B38","v":32},{"$f":"IF(Start!$C38=\"\",\"\",Start!$C38)","v":""},{"$f":"IF(E38=\"\",\"\",PÚ!$G36)","v":""},{"$f":"IF(E38=\"\",\"\",PÚ!$K36)","v":""},{"$f":"IF(E38=\"\",\"\",PÚ!$L36)","v":""},null,{"$f":"IF(E38=\"\",\"\",PÚ!$N36)","v":""}]
[null,null,null,{"$f":"Start!$B39","v":33},{"$f":"IF(Start!$C39=\"\",\"\",Start!$C39)","v":""},{"$f":"IF(E39=\"\",\"\",PÚ!$G37)","v":""},{"$f":"IF(E39=\"\",\"\",PÚ!$K37)","v":""},{"$f":"IF(E39=\"\",\"\",PÚ!$L37)","v":""},null,{"$f":"IF(E39=\"\",\"\",PÚ!$N37)","v":""}]
[null,null,null,{"$f":"Start!$B40","v":34},{"$f":"IF(Start!$C40=\"\",\"\",Start!$C40)","v":""},{"$f":"IF(E40=\"\",\"\",PÚ!$G38)","v":""},{"$f":"IF(E40=\"\",\"\",PÚ!$K38)","v":""},{"$f":"IF(E40=\"\",\"\",PÚ!$L38)","v":""},null,{"$f":"IF(E40=\"\",\"\",PÚ!$N38)","v":""}]
[null,null,null,{"$f":"Start!$B41","v":35},{"$f":"IF(Start!$C41=\"\",\"\",Start!$C41)","v":""},{"$f":"IF(E41=\"\",\"\",PÚ!$G39)","v":""},{"$f":"IF(E41=\"\",\"\",PÚ!$K39)","v":""},{"$f":"IF(E41=\"\",\"\",PÚ!$L39)","v":""},null,{"$f":"IF(E41=\"\",\"\",PÚ!$N39)","v":""}]
[null,null,null,{"$f":"Start!$B42","v":36},{"$f":"IF(Start!$C42=\"\",\"\",Start!$C42)","v":""},{"$f":"IF(E42=\"\",\"\",PÚ!$G40)","v":""},{"$f":"IF(E42=\"\",\"\",PÚ!$K40)","v":""},{"$f":"IF(E42=\"\",\"\",PÚ!$L40)","v":""},null,{"$f":"IF(E42=\"\",\"\",PÚ!$N40)","v":""}]
[null,null,null,{"$f":"Start!$B43","v":37},{"$f":"IF(Start!$C43=\"\",\"\",Start!$C43)","v":""},{"$f":"IF(E43=\"\",\"\",PÚ!$G41)","v":""},{"$f":"IF(E43=\"\",\"\",PÚ!$K41)","v":""},{"$f":"IF(E43=\"\",\"\",PÚ!$L41)","v":""},null,{"$f":"IF(E43=\"\",\"\",PÚ!$N41)","v":""}]
[null,null,null,{"$f":"Start!$B44","v":38},{"$f":"IF(Start!$C44=\"\",\"\",Start!$C44)","v":""},{"$f":"IF(E44=\"\",\"\",PÚ!$G42)","v":""},{"$f":"IF(E44=\"\",\"\",PÚ!$K42)","v":""},{"$f":"IF(E44=\"\",\"\",PÚ!$L42)","v":""},null,{"$f":"IF(E44=\"\",\"\",PÚ!$N42)","v":""}]
[null,null,null,{"$f":"Start!$B45","v":39},{"$f":"IF(Start!$C45=\"\",\"\",Start!$C45)","v":""},{"$f":"IF(E45=\"\",\"\",PÚ!$G43)","v":""},{"$f":"IF(E45=\"\",\"\",PÚ!$K43)","v":""},{"$f":"IF(E45=\"\",\"\",PÚ!$L43)","v":""},null,{"$f":"IF(E45=\"\",\"\",PÚ!$N43)","v":""}]
[null,null,null,{"$f":"Start!$B46","v":40},{"$f":"IF(Start!$C46=\"\",\"\",Start!$C46)","v":""},{"$f":"IF(E46=\"\",\"\",PÚ!$G44)","v":""},{"$f":"IF(E46=\"\",\"\",PÚ!$K44)","v":""},{"$f":"IF(E46=\"\",\"\",PÚ!$L44)","v":""},null,{"$f":"IF(E46=\"\",\"\",PÚ!$N44)","v":""}]
[null,"Tisková sestava"]
[]
[null,null,{"$f":"Start!$B$2","v":"VC ČR v požárním útoku družstev HZS krajů a HZS podniků"}]
[null,{"$f":"\"Kategorie: \"&Start!$C$5","v":"Kategorie: MUŽI"},null,null,null,{"$f":"F$4","v":"Petrovice 19.9.2019"}]
[]
[null,null,"Štafeta 4x100 m","st.č.","SDH","1.pokus","2.pokus","čas",null,"Poř."]
[null,null,null,{"$f":"Start!$B7","v":1},{"$f":"IF(Start!$C7=\"\",\"\",Start!$C7)","v":"HZS Jihočeského kraje"},{"$f":"IF(E53=\"\",\"\",'4x100m'!$G5)","v":0},{"$f":"IF(E53=\"\",\"\",'4x100m'!$K5)","v":"DNF"},{"$f":"IF(E53=\"\",\"\",'4x100m'!$L5)","v":0},null,{"$f":"IF(E53=\"\",\"\",'4x100m'!N5)","v":1}]
[null,null,null,{"$f":"Start!$B8","v":2},{"$f":"IF(Start!$C8=\"\",\"\",Start!$C8)","v":"HZS Kraje Vysočina"},{"$f":"IF(E54=\"\",\"\",'4x100m'!$G6)","v":0},{"$f":"IF(E54=\"\",\"\",'4x100m'!$K6)","v":"DNF"},{"$f":"IF(E54=\"\",\"\",'4x100m'!$L6)","v":0},null,{"$f":"IF(E54=\"\",\"\",'4x100m'!N6)","v":1}]
[null,null,null,{"$f":"Start!$B9","v":3},{"$f":"IF(Start!$C9=\"\",\"\",Start!$C9)","v":"HZS Zlínského Kraje"},{"$f":"IF(E55=\"\",\"\",'4x100m'!$G7)","v":0},{"$f":"IF(E55=\"\",\"\",'4x100m'!$K7)","v":"DNF"},{"$f":"IF(E55=\"\",\"\",'4x100m'!$L7)","v":0},null,{"$f":"IF(E55=\"\",\"\",'4x100m'!N7)","v":1}]
[null,null,null,{"$f":"Start!$B10","v":4},{"$f":"IF(Start!$C10=\"\",\"\",Start!$C10)","v":"HZS správa železnic"},{"$f":"IF(E56=\"\",\"\",'4x100m'!$G8)","v":0},{"$f":"IF(E56=\"\",\"\",'4x100m'!$K8)","v":"DNF"},{"$f":"IF(E56=\"\",\"\",'4x100m'!$L8)","v":0},null,{"$f":"IF(E56=\"\",\"\",'4x100m'!N8)","v":1}]
[null,null,null,{"$f":"Start!$B11","v":5},{"$f":"IF(Start!$C11=\"\",\"\",Start!$C11)","v":"HZS Libereckého Kraje"},{"$f":"IF(E57=\"\",\"\",'4x100m'!$G9)","v":0},{"$f":"IF(E57=\"\",\"\",'4x100m'!$K9)","v":"DNF"},{"$f":"IF(E57=\"\",\"\",'4x100m'!$L9)","v":0},null,{"$f":"IF(E57=\"\",\"\",'4x100m'!N9)","v":1}]
[null,null,null,{"$f":"Start!$B12","v":6},{"$f":"IF(Start!$C12=\"\",\"\",Start!$C12)","v":"HZS Pardubického Kraje"},{"$f":"IF(E58=\"\",\"\",'4x100m'!$G10)","v":0},{"$f":"IF(E58=\"\",\"\",'4x100m'!$K10)","v":"DNF"},{"$f":"IF(E58=\"\",\"\",'4x100m'!$L10)","v":0},null,{"$f":"IF(E58=\"\",\"\",'4x100m'!N10)","v":1}]
[null,null,null,{"$f":"Start!$B13","v":7},{"$f":"IF(Start!$C13=\"\",\"\",Start!$C13)","v":"HZS Královohradeckého Kr."},{"$f":"IF(E59=\"\",\"\",'4x100m'!$G11)","v":0},{"$f":"IF(E59=\"\",\"\",'4x100m'!$K11)","v":"DNF"},{"$f":"IF(E59=\"\",\"\",'4x100m'!$L11)","v":0},null,{"$f":"IF(E59=\"\",\"\",'4x100m'!N11)","v":1}]
[null,null,null,{"$f":"Start!$B14","v":8},{"$f":"IF(Start!$C14=\"\",\"\",Start!$C14)","v":"HZS Plzeňského Kraje"},{"$f":"IF(E60=\"\",\"\",'4x100m'!$G12)","v":0},{"$f":"IF(E60=\"\",\"\",'4x100m'!$K12)","v":"DNF"},{"$f":"IF(E60=\"\",\"\",'4x100m'!$L12)","v":0},null,{"$f":"IF(E60=\"\",\"\",'4x100m'!N12)","v":1}]
[null,null,null,{"$f":"Start!$B15","v":9},{"$f":"IF(Start!$C15=\"\",\"\",Start!$C15)","v":"HZSP Deza"},{"$f":"IF(E61=\"\",\"\",'4x100m'!$G13)","v":0},{"$f":"IF(E61=\"\",\"\",'4x100m'!$K13)","v":"DNF"},{"$f":"IF(E61=\"\",\"\",'4x100m'!$L13)","v":0},null,{"$f":"IF(E61=\"\",\"\",'4x100m'!N13)","v":1}]
[null,null,null,{"$f":"Start!$B16","v":10},{"$f":"IF(Start!$C16=\"\",\"\",Start!$C16)","v":""},{"$f":"IF(E62=\"\",\"\",'4x100m'!$G14)","v":""},{"$f":"IF(E62=\"\",\"\",'4x100m'!$K14)","v":""},{"$f":"IF(E62=\"\",\"\",'4x100m'!$L14)","v":""},null,{"$f":"IF(E62=\"\",\"\",'4x100m'!N14)","v":""}]
[null,null,null,{"$f":"Start!$B17","v":11},{"$f":"IF(Start!$C17=\"\",\"\",Start!$C17)","v":""},{"$f":"IF(E63=\"\",\"\",'4x100m'!$G15)","v":""},{"$f":"IF(E63=\"\",\"\",'4x100m'!$K15)","v":""},{"$f":"IF(E63=\"\",\"\",'4x100m'!$L15)","v":""},null,{"$f":"IF(E63=\"\",\"\",'4x100m'!N15)","v":""}]
[null,null,null,{"$f":"Start!$B18","v":12},{"$f":"IF(Start!$C18=\"\",\"\",Start!$C18)","v":""},{"$f":"IF(E64=\"\",\"\",'4x100m'!$G16)","v":""},{"$f":"IF(E64=\"\",\"\",'4x100m'!$K16)","v":""},{"$f":"IF(E64=\"\",\"\",'4x100m'!$L16)","v":""},null,{"$f":"IF(E64=\"\",\"\",'4x100m'!N16)","v":""}]
[null,null,null,{"$f":"Start!$B19","v":13},{"$f":"IF(Start!$C19=\"\",\"\",Start!$C19)","v":""},{"$f":"IF(E65=\"\",\"\",'4x100m'!$G17)","v":""},{"$f":"IF(E65=\"\",\"\",'4x100m'!$K17)","v":""},{"$f":"IF(E65=\"\",\"\",'4x100m'!$L17)","v":""},null,{"$f":"IF(E65=\"\",\"\",'4x100m'!N17)","v":""}]
[null,null,null,{"$f":"Start!$B20","v":14},{"$f":"IF(Start!$C20=\"\",\"\",Start!$C20)","v":""},{"$f":"IF(E66=\"\",\"\",'4x100m'!$G18)","v":""},{"$f":"IF(E66=\"\",\"\",'4x100m'!$K18)","v":""},{"$f":"IF(E66=\"\",\"\",'4x100m'!$L18)","v":""},null,{"$f":"IF(E66=\"\",\"\",'4x100m'!N18)","v":""}]
[null,null,null,{"$f":"Start!$B21","v":15},{"$f":"IF(Start!$C21=\"\",\"\",Start!$C21)","v":""},{"$f":"IF(E67=\"\",\"\",'4x100m'!$G19)","v":""},{"$f":"IF(E67=\"\",\"\",'4x100m'!$K19)","v":""},{"$f":"IF(E67=\"\",\"\",'4x100m'!$L19)","v":""},null,{"$f":"IF(E67=\"\",\"\",'4x100m'!N19)","v":""}]
[null,null,null,{"$f":"Start!$B22","v":16},{"$f":"IF(Start!$C22=\"\",\"\",Start!$C22)","v":""},{"$f":"IF(E68=\"\",\"\",'4x100m'!$G20)","v":""},{"$f":"IF(E68=\"\",\"\",'4x100m'!$K20)","v":""},{"$f":"IF(E68=\"\",\"\",'4x100m'!$L20)","v":""},null,{"$f":"IF(E68=\"\",\"\",'4x100m'!N20)","v":""}]
[null,null,null,{"$f":"Start!$B23","v":17},{"$f":"IF(Start!$C23=\"\",\"\",Start!$C23)","v":""},{"$f":"IF(E69=\"\",\"\",'4x100m'!$G21)","v":""},{"$f":"IF(E69=\"\",\"\",'4x100m'!$K21)","v":""},{"$f":"IF(E69=\"\",\"\",'4x100m'!$L21)","v":""},null,{"$f":"IF(E69=\"\",\"\",'4x100m'!N21)","v":""}]
[null,null,null,{"$f":"Start!$B24","v":18},{"$f":"IF(Start!$C24=\"\",\"\",Start!$C24)","v":""},{"$f":"IF(E70=\"\",\"\",'4x100m'!$G22)","v":""},{"$f":"IF(E70=\"\",\"\",'4x100m'!$K22)","v":""},{"$f":"IF(E70=\"\",\"\",'4x100m'!$L22)","v":""},null,{"$f":"IF(E70=\"\",\"\",'4x100m'!N22)","v":""}]
[null,null,null,{"$f":"Start!$B25","v":19},{"$f":"IF(Start!$C25=\"\",\"\",Start!$C25)","v":""},{"$f":"IF(E71=\"\",\"\",'4x100m'!$G23)","v":""},{"$f":"IF(E71=\"\",\"\",'4x100m'!$K23)","v":""},{"$f":"IF(E71=\"\",\"\",'4x100m'!$L23)","v":""},null,{"$f":"IF(E71=\"\",\"\",'4x100m'!N23)","v":""}]
[null,null,null,{"$f":"Start!$B26","v":20},{"$f":"IF(Start!$C26=\"\",\"\",Start!$C26)","v":""},{"$f":"IF(E72=\"\",\"\",'4x100m'!$G24)","v":""},{"$f":"IF(E72=\"\",\"\",'4x100m'!$K24)","v":""},{"$f":"IF(E72=\"\",\"\",'4x100m'!$L24)","v":""},null,{"$f":"IF(E72=\"\",\"\",'4x100m'!N24)","v":""}]
[null,null,null,{"$f":"Start!$B27","v":21},{"$f":"IF(Start!$C27=\"\",\"\",Start!$C27)","v":""},{"$f":"IF(E73=\"\",\"\",'4x100m'!$G25)","v":""},{"$f":"IF(E73=\"\",\"\",'4x100m'!$K25)","v":""},{"$f":"IF(E73=\"\",\"\",'4x100m'!$L25)","v":""},null,{"$f":"IF(E73=\"\",\"\",'4x100m'!N25)","v":""}]
[null,null,null,{"$f":"Start!$B28","v":22},{"$f":"IF(Start!$C28=\"\",\"\",Start!$C28)","v":""},{"$f":"IF(E74=\"\",\"\",'4x100m'!$G26)","v":""},{"$f":"IF(E74=\"\",\"\",'4x100m'!$K26)","v":""},{"$f":"IF(E74=\"\",\"\",'4x100m'!$L26)","v":""},null,{"$f":"IF(E74=\"\",\"\",'4x100m'!N26)","v":""}]
[null,null,null,{"$f":"Start!$B29","v":23},{"$f":"IF(Start!$C29=\"\",\"\",Start!$C29)","v":""},{"$f":"IF(E75=\"\",\"\",'4x100m'!$G27)","v":""},{"$f":"IF(E75=\"\",\"\",'4x100m'!$K27)","v":""},{"$f":"IF(E75=\"\",\"\",'4x100m'!$L27)","v":""},null,{"$f":"IF(E75=\"\",\"\",'4x100m'!N27)","v":""}]
[null,null,null,{"$f":"Start!$B30","v":24},{"$f":"IF(Start!$C30=\"\",\"\",Start!$C30)","v":""},{"$f":"IF(E76=\"\",\"\",'4x100m'!$G28)","v":""},{"$f":"IF(E76=\"\",\"\",'4x100m'!$K28)","v":""},{"$f":"IF(E76=\"\",\"\",'4x100m'!$L28)","v":""},null,{"$f":"IF(E76=\"\",\"\",'4x100m'!N28)","v":""}]
[null,null,null,{"$f":"Start!$B31","v":25},{"$f":"IF(Start!$C31=\"\",\"\",Start!$C31)","v":""},{"$f":"IF(E77=\"\",\"\",'4x100m'!$G29)","v":""},{"$f":"IF(E77=\"\",\"\",'4x100m'!$K29)","v":""},{"$f":"IF(E77=\"\",\"\",'4x100m'!$L29)","v":""},null,{"$f":"IF(E77=\"\",\"\",'4x100m'!N29)","v":""}]
[null,null,null,{"$f":"Start!$B32","v":26},{"$f":"IF(Start!$C32=\"\",\"\",Start!$C32)","v":""},{"$f":"IF(E78=\"\",\"\",'4x100m'!$G30)","v":""},{"$f":"IF(E78=\"\",\"\",'4x100m'!$K30)","v":""},{"$f":"IF(E78=\"\",\"\",'4x100m'!$L30)","v":""},null,{"$f":"IF(E78=\"\",\"\",'4x100m'!N30)","v":""}]
[null,null,null,{"$f":"Start!$B33","v":27},{"$f":"IF(Start!$C33=\"\",\"\",Start!$C33)","v":""},{"$f":"IF(E79=\"\",\"\",'4x100m'!$G31)","v":""},{"$f":"IF(E79=\"\",\"\",'4x100m'!$K31)","v":""},{"$f":"IF(E79=\"\",\"\",'4x100m'!$L31)","v":""},null,{"$f":"IF(E79=\"\",\"\",'4x100m'!N31)","v":""}]
[null,null,null,{"$f":"Start!$B34","v":28},{"$f":"IF(Start!$C34=\"\",\"\",Start!$C34)","v":""},{"$f":"IF(E80=\"\",\"\",'4x100m'!$G32)","v":""},{"$f":"IF(E80=\"\",\"\",'4x100m'!$K32)","v":""},{"$f":"IF(E80=\"\",\"\",'4x100m'!$L32)","v":""},null,{"$f":"IF(E80=\"\",\"\",'4x100m'!N32)","v":""}]
[null,null,null,{"$f":"Start!$B35","v":29},{"$f":"IF(Start!$C35=\"\",\"\",Start!$C35)","v":""},{"$f":"IF(E81=\"\",\"\",'4x100m'!$G33)","v":""},{"$f":"IF(E81=\"\",\"\",'4x100m'!$K33)","v":""},{"$f":"IF(E81=\"\",\"\",'4x100m'!$L33)","v":""},null,{"$f":"IF(E81=\"\",\"\",'4x100m'!N33)","v":""}]
[null,null,null,{"$f":"Start!$B36","v":30},{"$f":"IF(Start!$C36=\"\",\"\",Start!$C36)","v":""},{"$f":"IF(E82=\"\",\"\",'4x100m'!$G34)","v":""},{"$f":"IF(E82=\"\",\"\",'4x100m'!$K34)","v":""},{"$f":"IF(E82=\"\",\"\",'4x100m'!$L34)","v":""},null,{"$f":"IF(E82=\"\",\"\",'4x100m'!N34)","v":""}]
[null,null,null,{"$f":"Start!$B37","v":31},{"$f":"IF(Start!$C37=\"\",\"\",Start!$C37)","v":""},{"$f":"IF(E83=\"\",\"\",'4x100m'!$G35)","v":""},{"$f":"IF(E83=\"\",\"\",'4x100m'!$K35)","v":""},{"$f":"IF(E83=\"\",\"\",'4x100m'!$L35)","v":""},null,{"$f":"IF(E83=\"\",\"\",'4x100m'!N35)","v":""}]
[null,null,null,{"$f":"Start!$B38","v":32},{"$f":"IF(Start!$C38=\"\",\"\",Start!$C38)","v":""},{"$f":"IF(E84=\"\",\"\",'4x100m'!$G36)","v":""},{"$f":"IF(E84=\"\",\"\",'4x100m'!$K36)","v":""},{"$f":"IF(E84=\"\",\"\",'4x100m'!$L36)","v":""},null,{"$f":"IF(E84=\"\",\"\",'4x100m'!N36)","v":""}]
[null,null,null,{"$f":"Start!$B39","v":33},{"$f":"IF(Start!$C39=\"\",\"\",Start!$C39)","v":""},{"$f":"IF(E85=\"\",\"\",'4x100m'!$G37)","v":""},{"$f":"IF(E85=\"\",\"\",'4x100m'!$K37)","v":""},{"$f":"IF(E85=\"\",\"\",'4x100m'!$L37)","v":""},null,{"$f":"IF(E85=\"\",\"\",'4x100m'!N37)","v":""}]
[null,null,null,{"$f":"Start!$B40","v":34},{"$f":"IF(Start!$C40=\"\",\"\",Start!$C40)","v":""},{"$f":"IF(E86=\"\",\"\",'4x100m'!$G38)","v":""},{"$f":"IF(E86=\"\",\"\",'4x100m'!$K38)","v":""},{"$f":"IF(E86=\"\",\"\",'4x100m'!$L38)","v":""},null,{"$f":"IF(E86=\"\",\"\",'4x100m'!N38)","v":""}]
[null,null,null,{"$f":"Start!$B41","v":35},{"$f":"IF(Start!$C41=\"\",\"\",Start!$C41)","v":""},{"$f":"IF(E87=\"\",\"\",'4x100m'!$G39)","v":""},{"$f":"IF(E87=\"\",\"\",'4x100m'!$K39)","v":""},{"$f":"IF(E87=\"\",\"\",'4x100m'!$L39)","v":""},null,{"$f":"IF(E87=\"\",\"\",'4x100m'!N39)","v":""}]
[null,null,null,{"$f":"Start!$B42","v":36},{"$f":"IF(Start!$C42=\"\",\"\",Start!$C42)","v":""},{"$f":"IF(E88=\"\",\"\",'4x100m'!$G40)","v":""},{"$f":"IF(E88=\"\",\"\",'4x100m'!$K40)","v":""},{"$f":"IF(E88=\"\",\"\",'4x100m'!$L40)","v":""},null,{"$f":"IF(E88=\"\",\"\",'4x100m'!N40)","v":""}]
[null,null,null,{"$f":"Start!$B43","v":37},{"$f":"IF(Start!$C43=\"\",\"\",Start!$C43)","v":""},{"$f":"IF(E89=\"\",\"\",'4x100m'!$G41)","v":""},{"$f":"IF(E89=\"\",\"\",'4x100m'!$K41)","v":""},{"$f":"IF(E89=\"\",\"\",'4x100m'!$L41)","v":""},null,{"$f":"IF(E89=\"\",\"\",'4x100m'!N41)","v":""}]
[null,null,null,{"$f":"Start!$B44","v":38},{"$f":"IF(Start!$C44=\"\",\"\",Start!$C44)","v":""},{"$f":"IF(E90=\"\",\"\",'4x100m'!$G42)","v":""},{"$f":"IF(E90=\"\",\"\",'4x100m'!$K42)","v":""},{"$f":"IF(E90=\"\",\"\",'4x100m'!$L42)","v":""},null,{"$f":"IF(E90=\"\",\"\",'4x100m'!N42)","v":""}]
[null,null,null,{"$f":"Start!$B45","v":39},{"$f":"IF(Start!$C45=\"\",\"\",Start!$C45)","v":""},{"$f":"IF(E91=\"\",\"\",'4x100m'!$G43)","v":""},{"$f":"IF(E91=\"\",\"\",'4x100m'!$K43)","v":""},{"$f":"IF(E91=\"\",\"\",'4x100m'!$L43)","v":""},null,{"$f":"IF(E91=\"\",\"\",'4x100m'!N43)","v":""}]
[null,null,null,{"$f":"Start!$B46","v":40},{"$f":"IF(Start!$C46=\"\",\"\",Start!$C46)","v":""},{"$f":"IF(E92=\"\",\"\",'4x100m'!$G44)","v":""},{"$f":"IF(E92=\"\",\"\",'4x100m'!$K44)","v":""},{"$f":"IF(E92=\"\",\"\",'4x100m'!$L44)","v":""},null,{"$f":"IF(E92=\"\",\"\",'4x100m'!N44)","v":""}]
[null,"Tisková sestava"]
[]
[null,null,{"$f":"Start!$B$2","v":"VC ČR v požárním útoku družstev HZS krajů a HZS podniků"}]
[null,{"$f":"\"Kategorie: \"&Start!$C$5","v":"Kategorie: MUŽI"},null,null,null,{"$f":"F$4","v":"Petrovice 19.9.2019"}]
[]
[null,null,"Běh na 100m s překážkami - Družstva","st.č.","SDH",null,null,"čas",null,"Poř."]
[null,null,null,{"$f":"Start!$B7","v":1},{"$f":"IF(Start!$C7=\"\",\"\",Start!$C7)","v":"HZS Jihočeského kraje"},null,null,{"$f":"IF($E99=\"\",\"\",'PJ-C'!$O$5)","v":"DNF"},null,{"$f":"IF($E99=\"\",\"\",'PJ-C'!$Q$5)","v":9}]
[null,null,null,{"$f":"Start!$B8","v":2},{"$f":"IF(Start!$C8=\"\",\"\",Start!$C8)","v":"HZS Kraje Vysočina"},null,null,{"$f":"IF($E100=\"\",\"\",'PJ-C'!$O$8)","v":"DNF"},null,{"$f":"IF($E100=\"\",\"\",'PJ-C'!$Q$8)","v":9}]
[null,null,null,{"$f":"Start!$B9","v":3},{"$f":"IF(Start!$C9=\"\",\"\",Start!$C9)","v":"HZS Zlínského Kraje"},null,null,{"$f":"IF($E101=\"\",\"\",'PJ-C'!$O$11)","v":"DNF"},null,{"$f":"IF($E101=\"\",\"\",'PJ-C'!$Q$11)","v":9}]
[null,null,null,{"$f":"Start!$B10","v":4},{"$f":"IF(Start!$C10=\"\",\"\",Start!$C10)","v":"HZS správa železnic"},null,null,{"$f":"IF($E102=\"\",\"\",'PJ-C'!$O$14)","v":"DNF"},null,{"$f":"IF($E102=\"\",\"\",'PJ-C'!$Q$14)","v":9}]
[null,null,null,{"$f":"Start!$B11","v":5},{"$f":"IF(Start!$C11=\"\",\"\",Start!$C11)","v":"HZS Libereckého Kraje"},null,null,{"$f":"IF($E103=\"\",\"\",'PJ-C'!$O$17)","v":"DNF"},null,{"$f":"IF($E103=\"\",\"\",'PJ-C'!$Q$17)","v":9}]
[null,null,null,{"$f":"Start!$B12","v":6},{"$f":"IF(Start!$C12=\"\",\"\",Start!$C12)","v":"HZS Pardubického Kraje"},null,null,{"$f":"IF($E104=\"\",\"\",'PJ-C'!$O$20)","v":"DNF"},null,{"$f":"IF($E104=\"\",\"\",'PJ-C'!$Q$20)","v":9}]
[null,null,null,{"$f":"Start!$B13","v":7},{"$f":"IF(Start!$C13=\"\",\"\",Start!$C13)","v":"HZS Královohradeckého Kr."},null,null,{"$f":"IF($E105=\"\",\"\",'PJ-C'!$O$23)","v":"DNF"},null,{"$f":"IF($E105=\"\",\"\",'PJ-C'!$Q$23)","v":9}]
[null,null,null,{"$f":"Start!$B14","v":8},{"$f":"IF(Start!$C14=\"\",\"\",Start!$C14)","v":"HZS Plzeňského Kraje"},null,null,{"$f":"IF($E106=\"\",\"\",'PJ-C'!$O$26)","v":"DNF"},null,{"$f":"IF($E106=\"\",\"\",'PJ-C'!$Q$26)","v":9}]
[null,null,null,{"$f":"Start!$B15","v":9},{"$f":"IF(Start!$C15=\"\",\"\",Start!$C15)","v":"HZSP Deza"},null,null,{"$f":"IF($E107=\"\",\"\",'PJ-C'!$O$29)","v":"DNF"},null,{"$f":"IF($E107=\"\",\"\",'PJ-C'!$Q$29)","v":9}]
[null,null,null,{"$f":"Start!$B16","v":10},{"$f":"IF(Start!$C16=\"\",\"\",Start!$C16)","v":""},null,null,{"$f":"IF($E108=\"\",\"\",'PJ-C'!$O$32)","v":""},null,{"$f":"IF($E108=\"\",\"\",'PJ-C'!$Q$32)","v":""}]
[null,null,null,{"$f":"Start!$B17","v":11},{"$f":"IF(Start!$C17=\"\",\"\",Start!$C17)","v":""},null,null,{"$f":"IF($E109=\"\",\"\",'PJ-C'!$O$39)","v":""},null,{"$f":"IF($E109=\"\",\"\",'PJ-C'!$Q$39)","v":""}]
[null,null,null,{"$f":"Start!$B18","v":12},{"$f":"IF(Start!$C18=\"\",\"\",Start!$C18)","v":""},null,null,{"$f":"IF($E110=\"\",\"\",'PJ-C'!$O$42)","v":""},null,{"$f":"IF($E110=\"\",\"\",'PJ-C'!$Q$42)","v":""}]
[null,null,null,{"$f":"Start!$B19","v":13},{"$f":"IF(Start!$C19=\"\",\"\",Start!$C19)","v":""},null,null,{"$f":"IF($E111=\"\",\"\",'PJ-C'!$O$45)","v":""},null,{"$f":"IF($E111=\"\",\"\",'PJ-C'!$Q$45)","v":""}]
[null,null,null,{"$f":"Start!$B20","v":14},{"$f":"IF(Start!$C20=\"\",\"\",Start!$C20)","v":""},null,null,{"$f":"IF($E112=\"\",\"\",'PJ-C'!$O$48)","v":""},null,{"$f":"IF($E112=\"\",\"\",'PJ-C'!$Q$48)","v":""}]
[null,null,null,{"$f":"Start!$B21","v":15},{"$f":"IF(Start!$C21=\"\",\"\",Start!$C21)","v":""},null,null,{"$f":"IF($E113=\"\",\"\",'PJ-C'!$O$51)","v":""},null,{"$f":"IF($E113=\"\",\"\",'PJ-C'!$Q$51)","v":""}]
[null,null,null,{"$f":"Start!$B22","v":16},{"$f":"IF(Start!$C22=\"\",\"\",Start!$C22)","v":""},null,null,{"$f":"IF($E114=\"\",\"\",'PJ-C'!$O$54)","v":""},null,{"$f":"IF($E114=\"\",\"\",'PJ-C'!$Q$54)","v":""}]
[null,null,null,{"$f":"Start!$B23","v":17},{"$f":"IF(Start!$C23=\"\",\"\",Start!$C23)","v":""},null,null,{"$f":"IF($E115=\"\",\"\",'PJ-C'!$O$57)","v":""},null,{"$f":"IF($E115=\"\",\"\",'PJ-C'!$Q$57)","v":""}]
[null,null,null,{"$f":"Start!$B24","v":18},{"$f":"IF(Start!$C24=\"\",\"\",Start!$C24)","v":""},null,null,{"$f":"IF($E116=\"\",\"\",'PJ-C'!$O$60)","v":""},null,{"$f":"IF($E116=\"\",\"\",'PJ-C'!$Q$60)","v":""}]
[null,null,null,{"$f":"Start!$B25","v":19},{"$f":"IF(Start!$C25=\"\",\"\",Start!$C25)","v":""},null,null,{"$f":"IF($E117=\"\",\"\",'PJ-C'!$O$63)","v":""},null,{"$f":"IF($E117=\"\",\"\",'PJ-C'!$Q$63)","v":""}]
[null,null,null,{"$f":"Start!$B26","v":20},{"$f":"IF(Start!$C26=\"\",\"\",Start!$C26)","v":""},null,null,{"$f":"IF($E118=\"\",\"\",'PJ-C'!$O$66)","v":""},null,{"$f":"IF($E118=\"\",\"\",'PJ-C'!$Q$66)","v":""}]
[null,null,null,{"$f":"Start!$B27","v":21},{"$f":"IF(Start!$C27=\"\",\"\",Start!$C27)","v":""},null,null,{"$f":"IF($E119=\"\",\"\",'PJ-C'!$O$73)","v":""},null,{"$f":"IF($E119=\"\",\"\",'PJ-C'!$Q$73)","v":""}]
[null,null,null,{"$f":"Start!$B28","v":22},{"$f":"IF(Start!$C28=\"\",\"\",Start!$C28)","v":""},null,null,{"$f":"IF($E120=\"\",\"\",'PJ-C'!$O$76)","v":""},null,{"$f":"IF($E120=\"\",\"\",'PJ-C'!$Q$76)","v":""}]
[null,null,null,{"$f":"Start!$B29","v":23},{"$f":"IF(Start!$C29=\"\",\"\",Start!$C29)","v":""},null,null,{"$f":"IF($E121=\"\",\"\",'PJ-C'!$O$79)","v":""},null,{"$f":"IF($E121=\"\",\"\",'PJ-C'!$Q$79)","v":""}]
[null,null,null,{"$f":"Start!$B30","v":24},{"$f":"IF(Start!$C30=\"\",\"\",Start!$C30)","v":""},null,null,{"$f":"IF($E122=\"\",\"\",'PJ-C'!$O$82)","v":""},null,{"$f":"IF($E122=\"\",\"\",'PJ-C'!$Q$82)","v":""}]
[null,null,null,{"$f":"Start!$B31","v":25},{"$f":"IF(Start!$C31=\"\",\"\",Start!$C31)","v":""},null,null,{"$f":"IF($E123=\"\",\"\",'PJ-C'!$O$85)","v":""},null,{"$f":"IF($E123=\"\",\"\",'PJ-C'!$Q$85)","v":""}]
[null,null,null,{"$f":"Start!$B32","v":26},{"$f":"IF(Start!$C32=\"\",\"\",Start!$C32)","v":""},null,null,{"$f":"IF($E124=\"\",\"\",'PJ-C'!$O$88)","v":""},null,{"$f":"IF($E124=\"\",\"\",'PJ-C'!$Q$88)","v":""}]
[null,null,null,{"$f":"Start!$B33","v":27},{"$f":"IF(Start!$C33=\"\",\"\",Start!$C33)","v":""},null,null,{"$f":"IF($E125=\"\",\"\",'PJ-C'!$O$91)","v":""},null,{"$f":"IF($E125=\"\",\"\",'PJ-C'!$Q$91)","v":""}]
[null,null,null,{"$f":"Start!$B34","v":28},{"$f":"IF(Start!$C34=\"\",\"\",Start!$C34)","v":""},null,null,{"$f":"IF($E126=\"\",\"\",'PJ-C'!$O$94)","v":""},null,{"$f":"IF($E126=\"\",\"\",'PJ-C'!$Q$94)","v":""}]
[null,null,null,{"$f":"Start!$B35","v":29},{"$f":"IF(Start!$C35=\"\",\"\",Start!$C35)","v":""},null,null,{"$f":"IF($E127=\"\",\"\",'PJ-C'!$O$97)","v":""},null,{"$f":"IF($E127=\"\",\"\",'PJ-C'!$Q$97)","v":""}]
[null,null,null,{"$f":"Start!$B36","v":30},{"$f":"IF(Start!$C36=\"\",\"\",Start!$C36)","v":""},null,null,{"$f":"IF($E128=\"\",\"\",'PJ-C'!$O$100)","v":""},null,{"$f":"IF($E128=\"\",\"\",'PJ-C'!$Q$100)","v":""}]
[null,null,null,{"$f":"Start!$B37","v":31},{"$f":"IF(Start!$C37=\"\",\"\",Start!$C37)","v":""},null,null,{"$f":"IF($E129=\"\",\"\",'PJ-C'!$O$107)","v":""},null,{"$f":"IF($E129=\"\",\"\",'PJ-C'!$Q$107)","v":""}]
[null,null,null,{"$f":"Start!$B38","v":32},{"$f":"IF(Start!$C38=\"\",\"\",Start!$C38)","v":""},null,null,{"$f":"IF($E130=\"\",\"\",'PJ-C'!$O$110)","v":""},null,{"$f":"IF($E130=\"\",\"\",'PJ-C'!$Q$110)","v":""}]
[null,null,null,{"$f":"Start!$B39","v":33},{"$f":"IF(Start!$C39=\"\",\"\",Start!$C39)","v":""},null,null,{"$f":"IF($E131=\"\",\"\",'PJ-C'!$O$113)","v":""},null,{"$f":"IF($E131=\"\",\"\",'PJ-C'!$Q$113)","v":""}]
[null,null,null,{"$f":"Start!$B40","v":34},{"$f":"IF(Start!$C40=\"\",\"\",Start!$C40)","v":""},null,null,{"$f":"IF($E132=\"\",\"\",'PJ-C'!$O$116)","v":""},null,{"$f":"IF($E132=\"\",\"\",'PJ-C'!$Q$116)","v":""}]
[null,null,null,{"$f":"Start!$B41","v":35},{"$f":"IF(Start!$C41=\"\",\"\",Start!$C41)","v":""},null,null,{"$f":"IF($E133=\"\",\"\",'PJ-C'!$O$119)","v":""},null,{"$f":"IF($E133=\"\",\"\",'PJ-C'!$Q$119)","v":""}]
[null,null,null,{"$f":"Start!$B42","v":36},{"$f":"IF(Start!$C42=\"\",\"\",Start!$C42)","v":""},null,null,{"$f":"IF($E134=\"\",\"\",'PJ-C'!$O$122)","v":""},null,{"$f":"IF($E134=\"\",\"\",'PJ-C'!$Q$122)","v":""}]
[null,null,null,{"$f":"Start!$B43","v":37},{"$f":"IF(Start!$C43=\"\",\"\",Start!$C43)","v":""},null,null,{"$f":"IF($E135=\"\",\"\",'PJ-C'!$O$125)","v":""},null,{"$f":"IF($E135=\"\",\"\",'PJ-C'!$Q$125)","v":""}]
[null,null,null,{"$f":"Start!$B44","v":38},{"$f":"IF(Start!$C44=\"\",\"\",Start!$C44)","v":""},null,null,{"$f":"IF($E136=\"\",\"\",'PJ-C'!$O$128)","v":""},null,{"$f":"IF($E136=\"\",\"\",'PJ-C'!$Q$128)","v":""}]
[null,null,null,{"$f":"Start!$B45","v":39},{"$f":"IF(Start!$C45=\"\",\"\",Start!$C45)","v":""},null,null,{"$f":"IF($E137=\"\",\"\",'PJ-C'!$O$131)","v":""},null,{"$f":"IF($E137=\"\",\"\",'PJ-C'!$Q$131)","v":""}]
[null,null,null,{"$f":"Start!$B46","v":40},{"$f":"IF(Start!$C46=\"\",\"\",Start!$C46)","v":""},null,null,{"$f":"IF($E138=\"\",\"\",'PJ-C'!$O$134)","v":""},null,{"$f":"IF($E138=\"\",\"\",'PJ-C'!$Q$134)","v":""}]
[null,"Tisková sestava"]
[]
[null,null,{"$f":"Start!$B$2","v":"VC ČR v požárním útoku družstev HZS krajů a HZS podniků"}]
[null,{"$f":"\"Kategorie: \"&Start!$C$5","v":"Kategorie: MUŽI"},null,null,null,{"$f":"F$4","v":"Petrovice 19.9.2019"}]
[]
[null,null,"Výstup do 4. podlaží cvičné věže - Družstva","st.č.","SDH",null,null,"čas",null,"Poř."]
[null,null,null,{"$f":"Start!$B7","v":1},{"$f":"IF(Start!$C7=\"\",\"\",Start!$C7)","v":"HZS Jihočeského kraje"},null,null,{"$f":"IF($E145=\"\",\"\",'V-C'!$O$5)","v":"NP"},null,{"$f":"IF($E145=\"\",\"\",'V-C'!$Q$5)","v":9}]
[null,null,null,{"$f":"Start!$B8","v":2},{"$f":"IF(Start!$C8=\"\",\"\",Start!$C8)","v":"HZS Kraje Vysočina"},null,null,{"$f":"IF($E146=\"\",\"\",'V-C'!$O$8)","v":"DNF"},null,{"$f":"IF($E146=\"\",\"\",'V-C'!$Q$8)","v":9}]
[null,null,null,{"$f":"Start!$B9","v":3},{"$f":"IF(Start!$C9=\"\",\"\",Start!$C9)","v":"HZS Zlínského Kraje"},null,null,{"$f":"IF($E147=\"\",\"\",'V-C'!$O$11)","v":"DNF"},null,{"$f":"IF($E147=\"\",\"\",'V-C'!$Q$11)","v":9}]
[null,null,null,{"$f":"Start!$B10","v":4},{"$f":"IF(Start!$C10=\"\",\"\",Start!$C10)","v":"HZS správa železnic"},null,null,{"$f":"IF($E148=\"\",\"\",'V-C'!$O$14)","v":"DNF"},null,{"$f":"IF($E148=\"\",\"\",'V-C'!$Q$14)","v":9}]
[null,null,null,{"$f":"Start!$B11","v":5},{"$f":"IF(Start!$C11=\"\",\"\",Start!$C11)","v":"HZS Libereckého Kraje"},null,null,{"$f":"IF($E149=\"\",\"\",'V-C'!$O$17)","v":"DNF"},null,{"$f":"IF($E149=\"\",\"\",'V-C'!$Q$17)","v":9}]
[null,null,null,{"$f":"Start!$B12","v":6},{"$f":"IF(Start!$C12=\"\",\"\",Start!$C12)","v":"HZS Pardubického Kraje"},null,null,{"$f":"IF($E150=\"\",\"\",'V-C'!$O$20)","v":"DNF"},null,{"$f":"IF($E150=\"\",\"\",'V-C'!$Q$20)","v":9}]
[null,null,null,{"$f":"Start!$B13","v":7},{"$f":"IF(Start!$C13=\"\",\"\",Start!$C13)","v":"HZS Královohradeckého Kr."},null,null,{"$f":"IF($E151=\"\",\"\",'V-C'!$O$23)","v":"DNF"},null,{"$f":"IF($E151=\"\",\"\",'V-C'!$Q$23)","v":9}]
[null,null,null,{"$f":"Start!$B14","v":8},{"$f":"IF(Start!$C14=\"\",\"\",Start!$C14)","v":"HZS Plzeňského Kraje"},null,null,{"$f":"IF($E152=\"\",\"\",'V-C'!$O$26)","v":"DNF"},null,{"$f":"IF($E152=\"\",\"\",'V-C'!$Q$26)","v":9}]
[null,null,null,{"$f":"Start!$B15","v":9},{"$f":"IF(Start!$C15=\"\",\"\",Start!$C15)","v":"HZSP Deza"},null,null,{"$f":"IF($E153=\"\",\"\",'V-C'!$O$29)","v":"DNF"},null,{"$f":"IF($E153=\"\",\"\",'V-C'!$Q$29)","v":9}]
[null,null,null,{"$f":"Start!$B16","v":10},{"$f":"IF(Start!$C16=\"\",\"\",Start!$C16)","v":""},null,null,{"$f":"IF($E154=\"\",\"\",'V-C'!$O$32)","v":""},null,{"$f":"IF($E154=\"\",\"\",'V-C'!$Q$32)","v":""}]
[null,null,null,{"$f":"Start!$B17","v":11},{"$f":"IF(Start!$C17=\"\",\"\",Start!$C17)","v":""},null,null,{"$f":"IF($E155=\"\",\"\",'V-C'!$O$39)","v":""},null,{"$f":"IF($E155=\"\",\"\",'V-C'!$Q$39)","v":""}]
[null,null,null,{"$f":"Start!$B18","v":12},{"$f":"IF(Start!$C18=\"\",\"\",Start!$C18)","v":""},null,null,{"$f":"IF($E156=\"\",\"\",'V-C'!$O$42)","v":""},null,{"$f":"IF($E156=\"\",\"\",'V-C'!$Q$42)","v":""}]
[null,null,null,{"$f":"Start!$B19","v":13},{"$f":"IF(Start!$C19=\"\",\"\",Start!$C19)","v":""},null,null,{"$f":"IF($E157=\"\",\"\",'V-C'!$O$45)","v":""},null,{"$f":"IF($E157=\"\",\"\",'V-C'!$Q$45)","v":""}]
[null,null,null,{"$f":"Start!$B20","v":14},{"$f":"IF(Start!$C20=\"\",\"\",Start!$C20)","v":""},null,null,{"$f":"IF($E158=\"\",\"\",'V-C'!$O$48)","v":""},null,{"$f":"IF($E158=\"\",\"\",'V-C'!$Q$48)","v":""}]
[null,null,null,{"$f":"Start!$B21","v":15},{"$f":"IF(Start!$C21=\"\",\"\",Start!$C21)","v":""},null,null,{"$f":"IF($E159=\"\",\"\",'V-C'!$O$51)","v":""},null,{"$f":"IF($E159=\"\",\"\",'V-C'!$Q$51)","v":""}]
[null,null,null,{"$f":"Start!$B22","v":16},{"$f":"IF(Start!$C22=\"\",\"\",Start!$C22)","v":""},null,null,{"$f":"IF($E160=\"\",\"\",'V-C'!$O$54)","v":""},null,{"$f":"IF($E160=\"\",\"\",'V-C'!$Q$54)","v":""}]
[null,null,null,{"$f":"Start!$B23","v":17},{"$f":"IF(Start!$C23=\"\",\"\",Start!$C23)","v":""},null,null,{"$f":"IF($E161=\"\",\"\",'V-C'!$O$57)","v":""},null,{"$f":"IF($E161=\"\",\"\",'V-C'!$Q$57)","v":""}]
[null,null,null,{"$f":"Start!$B24","v":18},{"$f":"IF(Start!$C24=\"\",\"\",Start!$C24)","v":""},null,null,{"$f":"IF($E162=\"\",\"\",'V-C'!$O$60)","v":""},null,{"$f":"IF($E162=\"\",\"\",'V-C'!$Q$60)","v":""}]
[null,null,null,{"$f":"Start!$B25","v":19},{"$f":"IF(Start!$C25=\"\",\"\",Start!$C25)","v":""},null,null,{"$f":"IF($E163=\"\",\"\",'V-C'!$O$63)","v":""},null,{"$f":"IF($E163=\"\",\"\",'V-C'!$Q$63)","v":""}]
[null,null,null,{"$f":"Start!$B26","v":20},{"$f":"IF(Start!$C26=\"\",\"\",Start!$C26)","v":""},null,null,{"$f":"IF($E164=\"\",\"\",'V-C'!$O$66)","v":""},null,{"$f":"IF($E164=\"\",\"\",'V-C'!$Q$66)","v":""}]
[null,null,null,{"$f":"Start!$B27","v":21},{"$f":"IF(Start!$C27=\"\",\"\",Start!$C27)","v":""},null,null,{"$f":"IF($E165=\"\",\"\",'V-C'!$O$73)","v":""},null,{"$f":"IF($E165=\"\",\"\",'V-C'!$Q$73)","v":""}]
[null,null,null,{"$f":"Start!$B28","v":22},{"$f":"IF(Start!$C28=\"\",\"\",Start!$C28)","v":""},null,null,{"$f":"IF($E166=\"\",\"\",'V-C'!$O$76)","v":""},null,{"$f":"IF($E166=\"\",\"\",'V-C'!$Q$76)","v":""}]
[null,null,null,{"$f":"Start!$B29","v":23},{"$f":"IF(Start!$C29=\"\",\"\",Start!$C29)","v":""},null,null,{"$f":"IF($E167=\"\",\"\",'V-C'!$O$79)","v":""},null,{"$f":"IF($E167=\"\",\"\",'V-C'!$Q$79)","v":""}]
[null,null,null,{"$f":"Start!$B30","v":24},{"$f":"IF(Start!$C30=\"\",\"\",Start!$C30)","v":""},null,null,{"$f":"IF($E168=\"\",\"\",'V-C'!$O$82)","v":""},null,{"$f":"IF($E168=\"\",\"\",'V-C'!$Q$82)","v":""}]
[null,null,null,{"$f":"Start!$B31","v":25},{"$f":"IF(Start!$C31=\"\",\"\",Start!$C31)","v":""},null,null,{"$f":"IF($E169=\"\",\"\",'V-C'!$O$85)","v":""},null,{"$f":"IF($E169=\"\",\"\",'V-C'!$Q$85)","v":""}]
[null,null,null,{"$f":"Start!$B32","v":26},{"$f":"IF(Start!$C32=\"\",\"\",Start!$C32)","v":""},null,null,{"$f":"IF($E170=\"\",\"\",'V-C'!$O$88)","v":""},null,{"$f":"IF($E170=\"\",\"\",'V-C'!$Q$88)","v":""}]
[null,null,null,{"$f":"Start!$B33","v":27},{"$f":"IF(Start!$C33=\"\",\"\",Start!$C33)","v":""},null,null,{"$f":"IF($E171=\"\",\"\",'V-C'!$O$91)","v":""},null,{"$f":"IF($E171=\"\",\"\",'V-C'!$Q$91)","v":""}]
[null,null,null,{"$f":"Start!$B34","v":28},{"$f":"IF(Start!$C34=\"\",\"\",Start!$C34)","v":""},null,null,{"$f":"IF($E172=\"\",\"\",'V-C'!$O$94)","v":""},null,{"$f":"IF($E172=\"\",\"\",'V-C'!$Q$94)","v":""}]
[null,null,null,{"$f":"Start!$B35","v":29},{"$f":"IF(Start!$C35=\"\",\"\",Start!$C35)","v":""},null,null,{"$f":"IF($E173=\"\",\"\",'V-C'!$O$97)","v":""},null,{"$f":"IF($E173=\"\",\"\",'V-C'!$Q$97)","v":""}]
[null,null,null,{"$f":"Start!$B36","v":30},{"$f":"IF(Start!$C36=\"\",\"\",Start!$C36)","v":""},null,null,{"$f":"IF($E174=\"\",\"\",'V-C'!$O$100)","v":""},null,{"$f":"IF($E174=\"\",\"\",'V-C'!$Q$100)","v":""}]
[null,null,null,{"$f":"Start!$B37","v":31},{"$f":"IF(Start!$C37=\"\",\"\",Start!$C37)","v":""},null,null,{"$f":"IF($E175=\"\",\"\",'V-C'!$O$107)","v":""},null,{"$f":"IF($E175=\"\",\"\",'V-C'!$Q$107)","v":""}]
[null,null,null,{"$f":"Start!$B38","v":32},{"$f":"IF(Start!$C38=\"\",\"\",Start!$C38)","v":""},null,null,{"$f":"IF($E176=\"\",\"\",'V-C'!$O$110)","v":""},null,{"$f":"IF($E176=\"\",\"\",'V-C'!$Q$110)","v":""}]
[null,null,null,{"$f":"Start!$B39","v":33},{"$f":"IF(Start!$C39=\"\",\"\",Start!$C39)","v":""},null,null,{"$f":"IF($E177=\"\",\"\",'V-C'!$O$113)","v":""},null,{"$f":"IF($E177=\"\",\"\",'V-C'!$Q$113)","v":""}]
[null,null,null,{"$f":"Start!$B40","v":34},{"$f":"IF(Start!$C40=\"\",\"\",Start!$C40)","v":""},null,null,{"$f":"IF($E178=\"\",\"\",'V-C'!$O$116)","v":""},null,{"$f":"IF($E178=\"\",\"\",'V-C'!$Q$116)","v":""}]
[null,null,null,{"$f":"Start!$B41","v":35},{"$f":"IF(Start!$C41=\"\",\"\",Start!$C41)","v":""},null,null,{"$f":"IF($E179=\"\",\"\",'V-C'!$O$119)","v":""},null,{"$f":"IF($E179=\"\",\"\",'V-C'!$Q$119)","v":""}]
[null,null,null,{"$f":"Start!$B42","v":36},{"$f":"IF(Start!$C42=\"\",\"\",Start!$C42)","v":""},null,null,{"$f":"IF($E180=\"\",\"\",'V-C'!$O$122)","v":""},null,{"$f":"IF($E180=\"\",\"\",'V-C'!$Q$122)","v":""}]
[null,null,null,{"$f":"Start!$B43","v":37},{"$f":"IF(Start!$C43=\"\",\"\",Start!$C43)","v":""},null,null,{"$f":"IF($E181=\"\",\"\",'V-C'!$O$125)","v":""},null,{"$f":"IF($E181=\"\",\"\",'V-C'!$Q$125)","v":""}]
[null,null,null,{"$f":"Start!$B44","v":38},{"$f":"IF(Start!$C44=\"\",\"\",Start!$C44)","v":""},null,null,{"$f":"IF($E182=\"\",\"\",'V-C'!$O$128)","v":""},null,{"$f":"IF($E182=\"\",\"\",'V-C'!$Q$128)","v":""}]
[null,null,null,{"$f":"Start!$B45","v":39},{"$f":"IF(Start!$C45=\"\",\"\",Start!$C45)","v":""},null,null,{"$f":"IF($E183=\"\",\"\",'V-C'!$O$131)","v":""},null,{"$f":"IF($E183=\"\",\"\",'V-C'!$Q$131)","v":""}]
[null,null,null,{"$f":"Start!$B46","v":40},{"$f":"IF(Start!$C46=\"\",\"\",Start!$C46)","v":""},null,null,{"$f":"IF($E184=\"\",\"\",'V-C'!$O$134)","v":""},null,{"$f":"IF($E184=\"\",\"\",'V-C'!$Q$134)","v":""}]

{"sheet":"Tisk-v2","index":27,"n_rows":96,"n_cols":15,"rows_kept":96,"cut":false,"hidden":false,"merged":[[40,13,41,13],[38,13,39,13],[36,13,37,13],[2,2,2,5],[18,13,19,13],[16,13,17,13],[14,13,15,13],[12,13,13,13],[26,13,27,13],[34,9,35,9],[32,11,33,11],[20,13,21,13],[34,13,35,13],[32,13,33,13],[30,13,31,13],[28,13,29,13],[24,13,25,13],[22,13,23,13],[34,3,35,3],[16,11,17,11],[18,11,19,11],[28,11,29,11],[30,11,31,11],[20,11,21,11],[0,1,0,14],[8,10,9,10],[6,10,7,10],[6,13,7,13],[8,13,9,13],[8,7,9,7],[4,4,4,5],[4,6,4,7],[5,4,5,5],[4,8,4,9],[5,8,5,9],[5,1,7,1],[5,2,7,2],[6,9,7,9],[8,9,9,9],[8,8,9,8],[6,5,7,5],[6,7,7,7],[5,6,5,7],[5,3,7,3],[8,5,9,5],[8,3,9,3],[36,0,37,0],[36,1,37,1],[36,2,37,2],[36,3,37,3],[30,8,31,8],[36,11,37,11],[5,14,7,14],[8,14,9,14],[10,14,11,14],[12,14,13,14],[14,14,15,14],[16,14,17,14],[18,14,19,14],[34,11,35,11],[26,11,27,11],[20,14,21,14],[10,13,11,13],[16,10,17,10],[18,10,19,10],[36,10,37,10],[32,8,33,8],[36,7,37,7],[36,8,37,8],[26,0,27,0],[26,1,27,1],[26,2,27,2],[26,3,27,3],[28,0,29,0],[30,9,31,9],[32,0,33,0],[32,1,33,1],[32,2,33,2],[32,3,33,3],[32,5,33,5],[32,7,33,7],[32,9,33,9],[30,0,31,0],[30,3,31,3],[30,7,31,7],[28,5,29,5],[28,1,29,1],[28,2,29,2],[28,3,29,3],[8,0,9,0],[8,1,9,1],[8,2,9,2],[14,11,15,11],[8,11,9,11],[24,0,25,0],[24,1,25,1],[24,2,25,2],[24,3,25,3],[24,5,25,5],[24,7,25,7],[22,7,23,7],[22,11,23,11],[20,10,21,10],[24,11,25,11],[22,10,23,10],[14,0,15,0],[14,1,15,1],[10,11,11,11],[12,11,13,11],[12,10,13,10],[14,10,15,10],[12,7,13,7],[10,0,11,0],[10,1,11,1],[10,2,11,2],[10,7,11,7],[14,7,15,7],[10,10,11,10],[10,9,11,9],[10,8,11,8],[12,9,13,9],[14,9,15,9],[10,3,11,3],[12,3,13,3],[14,3,15,3],[12,2,13,2],[12,8,13,8],[14,8,15,8],[14,5,15,5],[22,0,23,0],[30,1,31,1],[18,0,19,0],[10,5,11,5],[16,3,17,3],[30,5,31,5],[38,3,39,3],[20,3,21,3],[22,3,23,3],[34,5,35,5],[36,5,37,5],[22,5,23,5],[26,5,27,5],[16,5,17,5],[18,5,19,5],[12,5,13,5],[20,5,21,5],[38,5,39,5],[16,0,17,0],[16,1,17,1],[16,2,17,2],[14,2,15,2],[12,0,13,0],[12,1,13,1],[38,2,39,2],[40,0,41,0],[40,1,41,1],[40,2,41,2],[40,5,41,5],[42,5,43,5],[42,3,43,3],[40,3,41,3],[18,1,19,1],[42,0,43,0],[42,1,43,1],[22,1,23,1],[22,2,23,2],[30,2,31,2],[34,0,35,0],[34,1,35,1],[34,2,35,2],[38,0,39,0],[38,1,39,1],[18,2,19,2],[18,3,19,3],[20,0,21,0],[20,1,21,1],[20,2,21,2],[40,8,41,8],[40,7,41,7],[44,0,45,0],[44,1,45,1],[44,2,45,2],[44,5,45,5],[44,3,45,3],[46,0,47,0],[46,1,47,1],[46,2,47,2],[46,5,47,5],[46,3,47,3],[30,10,31,10],[30,12,31,12],[40,10,41,10],[42,10,43,10],[38,9,39,9],[38,7,39,7],[16,7,17,7],[18,7,19,7],[20,7,21,7],[24,10,25,10],[26,10,27,10],[26,7,27,7],[28,7,29,7],[28,8,29,8],[28,9,29,9],[34,7,35,7],[34,8,35,8],[36,9,37,9],[18,8,19,8],[20,8,21,8],[16,8,17,8],[16,9,17,9],[18,9,19,9],[20,9,21,9],[46,11,47,11],[46,12,47,12],[34,14,35,14],[36,14,37,14],[38,14,39,14],[40,14,41,14],[22,8,23,8],[26,8,27,8],[30,14,31,14],[32,14,33,14],[24,8,25,8],[22,9,23,9],[24,9,25,9],[26,9,27,9],[40,11,41,11],[22,14,23,14],[24,14,25,14],[26,14,27,14],[28,14,29,14],[38,11,39,11],[38,10,39,10],[34,10,35,10],[32,10,33,10],[28,10,29,10],[53,14,55,14],[54,5,55,5],[54,7,55,7],[54,9,55,9],[54,10,55,10],[54,13,55,13],[53,11,55,12],[53,1,55,1],[53,2,55,2],[53,3,55,3],[53,4,53,5],[53,6,53,7],[53,8,53,9],[52,4,52,5],[52,6,52,7],[52,8,52,9],[48,1,48,14],[50,2,50,5],[42,14,43,14],[46,9,47,9],[46,7,47,7],[46,10,47,10],[44,8,45,8],[44,7,45,7],[42,12,43,12],[42,2,43,2],[44,14,45,14],[46,14,47,14],[46,8,47,8],[42,8,43,8],[44,11,45,11],[42,11,43,11],[46,13,47,13],[44,13,45,13],[42,13,43,13],[42,7,43,7],[44,10,45,10],[56,8,57,8],[56,9,57,9],[56,10,57,10],[56,11,57,11],[56,13,57,13],[56,14,57,14],[56,12,57,12],[56,0,57,0],[56,1,57,1],[56,2,57,2],[56,3,57,3],[56,5,57,5],[56,7,57,7],[58,8,59,8],[58,9,59,9],[58,10,59,10],[58,11,59,11],[58,13,59,13],[58,14,59,14],[58,12,59,12],[58,0,59,0],[58,1,59,1],[58,2,59,2],[58,3,59,3],[58,5,59,5],[58,7,59,7],[60,8,61,8],[60,9,61,9],[60,10,61,10],[60,11,61,11],[60,13,61,13],[60,14,61,14],[60,12,61,12],[60,0,61,0],[60,1,61,1],[60,2,61,2],[60,3,61,3],[60,5,61,5],[60,7,61,7],[62,8,63,8],[62,9,63,9],[62,10,63,10],[62,11,63,11],[62,13,63,13],[62,14,63,14],[62,12,63,12],[62,0,63,0],[62,1,63,1],[62,2,63,2],[62,3,63,3],[62,5,63,5],[62,7,63,7],[64,8,65,8],[64,9,65,9],[64,10,65,10],[64,11,65,11],[64,13,65,13],[64,14,65,14],[64,12,65,12],[64,0,65,0],[64,1,65,1],[64,2,65,2],[64,3,65,3],[64,5,65,5],[64,7,65,7],[66,8,67,8],[66,9,67,9],[66,10,67,10],[66,11,67,11],[66,13,67,13],[66,14,67,14],[66,12,67,12],[66,0,67,0],[66,1,67,1],[66,2,67,2],[66,3,67,3],[66,5,67,5],[66,7,67,7],[68,8,69,8],[68,9,69,9],[68,10,69,10],[68,11,69,11],[68,13,69,13],[68,14,69,14],[68,12,69,12],[68,0,69,0],[68,1,69,1],[68,2,69,2],[68,3,69,3],[68,5,69,5],[68,7,69,7],[70,8,71,8],[70,9,71,9],[70,10,71,10],[70,11,71,11],[70,13,71,13],[70,14,71,14],[70,12,71,12],[70,0,71,0],[70,1,71,1],[70,2,71,2],[70,3,71,3],[70,5,71,5],[70,7,71,7],[72,8,73,8],[72,9,73,9],[72,10,73,10],[72,11,73,11],[72,13,73,13],[72,14,73,14],[72,12,73,12],[72,0,73,0],[72,1,73,1],[72,2,73,2],[72,3,73,3],[72,5,73,5],[72,7,73,7],[74,8,75,8],[74,9,75,9],[74,10,75,10],[74,11,75,11],[74,13,75,13],[74,14,75,14],[74,12,75,12],[74,0,75,0],[74,1,75,1],[74,2,75,2],[74,3,75,3],[74,5,75,5],[74,7,75,7],[76,8,77,8],[76,9,77,9],[76,10,77,10],[76,11,77,11],[76,13,77,13],[76,14,77,14],[76,12,77,12],[76,0,77,0],[76,1,77,1],[76,2,77,2],[76,3,77,3],[76,5,77,5],[76,7,77,7],[78,8,79,8],[78,9,79,9],[78,10,79,10],[78,11,79,11],[78,13,79,13],[78,14,79,14],[78,12,79,12],[78,0,79,0],[78,1,79,1],[78,2,79,2],[78,3,79,3],[78,5,79,5],[78,7,79,7],[80,8,81,8],[80,9,81,9],[80,10,81,10],[80,11,81,11],[80,13,81,13],[80,14,81,14],[80,12,81,12],[80,0,81,0],[80,1,81,1],[80,2,81,2],[80,3,81,3],[80,5,81,5],[80,7,81,7],[82,8,83,8],[82,9,83,9],[82,10,83,10],[82,11,83,11],[82,13,83,13],[82,14,83,14],[82,12,83,12],[82,0,83,0],[82,1,83,1],[82,2,83,2],[82,3,83,3],[82,5,83,5],[82,7,83,7],[84,8,85,8],[84,9,85,9],[84,10,85,10],[84,11,85,11],[84,13,85,13],[84,14,85,14],[84,12,85,12],[84,0,85,0],[84,1,85,1],[84,2,85,2],[84,3,85,3],[84,5,85,5],[84,7,85,7],[86,8,87,8],[86,9,87,9],[86,10,87,10],[86,11,87,11],[86,13,87,13],[86,14,87,14],[86,12,87,12],[86,0,87,0],[86,1,87,1],[86,2,87,2],[86,3,87,3],[86,5,87,5],[86,7,87,7],[88,8,89,8],[88,9,89,9],[88,10,89,10],[88,11,89,11],[88,13,89,13],[88,14,89,14],[88,12,89,12],[88,0,89,0],[88,1,89,1],[88,2,89,2],[88,3,89,3],[88,5,89,5],[88,7,89,7],[90,8,91,8],[90,9,91,9],[90,10,91,10],[90,11,91,11],[90,13,91,13],[90,14,91,14],[90,12,91,12],[90,0,91,0],[90,1,91,1],[90,2,91,2],[90,3,91,3],[90,5,91,5],[90,7,91,7],[92,8,93,8],[92,9,93,9],[92,10,93,10],[92,11,93,11],[92,13,93,13],[92,14,93,14],[92,12,93,12],[92,0,93,0],[92,1,93,1],[92,2,93,2],[92,3,93,3],[92,5,93,5],[92,7,93,7],[94,8,95,8],[94,9,95,9],[94,10,95,10],[94,11,95,11],[94,13,95,13],[94,14,95,14],[94,12,95,12],[94,0,95,0],[94,1,95,1],[94,2,95,2],[94,3,95,3],[94,5,95,5],[94,7,95,7],[24,12,25,12],[2,6,2,14],[50,6,50,14],[44,12,45,12],[34,12,35,12],[36,12,37,12],[38,12,39,12],[40,12,41,12],[26,12,27,12],[28,12,29,12],[5,11,7,12],[8,12,9,12],[10,12,11,12],[12,12,13,12],[32,12,33,12],[14,12,15,12],[16,12,17,12],[18,12,19,12],[20,12,21,12],[22,12,23,12],[38,8,39,8],[40,9,41,9],[42,9,43,9],[44,9,45,9]]}
[null,"Celkové výsledky"]
[]
[null,null,{"$f":"Start!B2","v":"VC ČR v požárním útoku družstev HZS krajů a HZS podniků"},null,null,null,{"$f":"Start!B3","v":"Petrovice 19.9.2019"}]
[]
[null,null,{"$f":"Start!$C$5","v":"MUŽI"}]
[null," startovní číslo"," SDH",{"$f":"Start!$D$6","v":"Okres / Kraj"}," PÚ",null," Štafeta 4x100m",null,"Běh na 100m s přek.",null,null,"Celkový součet časů",null,null,"Celkové pořadí"]
[null,null,null,null,"1.pokus","P.","1.pokus","P.","Součet","P."]
[null,null,null,null,"2.pokus",null,"2.pokus",null,"Družstva"]
[null,{"$f":"Start!$B7","v":1},{"$f":"IF(Start!$C7=\"\",\"\",Start!$C7)","v":"HZS Jihočeského kraje"},{"$f":"IF(Start!$D7=\"\",\"\",Start!$D7)","v":"ÚO J. Hradec"},{"$f":"IF($C$9=\"\",\"\",PÚ!$G$5)","v":"NP"},{"$f":"IF($C9=\"\",\"\",PÚ!$N$5)","v":6},{"$f":"IF($C$9=\"\",\"\",'4x100m'!$G$5)","v":0},{"$f":"IF($C9=\"\",\"\",'4x100m'!$N$5)","v":1},{"$f":"IF($C9=\"\",\"\",'PJ-C'!$O$5)","v":"DNF"},{"$f":"IF($C9=\"\",\"\",'PJ-C'!$Q$5)","v":9},null,{"$f":"IF($C9=\"\",\"\",Výsledky!H7)","v":29.2},{"$f":"IF($C9=\"\",\"\",Výsledky!I7)","v":"X"},null,{"$f":"IF($C9=\"\",\"\",IF($M9=\"X\",\"\",MATCH($C9,Výsledky!$M$7:$M$56,0)))","v":""}]
[null,null,null,null,{"$f":"IF($C$9=\"\",\"\",PÚ!$K$5)","v":29.2},null,{"$f":"IF($C$9=\"\",\"\",'4x100m'!$K$5)","v":"DNF"}]
[null,{"$f":"Start!$B8","v":2},{"$f":"IF(Start!$C8=\"\",\"\",Start!$C8)","v":"HZS Kraje Vysočina"},{"$f":"IF(Start!$D8=\"\",\"\",Start!$D8)","v":""},{"$f":"IF($C$11=\"\",\"\",PÚ!$G$6)","v":37.450000000000003},{"$f":"IF($C11=\"\",\"\",PÚ!$N$6)","v":8},{"$f":"IF($C$11=\"\",\"\",'4x100m'!$G$6)","v":0},{"$f":"IF($C11=\"\",\"\",'4x100m'!$N$6)","v":1},{"$f":"IF($C11=\"\",\"\",'PJ-C'!$O$8)","v":"DNF"},{"$f":"IF($C11=\"\",\"\",'PJ-C'!$Q$8)","v":9},null,{"$f":"IF($C11=\"\",\"\",Výsledky!H8)","v":37.450000000000003},{"$f":"IF($C11=\"\",\"\",Výsledky!I8)","v":"X"},null,{"$f":"IF($C11=\"\",\"\",IF($M11=\"X\",\"\",MATCH($C11,Výsledky!$M$7:$M$56,0)))","v":""}]
[null,null,null,null,{"$f":"IF($C$11=\"\",\"\",PÚ!$K$6)","v":38.299999999999997},null,{"$f":"IF($C$11=\"\",\"\",'4x100m'!$K$6)","v":"DNF"}]
[null,{"$f":"Start!$B9","v":3},{"$f":"IF(Start!$C9=\"\",\"\",Start!$C9)","v":"HZS Zlínského Kraje"},{"$f":"IF(Start!$D9=\"\",\"\",Start!$D9)","v":""},{"$f":"IF($C$13=\"\",\"\",PÚ!$G$7)","v":25.43},{"$f":"IF($C13=\"\",\"\",PÚ!$N$7)","v":1},{"$f":"IF($C$13=\"\",\"\",'4x100m'!$G$7)","v":0},{"$f":"IF($C13=\"\",\"\",'4x100m'!$N$7)","v":1},{"$f":"IF($C13=\"\",\"\",'PJ-C'!$O$11)","v":"DNF"},{"$f":"IF($C13=\"\",\"\",'PJ-C'!$Q$11)","v":9},null,{"$f":"IF($C13=\"\",\"\",Výsledky!H9)","v":25.43},{"$f":"IF($C13=\"\",\"\",Výsledky!I9)","v":"X"},null,{"$f":"IF($C13=\"\",\"\",IF($M13=\"X\",\"\",MATCH($C13,Výsledky!$M$7:$M$56,0)))","v":""}]
[null,null,null,null,{"$f":"IF($C$13=\"\",\"\",PÚ!$K$7)","v":27.37},null,{"$f":"IF($C$13=\"\",\"\",'4x100m'!$K$7)","v":"DNF"}]
[null,{"$f":"Start!$B10","v":4},{"$f":"IF(Start!$C10=\"\",\"\",Start!$C10)","v":"HZS správa železnic"},{"$f":"IF(Start!$D10=\"\",\"\",Start!$D10)","v":"JPO Plzeň"},{"$f":"IF($C$15=\"\",\"\",PÚ!$G$8)","v":27.58},{"$f":"IF($C15=\"\",\"\",PÚ!$N$8)","v":2},{"$f":"IF($C$15=\"\",\"\",'4x100m'!$G$8)","v":0},{"$f":"IF($C15=\"\",\"\",'4x100m'!$N$8)","v":1},{"$f":"IF($C15=\"\",\"\",'PJ-C'!$O$14)","v":"DNF"},{"$f":"IF($C15=\"\",\"\",'PJ-C'!$Q$14)","v":9},null,{"$f":"IF($C15=\"\",\"\",Výsledky!H10)","v":27.58},{"$f":"IF($C15=\"\",\"\",Výsledky!I10)","v":"X"},null,{"$f":"IF($C15=\"\",\"\",IF($M15=\"X\",\"\",MATCH($C15,Výsledky!$M$7:$M$56,0)))","v":""}]
[null,null,null,null,{"$f":"IF($C$15=\"\",\"\",PÚ!$K$8)","v":"NP"},null,{"$f":"IF($C$15=\"\",\"\",'4x100m'!$K$8)","v":"DNF"}]
[null,{"$f":"Start!$B11","v":5},{"$f":"IF(Start!$C11=\"\",\"\",Start!$C11)","v":"HZS Libereckého Kraje"},{"$f":"IF(Start!$D11=\"\",\"\",Start!$D11)","v":""},{"$f":"IF($C$17=\"\",\"\",PÚ!$G$9)","v":41.84},{"$f":"IF($C17=\"\",\"\",PÚ!$N$9)","v":9},{"$f":"IF($C$17=\"\",\"\",'4x100m'!$G$9)","v":0},{"$f":"IF($C17=\"\",\"\",'4x100m'!$N$9)","v":1},{"$f":"IF($C17=\"\",\"\",'PJ-C'!$O$17)","v":"DNF"},{"$f":"IF($C17=\"\",\"\",'PJ-C'!$Q$17)","v":9},null,{"$f":"IF($C17=\"\",\"\",Výsledky!H11)","v":41.84},{"$f":"IF($C17=\"\",\"\",Výsledky!I11)","v":"X"},null,{"$f":"IF($C17=\"\",\"\",IF($M17=\"X\",\"\",MATCH($C17,Výsledky!$M$7:$M$56,0)))","v":""}]
[null,null,null,null,{"$f":"IF($C$17=\"\",\"\",PÚ!$K$9)","v":"NP"},null,{"$f":"IF($C$17=\"\",\"\",'4x100m'!$K$9)","v":"DNF"}]
[null,{"$f":"Start!$B12","v":6},{"$f":"IF(Start!$C12=\"\",\"\",Start!$C12)","v":"HZS Pardubického Kraje"},{"$f":"IF(Start!$D12=\"\",\"\",Start!$D12)","v":"ÚO Pardubice"},{"$f":"IF($C$19=\"\",\"\",PÚ!$G$10)","v":28.59},{"$f":"IF($C19=\"\",\"\",PÚ!$N$10)","v":3},{"$f":"IF($C$19=\"\",\"\",'4x100m'!$G$10)","v":0},{"$f":"IF($C19=\"\",\"\",'4x100m'!$N$10)","v":1},{"$f":"IF($C19=\"\",\"\",'PJ-C'!$O$20)","v":"DNF"},{"$f":"IF($C19=\"\",\"\",'PJ-C'!$Q$20)","v":9},null,{"$f":"IF($C19=\"\",\"\",Výsledky!H12)","v":28.59},{"$f":"IF($C19=\"\",\"\",Výsledky!I12)","v":"X"},null,{"$f":"IF($C19=\"\",\"\",IF($M19=\"X\",\"\",MATCH($C19,Výsledky!$M$7:$M$56,0)))","v":""}]
[null,null,null,null,{"$f":"IF($C$19=\"\",\"\",PÚ!$K$10)","v":31.71},null,{"$f":"IF($C$19=\"\",\"\",'4x100m'!$K$10)","v":"DNF"}]
[null,{"$f":"Start!$B13","v":7},{"$f":"IF(Start!$C13=\"\",\"\",Start!$C13)","v":"HZS Královohradeckého Kr."},{"$f":"IF(Start!$D13=\"\",\"\",Start!$D13)","v":""},{"$f":"IF($C$21=\"\",\"\",PÚ!$G$11)","v":29.14},{"$f":"IF($C21=\"\",\"\",PÚ!$N$11)","v":4},{"$f":"IF($C$21=\"\",\"\",'4x100m'!$G$11)","v":0},{"$f":"IF($C21=\"\",\"\",'4x100m'!$N$11)","v":1},{"$f":"IF($C21=\"\",\"\",'PJ-C'!$O$23)","v":"DNF"},{"$f":"IF($C21=\"\",\"\",'PJ-C'!$Q$23)","v":9},null,{"$f":"IF($C21=\"\",\"\",Výsledky!H13)","v":29.14},{"$f":"IF($C21=\"\",\"\",Výsledky!I13)","v":"X"},null,{"$f":"IF($C21=\"\",\"\",IF($M21=\"X\",\"\",MATCH($C21,Výsledky!$M$7:$M$56,0)))","v":""}]
[null,null,null,null,{"$f":"IF($C$21=\"\",\"\",PÚ!$K$11)","v":39.71},null,{"$f":"IF($C$21=\"\",\"\",'4x100m'!$K$11)","v":"DNF"}]
[null,{"$f":"Start!$B14","v":8},{"$f":"IF(Start!$C14=\"\",\"\",Start!$C14)","v":"HZS Plzeňského Kraje"},{"$f":"IF(Start!$D14=\"\",\"\",Start!$D14)","v":"ÚO Domažlice"},{"$f":"IF($C$23=\"\",\"\",PÚ!$G$12)","v":31.37},{"$f":"IF($C23=\"\",\"\",PÚ!$N$12)","v":5},{"$f":"IF($C$23=\"\",\"\",'4x100m'!$G$12)","v":0},{"$f":"IF($C23=\"\",\"\",'4x100m'!$N$12)","v":1},{"$f":"IF($C23=\"\",\"\",'PJ-C'!$O$26)","v":"DNF"},{"$f":"IF($C23=\"\",\"\",'PJ-C'!$Q$26)","v":9},null,{"$f":"IF($C23=\"\",\"\",Výsledky!H14)","v":29.15},{"$f":"IF($C23=\"\",\"\",Výsledky!I14)","v":"X"},null,{"$f":"IF($C23=\"\",\"\",IF($M23=\"X\",\"\",MATCH($C23,Výsledky!$M$7:$M$56,0)))","v":""}]
[null,null,null,null,{"$f":"IF($C$23=\"\",\"\",PÚ!$K$12)","v":29.15},null,{"$f":"IF($C$23=\"\",\"\",'4x100m'!$K$12)","v":"DNF"}]
[null,{"$f":"Start!$B15","v":9},{"$f":"IF(Start!$C15=\"\",\"\",Start!$C15)","v":"HZSP Deza"},{"$f":"IF(Start!$D15=\"\",\"\",Start!$D15)","v":""},{"$f":"IF($C$25=\"\",\"\",PÚ!$G$13)","v":42},{"$f":"IF($C25=\"\",\"\",PÚ!$N$13)","v":7},{"$f":"IF($C$25=\"\",\"\",'4x100m'!$G$13)","v":0},{"$f":"IF($C25=\"\",\"\",'4x100m'!$N$13)","v":1},{"$f":"IF($C25=\"\",\"\",'PJ-C'!$O$29)","v":"DNF"},{"$f":"IF($C25=\"\",\"\",'PJ-C'!$Q$29)","v":9},null,{"$f":"IF($C25=\"\",\"\",Výsledky!H15)","v":36.5},{"$f":"IF($C25=\"\",\"\",Výsledky!I15)","v":"X"},null,{"$f":"IF($C25=\"\",\"\",IF($M25=\"X\",\"\",MATCH($C25,Výsledky!$M$7:$M$56,0)))","v":""}]
[null,null,null,null,{"$f":"IF($C$25=\"\",\"\",PÚ!$K$13)","v":36.5},null,{"$f":"IF($C$25=\"\",\"\",'4x100m'!$K$13)","v":"DNF"}]
[null,{"$f":"Start!$B16","v":10},{"$f":"IF(Start!$C16=\"\",\"\",Start!$C16)","v":""},{"$f":"IF(Start!$D16=\"\",\"\",Start!$D16)","v":""},{"$f":"IF($C$27=\"\",\"\",PÚ!$G$14)","v":""},{"$f":"IF($C27=\"\",\"\",PÚ!$N$14)","v":""},{"$f":"IF($C$27=\"\",\"\",'4x100m'!$G$14)","v":""},{"$f":"IF($C27=\"\",\"\",'4x100m'!$N$14)","v":""},{"$f":"IF($C27=\"\",\"\",'PJ-C'!$O$32)","v":""},{"$f":"IF($C27=\"\",\"\",'PJ-C'!$Q$32)","v":""},null,{"$f":"IF($C27=\"\",\"\",Výsledky!H16)","v":""},{"$f":"IF($C27=\"\",\"\",Výsledky!I16)","v":""},null,{"$f":"IF($C27=\"\",\"\",IF($M27=\"X\",\"\",MATCH($C27,Výsledky!$M$7:$M$56,0)))","v":""}]
[null,null,null,null,{"$f":"IF($C$27=\"\",\"\",PÚ!$K$14)","v":""},null,{"$f":"IF($C$27=\"\",\"\",'4x100m'!$K$14)","v":""}]
[null,{"$f":"Start!$B17","v":11},{"$f":"IF(Start!$C17=\"\",\"\",Start!$C17)","v":""},{"$f":"IF(Start!$D17=\"\",\"\",Start!$D17)","v":""},{"$f":"IF($C$29=\"\",\"\",PÚ!$G$15)","v":""},{"$f":"IF($C29=\"\",\"\",PÚ!$N$15)","v":""},{"$f":"IF($C$29=\"\",\"\",'4x100m'!$G$15)","v":""},{"$f":"IF($C29=\"\",\"\",'4x100m'!$N$15)","v":""},{"$f":"IF($C29=\"\",\"\",'PJ-C'!$O$39)","v":""},{"$f":"IF($C29=\"\",\"\",'PJ-C'!$Q$39)","v":""},null,{"$f":"IF($C29=\"\",\"\",Výsledky!H17)","v":""},{"$f":"IF($C29=\"\",\"\",Výsledky!I17)","v":""},null,{"$f":"IF($C29=\"\",\"\",IF($M29=\"X\",\"\",MATCH($C29,Výsledky!$M$7:$M$56,0)))","v":""}]
[null,null,null,null,{"$f":"IF($C$29=\"\",\"\",PÚ!$K$15)","v":""},null,{"$f":"IF($C$29=\"\",\"\",'4x100m'!$K$15)","v":""}]
[null,{"$f":"Start!$B18","v":12},{"$f":"IF(Start!$C18=\"\",\"\",Start!$C18)","v":""},{"$f":"IF(Start!$D18=\"\",\"\",Start!$D18)","v":""},{"$f":"IF($C$31=\"\",\"\",PÚ!$G$16)","v":""},{"$f":"IF($C31=\"\",\"\",PÚ!$N$16)","v":""},{"$f":"IF($C$31=\"\",\"\",'4x100m'!$G$16)","v":""},{"$f":"IF($C31=\"\",\"\",'4x100m'!$N$16)","v":""},{"$f":"IF($C31=\"\",\"\",'PJ-C'!$O$42)","v":""},{"$f":"IF($C31=\"\",\"\",'PJ-C'!$Q$42)","v":""},null,{"$f":"IF($C31=\"\",\"\",Výsledky!H18)","v":""},{"$f":"IF($C31=\"\",\"\",Výsledky!I18)","v":""},null,{"$f":"IF($C31=\"\",\"\",IF($M31=\"X\",\"\",MATCH($C31,Výsledky!$M$7:$M$56,0)))","v":""}]
[null,null,null,null,{"$f":"IF($C$31=\"\",\"\",PÚ!$K$16)","v":""},null,{"$f":"IF($C$31=\"\",\"\",'4x100m'!$K$16)","v":""}]
[null,{"$f":"Start!$B19","v":13},{"$f":"IF(Start!$C19=\"\",\"\",Start!$C19)","v":""},{"$f":"IF(Start!$D19=\"\",\"\",Start!$D19)","v":""},{"$f":"IF($C$33=\"\",\"\",PÚ!$G$17)","v":""},{"$f":"IF($C33=\"\",\"\",PÚ!$N$17)","v":""},{"$f":"IF($C$33=\"\",\"\",'4x100m'!$G$17)","v":""},{"$f":"IF($C33=\"\",\"\",'4x100m'!$N$17)","v":""},{"$f":"IF($C33=\"\",\"\",'PJ-C'!$O$45)","v":""},{"$f":"IF($C33=\"\",\"\",'PJ-C'!$Q$45)","v":""},null,{"$f":"IF($C33=\"\",\"\",Výsledky!H19)","v":""},{"$f":"IF($C33=\"\",\"\",Výsledky!I19)","v":""},null,{"$f":"IF($C33=\"\",\"\",IF($M33=\"X\",\"\",MATCH($C33,Výsledky!$M$7:$M$56,0)))","v":""}]
[null,null,null,null,{"$f":"IF($C$33=\"\",\"\",PÚ!$K$17)","v":""},null,{"$f":"IF($C$33=\"\",\"\",'4x100m'!$K$17)","v":""}]
[null,{"$f":"Start!$B20","v":14},{"$f":"IF(Start!$C20=\"\",\"\",Start!$C20)","v":""},{"$f":"IF(Start!$D20=\"\",\"\",Start!$D20)","v":""},{"$f":"IF($C$35=\"\",\"\",PÚ!$G$18)","v":""},{"$f":"IF($C35=\"\",\"\",PÚ!$N$18)","v":""},{"$f":"IF($C$35=\"\",\"\",'4x100m'!$G$18)","v":""},{"$f":"IF($C35=\"\",\"\",'4x100m'!$N$18)","v":""},{"$f":"IF($C35=\"\",\"\",'PJ-C'!$O$48)","v":""},{"$f":"IF($C35=\"\",\"\",'PJ-C'!$Q$48)","v":""},null,{"$f":"IF($C35=\"\",\"\",Výsledky!H20)","v":""},{"$f":"IF($C35=\"\",\"\",Výsledky!I20)","v":""},null,{"$f":"IF($C35=\"\",\"\",IF($M35=\"X\",\"\",MATCH($C35,Výsledky!$M$7:$M$56,0)))","v":""}]
[null,null,null,null,{"$f":"IF($C$35=\"\",\"\",PÚ!$K$18)","v":""},null,{"$f":"IF($C$35=\"\",\"\",'4x100m'!$K$18)","v":""}]
[null,{"$f":"Start!$B21","v":15},{"$f":"IF(Start!$C21=\"\",\"\",Start!$C21)","v":""},{"$f":"IF(Start!$D21=\"\",\"\",Start!$D21)","v":""},{"$f":"IF($C$37=\"\",\"\",PÚ!$G$19)","v":""},{"$f":"IF($C37=\"\",\"\",PÚ!$N$19)","v":""},{"$f":"IF($C$37=\"\",\"\",'4x100m'!$G$19)","v":""},{"$f":"IF($C37=\"\",\"\",'4x100m'!$N$19)","v":""},{"$f":"IF($C37=\"\",\"\",'PJ-C'!$O$51)","v":""},{"$f":"IF($C37=\"\",\"\",'PJ-C'!$Q$51)","v":""},null,{"$f":"IF($C37=\"\",\"\",Výsledky!H21)","v":""},{"$f":"IF($C37=\"\",\"\",Výsledky!I21)","v":""},null,{"$f":"IF($C37=\"\",\"\",IF($M37=\"X\",\"\",MATCH($C37,Výsledky!$M$7:$M$56,0)))","v":""}]
[null,null,null,null,{"$f":"IF($C$37=\"\",\"\",PÚ!$K$19)","v":""},null,{"$f":"IF($C$37=\"\",\"\",'4x100m'!$K$19)","v":""}]
[null,{"$f":"Start!$B22","v":16},{"$f":"IF(Start!$C22=\"\",\"\",Start!$C22)","v":""},{"$f":"IF(Start!$D22=\"\",\"\",Start!$D22)","v":""},{"$f":"IF($C$39=\"\",\"\",PÚ!$G$20)","v":""},{"$f":"IF($C39=\"\",\"\",PÚ!$N$20)","v":""},{"$f":"IF($C$39=\"\",\"\",'4x100m'!$G$20)","v":""},{"$f":"IF($C39=\"\",\"\",'4x100m'!$N$20)","v":""},{"$f":"IF($C39=\"\",\"\",'PJ-C'!$O$54)","v":""},{"$f":"IF($C39=\"\",\"\",'PJ-C'!$Q$54)","v":""},null,{"$f":"IF($C39=\"\",\"\",Výsledky!H22)","v":""},{"$f":"IF($C39=\"\",\"\",Výsledky!I22)","v":""},null,{"$f":"IF($C39=\"\",\"\",IF($M39=\"X\",\"\",MATCH($C39,Výsledky!$M$7:$M$56,0)))","v":""}]
[null,null,null,null,{"$f":"IF($C$39=\"\",\"\",PÚ!$K$20)","v":""},null,{"$f":"IF($C$39=\"\",\"\",'4x100m'!$K$20)","v":""}]
[null,{"$f":"Start!$B23","v":17},{"$f":"IF(Start!$C23=\"\",\"\",Start!$C23)","v":""},{"$f":"IF(Start!$D23=\"\",\"\",Start!$D23)","v":""},{"$f":"IF($C$41=\"\",\"\",PÚ!$G$21)","v":""},{"$f":"IF($C41=\"\",\"\",PÚ!$N$21)","v":""},{"$f":"IF($C$41=\"\",\"\",'4x100m'!$G$21)","v":""},{"$f":"IF($C41=\"\",\"\",'4x100m'!$N$21)","v":""},{"$f":"IF($C41=\"\",\"\",'PJ-C'!$O$57)","v":""},{"$f":"IF($C41=\"\",\"\",'PJ-C'!$Q$57)","v":""},null,{"$f":"IF($C41=\"\",\"\",Výsledky!H23)","v":""},{"$f":"IF($C41=\"\",\"\",Výsledky!I23)","v":""},null,{"$f":"IF($C41=\"\",\"\",IF($M41=\"X\",\"\",MATCH($C41,Výsledky!$M$7:$M$56,0)))","v":""}]
[null,null,null,null,{"$f":"IF($C$41=\"\",\"\",PÚ!$K$21)","v":""},null,{"$f":"IF($C$41=\"\",\"\",'4x100m'!$K$21)","v":""}]
[null,{"$f":"Start!$B24","v":18},{"$f":"IF(Start!$C24=\"\",\"\",Start!$C24)","v":""},{"$f":"IF(Start!$D24=\"\",\"\",Start!$D24)","v":""},{"$f":"IF($C$43=\"\",\"\",PÚ!$G$22)","v":""},{"$f":"IF($C43=\"\",\"\",PÚ!$N$22)","v":""},{"$f":"IF($C$43=\"\",\"\",'4x100m'!$G$22)","v":""},{"$f":"IF($C43=\"\",\"\",'4x100m'!$N$22)","v":""},{"$f":"IF($C43=\"\",\"\",'PJ-C'!$O$60)","v":""},{"$f":"IF($C43=\"\",\"\",'PJ-C'!$Q$60)","v":""},null,{"$f":"IF($C43=\"\",\"\",Výsledky!H24)","v":""},{"$f":"IF($C43=\"\",\"\",Výsledky!I24)","v":""},null,{"$f":"IF($C43=\"\",\"\",IF($M43=\"X\",\"\",MATCH($C43,Výsledky!$M$7:$M$56,0)))","v":""}]
[null,null,null,null,{"$f":"IF($C$43=\"\",\"\",PÚ!$K$22)","v":""},null,{"$f":"IF($C$43=\"\",\"\",'4x100m'!$K$22)","v":""}]
[null,{"$f":"Start!$B25","v":19},{"$f":"IF(Start!$C25=\"\",\"\",Start!$C25)","v":""},{"$f":"IF(Start!$D25=\"\",\"\",Start!$D25)","v":""},{"$f":"IF($C$45=\"\",\"\",PÚ!$G$23)","v":""},{"$f":"IF($C45=\"\",\"\",PÚ!$N$23)","v":""},{"$f":"IF($C$45=\"\",\"\",'4x100m'!$G$23)","v":""},{"$f":"IF($C45=\"\",\"\",'4x100m'!$N$23)","v":""},{"$f":"IF($C45=\"\",\"\",'PJ-C'!$O$63)","v":""},{"$f":"IF($C45=\"\",\"\",'PJ-C'!$Q$63)","v":""},null,{"$f":"IF($C45=\"\",\"\",Výsledky!H25)","v":""},{"$f":"IF($C45=\"\",\"\",Výsledky!I25)","v":""},null,{"$f":"IF($C45=\"\",\"\",IF($M45=\"X\",\"\",MATCH($C45,Výsledky!$M$7:$M$56,0)))","v":""}]
[null,null,null,null,{"$f":"IF($C$45=\"\",\"\",PÚ!$K$23)","v":""},null,{"$f":"IF($C$45=\"\",\"\",'4x100m'!$K$23)","v":""}]
[null,{"$f":"Start!$B26","v":20},{"$f":"IF(Start!$C26=\"\",\"\",Start!$C26)","v":""},{"$f":"IF(Start!$D26=\"\",\"\",Start!$D26)","v":""},{"$f":"IF($C$47=\"\",\"\",PÚ!$G$24)","v":""},{"$f":"IF($C47=\"\",\"\",PÚ!$N$24)","v":""},{"$f":"IF($C$47=\"\",\"\",'4x100m'!$G$24)","v":""},{"$f":"IF($C47=\"\",\"\",'4x100m'!$N$24)","v":""},{"$f":"IF($C47=\"\",\"\",'PJ-C'!$O$66)","v":""},{"$f":"IF($C47=\"\",\"\",'PJ-C'!$Q$66)","v":""},null,{"$f":"IF($C47=\"\",\"\",Výsledky!H26)","v":""},{"$f":"IF($C47=\"\",\"\",Výsledky!I26)","v":""},null,{"$f":"IF($C47=\"\",\"\",IF($M47=\"X\",\"\",MATCH($C47,Výsledky!$M$7:$M$56,0)))","v":""}]
[null,null,null,null,{"$f":"IF($C$47=\"\",\"\",PÚ!$K$24)","v":""},null,{"$f":"IF($C$47=\"\",\"\",'4x100m'!$K$24)","v":""}]
[null,"Celkové výsledky"]
[]
[null,null,{"$f":"C3","v":"VC ČR v požárním útoku družstev HZS krajů a HZS podniků"},null,null,null,{"$f":"G3","v":"Petrovice 19.9.2019"}]
[]
[null,null,{"$f":"Start!$C$5","v":"MUŽI"}]
[null," startovní číslo"," SDH",{"$f":"Start!$D$6","v":"Okres / Kraj"}," PÚ",null," Štafeta 4x100m",null,"Běh na 100m s přek.",null,null,"Celkový součet časů",null,null,"Celkové pořadí"]
[null,null,null,null,"1.pokus","P.","1.pokus","P.","Součet","P."]
[null,null,null,null,"2.pokus",null,"2.pokus",null,"Družstva"]
[null,{"$f":"Start!$B27","v":21},{"$f":"IF(Start!$C27=\"\",\"\",Start!$C27)","v":""},{"$f":"IF(Start!$D27=\"\",\"\",Start!$D27)","v":""},{"$f":"IF($C57=\"\",\"\",PÚ!$G$25)","v":""},{"$f":"IF($C57=\"\",\"\",PÚ!$N$25)","v":""},{"$f":"IF($C57=\"\",\"\",'4x100m'!$G$25)","v":""},{"$f":"IF($C57=\"\",\"\",'4x100m'!$N$25)","v":""},{"$f":"IF($C57=\"\",\"\",'PJ-C'!$O$73)","v":""},{"$f":"IF($C57=\"\",\"\",'PJ-C'!$Q$73)","v":""},null,{"$f":"IF($C57=\"\",\"\",Výsledky!H27)","v":""},{"$f":"IF($C57=\"\",\"\",Výsledky!I27)","v":""},null,{"$f":"IF($C57=\"\",\"\",IF($M57=\"X\",\"\",MATCH($C57,Výsledky!$M$7:$M$56,0)))","v":""}]
[null,null,null,null,{"$f":"IF($C57=\"\",\"\",PÚ!$K$25)","v":""},null,{"$f":"IF($C57=\"\",\"\",'4x100m'!$K$25)","v":""}]
[null,{"$f":"Start!$B28","v":22},{"$f":"IF(Start!$C28=\"\",\"\",Start!$C28)","v":""},{"$f":"IF(Start!$D28=\"\",\"\",Start!$D28)","v":""},{"$f":"IF($C59=\"\",\"\",PÚ!$G$26)","v":""},{"$f":"IF($C59=\"\",\"\",PÚ!$N$26)","v":""},{"$f":"IF($C59=\"\",\"\",'4x100m'!$G$26)","v":""},{"$f":"IF($C59=\"\",\"\",'4x100m'!$N$26)","v":""},{"$f":"IF($C59=\"\",\"\",'PJ-C'!$O$76)","v":""},{"$f":"IF($C59=\"\",\"\",'PJ-C'!$Q$76)","v":""},null,{"$f":"IF($C59=\"\",\"\",Výsledky!H28)","v":""},{"$f":"IF($C59=\"\",\"\",Výsledky!I28)","v":""},null,{"$f":"IF($C59=\"\",\"\",IF($M59=\"X\",\"\",MATCH($C59,Výsledky!$M$7:$M$56,0)))","v":""}]
[null,null,null,null,{"$f":"IF($C59=\"\",\"\",PÚ!$K$26)","v":""},null,{"$f":"IF($C59=\"\",\"\",'4x100m'!$K$26)","v":""}]
[null,{"$f":"Start!$B29","v":23},{"$f":"IF(Start!$C29=\"\",\"\",Start!$C29)","v":""},{"$f":"IF(Start!$D29=\"\",\"\",Start!$D29)","v":""},{"$f":"IF($C61=\"\",\"\",PÚ!$G$27)","v":""},{"$f":"IF($C61=\"\",\"\",PÚ!$N$27)","v":""},{"$f":"IF($C61=\"\",\"\",'4x100m'!$G$27)","v":""},{"$f":"IF($C61=\"\",\"\",'4x100m'!$N$27)","v":""},{"$f":"IF($C61=\"\",\"\",'PJ-C'!$O$79)","v":""},{"$f":"IF($C61=\"\",\"\",'PJ-C'!$Q$79)","v":""},null,{"$f":"IF($C61=\"\",\"\",Výsledky!H29)","v":""},{"$f":"IF($C61=\"\",\"\",Výsledky!I29)","v":""},null,{"$f":"IF($C61=\"\",\"\",IF($M61=\"X\",\"\",MATCH($C61,Výsledky!$M$7:$M$56,0)))","v":""}]
[null,null,null,null,{"$f":"IF($C61=\"\",\"\",PÚ!$K$27)","v":""},null,{"$f":"IF($C61=\"\",\"\",'4x100m'!$K$27)","v":""}]
[null,{"$f":"Start!$B30","v":24},{"$f":"IF(Start!$C30=\"\",\"\",Start!$C30)","v":""},{"$f":"IF(Start!$D30=\"\",\"\",Start!$D30)","v":""},{"$f":"IF($C63=\"\",\"\",PÚ!$G$28)","v":""},{"$f":"IF($C63=\"\",\"\",PÚ!$N$28)","v":""},{"$f":"IF($C63=\"\",\"\",'4x100m'!$G$28)","v":""},{"$f":"IF($C63=\"\",\"\",'4x100m'!$N$28)","v":""},{"$f":"IF($C63=\"\",\"\",'PJ-C'!$O$82)","v":""},{"$f":"IF($C63=\"\",\"\",'PJ-C'!$Q$82)","v":""},null,{"$f":"IF($C63=\"\",\"\",Výsledky!H30)","v":""},{"$f":"IF($C63=\"\",\"\",Výsledky!I30)","v":""},null,{"$f":"IF($C63=\"\",\"\",IF($M63=\"X\",\"\",MATCH($C63,Výsledky!$M$7:$M$56,0)))","v":""}]
[null,null,null,null,{"$f":"IF($C63=\"\",\"\",PÚ!$K$28)","v":""},null,{"$f":"IF($C63=\"\",\"\",'4x100m'!$K$28)","v":""}]
[null,{"$f":"Start!$B31","v":25},{"$f":"IF(Start!$C31=\"\",\"\",Start!$C31)","v":""},{"$f":"IF(Start!$D31=\"\",\"\",Start!$D31)","v":""},{"$f":"IF($C65=\"\",\"\",PÚ!$G$29)","v":""},{"$f":"IF($C65=\"\",\"\",PÚ!$N$29)","v":""},{"$f":"IF($C65=\"\",\"\",'4x100m'!$G$29)","v":""},{"$f":"IF($C65=\"\",\"\",'4x100m'!$N$29)","v":""},{"$f":"IF($C65=\"\",\"\",'PJ-C'!$O$85)","v":""},{"$f":"IF($C65=\"\",\"\",'PJ-C'!$Q$85)","v":""},null,{"$f":"IF($C65=\"\",\"\",Výsledky!H31)","v":""},{"$f":"IF($C65=\"\",\"\",Výsledky!I31)","v":""},null,{"$f":"IF($C65=\"\",\"\",IF($M65=\"X\",\"\",MATCH($C65,Výsledky!$M$7:$M$56,0)))","v":""}]
[null,null,null,null,{"$f":"IF($C65=\"\",\"\",PÚ!$K$29)","v":""},null,{"$f":"IF($C65=\"\",\"\",'4x100m'!$K$29)","v":""}]
[null,{"$f":"Start!$B32","v":26},{"$f":"IF(Start!$G7=\"\",\"\",Start!$G7)","v":""},{"$f":"IF(Start!$H7=\"\",\"\",Start!$H7)","v":""},{"$f":"IF($C67=\"\",\"\",PÚ!$G$30)","v":""},{"$f":"IF($C67=\"\",\"\",PÚ!$N$30)","v":""},{"$f":"IF($C67=\"\",\"\",'4x100m'!$G$30)","v":""},{"$f":"IF($C67=\"\",\"\",'4x100m'!$N$30)","v":""},{"$f":"IF($C67=\"\",\"\",'PJ-C'!$O$88)","v":""},{"$f":"IF($C67=\"\",\"\",'PJ-C'!$Q$88)","v":""},null,{"$f":"IF($C67=\"\",\"\",Výsledky!H32)","v":""},{"$f":"IF($C67=\"\",\"\",Výsledky!I32)","v":""},null,{"$f":"IF($C67=\"\",\"\",IF($M67=\"X\",\"\",MATCH($C67,Výsledky!$M$7:$M$56,0)))","v":""}]
[null,null,null,null,{"$f":"IF($C67=\"\",\"\",PÚ!$K$30)","v":""},null,{"$f":"IF($C67=\"\",\"\",'4x100m'!$K$30)","v":""}]
[null,{"$f":"Start!$B33","v":27},{"$f":"IF(Start!$G8=\"\",\"\",Start!$G8)","v":""},{"$f":"IF(Start!$H8=\"\",\"\",Start!$H8)","v":""},{"$f":"IF($C69=\"\",\"\",PÚ!$G$31)","v":""},{"$f":"IF($C69=\"\",\"\",PÚ!$N$31)","v":""},{"$f":"IF($C69=\"\",\"\",'4x100m'!$G$31)","v":""},{"$f":"IF($C69=\"\",\"\",'4x100m'!$N$31)","v":""},{"$f":"IF($C69=\"\",\"\",'PJ-C'!$O$91)","v":""},{"$f":"IF($C69=\"\",\"\",'PJ-C'!$Q$91)","v":""},null,{"$f":"IF($C69=\"\",\"\",Výsledky!H33)","v":""},{"$f":"IF($C69=\"\",\"\",Výsledky!I33)","v":""},null,{"$f":"IF($C69=\"\",\"\",IF($M69=\"X\",\"\",MATCH($C69,Výsledky!$M$7:$M$56,0)))","v":""}]
[null,null,null,null,{"$f":"IF($C69=\"\",\"\",PÚ!$K$31)","v":""},null,{"$f":"IF($C69=\"\",\"\",'4x100m'!$K$31)","v":""}]
[null,{"$f":"Start!$B34","v":28},{"$f":"IF(Start!$G9=\"\",\"\",Start!$G9)","v":""},{"$f":"IF(Start!$H9=\"\",\"\",Start!$H9)","v":""},{"$f":"IF($C71=\"\",\"\",PÚ!$G$32)","v":""},{"$f":"IF($C71=\"\",\"\",PÚ!$N$32)","v":""},{"$f":"IF($C71=\"\",\"\",'4x100m'!$G$32)","v":""},{"$f":"IF($C71=\"\",\"\",'4x100m'!$N$32)","v":""},{"$f":"IF($C71=\"\",\"\",'PJ-C'!$O$94)","v":""},{"$f":"IF($C71=\"\",\"\",'PJ-C'!$Q$94)","v":""},null,{"$f":"IF($C71=\"\",\"\",Výsledky!H34)","v":""},{"$f":"IF($C71=\"\",\"\",Výsledky!I34)","v":""},null,{"$f":"IF($C71=\"\",\"\",IF($M71=\"X\",\"\",MATCH($C71,Výsledky!$M$7:$M$56,0)))","v":""}]
[null,null,null,null,{"$f":"IF($C71=\"\",\"\",PÚ!$K$32)","v":""},null,{"$f":"IF($C71=\"\",\"\",'4x100m'!$K$32)","v":""}]
[null,{"$f":"Start!$B35","v":29},{"$f":"IF(Start!$G10=\"\",\"\",Start!$G10)","v":""},{"$f":"IF(Start!$H10=\"\",\"\",Start!$H10)","v":""},{"$f":"IF($C73=\"\",\"\",PÚ!$G$33)","v":""},{"$f":"IF($C73=\"\",\"\",PÚ!$N$33)","v":""},{"$f":"IF($C73=\"\",\"\",'4x100m'!$G$33)","v":""},{"$f":"IF($C73=\"\",\"\",'4x100m'!$N$33)","v":""},{"$f":"IF($C73=\"\",\"\",'PJ-C'!$O$97)","v":""},{"$f":"IF($C73=\"\",\"\",'PJ-C'!$Q$97)","v":""},null,{"$f":"IF($C73=\"\",\"\",Výsledky!H35)","v":""},{"$f":"IF($C73=\"\",\"\",Výsledky!I35)","v":""},null,{"$f":"IF($C73=\"\",\"\",IF($M73=\"X\",\"\",MATCH($C73,Výsledky!$M$7:$M$56,0)))","v":""}]
[null,null,null,null,{"$f":"IF($C73=\"\",\"\",PÚ!$K$33)","v":""},null,{"$f":"IF($C73=\"\",\"\",'4x100m'!$K$33)","v":""}]
[null,{"$f":"Start!$B36","v":30},{"$f":"IF(Start!$G11=\"\",\"\",Start!$G11)","v":""},{"$f":"IF(Start!$H11=\"\",\"\",Start!$H11)","v":""},{"$f":"IF($C75=\"\",\"\",PÚ!$G$34)","v":""},{"$f":"IF($C75=\"\",\"\",PÚ!$N$34)","v":""},{"$f":"IF($C75=\"\",\"\",'4x100m'!$G$34)","v":""},{"$f":"IF($C75=\"\",\"\",'4x100m'!$N$34)","v":""},{"$f":"IF($C75=\"\",\"\",'PJ-C'!$O$100)","v":""},{"$f":"IF($C75=\"\",\"\",'PJ-C'!$Q$100)","v":""},null,{"$f":"IF($C75=\"\",\"\",Výsledky!H36)","v":""},{"$f":"IF($C75=\"\",\"\",Výsledky!I36)","v":""},null,{"$f":"IF($C75=\"\",\"\",IF($M75=\"X\",\"\",MATCH($C75,Výsledky!$M$7:$M$56,0)))","v":""}]
[null,null,null,null,{"$f":"IF($C75=\"\",\"\",PÚ!$K$34)","v":""},null,{"$f":"IF($C75=\"\",\"\",'4x100m'!$K$34)","v":""}]
[null,{"$f":"Start!$B37","v":31},{"$f":"IF(Start!$G12=\"\",\"\",Start!$G12)","v":""},{"$f":"IF(Start!$H12=\"\",\"\",Start!$H12)","v":""},{"$f":"IF($C77=\"\",\"\",PÚ!$G$35)","v":""},{"$f":"IF($C77=\"\",\"\",PÚ!$N$35)","v":""},{"$f":"IF($C77=\"\",\"\",'4x100m'!$G$35)","v":""},{"$f":"IF($C77=\"\",\"\",'4x100m'!$N$35)","v":""},{"$f":"IF($C77=\"\",\"\",'PJ-C'!$O$107)","v":""},{"$f":"IF($C77=\"\",\"\",'PJ-C'!$Q$107)","v":""},null,{"$f":"IF($C77=\"\",\"\",Výsledky!H37)","v":""},{"$f":"IF($C77=\"\",\"\",Výsledky!I37)","v":""},null,{"$f":"IF($C77=\"\",\"\",IF($M77=\"X\",\"\",MATCH($C77,Výsledky!$M$7:$M$56,0)))","v":""}]
[null,null,null,null,{"$f":"IF($C77=\"\",\"\",PÚ!$K$35)","v":""},null,{"$f":"IF($C77=\"\",\"\",'4x100m'!$K$35)","v":""}]
[null,{"$f":"Start!$B38","v":32},{"$f":"IF(Start!$G13=\"\",\"\",Start!$G13)","v":""},{"$f":"IF(Start!$H13=\"\",\"\",Start!$H13)","v":""},{"$f":"IF($C79=\"\",\"\",PÚ!$G$36)","v":""},{"$f":"IF($C79=\"\",\"\",PÚ!$N$36)","v":""},{"$f":"IF($C79=\"\",\"\",'4x100m'!$G$36)","v":""},{"$f":"IF($C79=\"\",\"\",'4x100m'!$N$36)","v":""},{"$f":"IF($C79=\"\",\"\",'PJ-C'!$O$110)","v":""},{"$f":"IF($C79=\"\",\"\",'PJ-C'!$Q$110)","v":""},null,{"$f":"IF($C79=\"\",\"\",Výsledky!H38)","v":""},{"$f":"IF($C79=\"\",\"\",Výsledky!I38)","v":""},null,{"$f":"IF($C79=\"\",\"\",IF($M79=\"X\",\"\",MATCH($C79,Výsledky!$M$7:$M$56,0)))","v":""}]
[null,null,null,null,{"$f":"IF($C79=\"\",\"\",PÚ!$K$36)","v":""},null,{"$f":"IF($C79=\"\",\"\",'4x100m'!$K$36)","v":""}]
[null,{"$f":"Start!$B39","v":33},{"$f":"IF(Start!$G14=\"\",\"\",Start!$G14)","v":""},{"$f":"IF(Start!$H14=\"\",\"\",Start!$H14)","v":""},{"$f":"IF($C81=\"\",\"\",PÚ!$G$37)","v":""},{"$f":"IF($C81=\"\",\"\",PÚ!$N$37)","v":""},{"$f":"IF($C81=\"\",\"\",'4x100m'!$G$37)","v":""},{"$f":"IF($C81=\"\",\"\",'4x100m'!$N$37)","v":""},{"$f":"IF($C81=\"\",\"\",'PJ-C'!$O$113)","v":""},{"$f":"IF($C81=\"\",\"\",'PJ-C'!$Q$113)","v":""},null,{"$f":"IF($C81=\"\",\"\",Výsledky!H39)","v":""},{"$f":"IF($C81=\"\",\"\",Výsledky!I39)","v":""},null,{"$f":"IF($C81=\"\",\"\",IF($M81=\"X\",\"\",MATCH($C81,Výsledky!$M$7:$M$56,0)))","v":""}]
[null,null,null,null,{"$f":"IF($C81=\"\",\"\",PÚ!$K$37)","v":""},null,{"$f":"IF($C81=\"\",\"\",'4x100m'!$K$37)","v":""}]
[null,{"$f":"Start!$B40","v":34},{"$f":"IF(Start!$G15=\"\",\"\",Start!$G15)","v":""},{"$f":"IF(Start!$H15=\"\",\"\",Start!$H15)","v":""},{"$f":"IF($C83=\"\",\"\",PÚ!$G$38)","v":""},{"$f":"IF($C83=\"\",\"\",PÚ!$N$38)","v":""},{"$f":"IF($C83=\"\",\"\",'4x100m'!$G$38)","v":""},{"$f":"IF($C83=\"\",\"\",'4x100m'!$N$38)","v":""},{"$f":"IF($C83=\"\",\"\",'PJ-C'!$O$116)","v":""},{"$f":"IF($C83=\"\",\"\",'PJ-C'!$Q$116)","v":""},null,{"$f":"IF($C83=\"\",\"\",Výsledky!H40)","v":""},{"$f":"IF($C83=\"\",\"\",Výsledky!I40)","v":""},null,{"$f":"IF($C83=\"\",\"\",IF($M83=\"X\",\"\",MATCH($C83,Výsledky!$M$7:$M$56,0)))","v":""}]
[null,null,null,null,{"$f":"IF($C83=\"\",\"\",PÚ!$K$38)","v":""},null,{"$f":"IF($C83=\"\",\"\",'4x100m'!$K$38)","v":""}]
[null,{"$f":"Start!$B41","v":35},{"$f":"IF(Start!$G16=\"\",\"\",Start!$G16)","v":""},{"$f":"IF(Start!$H16=\"\",\"\",Start!$H16)","v":""},{"$f":"IF($C85=\"\",\"\",PÚ!$G$39)","v":""},{"$f":"IF($C85=\"\",\"\",PÚ!$N$39)","v":""},{"$f":"IF($C85=\"\",\"\",'4x100m'!$G$39)","v":""},{"$f":"IF($C85=\"\",\"\",'4x100m'!$N$39)","v":""},{"$f":"IF($C85=\"\",\"\",'PJ-C'!$O$119)","v":""},{"$f":"IF($C85=\"\",\"\",'PJ-C'!$Q$119)","v":""},null,{"$f":"IF($C85=\"\",\"\",Výsledky!H41)","v":""},{"$f":"IF($C85=\"\",\"\",Výsledky!I41)","v":""},null,{"$f":"IF($C85=\"\",\"\",IF($M85=\"X\",\"\",MATCH($C85,Výsledky!$M$7:$M$56,0)))","v":""}]
[null,null,null,null,{"$f":"IF($C85=\"\",\"\",PÚ!$K$39)","v":""},null,{"$f":"IF($C85=\"\",\"\",'4x100m'!$K$39)","v":""}]
[null,{"$f":"Start!$B42","v":36},{"$f":"IF(Start!$G17=\"\",\"\",Start!$G17)","v":""},{"$f":"IF(Start!$H17=\"\",\"\",Start!$H17)","v":""},{"$f":"IF($C87=\"\",\"\",PÚ!$G$40)","v":""},{"$f":"IF($C87=\"\",\"\",PÚ!$N$40)","v":""},{"$f":"IF($C87=\"\",\"\",'4x100m'!$G$40)","v":""},{"$f":"IF($C87=\"\",\"\",'4x100m'!$N$40)","v":""},{"$f":"IF($C87=\"\",\"\",'PJ-C'!$O$122)","v":""},{"$f":"IF($C87=\"\",\"\",'PJ-C'!$Q$122)","v":""},null,{"$f":"IF($C87=\"\",\"\",Výsledky!H42)","v":""},{"$f":"IF($C87=\"\",\"\",Výsledky!I42)","v":""},null,{"$f":"IF($C87=\"\",\"\",IF($M87=\"X\",\"\",MATCH($C87,Výsledky!$M$7:$M$56,0)))","v":""}]
[null,null,null,null,{"$f":"IF($C87=\"\",\"\",PÚ!$K$40)","v":""},null,{"$f":"IF($C87=\"\",\"\",'4x100m'!$K$40)","v":""}]
[null,{"$f":"Start!$B43","v":37},{"$f":"IF(Start!$G18=\"\",\"\",Start!$G18)","v":""},{"$f":"IF(Start!$H18=\"\",\"\",Start!$H18)","v":""},{"$f":"IF($C89=\"\",\"\",PÚ!$G$41)","v":""},{"$f":"IF($C89=\"\",\"\",PÚ!$N$41)","v":""},{"$f":"IF($C89=\"\",\"\",'4x100m'!$G$41)","v":""},{"$f":"IF($C89=\"\",\"\",'4x100m'!$N$41)","v":""},{"$f":"IF($C89=\"\",\"\",'PJ-C'!$O$125)","v":""},{"$f":"IF($C89=\"\",\"\",'PJ-C'!$Q$125)","v":""},null,{"$f":"IF($C89=\"\",\"\",Výsledky!H43)","v":""},{"$f":"IF($C89=\"\",\"\",Výsledky!I43)","v":""},null,{"$f":"IF($C89=\"\",\"\",IF($M89=\"X\",\"\",MATCH($C89,Výsledky!$M$7:$M$56,0)))","v":""}]
[null,null,null,null,{"$f":"IF($C89=\"\",\"\",PÚ!$K$41)","v":""},null,{"$f":"IF($C89=\"\",\"\",'4x100m'!$K$41)","v":""}]
[null,{"$f":"Start!$B44","v":38},{"$f":"IF(Start!$G19=\"\",\"\",Start!$G19)","v":""},{"$f":"IF(Start!$H19=\"\",\"\",Start!$H19)","v":""},{"$f":"IF($C91=\"\",\"\",PÚ!$G$42)","v":""},{"$f":"IF($C91=\"\",\"\",PÚ!$N$42)","v":""},{"$f":"IF($C91=\"\",\"\",'4x100m'!$G$42)","v":""},{"$f":"IF($C91=\"\",\"\",'4x100m'!$N$42)","v":""},{"$f":"IF($C91=\"\",\"\",'PJ-C'!$O$128)","v":""},{"$f":"IF($C91=\"\",\"\",'PJ-C'!$Q$128)","v":""},null,{"$f":"IF($C91=\"\",\"\",Výsledky!H44)","v":""},{"$f":"IF($C91=\"\",\"\",Výsledky!I44)","v":""},null,{"$f":"IF($C91=\"\",\"\",IF($M91=\"X\",\"\",MATCH($C91,Výsledky!$M$7:$M$56,0)))","v":""}]
[null,null,null,null,{"$f":"IF($C91=\"\",\"\",PÚ!$K$42)","v":""},null,{"$f":"IF($C91=\"\",\"\",'4x100m'!$K$42)","v":""}]
[null,{"$f":"Start!$B45","v":39},{"$f":"IF(Start!$G20=\"\",\"\",Start!$G20)","v":""},{"$f":"IF(Start!$H20=\"\",\"\",Start!$H20)","v":""},{"$f":"IF($C93=\"\",\"\",PÚ!$G$43)","v":""},{"$f":"IF($C93=\"\",\"\",PÚ!$N$43)","v":""},{"$f":"IF($C93=\"\",\"\",'4x100m'!$G$43)","v":""},{"$f":"IF($C93=\"\",\"\",'4x100m'!$N$43)","v":""},{"$f":"IF($C93=\"\",\"\",'PJ-C'!$O$131)","v":""},{"$f":"IF($C93=\"\",\"\",'PJ-C'!$Q$131)","v":""},null,{"$f":"IF($C93=\"\",\"\",Výsledky!H45)","v":""},{"$f":"IF($C93=\"\",\"\",Výsledky!I45)","v":""},null,{"$f":"IF($C93=\"\",\"\",IF($M93=\"X\",\"\",MATCH($C93,Výsledky!$M$7:$M$56,0)))","v":""}]
[null,null,null,null,{"$f":"IF($C93=\"\",\"\",PÚ!$K$43)","v":""},null,{"$f":"IF($C93=\"\",\"\",'4x100m'!$K$43)","v":""}]
[null,{"$f":"Start!$B46","v":40},{"$f":"IF(Start!$G21=\"\",\"\",Start!$G21)","v":""},{"$f":"IF(Start!$H21=\"\",\"\",Start!$H21)","v":""},{"$f":"IF($C95=\"\",\"\",PÚ!$G$44)","v":""},{"$f":"IF($C95=\"\",\"\",PÚ!$N$44)","v":""},{"$f":"IF($C95=\"\",\"\",'4x100m'!$G$44)","v":""},{"$f":"IF($C95=\"\",\"\",'4x100m'!$N$44)","v":""},{"$f":"IF($C95=\"\",\"\",'PJ-C'!$O$134)","v":""},{"$f":"IF($C95=\"\",\"\",'PJ-C'!$Q$134)","v":""},null,{"$f":"IF($C95=\"\",\"\",Výsledky!H46)","v":""},{"$f":"IF($C95=\"\",\"\",Výsledky!I46)","v":""},null,{"$f":"IF($C95=\"\",\"\",IF($M95=\"X\",\"\",MATCH($C95,Výsledky!$M$7:$M$56,0)))","v":""}]
[null,null,null,null,{"$f":"IF($C95=\"\",\"\",PÚ!$K$44)","v":""},null,{"$f":"IF($C95=\"\",\"\",'4x100m'!$K$44)","v":""}]

{"sheet":"Tisk-v3","index":28,"n_rows":96,"n_cols":17,"rows_kept":96,"cut":false,"hidden":false,"merged":[[5,1,7,1],[5,2,7,2],[5,3,7,3],[5,4,5,5],[6,5,7,5],[5,6,5,7],[0,1,0,16],[2,2,2,5],[2,6,2,16],[4,4,4,5],[4,6,4,7],[4,8,4,9],[4,10,4,11],[5,8,5,9],[5,13,7,14],[5,16,7,16],[6,7,7,7],[6,9,7,9],[6,12,7,12],[6,15,7,15],[5,10,5,11],[6,11,7,11],[8,16,9,16],[10,0,11,0],[10,1,11,1],[10,2,11,2],[10,3,11,3],[10,5,11,5],[10,7,11,7],[10,8,11,8],[10,9,11,9],[10,12,11,12],[8,8,9,8],[8,9,9,9],[8,12,9,12],[8,13,9,13],[8,14,9,14],[8,15,9,15],[8,0,9,0],[8,1,9,1],[8,2,9,2],[8,3,9,3],[8,5,9,5],[8,7,9,7],[10,13,11,13],[10,14,11,14],[14,8,15,8],[14,9,15,9],[14,12,15,12],[10,15,11,15],[10,16,11,16],[12,0,13,0],[12,1,13,1],[12,2,13,2],[12,3,13,3],[12,5,13,5],[12,7,13,7],[12,16,13,16],[12,8,13,8],[12,9,13,9],[12,12,13,12],[12,13,13,13],[12,14,13,14],[12,15,13,15],[14,13,15,13],[14,14,15,14],[14,15,15,15],[14,16,15,16],[14,10,15,10],[14,11,15,11],[16,0,17,0],[16,1,17,1],[16,2,17,2],[16,3,17,3],[16,5,17,5],[16,7,17,7],[16,16,17,16],[16,8,17,8],[16,9,17,9],[16,12,17,12],[16,13,17,13],[16,14,17,14],[16,15,17,15],[16,10,17,10],[16,11,17,11],[14,0,15,0],[14,1,15,1],[14,2,15,2],[14,3,15,3],[14,5,15,5],[14,7,15,7],[18,16,19,16],[20,0,21,0],[20,1,21,1],[20,2,21,2],[20,3,21,3],[20,5,21,5],[20,7,21,7],[20,16,21,16],[20,8,21,8],[20,9,21,9],[20,12,21,12],[20,13,21,13],[20,14,21,14],[20,15,21,15],[20,10,21,10],[20,11,21,11],[18,10,19,10],[18,11,19,11],[18,0,19,0],[18,1,19,1],[18,2,19,2],[18,3,19,3],[18,5,19,5],[18,7,19,7],[22,8,23,8],[22,9,23,9],[22,12,23,12],[18,13,19,13],[18,14,19,14],[18,15,19,15],[18,8,19,8],[18,9,19,9],[18,12,19,12],[22,13,23,13],[22,14,23,14],[22,15,23,15],[22,16,23,16],[24,0,25,0],[24,1,25,1],[24,2,25,2],[24,3,25,3],[24,5,25,5],[24,7,25,7],[24,16,25,16],[24,8,25,8],[24,9,25,9],[24,12,25,12],[24,13,25,13],[24,14,25,14],[24,15,25,15],[22,10,23,10],[22,11,23,11],[24,10,25,10],[24,11,25,11],[22,0,23,0],[22,1,23,1],[22,2,23,2],[22,3,23,3],[22,5,23,5],[22,7,23,7],[26,16,27,16],[28,0,29,0],[28,1,29,1],[28,2,29,2],[28,3,29,3],[28,5,29,5],[28,7,29,7],[28,16,29,16],[28,8,29,8],[28,9,29,9],[28,12,29,12],[28,13,29,13],[28,14,29,14],[28,15,29,15],[28,10,29,10],[28,11,29,11],[26,10,27,10],[26,11,27,11],[26,0,27,0],[26,1,27,1],[26,2,27,2],[26,3,27,3],[26,5,27,5],[26,7,27,7],[30,8,31,8],[30,9,31,9],[30,12,31,12],[26,13,27,13],[26,14,27,14],[26,15,27,15],[26,8,27,8],[26,9,27,9],[26,12,27,12],[30,13,31,13],[30,14,31,14],[30,15,31,15],[30,16,31,16],[32,0,33,0],[32,1,33,1],[32,2,33,2],[32,3,33,3],[32,5,33,5],[32,7,33,7],[32,16,33,16],[32,8,33,8],[32,9,33,9],[32,12,33,12],[32,13,33,13],[32,14,33,14],[32,15,33,15],[30,10,31,10],[30,11,31,11],[32,10,33,10],[32,11,33,11],[30,0,31,0],[30,1,31,1],[30,2,31,2],[30,3,31,3],[30,5,31,5],[30,7,31,7],[34,16,35,16],[36,0,37,0],[36,1,37,1],[36,2,37,2],[36,3,37,3],[36,5,37,5],[36,7,37,7],[36,16,37,16],[36,8,37,8],[36,9,37,9],[36,12,37,12],[36,13,37,13],[36,14,37,14],[36,15,37,15],[36,10,37,10],[36,11,37,11],[34,10,35,10],[34,11,35,11],[34,0,35,0],[34,1,35,1],[34,2,35,2],[34,3,35,3],[34,5,35,5],[34,7,35,7],[38,3,39,3],[38,5,39,5],[38,7,39,7],[38,8,39,8],[38,9,39,9],[38,12,39,12],[34,13,35,13],[34,14,35,14],[34,15,35,15],[34,8,35,8],[34,9,35,9],[34,12,35,12],[42,7,43,7],[42,8,43,8],[42,9,43,9],[42,12,43,12],[38,13,39,13],[38,14,39,14],[38,15,39,15],[38,16,39,16],[40,0,41,0],[40,1,41,1],[40,2,41,2],[40,3,41,3],[40,5,41,5],[40,7,41,7],[40,16,41,16],[40,8,41,8],[40,9,41,9],[40,12,41,12],[40,13,41,13],[40,14,41,14],[40,15,41,15],[38,0,39,0],[38,1,39,1],[38,2,39,2],[42,13,43,13],[42,14,43,14],[42,15,43,15],[42,16,43,16],[44,0,45,0],[44,1,45,1],[44,2,45,2],[44,3,45,3],[44,5,45,5],[44,7,45,7],[44,16,45,16],[44,8,45,8],[44,9,45,9],[44,12,45,12],[44,13,45,13],[44,14,45,14],[44,15,45,15],[44,10,45,10],[44,11,45,11],[42,0,43,0],[42,1,43,1],[42,2,43,2],[42,3,43,3],[42,5,43,5],[46,0,47,0],[46,1,47,1],[46,2,47,2],[46,3,47,3],[46,5,47,5],[46,7,47,7],[46,8,47,8],[46,9,47,9],[46,12,47,12],[46,13,47,13],[46,14,47,14],[46,15,47,15],[46,16,47,16],[48,1,48,16],[50,2,50,5],[50,6,50,16],[46,10,47,10],[46,11,47,11],[52,4,52,5],[52,6,52,7],[52,8,52,9],[52,10,52,11],[53,1,55,1],[53,2,55,2],[53,3,55,3],[53,4,53,5],[54,5,55,5],[53,6,53,7],[53,8,53,9],[53,13,55,14],[53,16,55,16],[54,7,55,7],[54,9,55,9],[54,12,55,12],[54,15,55,15],[53,10,53,11],[54,11,55,11],[56,16,57,16],[56,8,57,8],[56,9,57,9],[56,12,57,12],[56,13,57,13],[56,14,57,14],[56,15,57,15],[56,10,57,10],[56,11,57,11],[56,0,57,0],[56,1,57,1],[56,2,57,2],[56,3,57,3],[56,5,57,5],[56,7,57,7],[58,13,59,13],[58,14,59,14],[58,15,59,15],[58,10,59,10],[58,11,59,11],[58,0,59,0],[58,1,59,1],[58,2,59,2],[58,3,59,3],[58,5,59,5],[58,7,59,7],[58,8,59,8],[58,9,59,9],[58,12,59,12],[58,16,59,16],[60,0,61,0],[60,1,61,1],[60,2,61,2],[60,3,61,3],[60,5,61,5],[60,7,61,7],[60,16,61,16],[62,0,63,0],[62,1,63,1],[62,2,63,2],[62,3,63,3],[62,5,63,5],[62,7,63,7],[62,8,63,8],[62,9,63,9],[62,12,63,12],[60,8,61,8],[60,9,61,9],[60,12,61,12],[60,13,61,13],[60,14,61,14],[60,15,61,15],[62,13,63,13],[62,14,63,14],[62,15,63,15],[62,16,63,16],[64,0,65,0],[64,1,65,1],[64,2,65,2],[64,3,65,3],[64,5,65,5],[64,7,65,7],[64,16,65,16],[64,8,65,8],[64,9,65,9],[64,12,65,12],[64,13,65,13],[64,14,65,14],[64,15,65,15],[64,10,65,10],[64,11,65,11],[68,16,69,16],[68,8,69,8],[68,9,69,9],[68,12,69,12],[68,13,69,13],[68,14,69,14],[68,15,69,15],[66,9,67,9],[66,12,67,12],[66,13,67,13],[66,14,67,14],[66,15,67,15],[66,16,67,16],[66,0,67,0],[66,1,67,1],[66,2,67,2],[66,3,67,3],[66,5,67,5],[66,7,67,7],[66,8,67,8],[70,13,71,13],[70,14,71,14],[68,0,69,0],[68,1,69,1],[68,2,69,2],[68,3,69,3],[68,5,69,5],[68,7,69,7],[70,15,71,15],[70,16,71,16],[72,0,73,0],[72,1,73,1],[72,2,73,2],[72,3,73,3],[72,5,73,5],[72,7,73,7],[70,0,71,0],[70,1,71,1],[70,2,71,2],[70,3,71,3],[70,5,71,5],[70,7,71,7],[70,8,71,8],[70,9,71,9],[70,12,71,12],[74,16,75,16],[76,0,77,0],[76,1,77,1],[76,2,77,2],[76,3,77,3],[76,5,77,5],[76,7,77,7],[72,16,73,16],[74,0,75,0],[74,1,75,1],[74,2,75,2],[74,3,75,3],[74,5,75,5],[74,7,75,7],[74,8,75,8],[74,9,75,9],[74,12,75,12],[72,8,73,8],[72,9,73,9],[72,12,73,12],[72,13,73,13],[72,14,73,14],[72,15,73,15],[74,10,75,10],[78,16,79,16],[80,0,81,0],[80,1,81,1],[80,2,81,2],[80,3,81,3],[80,5,81,5],[80,7,81,7],[76,16,77,16],[78,0,79,0],[78,1,79,1],[78,2,79,2],[78,3,79,3],[78,5,79,5],[78,7,79,7],[78,8,79,8],[78,9,79,9],[78,12,79,12],[76,8,77,8],[76,9,77,9],[76,12,77,12],[76,13,77,13],[76,14,77,14],[76,15,77,15],[76,10,77,10],[82,16,83,16],[84,0,85,0],[84,1,85,1],[84,2,85,2],[84,3,85,3],[84,5,85,5],[84,7,85,7],[80,16,81,16],[82,0,83,0],[82,1,83,1],[82,2,83,2],[82,3,83,3],[82,5,83,5],[82,7,83,7],[82,8,83,8],[82,9,83,9],[82,12,83,12],[80,8,81,8],[80,9,81,9],[80,12,81,12],[80,13,81,13],[80,14,81,14],[80,15,81,15],[80,10,81,10],[86,16,87,16],[88,0,89,0],[88,1,89,1],[88,2,89,2],[88,3,89,3],[88,5,89,5],[88,7,89,7],[84,16,85,16],[86,0,87,0],[86,1,87,1],[86,2,87,2],[86,3,87,3],[86,5,87,5],[86,7,87,7],[86,8,87,8],[86,9,87,9],[86,12,87,12],[84,8,85,8],[84,9,85,9],[84,12,85,12],[84,13,85,13],[84,14,85,14],[84,15,85,15],[90,16,91,16],[92,0,93,0],[92,1,93,1],[92,2,93,2],[92,3,93,3],[92,5,93,5],[92,7,93,7],[88,16,89,16],[90,0,91,0],[90,1,91,1],[90,2,91,2],[90,3,91,3],[90,5,91,5],[90,7,91,7],[90,8,91,8],[90,9,91,9],[90,12,91,12],[88,8,89,8],[88,9,89,9],[88,12,89,12],[88,13,89,13],[88,14,89,14],[88,15,89,15],[88,10,89,10],[94,16,95,16],[8,10,9,10],[8,11,9,11],[10,10,11,10],[10,11,11,11],[12,10,13,10],[12,11,13,11],[92,16,93,16],[94,0,95,0],[94,1,95,1],[94,2,95,2],[94,3,95,3],[94,5,95,5],[94,7,95,7],[94,8,95,8],[94,9,95,9],[94,12,95,12],[92,8,93,8],[92,9,93,9],[92,12,93,12],[92,13,93,13],[92,14,93,14],[92,15,93,15],[90,13,91,13],[94,13,95,13],[94,14,95,14],[94,15,95,15],[90,14,91,14],[90,15,91,15],[88,11,89,11],[86,13,87,13],[86,14,87,14],[86,15,87,15],[82,13,83,13],[82,14,83,14],[82,15,83,15],[80,11,81,11],[78,13,79,13],[78,14,79,14],[78,15,79,15],[74,13,75,13],[74,14,75,14],[74,15,75,15],[74,11,75,11],[76,11,77,11],[60,10,61,10],[60,11,61,11],[62,10,63,10],[62,11,63,11],[38,10,39,10],[38,11,39,11],[40,10,41,10],[40,11,41,11],[42,10,43,10],[42,11,43,11],[78,10,79,10],[78,11,79,11],[66,10,67,10],[66,11,67,11],[68,10,69,10],[68,11,69,11],[70,10,71,10],[70,11,71,11],[72,10,73,10],[72,11,73,11],[90,10,91,10],[90,11,91,11],[92,10,93,10],[92,11,93,11],[94,10,95,10],[94,11,95,11],[82,10,83,10],[82,11,83,11],[84,10,85,10],[84,11,85,11],[86,10,87,10],[86,11,87,11]]}
[null,"Celkové Výsledky"]
[]
[null,null,{"$f":"Start!B2","v":"VC ČR v požárním útoku družstev HZS krajů a HZS podniků"},null,null,null,{"$f":"Start!B3","v":"Petrovice 19.9.2019"}]
[]
[null,null,{"$f":"Start!$C$5","v":"MUŽI"}]
[null," startovní číslo"," SDH",{"$f":"Start!$D$6","v":"Okres / Kraj"}," PÚ",null," Štafeta 4x100m",null,"100m",null,"Věž",null,null,"Celkový součet pořadí",null,null,"Celkové pořadí"]
[null,null,null,null,"1.pokus","P.","1.pokus","P.","Součet","P.","Součet","P."]
[null,null,null,null,"2.pokus",null,"2.pokus",null,"Družstva",null,"Družstva"]
[null,{"$f":"Start!$B7","v":1},{"$f":"IF(Start!$C7=\"\",\"\",Start!$C7)","v":"HZS Jihočeského kraje"},{"$f":"IF(Start!$D7=\"\",\"\",Start!$D7)","v":"ÚO J. Hradec"},{"$f":"IF($C$9=\"\",\"\",PÚ!$G$5)","v":"NP"},{"$f":"IF($C9=\"\",\"\",PÚ!$N$5)","v":6},{"$f":"IF($C$9=\"\",\"\",'4x100m'!$G$5)","v":0},{"$f":"IF($C9=\"\",\"\",'4x100m'!$N$5)","v":1},{"$f":"IF($C9=\"\",\"\",IF(Seznam!$H$5=0,\"\",'PJ-C'!$O$5))","v":""},{"$f":"IF($C9=\"\",\"\",IF(Seznam!$H$5=0,\"\",'PJ-C'!$Q$5))","v":""},{"$f":"IF($C9=\"\",\"\",IF(Seznam!$J$5=0,\"\",'V-C'!$O$5))","v":""},{"$f":"IF($C9=\"\",\"\",IF(Seznam!$J$5=0,\"\",'V-C'!$Q$5))","v":""},null,{"$f":"IF($C9=\"\",\"\",Výsledky3!H7)","v":7},{"$f":"IF($C9=\"\",\"\",Výsledky3!I7)","v":""},null,{"$f":"IF($C9=\"\",\"\",VLOOKUP($B9,POM!$A$1:$H$50,8))","v":11}]
[null,null,null,null,{"$f":"IF($C$9=\"\",\"\",PÚ!$K$5)","v":29.2},null,{"$f":"IF($C$9=\"\",\"\",'4x100m'!$K$5)","v":"DNF"}]
[null,{"$f":"Start!$B8","v":2},{"$f":"IF(Start!$C8=\"\",\"\",Start!$C8)","v":"HZS Kraje Vysočina"},{"$f":"IF(Start!$D8=\"\",\"\",Start!$D8)","v":""},{"$f":"IF($C$11=\"\",\"\",PÚ!$G$6)","v":37.450000000000003},{"$f":"IF($C11=\"\",\"\",PÚ!$N$6)","v":8},{"$f":"IF($C$11=\"\",\"\",'4x100m'!$G$6)","v":0},{"$f":"IF($C11=\"\",\"\",'4x100m'!$N$6)","v":1},{"$f":"IF($C11=\"\",\"\",IF(Seznam!$H$5=0,\"\",'PJ-C'!$O$8))","v":""},{"$f":"IF($C11=\"\",\"\",IF(Seznam!$H$5=0,\"\",'PJ-C'!$Q$8))","v":""},{"$f":"IF($C11=\"\",\"\",IF(Seznam!$J$5=0,\"\",'V-C'!$O$8))","v":""},{"$f":"IF($C11=\"\",\"\",IF(Seznam!$J$5=0,\"\",'V-C'!$Q$8))","v":""},null,{"$f":"IF($C11=\"\",\"\",Výsledky3!H8)","v":9},{"$f":"IF($C11=\"\",\"\",Výsledky3!I8)","v":""},null,{"$f":"IF($C11=\"\",\"\",VLOOKUP($B11,POM!$A$1:$H$50,8))","v":11}]
[null,null,null,null,{"$f":"IF($C$11=\"\",\"\",PÚ!$K$6)","v":38.299999999999997},null,{"$f":"IF($C$11=\"\",\"\",'4x100m'!$K$6)","v":"DNF"}]
[null,{"$f":"Start!$B9","v":3},{"$f":"IF(Start!$C9=\"\",\"\",Start!$C9)","v":"HZS Zlínského Kraje"},{"$f":"IF(Start!$D9=\"\",\"\",Start!$D9)","v":""},{"$f":"IF($C$13=\"\",\"\",PÚ!$G$7)","v":25.43},{"$f":"IF($C13=\"\",\"\",PÚ!$N$7)","v":1},{"$f":"IF($C$13=\"\",\"\",'4x100m'!$G$7)","v":0},{"$f":"IF($C13=\"\",\"\",'4x100m'!$N$7)","v":1},{"$f":"IF($C13=\"\",\"\",IF(Seznam!$H$5=0,\"\",'PJ-C'!$O$11))","v":""},{"$f":"IF($C13=\"\",\"\",IF(Seznam!$H$5=0,\"\",'PJ-C'!$Q$11))","v":""},{"$f":"IF($C13=\"\",\"\",IF(Seznam!$J$5=0,\"\",'V-C'!$O$11))","v":""},{"$f":"IF($C13=\"\",\"\",IF(Seznam!$J$5=0,\"\",'V-C'!$Q$11))","v":""},null,{"$f":"IF($C13=\"\",\"\",Výsledky3!H9)","v":2},{"$f":"IF($C13=\"\",\"\",Výsledky3!I9)","v":""},null,{"$f":"IF($C13=\"\",\"\",VLOOKUP($B13,POM!$A$1:$H$50,8))","v":11}]
[null,null,null,null,{"$f":"IF($C$13=\"\",\"\",PÚ!$K$7)","v":27.37},null,{"$f":"IF($C$13=\"\",\"\",'4x100m'!$K$7)","v":"DNF"}]
[null,{"$f":"Start!$B10","v":4},{"$f":"IF(Start!$C10=\"\",\"\",Start!$C10)","v":"HZS správa železnic"},{"$f":"IF(Start!$D10=\"\",\"\",Start!$D10)","v":"JPO Plzeň"},{"$f":"IF($C$15=\"\",\"\",PÚ!$G$8)","v":27.58},{"$f":"IF($C15=\"\",\"\",PÚ!$N$8)","v":2},{"$f":"IF($C$15=\"\",\"\",'4x100m'!$G$8)","v":0},{"$f":"IF($C15=\"\",\"\",'4x100m'!$N$8)","v":1},{"$f":"IF($C15=\"\",\"\",IF(Seznam!$H$5=0,\"\",'PJ-C'!$O$14))","v":""},{"$f":"IF($C15=\"\",\"\",IF(Seznam!$H$5=0,\"\",'PJ-C'!$Q$14))","v":""},{"$f":"IF($C15=\"\",\"\",IF(Seznam!$J$5=0,\"\",'V-C'!$O$14))","v":""},{"$f":"IF($C15=\"\",\"\",IF(Seznam!$J$5=0,\"\",'V-C'!$Q$14))","v":""},null,{"$f":"IF($C15=\"\",\"\",Výsledky3!H10)","v":3},{"$f":"IF($C15=\"\",\"\",Výsledky3!I10)","v":""},null,{"$f":"IF($C15=\"\",\"\",VLOOKUP($B15,POM!$A$1:$H$50,8))","v":11}]
[null,null,null,null,{"$f":"IF($C$15=\"\",\"\",PÚ!$K$8)","v":"NP"},null,{"$f":"IF($C$15=\"\",\"\",'4x100m'!$K$8)","v":"DNF"}]
[null,{"$f":"Start!$B11","v":5},{"$f":"IF(Start!$C11=\"\",\"\",Start!$C11)","v":"HZS Libereckého Kraje"},{"$f":"IF(Start!$D11=\"\",\"\",Start!$D11)","v":""},{"$f":"IF($C$17=\"\",\"\",PÚ!$G$9)","v":41.84},{"$f":"IF($C17=\"\",\"\",PÚ!$N$9)","v":9},{"$f":"IF($C$17=\"\",\"\",'4x100m'!$G$9)","v":0},{"$f":"IF($C17=\"\",\"\",'4x100m'!$N$9)","v":1},{"$f":"IF($C17=\"\",\"\",IF(Seznam!$H$5=0,\"\",'PJ-C'!$O$17))","v":""},{"$f":"IF($C17=\"\",\"\",IF(Seznam!$H$5=0,\"\",'PJ-C'!$Q$17))","v":""},{"$f":"IF($C17=\"\",\"\",IF(Seznam!$J$5=0,\"\",'V-C'!$O$17))","v":""},{"$f":"IF($C17=\"\",\"\",IF(Seznam!$J$5=0,\"\",'V-C'!$Q$17))","v":""},null,{"$f":"IF($C17=\"\",\"\",Výsledky3!H11)","v":10},{"$f":"IF($C17=\"\",\"\",Výsledky3!I11)","v":""},null,{"$f":"IF($C17=\"\",\"\",VLOOKUP($B17,POM!$A$1:$H$50,8))","v":11}]
[null,null,null,null,{"$f":"IF($C$17=\"\",\"\",PÚ!$K$9)","v":"NP"},null,{"$f":"IF($C$17=\"\",\"\",'4x100m'!$K$9)","v":"DNF"}]
[null,{"$f":"Start!$B12","v":6},{"$f":"IF(Start!$C12=\"\",\"\",Start!$C12)","v":"HZS Pardubického Kraje"},{"$f":"IF(Start!$D12=\"\",\"\",Start!$D12)","v":"ÚO Pardubice"},{"$f":"IF($C$19=\"\",\"\",PÚ!$G$10)","v":28.59},{"$f":"IF($C19=\"\",\"\",PÚ!$N$10)","v":3},{"$f":"IF($C$19=\"\",\"\",'4x100m'!$G$10)","v":0},{"$f":"IF($C19=\"\",\"\",'4x100m'!$N$10)","v":1},{"$f":"IF($C19=\"\",\"\",IF(Seznam!$H$5=0,\"\",'PJ-C'!$O$20))","v":""},{"$f":"IF($C19=\"\",\"\",IF(Seznam!$H$5=0,\"\",'PJ-C'!$Q$20))","v":""},{"$f":"IF($C19=\"\",\"\",IF(Seznam!$J$5=0,\"\",'V-C'!$O$20))","v":""},{"$f":"IF($C19=\"\",\"\",IF(Seznam!$J$5=0,\"\",'V-C'!$Q$20))","v":""},null,{"$f":"IF($C19=\"\",\"\",Výsledky3!H12)","v":4},{"$f":"IF($C19=\"\",\"\",Výsledky3!I12)","v":""},null,{"$f":"IF($C19=\"\",\"\",VLOOKUP($B19,POM!$A$1:$H$50,8))","v":11}]
[null,null,null,null,{"$f":"IF($C$19=\"\",\"\",PÚ!$K$10)","v":31.71},null,{"$f":"IF($C$19=\"\",\"\",'4x100m'!$K$10)","v":"DNF"}]
[null,{"$f":"Start!$B13","v":7},{"$f":"IF(Start!$C13=\"\",\"\",Start!$C13)","v":"HZS Královohradeckého Kr."},{"$f":"IF(Start!$D13=\"\",\"\",Start!$D13)","v":""},{"$f":"IF($C$21=\"\",\"\",PÚ!$G$11)","v":29.14},{"$f":"IF($C21=\"\",\"\",PÚ!$N$11)","v":4},{"$f":"IF($C$21=\"\",\"\",'4x100m'!$G$11)","v":0},{"$f":"IF($C21=\"\",\"\",'4x100m'!$N$11)","v":1},{"$f":"IF($C21=\"\",\"\",IF(Seznam!$H$5=0,\"\",'PJ-C'!$O$23))","v":""},{"$f":"IF($C21=\"\",\"\",IF(Seznam!$H$5=0,\"\",'PJ-C'!$Q$23))","v":""},{"$f":"IF($C21=\"\",\"\",IF(Seznam!$J$5=0,\"\",'V-C'!$O$23))","v":""},{"$f":"IF($C21=\"\",\"\",IF(Seznam!$J$5=0,\"\",'V-C'!$Q$23))","v":""},null,{"$f":"IF($C21=\"\",\"\",Výsledky3!H13)","v":5},{"$f":"IF($C21=\"\",\"\",Výsledky3!I13)","v":""},null,{"$f":"IF($C21=\"\",\"\",VLOOKUP($B21,POM!$A$1:$H$50,8))","v":11}]
[null,null,null,null,{"$f":"IF($C$21=\"\",\"\",PÚ!$K$11)","v":39.71},null,{"$f":"IF($C$21=\"\",\"\",'4x100m'!$K$11)","v":"DNF"}]
[null,{"$f":"Start!$B14","v":8},{"$f":"IF(Start!$C14=\"\",\"\",Start!$C14)","v":"HZS Plzeňského Kraje"},{"$f":"IF(Start!$D14=\"\",\"\",Start!$D14)","v":"ÚO Domažlice"},{"$f":"IF($C$23=\"\",\"\",PÚ!$G$12)","v":31.37},{"$f":"IF($C23=\"\",\"\",PÚ!$N$12)","v":5},{"$f":"IF($C$23=\"\",\"\",'4x100m'!$G$12)","v":0},{"$f":"IF($C23=\"\",\"\",'4x100m'!$N$12)","v":1},{"$f":"IF($C23=\"\",\"\",IF(Seznam!$H$5=0,\"\",'PJ-C'!$O$26))","v":""},{"$f":"IF($C23=\"\",\"\",IF(Seznam!$H$5=0,\"\",'PJ-C'!$Q$26))","v":""},{"$f":"IF($C23=\"\",\"\",IF(Seznam!$J$5=0,\"\",'V-C'!$O$26))","v":""},{"$f":"IF($C23=\"\",\"\",IF(Seznam!$J$5=0,\"\",'V-C'!$Q$26))","v":""},null,{"$f":"IF($C23=\"\",\"\",Výsledky3!H14)","v":6},{"$f":"IF($C23=\"\",\"\",Výsledky3!I14)","v":""},null,{"$f":"IF($C23=\"\",\"\",VLOOKUP($B23,POM!$A$1:$H$50,8))","v":11}]
[null,null,null,null,{"$f":"IF($C$23=\"\",\"\",PÚ!$K$12)","v":29.15},null,{"$f":"IF($C$23=\"\",\"\",'4x100m'!$K$12)","v":"DNF"}]
[null,{"$f":"Start!$B15","v":9},{"$f":"IF(Start!$C15=\"\",\"\",Start!$C15)","v":"HZSP Deza"},{"$f":"IF(Start!$D15=\"\",\"\",Start!$D15)","v":""},{"$f":"IF($C$25=\"\",\"\",PÚ!$G$13)","v":42},{"$f":"IF($C25=\"\",\"\",PÚ!$N$13)","v":7},{"$f":"IF($C$25=\"\",\"\",'4x100m'!$G$13)","v":0},{"$f":"IF($C25=\"\",\"\",'4x100m'!$N$13)","v":1},{"$f":"IF($C25=\"\",\"\",IF(Seznam!$H$5=0,\"\",'PJ-C'!$O$29))","v":""},{"$f":"IF($C25=\"\",\"\",IF(Seznam!$H$5=0,\"\",'PJ-C'!$Q$29))","v":""},{"$f":"IF($C25=\"\",\"\",IF(Seznam!$J$5=0,\"\",'V-C'!$O$29))","v":""},{"$f":"IF($C25=\"\",\"\",IF(Seznam!$J$5=0,\"\",'V-C'!$Q$29))","v":""},null,{"$f":"IF($C25=\"\",\"\",Výsledky3!H15)","v":8},{"$f":"IF($C25=\"\",\"\",Výsledky3!I15)","v":""},null,{"$f":"IF($C25=\"\",\"\",VLOOKUP($B25,POM!$A$1:$H$50,8))","v":11}]
[null,null,null,null,{"$f":"IF($C$25=\"\",\"\",PÚ!$K$13)","v":36.5},null,{"$f":"IF($C$25=\"\",\"\",'4x100m'!$K$13)","v":"DNF"}]
[null,{"$f":"Start!$B16","v":10},{"$f":"IF(Start!$C16=\"\",\"\",Start!$C16)","v":""},{"$f":"IF(Start!$D16=\"\",\"\",Start!$D16)","v":""},{"$f":"IF($C$27=\"\",\"\",PÚ!$G$14)","v":""},{"$f":"IF($C27=\"\",\"\",PÚ!$N$14)","v":""},{"$f":"IF($C$27=\"\",\"\",'4x100m'!$G$14)","v":""},{"$f":"IF($C27=\"\",\"\",'4x100m'!$N$14)","v":""},{"$f":"IF($C27=\"\",\"\",IF(Seznam!$H$5=0,\"\",'PJ-C'!$O$32))","v":""},{"$f":"IF($C27=\"\",\"\",IF(Seznam!$H$5=0,\"\",'PJ-C'!$Q$32))","v":""},{"$f":"IF($C27=\"\",\"\",IF(Seznam!$J$5=0,\"\",'V-C'!$O$32))","v":""},{"$f":"IF($C27=\"\",\"\",IF(Seznam!$J$5=0,\"\",'V-C'!$Q$32))","v":""},null,{"$f":"IF($C27=\"\",\"\",Výsledky3!H16)","v":""},{"$f":"IF($C27=\"\",\"\",Výsledky3!I16)","v":""},null,{"$f":"IF($C27=\"\",\"\",VLOOKUP($B27,POM!$A$1:$H$50,8))","v":""}]
[null,null,null,null,{"$f":"IF($C$27=\"\",\"\",PÚ!$K$14)","v":""},null,{"$f":"IF($C$27=\"\",\"\",'4x100m'!$K$14)","v":""}]
[null,{"$f":"Start!$B17","v":11},{"$f":"IF(Start!$C17=\"\",\"\",Start!$C17)","v":""},{"$f":"IF(Start!$D17=\"\",\"\",Start!$D17)","v":""},{"$f":"IF($C$29=\"\",\"\",PÚ!$G$15)","v":""},{"$f":"IF($C29=\"\",\"\",PÚ!$N$15)","v":""},{"$f":"IF($C$29=\"\",\"\",'4x100m'!$G$15)","v":""},{"$f":"IF($C29=\"\",\"\",'4x100m'!$N$15)","v":""},{"$f":"IF($C29=\"\",\"\",IF(Seznam!$H$5=0,\"\",'PJ-C'!$O$39))","v":""},{"$f":"IF($C29=\"\",\"\",IF(Seznam!$H$5=0,\"\",'PJ-C'!$Q$39))","v":""},{"$f":"IF($C29=\"\",\"\",IF(Seznam!$J$5=0,\"\",'V-C'!$O$39))","v":""},{"$f":"IF($C29=\"\",\"\",IF(Seznam!$J$5=0,\"\",'V-C'!$Q$39))","v":""},null,{"$f":"IF($C29=\"\",\"\",Výsledky3!H17)","v":""},{"$f":"IF($C29=\"\",\"\",Výsledky3!I17)","v":""},null,{"$f":"IF($C29=\"\",\"\",VLOOKUP($B29,POM!$A$1:$H$50,8))","v":""}]
[null,null,null,null,{"$f":"IF($C$29=\"\",\"\",PÚ!$K$15)","v":""},null,{"$f":"IF($C$29=\"\",\"\",'4x100m'!$K$15)","v":""}]
[null,{"$f":"Start!$B18","v":12},{"$f":"IF(Start!$C18=\"\",\"\",Start!$C18)","v":""},{"$f":"IF(Start!$D18=\"\",\"\",Start!$D18)","v":""},{"$f":"IF($C$31=\"\",\"\",PÚ!$G$16)","v":""},{"$f":"IF($C31=\"\",\"\",PÚ!$N$16)","v":""},{"$f":"IF($C$31=\"\",\"\",'4x100m'!$G$16)","v":""},{"$f":"IF($C31=\"\",\"\",'4x100m'!$N$16)","v":""},{"$f":"IF($C31=\"\",\"\",IF(Seznam!$H$5=0,\"\",'PJ-C'!$O$42))","v":""},{"$f":"IF($C31=\"\",\"\",IF(Seznam!$H$5=0,\"\",'PJ-C'!$Q$42))","v":""},{"$f":"IF($C31=\"\",\"\",IF(Seznam!$J$5=0,\"\",'V-C'!$O$42))","v":""},{"$f":"IF($C31=\"\",\"\",IF(Seznam!$J$5=0,\"\",'V-C'!$Q$42))","v":""},null,{"$f":"IF($C31=\"\",\"\",Výsledky3!H18)","v":""},{"$f":"IF($C31=\"\",\"\",Výsledky3!I18)","v":""},null,{"$f":"IF($C31=\"\",\"\",VLOOKUP($B31,POM!$A$1:$H$50,8))","v":""}]
[null,null,null,null,{"$f":"IF($C$31=\"\",\"\",PÚ!$K$16)","v":""},null,{"$f":"IF($C$31=\"\",\"\",'4x100m'!$K$16)","v":""}]
[null,{"$f":"Start!$B19","v":13},{"$f":"IF(Start!$C19=\"\",\"\",Start!$C19)","v":""},{"$f":"IF(Start!$D19=\"\",\"\",Start!$D19)","v":""},{"$f":"IF($C$33=\"\",\"\",PÚ!$G$17)","v":""},{"$f":"IF($C33=\"\",\"\",PÚ!$N$17)","v":""},{"$f":"IF($C$33=\"\",\"\",'4x100m'!$G$17)","v":""},{"$f":"IF($C33=\"\",\"\",'4x100m'!$N$17)","v":""},{"$f":"IF($C33=\"\",\"\",IF(Seznam!$H$5=0,\"\",'PJ-C'!$O$45))","v":""},{"$f":"IF($C33=\"\",\"\",IF(Seznam!$H$5=0,\"\",'PJ-C'!$Q$45))","v":""},{"$f":"IF($C33=\"\",\"\",IF(Seznam!$J$5=0,\"\",'V-C'!$O$45))","v":""},{"$f":"IF($C33=\"\",\"\",IF(Seznam!$J$5=0,\"\",'V-C'!$Q$45))","v":""},null,{"$f":"IF($C33=\"\",\"\",Výsledky3!H19)","v":""},{"$f":"IF($C33=\"\",\"\",Výsledky3!I19)","v":""},null,{"$f":"IF($C33=\"\",\"\",VLOOKUP($B33,POM!$A$1:$H$50,8))","v":""}]
[null,null,null,null,{"$f":"IF($C$33=\"\",\"\",PÚ!$K$17)","v":""},null,{"$f":"IF($C$33=\"\",\"\",'4x100m'!$K$17)","v":""}]
[null,{"$f":"Start!$B20","v":14},{"$f":"IF(Start!$C20=\"\",\"\",Start!$C20)","v":""},{"$f":"IF(Start!$D20=\"\",\"\",Start!$D20)","v":""},{"$f":"IF($C$35=\"\",\"\",PÚ!$G$18)","v":""},{"$f":"IF($C35=\"\",\"\",PÚ!$N$18)","v":""},{"$f":"IF($C$35=\"\",\"\",'4x100m'!$G$18)","v":""},{"$f":"IF($C35=\"\",\"\",'4x100m'!$N$18)","v":""},{"$f":"IF($C35=\"\",\"\",IF(Seznam!$H$5=0,\"\",'PJ-C'!$O$48))","v":""},{"$f":"IF($C35=\"\",\"\",IF(Seznam!$H$5=0,\"\",'PJ-C'!$Q$48))","v":""},{"$f":"IF($C35=\"\",\"\",IF(Seznam!$J$5=0,\"\",'V-C'!$O$48))","v":""},{"$f":"IF($C35=\"\",\"\",IF(Seznam!$J$5=0,\"\",'V-C'!$Q$48))","v":""},null,{"$f":"IF($C35=\"\",\"\",Výsledky3!H20)","v":""},{"$f":"IF($C35=\"\",\"\",Výsledky3!I20)","v":""},null,{"$f":"IF($C35=\"\",\"\",VLOOKUP($B35,POM!$A$1:$H$50,8))","v":""}]
[null,null,null,null,{"$f":"IF($C$35=\"\",\"\",PÚ!$K$18)","v":""},null,{"$f":"IF($C$35=\"\",\"\",'4x100m'!$K$18)","v":""}]
[null,{"$f":"Start!$B21","v":15},{"$f":"IF(Start!$C21=\"\",\"\",Start!$C21)","v":""},{"$f":"IF(Start!$D21=\"\",\"\",Start!$D21)","v":""},{"$f":"IF($C$37=\"\",\"\",PÚ!$G$19)","v":""},{"$f":"IF($C37=\"\",\"\",PÚ!$N$19)","v":""},{"$f":"IF($C$37=\"\",\"\",'4x100m'!$G$19)","v":""},{"$f":"IF($C37=\"\",\"\",'4x100m'!$N$19)","v":""},{"$f":"IF($C37=\"\",\"\",IF(Seznam!$H$5=0,\"\",'PJ-C'!$O$51))","v":""},{"$f":"IF($C37=\"\",\"\",IF(Seznam!$H$5=0,\"\",'PJ-C'!$Q$51))","v":""},{"$f":"IF($C37=\"\",\"\",IF(Seznam!$J$5=0,\"\",'V-C'!$O$51))","v":""},{"$f":"IF($C37=\"\",\"\",IF(Seznam!$J$5=0,\"\",'V-C'!$Q$51))","v":""},null,{"$f":"IF($C37=\"\",\"\",Výsledky3!H21)","v":""},{"$f":"IF($C37=\"\",\"\",Výsledky3!I21)","v":""},null,{"$f":"IF($C37=\"\",\"\",VLOOKUP($B37,POM!$A$1:$H$50,8))","v":""}]
[null,null,null,null,{"$f":"IF($C$37=\"\",\"\",PÚ!$K$19)","v":""},null,{"$f":"IF($C$37=\"\",\"\",'4x100m'!$K$19)","v":""}]
[null,{"$f":"Start!$B22","v":16},{"$f":"IF(Start!$C22=\"\",\"\",Start!$C22)","v":""},{"$f":"IF(Start!$D22=\"\",\"\",Start!$D22)","v":""},{"$f":"IF($C$39=\"\",\"\",PÚ!$G$20)","v":""},{"$f":"IF($C39=\"\",\"\",PÚ!$N$20)","v":""},{"$f":"IF($C$39=\"\",\"\",'4x100m'!$G$20)","v":""},{"$f":"IF($C39=\"\",\"\",'4x100m'!$N$20)","v":""},{"$f":"IF($C39=\"\",\"\",IF(Seznam!$H$5=0,\"\",'PJ-C'!$O$54))","v":""},{"$f":"IF($C39=\"\",\"\",IF(Seznam!$H$5=0,\"\",'PJ-C'!$Q$54))","v":""},{"$f":"IF($C39=\"\",\"\",IF(Seznam!$J$5=0,\"\",'V-C'!$O$54))","v":""},{"$f":"IF($C39=\"\",\"\",IF(Seznam!$J$5=0,\"\",'V-C'!$Q$54))","v":""},null,{"$f":"IF($C39=\"\",\"\",Výsledky3!H22)","v":""},{"$f":"IF($C39=\"\",\"\",Výsledky3!I22)","v":""},null,{"$f":"IF($C39=\"\",\"\",VLOOKUP($B39,POM!$A$1:$H$50,8))","v":""}]
[null,null,null,null,{"$f":"IF($C$39=\"\",\"\",PÚ!$K$20)","v":""},null,{"$f":"IF($C$39=\"\",\"\",'4x100m'!$K$20)","v":""}]
[null,{"$f":"Start!$B23","v":17},{"$f":"IF(Start!$C23=\"\",\"\",Start!$C23)","v":""},{"$f":"IF(Start!$D23=\"\",\"\",Start!$D23)","v":""},{"$f":"IF($C$41=\"\",\"\",PÚ!$G$21)","v":""},{"$f":"IF($C41=\"\",\"\",PÚ!$N$21)","v":""},{"$f":"IF($C$41=\"\",\"\",'4x100m'!$G$21)","v":""},{"$f":"IF($C41=\"\",\"\",'4x100m'!$N$21)","v":""},{"$f":"IF($C41=\"\",\"\",IF(Seznam!$H$5=0,\"\",'PJ-C'!$O$57))","v":""},{"$f":"IF($C41=\"\",\"\",IF(Seznam!$H$5=0,\"\",'PJ-C'!$Q$57))","v":""},{"$f":"IF($C41=\"\",\"\",IF(Seznam!$J$5=0,\"\",'V-C'!$O$57))","v":""},{"$f":"IF($C41=\"\",\"\",IF(Seznam!$J$5=0,\"\",'V-C'!$Q$57))","v":""},null,{"$f":"IF($C41=\"\",\"\",Výsledky3!H23)","v":""},{"$f":"IF($C41=\"\",\"\",Výsledky3!I23)","v":""},null,{"$f":"IF($C41=\"\",\"\",VLOOKUP($B41,POM!$A$1:$H$50,8))","v":""}]
[null,null,null,null,{"$f":"IF($C$41=\"\",\"\",PÚ!$K$21)","v":""},null,{"$f":"IF($C$41=\"\",\"\",'4x100m'!$K$21)","v":""}]
[null,{"$f":"Start!$B24","v":18},{"$f":"IF(Start!$C24=\"\",\"\",Start!$C24)","v":""},{"$f":"IF(Start!$D24=\"\",\"\",Start!$D24)","v":""},{"$f":"IF($C$43=\"\",\"\",PÚ!$G$22)","v":""},{"$f":"IF($C43=\"\",\"\",PÚ!$N$22)","v":""},{"$f":"IF($C$43=\"\",\"\",'4x100m'!$G$22)","v":""},{"$f":"IF($C43=\"\",\"\",'4x100m'!$N$22)","v":""},{"$f":"IF($C43=\"\",\"\",IF(Seznam!$H$5=0,\"\",'PJ-C'!$O$60))","v":""},{"$f":"IF($C43=\"\",\"\",IF(Seznam!$H$5=0,\"\",'PJ-C'!$Q$60))","v":""},{"$f":"IF($C43=\"\",\"\",IF(Seznam!$J$5=0,\"\",'V-C'!$O$60))","v":""},{"$f":"IF($C43=\"\",\"\",IF(Seznam!$J$5=0,\"\",'V-C'!$Q$60))","v":""},null,{"$f":"IF($C43=\"\",\"\",Výsledky3!H24)","v":""},{"$f":"IF($C43=\"\",\"\",Výsledky3!I24)","v":""},null,{"$f":"IF($C43=\"\",\"\",VLOOKUP($B43,POM!$A$1:$H$50,8))","v":""}]
[null,null,null,null,{"$f":"IF($C$43=\"\",\"\",PÚ!$K$22)","v":""},null,{"$f":"IF($C$43=\"\",\"\",'4x100m'!$K$22)","v":""}]
[null,{"$f":"Start!$B25","v":19},{"$f":"IF(Start!$C25=\"\",\"\",Start!$C25)","v":""},{"$f":"IF(Start!$D25=\"\",\"\",Start!$D25)","v":""},{"$f":"IF($C$45=\"\",\"\",PÚ!$G$23)","v":""},{"$f":"IF($C45=\"\",\"\",PÚ!$N$23)","v":""},{"$f":"IF($C$45=\"\",\"\",'4x100m'!$G$23)","v":""},{"$f":"IF($C45=\"\",\"\",'4x100m'!$N$23)","v":""},{"$f":"IF($C45=\"\",\"\",IF(Seznam!$H$5=0,\"\",'PJ-C'!$O$63))","v":""},{"$f":"IF($C45=\"\",\"\",IF(Seznam!$H$5=0,\"\",'PJ-C'!$Q$63))","v":""},{"$f":"IF($C45=\"\",\"\",IF(Seznam!$J$5=0,\"\",'V-C'!$O$63))","v":""},{"$f":"IF($C45=\"\",\"\",IF(Seznam!$J$5=0,\"\",'V-C'!$Q$63))","v":""},null,{"$f":"IF($C45=\"\",\"\",Výsledky3!H25)","v":""},{"$f":"IF($C45=\"\",\"\",Výsledky3!I25)","v":""},null,{"$f":"IF($C45=\"\",\"\",VLOOKUP($B45,POM!$A$1:$H$50,8))","v":""}]
[null,null,null,null,{"$f":"IF($C$45=\"\",\"\",PÚ!$K$23)","v":""},null,{"$f":"IF($C$45=\"\",\"\",'4x100m'!$K$23)","v":""}]
[null,{"$f":"Start!$B26","v":20},{"$f":"IF(Start!$C26=\"\",\"\",Start!$C26)","v":""},{"$f":"IF(Start!$D26=\"\",\"\",Start!$D26)","v":""},{"$f":"IF($C$47=\"\",\"\",PÚ!$G$24)","v":""},{"$f":"IF($C47=\"\",\"\",PÚ!$N$24)","v":""},{"$f":"IF($C$47=\"\",\"\",'4x100m'!$G$24)","v":""},{"$f":"IF($C47=\"\",\"\",'4x100m'!$N$24)","v":""},{"$f":"IF($C47=\"\",\"\",IF(Seznam!$H$5=0,\"\",'PJ-C'!$O$66))","v":""},{"$f":"IF($C47=\"\",\"\",IF(Seznam!$H$5=0,\"\",'PJ-C'!$Q$66))","v":""},{"$f":"IF($C47=\"\",\"\",IF(Seznam!$J$5=0,\"\",'V-C'!$O$66))","v":""},{"$f":"IF($C47=\"\",\"\",IF(Seznam!$J$5=0,\"\",'V-C'!$Q$66))","v":""},null,{"$f":"IF($C47=\"\",\"\",Výsledky3!H26)","v":""},{"$f":"IF($C47=\"\",\"\",Výsledky3!I26)","v":""},null,{"$f":"IF($C47=\"\",\"\",VLOOKUP($B47,POM!$A$1:$H$50,8))","v":""}]
[null,null,null,null,{"$f":"IF($C$47=\"\",\"\",PÚ!$K$24)","v":""},null,{"$f":"IF($C$47=\"\",\"\",'4x100m'!$K$24)","v":""}]
[null,"Celkové Výsledky"]
[]
[null,null,{"$f":"C3","v":"VC ČR v požárním útoku družstev HZS krajů a HZS podniků"},null,null,null,{"$f":"G3","v":"Petrovice 19.9.2019"}]
[]
[null,null,{"$f":"Start!$C$5","v":"MUŽI"}]
[null," startovní číslo"," SDH",{"$f":"Start!$D$6","v":"Okres / Kraj"}," PÚ",null," Štafeta 4x100m",null,"100m",null,"Věž",null,null,"Celkový součet pořadí",null,null,"Celkové pořadí"]
[null,null,null,null,"1.pokus","P.","1.pokus","P.","Součet","P.","Součet","P."]
[null,null,null,null,"2.pokus",null,"2.pokus",null,"Družstva",null,"Družstva"]
[null,{"$f":"Start!$B27","v":21},{"$f":"IF(Start!$C27=\"\",\"\",Start!$C27)","v":""},{"$f":"IF(Start!$D27=\"\",\"\",Start!$D27)","v":""},{"$f":"IF($C57=\"\",\"\",PÚ!$G$25)","v":""},{"$f":"IF($C57=\"\",\"\",PÚ!$N$25)","v":""},{"$f":"IF($C57=\"\",\"\",'4x100m'!$G$25)","v":""},{"$f":"IF($C57=\"\",\"\",'4x100m'!$N$25)","v":""},{"$f":"IF($C57=\"\",\"\",IF(Seznam!$H$5=0,\"\",'PJ-C'!$O$73))","v":""},{"$f":"IF($C57=\"\",\"\",IF(Seznam!$H$5=0,\"\",'PJ-C'!$Q$73))","v":""},{"$f":"IF($C57=\"\",\"\",IF(Seznam!$J$5=0,\"\",'V-C'!$O$73))","v":""},{"$f":"IF($C57=\"\",\"\",IF(Seznam!$J$5=0,\"\",'V-C'!$Q$73))","v":""},null,{"$f":"IF($C57=\"\",\"\",Výsledky3!H27)","v":""},{"$f":"IF($C57=\"\",\"\",Výsledky3!I27)","v":""},null,{"$f":"IF($C57=\"\",\"\",VLOOKUP($B57,POM!$A$1:$H$50,8))","v":""}]
[null,null,null,null,{"$f":"IF($C57=\"\",\"\",PÚ!$K$25)","v":""},null,{"$f":"IF($C57=\"\",\"\",'4x100m'!$K$25)","v":""}]
[null,{"$f":"Start!$B28","v":22},{"$f":"IF(Start!$C28=\"\",\"\",Start!$C28)","v":""},{"$f":"IF(Start!$D28=\"\",\"\",Start!$D28)","v":""},{"$f":"IF($C59=\"\",\"\",PÚ!$G$26)","v":""},{"$f":"IF($C59=\"\",\"\",PÚ!$N$26)","v":""},{"$f":"IF($C59=\"\",\"\",'4x100m'!$G$26)","v":""},{"$f":"IF($C59=\"\",\"\",'4x100m'!$N$26)","v":""},{"$f":"IF($C59=\"\",\"\",IF(Seznam!$H$5=0,\"\",'PJ-C'!$O$76))","v":""},{"$f":"IF($C59=\"\",\"\",IF(Seznam!$H$5=0,\"\",'PJ-C'!$Q$76))","v":""},{"$f":"IF($C59=\"\",\"\",IF(Seznam!$J$5=0,\"\",'V-C'!$O$76))","v":""},{"$f":"IF($C59=\"\",\"\",IF(Seznam!$J$5=0,\"\",'V-C'!$Q$76))","v":""},null,{"$f":"IF($C59=\"\",\"\",Výsledky3!H28)","v":""},{"$f":"IF($C59=\"\",\"\",Výsledky3!I28)","v":""},null,{"$f":"IF($C59=\"\",\"\",VLOOKUP($B59,POM!$A$1:$H$50,8))","v":""}]
[null,null,null,null,{"$f":"IF($C59=\"\",\"\",PÚ!$K$26)","v":""},null,{"$f":"IF($C59=\"\",\"\",'4x100m'!$K$26)","v":""}]
[null,{"$f":"Start!$B29","v":23},{"$f":"IF(Start!$C29=\"\",\"\",Start!$C29)","v":""},{"$f":"IF(Start!$D29=\"\",\"\",Start!$D29)","v":""},{"$f":"IF($C61=\"\",\"\",PÚ!$G$27)","v":""},{"$f":"IF($C61=\"\",\"\",PÚ!$N$27)","v":""},{"$f":"IF($C61=\"\",\"\",'4x100m'!$G$27)","v":""},{"$f":"IF($C61=\"\",\"\",'4x100m'!$N$27)","v":""},{"$f":"IF($C61=\"\",\"\",IF(Seznam!$H$5=0,\"\",'PJ-C'!$O$79))","v":""},{"$f":"IF($C61=\"\",\"\",IF(Seznam!$H$5=0,\"\",'PJ-C'!$Q$79))","v":""},{"$f":"IF($C61=\"\",\"\",IF(Seznam!$J$5=0,\"\",'V-C'!$O$79))","v":""},{"$f":"IF($C61=\"\",\"\",IF(Seznam!$J$5=0,\"\",'V-C'!$Q$79))","v":""},null,{"$f":"IF($C61=\"\",\"\",Výsledky3!H29)","v":""},{"$f":"IF($C61=\"\",\"\",Výsledky3!I29)","v":""},null,{"$f":"IF($C61=\"\",\"\",VLOOKUP($B61,POM!$A$1:$H$50,8))","v":""}]
[null,null,null,null,{"$f":"IF($C61=\"\",\"\",PÚ!$K$27)","v":""},null,{"$f":"IF($C61=\"\",\"\",'4x100m'!$K$27)","v":""}]
[null,{"$f":"Start!$B30","v":24},{"$f":"IF(Start!$C30=\"\",\"\",Start!$C30)","v":""},{"$f":"IF(Start!$D30=\"\",\"\",Start!$D30)","v":""},{"$f":"IF($C63=\"\",\"\",PÚ!$G$28)","v":""},{"$f":"IF($C63=\"\",\"\",PÚ!$N$28)","v":""},{"$f":"IF($C63=\"\",\"\",'4x100m'!$G$28)","v":""},{"$f":"IF($C63=\"\",\"\",'4x100m'!$N$28)","v":""},{"$f":"IF($C63=\"\",\"\",IF(Seznam!$H$5=0,\"\",'PJ-C'!$O$82))","v":""},{"$f":"IF($C63=\"\",\"\",IF(Seznam!$H$5=0,\"\",'PJ-C'!$Q$82))","v":""},{"$f":"IF($C63=\"\",\"\",IF(Seznam!$J$5=0,\"\",'V-C'!$O$82))","v":""},{"$f":"IF($C63=\"\",\"\",IF(Seznam!$J$5=0,\"\",'V-C'!$Q$82))","v":""},null,{"$f":"IF($C63=\"\",\"\",Výsledky3!H30)","v":""},{"$f":"IF($C63=\"\",\"\",Výsledky3!I30)","v":""},null,{"$f":"IF($C63=\"\",\"\",VLOOKUP($B63,POM!$A$1:$H$50,8))","v":""}]
[null,null,null,null,{"$f":"IF($C63=\"\",\"\",PÚ!$K$28)","v":""},null,{"$f":"IF($C63=\"\",\"\",'4x100m'!$K$28)","v":""}]
[null,{"$f":"Start!$B31","v":25},{"$f":"IF(Start!$C31=\"\",\"\",Start!$C31)","v":""},{"$f":"IF(Start!$D31=\"\",\"\",Start!$D31)","v":""},{"$f":"IF($C65=\"\",\"\",PÚ!$G$29)","v":""},{"$f":"IF($C65=\"\",\"\",PÚ!$N$29)","v":""},{"$f":"IF($C65=\"\",\"\",'4x100m'!$G$29)","v":""},{"$f":"IF($C65=\"\",\"\",'4x100m'!$N$29)","v":""},{"$f":"IF($C65=\"\",\"\",IF(Seznam!$H$5=0,\"\",'PJ-C'!$O$85))","v":""},{"$f":"IF($C65=\"\",\"\",IF(Seznam!$H$5=0,\"\",'PJ-C'!$Q$85))","v":""},{"$f":"IF($C65=\"\",\"\",IF(Seznam!$J$5=0,\"\",'V-C'!$O$85))","v":""},{"$f":"IF($C65=\"\",\"\",IF(Seznam!$J$5=0,\"\",'V-C'!$Q$85))","v":""},null,{"$f":"IF($C65=\"\",\"\",Výsledky3!H31)","v":""},{"$f":"IF($C65=\"\",\"\",Výsledky3!I31)","v":""},null,{"$f":"IF($C65=\"\",\"\",VLOOKUP($B65,POM!$A$1:$H$50,8))","v":""}]
[null,null,null,null,{"$f":"IF($C65=\"\",\"\",PÚ!$K$29)","v":""},null,{"$f":"IF($C65=\"\",\"\",'4x100m'!$K$29)","v":""}]
[null,{"$f":"Start!$B32","v":26},{"$f":"IF(Start!$C32=\"\",\"\",Start!$C32)","v":""},{"$f":"IF(Start!$D32=\"\",\"\",Start!$D32)","v":""},{"$f":"IF($C67=\"\",\"\",PÚ!$G$30)","v":""},{"$f":"IF($C67=\"\",\"\",PÚ!$N$30)","v":""},{"$f":"IF($C67=\"\",\"\",'4x100m'!$G$30)","v":""},{"$f":"IF($C67=\"\",\"\",'4x100m'!$N$30)","v":""},{"$f":"IF($C67=\"\",\"\",IF(Seznam!$H$5=0,\"\",'PJ-C'!$O$88))","v":""},{"$f":"IF($C67=\"\",\"\",IF(Seznam!$H$5=0,\"\",'PJ-C'!$Q$88))","v":""},{"$f":"IF($C67=\"\",\"\",IF(Seznam!$J$5=0,\"\",'V-C'!$O$88))","v":""},{"$f":"IF($C67=\"\",\"\",IF(Seznam!$J$5=0,\"\",'V-C'!$Q$88))","v":""},null,{"$f":"IF($C67=\"\",\"\",Výsledky3!H32)","v":""},{"$f":"IF($C67=\"\",\"\",Výsledky3!I32)","v":""},null,{"$f":"IF($C67=\"\",\"\",VLOOKUP($B67,POM!$A$1:$H$50,8))","v":""}]
[null,null,null,null,{"$f":"IF($C67=\"\",\"\",PÚ!$K$30)","v":""},null,{"$f":"IF($C67=\"\",\"\",'4x100m'!$K$30)","v":""}]
[null,{"$f":"Start!$B33","v":27},{"$f":"IF(Start!$C33=\"\",\"\",Start!$C33)","v":""},{"$f":"IF(Start!$D33=\"\",\"\",Start!$D33)","v":""},{"$f":"IF($C69=\"\",\"\",PÚ!$G$31)","v":""},{"$f":"IF($C69=\"\",\"\",PÚ!$N$31)","v":""},{"$f":"IF($C69=\"\",\"\",'4x100m'!$G$31)","v":""},{"$f":"IF($C69=\"\",\"\",'4x100m'!$N$31)","v":""},{"$f":"IF($C69=\"\",\"\",IF(Seznam!$H$5=0,\"\",'PJ-C'!$O$91))","v":""},{"$f":"IF($C69=\"\",\"\",IF(Seznam!$H$5=0,\"\",'PJ-C'!$Q$91))","v":""},{"$f":"IF($C69=\"\",\"\",IF(Seznam!$J$5=0,\"\",'V-C'!$O$91))","v":""},{"$f":"IF($C69=\"\",\"\",IF(Seznam!$J$5=0,\"\",'V-C'!$Q$91))","v":""},null,{"$f":"IF($C69=\"\",\"\",Výsledky3!H33)","v":""},{"$f":"IF($C69=\"\",\"\",Výsledky3!I33)","v":""},null,{"$f":"IF($C69=\"\",\"\",VLOOKUP($B69,POM!$A$1:$H$50,8))","v":""}]
[null,null,null,null,{"$f":"IF($C69=\"\",\"\",PÚ!$K$31)","v":""},null,{"$f":"IF($C69=\"\",\"\",'4x100m'!$K$31)","v":""}]
[null,{"$f":"Start!$B34","v":28},{"$f":"IF(Start!$C34=\"\",\"\",Start!$C34)","v":""},{"$f":"IF(Start!$D34=\"\",\"\",Start!$D34)","v":""},{"$f":"IF($C71=\"\",\"\",PÚ!$G$32)","v":""},{"$f":"IF($C71=\"\",\"\",PÚ!$N$32)","v":""},{"$f":"IF($C71=\"\",\"\",'4x100m'!$G$32)","v":""},{"$f":"IF($C71=\"\",\"\",'4x100m'!$N$32)","v":""},{"$f":"IF($C71=\"\",\"\",IF(Seznam!$H$5=0,\"\",'PJ-C'!$O$94))","v":""},{"$f":"IF($C71=\"\",\"\",IF(Seznam!$H$5=0,\"\",'PJ-C'!$Q$94))","v":""},{"$f":"IF($C71=\"\",\"\",IF(Seznam!$J$5=0,\"\",'V-C'!$O$94))","v":""},{"$f":"IF($C71=\"\",\"\",IF(Seznam!$J$5=0,\"\",'V-C'!$Q$94))","v":""},null,{"$f":"IF($C71=\"\",\"\",Výsledky3!H34)","v":""},{"$f":"IF($C71=\"\",\"\",Výsledky3!I34)","v":""},null,{"$f":"IF($C71=\"\",\"\",VLOOKUP($B71,POM!$A$1:$H$50,8))","v":""}]
[null,null,null,null,{"$f":"IF($C71=\"\",\"\",PÚ!$K$32)","v":""},null,{"$f":"IF($C71=\"\",\"\",'4x100m'!$K$32)","v":""}]
[null,{"$f":"Start!$B35","v":29},{"$f":"IF(Start!$C35=\"\",\"\",Start!$C35)","v":""},{"$f":"IF(Start!$D35=\"\",\"\",Start!$D35)","v":""},{"$f":"IF($C73=\"\",\"\",PÚ!$G$33)","v":""},{"$f":"IF($C73=\"\",\"\",PÚ!$N$33)","v":""},{"$f":"IF($C73=\"\",\"\",'4x100m'!$G$33)","v":""},{"$f":"IF($C73=\"\",\"\",'4x100m'!$N$33)","v":""},{"$f":"IF($C73=\"\",\"\",IF(Seznam!$H$5=0,\"\",'PJ-C'!$O$97))","v":""},{"$f":"IF($C73=\"\",\"\",IF(Seznam!$H$5=0,\"\",'PJ-C'!$Q$97))","v":""},{"$f":"IF($C73=\"\",\"\",IF(Seznam!$J$5=0,\"\",'V-C'!$O$97))","v":""},{"$f":"IF($C73=\"\",\"\",IF(Seznam!$J$5=0,\"\",'V-C'!$Q$97))","v":""},null,{"$f":"IF($C73=\"\",\"\",Výsledky3!H35)","v":""},{"$f":"IF($C73=\"\",\"\",Výsledky3!I35)","v":""},null,{"$f":"IF($C73=\"\",\"\",VLOOKUP($B73,POM!$A$1:$H$50,8))","v":""}]
[null,null,null,null,{"$f":"IF($C73=\"\",\"\",PÚ!$K$33)","v":""},null,{"$f":"IF($C73=\"\",\"\",'4x100m'!$K$33)","v":""}]
[null,{"$f":"Start!$B36","v":30},{"$f":"IF(Start!$C36=\"\",\"\",Start!$C36)","v":""},{"$f":"IF(Start!$D36=\"\",\"\",Start!$D36)","v":""},{"$f":"IF($C75=\"\",\"\",PÚ!$G$34)","v":""},{"$f":"IF($C75=\"\",\"\",PÚ!$N$34)","v":""},{"$f":"IF($C75=\"\",\"\",'4x100m'!$G$34)","v":""},{"$f":"IF($C75=\"\",\"\",'4x100m'!$N$34)","v":""},{"$f":"IF($C75=\"\",\"\",IF(Seznam!$H$5=0,\"\",'PJ-C'!$O$100))","v":""},{"$f":"IF($C75=\"\",\"\",IF(Seznam!$H$5=0,\"\",'PJ-C'!$Q$100))","v":""},{"$f":"IF($C75=\"\",\"\",IF(Seznam!$J$5=0,\"\",'V-C'!$O$100))","v":""},{"$f":"IF($C75=\"\",\"\",IF(Seznam!$J$5=0,\"\",'V-C'!$Q$100))","v":""},null,{"$f":"IF($C75=\"\",\"\",Výsledky3!H36)","v":""},{"$f":"IF($C75=\"\",\"\",Výsledky3!I36)","v":""},null,{"$f":"IF($C75=\"\",\"\",VLOOKUP($B75,POM!$A$1:$H$50,8))","v":""}]
[null,null,null,null,{"$f":"IF($C75=\"\",\"\",PÚ!$K$34)","v":""},null,{"$f":"IF($C75=\"\",\"\",'4x100m'!$K$34)","v":""}]
[null,{"$f":"Start!$B37","v":31},{"$f":"IF(Start!$C37=\"\",\"\",Start!$C37)","v":""},{"$f":"IF(Start!$D37=\"\",\"\",Start!$D37)","v":""},{"$f":"IF($C77=\"\",\"\",PÚ!$G$35)","v":""},{"$f":"IF($C77=\"\",\"\",PÚ!$N$35)","v":""},{"$f":"IF($C77=\"\",\"\",'4x100m'!$G$35)","v":""},{"$f":"IF($C77=\"\",\"\",'4x100m'!$N$35)","v":""},{"$f":"IF($C77=\"\",\"\",IF(Seznam!$H$5=0,\"\",'PJ-C'!$O$107))","v":""},{"$f":"IF($C77=\"\",\"\",IF(Seznam!$H$5=0,\"\",'PJ-C'!$Q$107))","v":""},{"$f":"IF($C77=\"\",\"\",IF(Seznam!$J$5=0,\"\",'V-C'!$O$107))","v":""},{"$f":"IF($C77=\"\",\"\",IF(Seznam!$J$5=0,\"\",'V-C'!$Q$107))","v":""},null,{"$f":"IF($C77=\"\",\"\",Výsledky3!H37)","v":""},{"$f":"IF($C77=\"\",\"\",Výsledky3!I37)","v":""},null,{"$f":"IF($C77=\"\",\"\",VLOOKUP($B77,POM!$A$1:$H$50,8))","v":""}]
[null,null,null,null,{"$f":"IF($C77=\"\",\"\",PÚ!$K$35)","v":""},null,{"$f":"IF($C77=\"\",\"\",'4x100m'!$K$35)","v":""}]
[null,{"$f":"Start!$B38","v":32},{"$f":"IF(Start!$C38=\"\",\"\",Start!$C38)","v":""},{"$f":"IF(Start!$D38=\"\",\"\",Start!$D38)","v":""},{"$f":"IF($C79=\"\",\"\",PÚ!$G$36)","v":""},{"$f":"IF($C79=\"\",\"\",PÚ!$N$36)","v":""},{"$f":"IF($C79=\"\",\"\",'4x100m'!$G$36)","v":""},{"$f":"IF($C79=\"\",\"\",'4x100m'!$N$36)","v":""},{"$f":"IF($C79=\"\",\"\",IF(Seznam!$H$5=0,\"\",'PJ-C'!$O$110))","v":""},{"$f":"IF($C79=\"\",\"\",IF(Seznam!$H$5=0,\"\",'PJ-C'!$Q$110))","v":""},{"$f":"IF($C79=\"\",\"\",IF(Seznam!$J$5=0,\"\",'V-C'!$O$110))","v":""},{"$f":"IF($C79=\"\",\"\",IF(Seznam!$J$5=0,\"\",'V-C'!$Q$110))","v":""},null,{"$f":"IF($C79=\"\",\"\",Výsledky3!H38)","v":""},{"$f":"IF($C79=\"\",\"\",Výsledky3!I38)","v":""},null,{"$f":"IF($C79=\"\",\"\",VLOOKUP($B79,POM!$A$1:$H$50,8))","v":""}]
[null,null,null,null,{"$f":"IF($C79=\"\",\"\",PÚ!$K$36)","v":""},null,{"$f":"IF($C79=\"\",\"\",'4x100m'!$K$36)","v":""}]
[null,{"$f":"Start!$B39","v":33},{"$f":"IF(Start!$C39=\"\",\"\",Start!$C39)","v":""},{"$f":"IF(Start!$D39=\"\",\"\",Start!$D39)","v":""},{"$f":"IF($C81=\"\",\"\",PÚ!$G$37)","v":""},{"$f":"IF($C81=\"\",\"\",PÚ!$N$37)","v":""},{"$f":"IF($C81=\"\",\"\",'4x100m'!$G$37)","v":""},{"$f":"IF($C81=\"\",\"\",'4x100m'!$N$37)","v":""},{"$f":"IF($C81=\"\",\"\",IF(Seznam!$H$5=0,\"\",'PJ-C'!$O$113))","v":""},{"$f":"IF($C81=\"\",\"\",IF(Seznam!$H$5=0,\"\",'PJ-C'!$Q$113))","v":""},{"$f":"IF($C81=\"\",\"\",IF(Seznam!$J$5=0,\"\",'V-C'!$O$113))","v":""},{"$f":"IF($C81=\"\",\"\",IF(Seznam!$J$5=0,\"\",'V-C'!$Q$113))","v":""},null,{"$f":"IF($C81=\"\",\"\",Výsledky3!H39)","v":""},{"$f":"IF($C81=\"\",\"\",Výsledky3!I39)","v":""},null,{"$f":"IF($C81=\"\",\"\",VLOOKUP($B81,POM!$A$1:$H$50,8))","v":""}]
[null,null,null,null,{"$f":"IF($C81=\"\",\"\",PÚ!$K$37)","v":""},null,{"$f":"IF($C81=\"\",\"\",'4x100m'!$K$37)","v":""}]
[null,{"$f":"Start!$B40","v":34},{"$f":"IF(Start!$C40=\"\",\"\",Start!$C40)","v":""},{"$f":"IF(Start!$D40=\"\",\"\",Start!$D40)","v":""},{"$f":"IF($C83=\"\",\"\",PÚ!$G$38)","v":""},{"$f":"IF($C83=\"\",\"\",PÚ!$N$38)","v":""},{"$f":"IF($C83=\"\",\"\",'4x100m'!$G$38)","v":""},{"$f":"IF($C83=\"\",\"\",'4x100m'!$N$38)","v":""},{"$f":"IF($C83=\"\",\"\",IF(Seznam!$H$5=0,\"\",'PJ-C'!$O$116))","v":""},{"$f":"IF($C83=\"\",\"\",IF(Seznam!$H$5=0,\"\",'PJ-C'!$Q$116))","v":""},{"$f":"IF($C83=\"\",\"\",IF(Seznam!$J$5=0,\"\",'V-C'!$O$116))","v":""},{"$f":"IF($C83=\"\",\"\",IF(Seznam!$J$5=0,\"\",'V-C'!$Q$116))","v":""},null,{"$f":"IF($C83=\"\",\"\",Výsledky3!H40)","v":""},{"$f":"IF($C83=\"\",\"\",Výsledky3!I40)","v":""},null,{"$f":"IF($C83=\"\",\"\",VLOOKUP($B83,POM!$A$1:$H$50,8))","v":""}]
[null,null,null,null,{"$f":"IF($C83=\"\",\"\",PÚ!$K$38)","v":""},null,{"$f":"IF($C83=\"\",\"\",'4x100m'!$K$38)","v":""}]
[null,{"$f":"Start!$B41","v":35},{"$f":"IF(Start!$C41=\"\",\"\",Start!$C41)","v":""},{"$f":"IF(Start!$D41=\"\",\"\",Start!$D41)","v":""},{"$f":"IF($C85=\"\",\"\",PÚ!$G$39)","v":""},{"$f":"IF($C85=\"\",\"\",PÚ!$N$39)","v":""},{"$f":"IF($C85=\"\",\"\",'4x100m'!$G$39)","v":""},{"$f":"IF($C85=\"\",\"\",'4x100m'!$N$39)","v":""},{"$f":"IF($C85=\"\",\"\",IF(Seznam!$H$5=0,\"\",'PJ-C'!$O$119))","v":""},{"$f":"IF($C85=\"\",\"\",IF(Seznam!$H$5=0,\"\",'PJ-C'!$Q$119))","v":""},{"$f":"IF($C85=\"\",\"\",IF(Seznam!$J$5=0,\"\",'V-C'!$O$119))","v":""},{"$f":"IF($C85=\"\",\"\",IF(Seznam!$J$5=0,\"\",'V-C'!$Q$119))","v":""},null,{"$f":"IF($C85=\"\",\"\",Výsledky3!H41)","v":""},{"$f":"IF($C85=\"\",\"\",Výsledky3!I41)","v":""},null,{"$f":"IF($C85=\"\",\"\",VLOOKUP($B85,POM!$A$1:$H$50,8))","v":""}]
[null,null,null,null,{"$f":"IF($C85=\"\",\"\",PÚ!$K$39)","v":""},null,{"$f":"IF($C85=\"\",\"\",'4x100m'!$K$39)","v":""}]
[null,{"$f":"Start!$B42","v":36},{"$f":"IF(Start!$C42=\"\",\"\",Start!$C42)","v":""},{"$f":"IF(Start!$D42=\"\",\"\",Start!$D42)","v":""},{"$f":"IF($C87=\"\",\"\",PÚ!$G$40)","v":""},{"$f":"IF($C87=\"\",\"\",PÚ!$N$40)","v":""},{"$f":"IF($C87=\"\",\"\",'4x100m'!$G$40)","v":""},{"$f":"IF($C87=\"\",\"\",'4x100m'!$N$40)","v":""},{"$f":"IF($C87=\"\",\"\",IF(Seznam!$H$5=0,\"\",'PJ-C'!$O$122))","v":""},{"$f":"IF($C87=\"\",\"\",IF(Seznam!$H$5=0,\"\",'PJ-C'!$Q$122))","v":""},{"$f":"IF($C87=\"\",\"\",IF(Seznam!$J$5=0,\"\",'V-C'!$O$122))","v":""},{"$f":"IF($C87=\"\",\"\",IF(Seznam!$J$5=0,\"\",'V-C'!$Q$122))","v":""},null,{"$f":"IF($C87=\"\",\"\",Výsledky3!H42)","v":""},{"$f":"IF($C87=\"\",\"\",Výsledky3!I42)","v":""},null,{"$f":"IF($C87=\"\",\"\",VLOOKUP($B87,POM!$A$1:$H$50,8))","v":""}]
[null,null,null,null,{"$f":"IF($C87=\"\",\"\",PÚ!$K$40)","v":""},null,{"$f":"IF($C87=\"\",\"\",'4x100m'!$K$40)","v":""}]
[null,{"$f":"Start!$B43","v":37},{"$f":"IF(Start!$C43=\"\",\"\",Start!$C43)","v":""},{"$f":"IF(Start!$D43=\"\",\"\",Start!$D43)","v":""},{"$f":"IF($C89=\"\",\"\",PÚ!$G$41)","v":""},{"$f":"IF($C89=\"\",\"\",PÚ!$N$41)","v":""},{"$f":"IF($C89=\"\",\"\",'4x100m'!$G$41)","v":""},{"$f":"IF($C89=\"\",\"\",'4x100m'!$N$41)","v":""},{"$f":"IF($C89=\"\",\"\",IF(Seznam!$H$5=0,\"\",'PJ-C'!$O$125))","v":""},{"$f":"IF($C89=\"\",\"\",IF(Seznam!$H$5=0,\"\",'PJ-C'!$Q$125))","v":""},{"$f":"IF($C89=\"\",\"\",IF(Seznam!$J$5=0,\"\",'V-C'!$O$125))","v":""},{"$f":"IF($C89=\"\",\"\",IF(Seznam!$J$5=0,\"\",'V-C'!$Q$125))","v":""},null,{"$f":"IF($C89=\"\",\"\",Výsledky3!H43)","v":""},{"$f":"IF($C89=\"\",\"\",Výsledky3!I43)","v":""},null,{"$f":"IF($C89=\"\",\"\",VLOOKUP($B89,POM!$A$1:$H$50,8))","v":""}]
[null,null,null,null,{"$f":"IF($C89=\"\",\"\",PÚ!$K$41)","v":""},null,{"$f":"IF($C89=\"\",\"\",'4x100m'!$K$41)","v":""}]
[null,{"$f":"Start!$B44","v":38},{"$f":"IF(Start!$C44=\"\",\"\",Start!$C44)","v":""},{"$f":"IF(Start!$D44=\"\",\"\",Start!$D44)","v":""},{"$f":"IF($C91=\"\",\"\",PÚ!$G$42)","v":""},{"$f":"IF($C91=\"\",\"\",PÚ!$N$42)","v":""},{"$f":"IF($C91=\"\",\"\",'4x100m'!$G$42)","v":""},{"$f":"IF($C91=\"\",\"\",'4x100m'!$N$42)","v":""},{"$f":"IF($C91=\"\",\"\",IF(Seznam!$H$5=0,\"\",'PJ-C'!$O$128))","v":""},{"$f":"IF($C91=\"\",\"\",IF(Seznam!$H$5=0,\"\",'PJ-C'!$Q$128))","v":""},{"$f":"IF($C91=\"\",\"\",IF(Seznam!$J$5=0,\"\",'V-C'!$O$128))","v":""},{"$f":"IF($C91=\"\",\"\",IF(Seznam!$J$5=0,\"\",'V-C'!$Q$128))","v":""},null,{"$f":"IF($C91=\"\",\"\",Výsledky3!H44)","v":""},{"$f":"IF($C91=\"\",\"\",Výsledky3!I44)","v":""},null,{"$f":"IF($C91=\"\",\"\",VLOOKUP($B91,POM!$A$1:$H$50,8))","v":""}]
[null,null,null,null,{"$f":"IF($C91=\"\",\"\",PÚ!$K$42)","v":""},null,{"$f":"IF($C91=\"\",\"\",'4x100m'!$K$42)","v":""}]
[null,{"$f":"Start!$B45","v":39},{"$f":"IF(Start!$C45=\"\",\"\",Start!$C45)","v":""},{"$f":"IF(Start!$D45=\"\",\"\",Start!$D45)","v":""},{"$f":"IF($C93=\"\",\"\",PÚ!$G$43)","v":""},{"$f":"IF($C93=\"\",\"\",PÚ!$N$43)","v":""},{"$f":"IF($C93=\"\",\"\",'4x100m'!$G$43)","v":""},{"$f":"IF($C93=\"\",\"\",'4x100m'!$N$43)","v":""},{"$f":"IF($C93=\"\",\"\",IF(Seznam!$H$5=0,\"\",'PJ-C'!$O$131))","v":""},{"$f":"IF($C93=\"\",\"\",IF(Seznam!$H$5=0,\"\",'PJ-C'!$Q$131))","v":""},{"$f":"IF($C93=\"\",\"\",IF(Seznam!$J$5=0,\"\",'V-C'!$O$131))","v":""},{"$f":"IF($C93=\"\",\"\",IF(Seznam!$J$5=0,\"\",'V-C'!$Q$131))","v":""},null,{"$f":"IF($C93=\"\",\"\",Výsledky3!H45)","v":""},{"$f":"IF($C93=\"\",\"\",Výsledky3!I45)","v":""},null,{"$f":"IF($C93=\"\",\"\",VLOOKUP($B93,POM!$A$1:$H$50,8))","v":""}]
[null,null,null,null,{"$f":"IF($C93=\"\",\"\",PÚ!$K$43)","v":""},null,{"$f":"IF($C93=\"\",\"\",'4x100m'!$K$43)","v":""}]
[null,{"$f":"Start!$B46","v":40},{"$f":"IF(Start!$C46=\"\",\"\",Start!$C46)","v":""},{"$f":"IF(Start!$D46=\"\",\"\",Start!$D46)","v":""},{"$f":"IF($C95=\"\",\"\",PÚ!$G$44)","v":""},{"$f":"IF($C95=\"\",\"\",PÚ!$N$44)","v":""},{"$f":"IF($C95=\"\",\"\",'4x100m'!$G$44)","v":""},{"$f":"IF($C95=\"\",\"\",'4x100m'!$N$44)","v":""},{"$f":"IF($C95=\"\",\"\",IF(Seznam!$H$5=0,\"\",'PJ-C'!$O$134))","v":""},{"$f":"IF($C95=\"\",\"\",IF(Seznam!$H$5=0,\"\",'PJ-C'!$Q$134))","v":""},{"$f":"IF($C95=\"\",\"\",IF(Seznam!$J$5=0,\"\",'V-C'!$O$134))","v":""},{"$f":"IF($C95=\"\",\"\",IF(Seznam!$J$5=0,\"\",'V-C'!$Q$134))","v":""},null,{"$f":"IF($C95=\"\",\"\",Výsledky3!H46)","v":""},{"$f":"IF($C95=\"\",\"\",Výsledky3!#REF!)","v":""},null,{"$f":"IF($C95=\"\",\"\",VLOOKUP($B95,POM!$A$1:$H$50,8))","v":""}]
[null,null,null,null,{"$f":"IF($C95=\"\",\"\",PÚ!$K$44)","v":""},null,{"$f":"IF($C95=\"\",\"\",'4x100m'!$K$44)","v":""}]

{"sheet":"Pozn.","index":29,"n_rows":1,"n_cols":2,"rows_kept":1,"cut":false,"hidden":false,"merged":[[0,1,0,9]]}
[null,"Poznámky:"]

{"sheet":"J100m","index":30,"n_rows":400,"n_cols":7,"rows_kept":400,"cut":false,"hidden":false,"merged":[]}
["Kusalík Miroslav","ÚO Hodonín",null,null,1,1,1]
[null,"ÚO Žďár nad Sázavou",null,null,null,11,2]
["Hons Lukáš","ÚO Třebíč",null,null,21,21,3]
["Rajchman Jan","ÚO Břeclav",null,null,31,31,4]
[null,"ÚO Jihlava",null,null,null,41,5]
["Kubát Pavel","ÚO Havlíčkův Brod",null,null,51,51,6]
[null,"ÚO Znojmo",null,null,null,61,7]
["Jocov Jaroslav","ÚO Brno - město",null,null,71,71,8]
["Hofírek Michal","ÚO Blansko",null,null,81,81,9]
["Stach Tomáš","ÚO Pelhřimov",null,null,96,91,10]
["Novotný Pavel","ÚO Brno - venkov",null,null,101,101,11]
["Dvořáček Jan","ÚO Vyškov",null,null,111,111,12]
["Synek Petr","ÚO Hodonín",null,null,2,121,13]
["Kunfürst Michal","ÚO Žďár nad Sázavou",null,null,12,131,14]
["Fila Vojtěch","ÚO Třebíč",null,null,22,141,15]
["Kachyňa Zdeněk","ÚO Břeclav",null,null,32,151,16]
["Štěpanovský Marek","ÚO Jihlava",null,null,45,161,17]
["Hajčman Martin","ÚO Havlíčkův Brod",null,null,52,171,18]
["Kaňa Jindřich","ÚO Znojmo",null,null,62,181,19]
["Medek Martin","ÚO Brno - město",null,null,72,191,20]
["Bauer Jiří","ÚO Blansko",null,null,82,201,21]
["Podhrázský Petr","ÚO Pelhřimov",null,null,98,211,22]
["Šmerek Jakub","ÚO Brno - venkov",null,null,102,221,23]
["Kavečka Marek","ÚO Vyškov",null,null,112,231,24]
["Kadara Josef","ÚO Hodonín",null,null,3,241,25]
["Ptáček Jindřich","ÚO Žďár nad Sázavou",null,null,13,251,26]
["Hnízdil Pavel","ÚO Třebíč",null,null,23,261,27]
["Celta Vojtěch","ÚO Břeclav",null,null,33,271,28]
["Pařil Jiří","ÚO Jihlava",null,null,41,281,29]
["Veselý Petr","ÚO Havlíčkův Brod",null,null,54,291,30]
["Cejpek Zdeněk","ÚO Znojmo",null,null,63,301,31]
["Daněk Lukáš","ÚO Brno - město",null,null,73,311,32]
["Kubík František","ÚO Blansko",null,null,83,321,33]
["Paulík Václav","ÚO Pelhřimov",null,null,99,331,34]
["Tinka Martin","ÚO Brno - venkov",null,null,103,341,35]
["Pospíšil Jan","ÚO Vyškov",null,null,113,351,36]
["Novák Dušan","ÚO Hodonín",null,null,4,361,37]
["Průža Jiří","ÚO Žďár nad Sázavou",null,null,14,371,38]
["Traxler Pavel","ÚO Třebíč",null,null,24,381,39]
["Ondráček Martin","ÚO Břeclav",null,null,34,391,40]
["Skurčák František","ÚO Jihlava",null,null,46,2,41]
["Prokeš Ondřej","ÚO Havlíčkův Brod",null,null,56,12,42]
["Hušek Dominik","ÚO Znojmo",null,null,64,22,43]
["Kalinič Marek","ÚO Brno - město",null,null,74,32,44]
["Bílek Martin","ÚO Blansko",null,null,84,42,45]
["Dvořák Martin","ÚO Pelhřimov",null,null,97,52,46]
["Šindelka Tomáš","ÚO Brno - venkov",null,null,104,62,47]
["Müller Martin","ÚO Vyškov",null,null,115,72,48]
["Svitálek Roman","ÚO Hodonín",null,null,5,82,49]
["Řehoř Radim","ÚO Žďár nad Sázavou",null,null,15,92,50]
["Slatinský Petr","ÚO Třebíč",null,null,25,102,51]
["Kaňa Jakub","ÚO Břeclav",null,null,39,112,52]
["Pařil Milan","ÚO Jihlava",null,null,42,122,53]
["Tvrdý Zdeněk","ÚO Havlíčkův Brod",null,null,57,132,54]
["Jiříkovský David","ÚO Znojmo",null,null,65,142,55]
["Kinc Michal","ÚO Brno - město",null,null,75,152,56]
["Čech Radim","ÚO Blansko",null,null,85,162,57]
["Ryšavý Vilém","ÚO Pelhřimov",null,null,94,172,58]
["Seehofner Jakub","ÚO Brno - venkov",null,null,105,182,59]
["Masař Tomáš","ÚO Vyškov",null,null,116,192,60]
[null,"ÚO Hodonín",null,null,null,202,61]
["Sláma Josef","ÚO Žďár nad Sázavou",null,null,16,212,62]
["Stuchlík Martin","ÚO Třebíč",null,null,26,222,63]
["Brveník Jan","ÚO Břeclav",null,null,36,232,64]
["Štumar Michal","ÚO Jihlava",null,null,47,242,65]
["Prchal Jan","ÚO Havlíčkův Brod",null,null,58,252,66]
["Pokorný Martin","ÚO Znojmo",null,null,66,262,67]
["Klíč Miloš","ÚO Brno - město",null,null,76,272,68]
["Škaroupka Jiří","ÚO Blansko",null,null,86,282,69]
["Janko Vladimír","ÚO Pelhřimov",null,null,93,292,70]
["Antl Vladimír","ÚO Brno - venkov",null,null,106,302,71]
["Pupík Jan","ÚO Vyškov",null,null,117,312,72]
["Kudláč Lukáš","ÚO Hodonín",null,null,7,322,73]
["Špaček Marek","ÚO Žďár nad Sázavou",null,null,17,332,74]
["Čurda Aleš","ÚO Třebíč",null,null,27,342,75]
["Barát Michal","ÚO Břeclav",null,null,37,352,76]
["Caha Petr","ÚO Jihlava",null,null,48,362,77]
["Stehlík Ondřej","ÚO Havlíčkův Brod",null,null,59,372,78]
["Sarga Aleš","ÚO Znojmo",null,null,67,382,79]
["Minařík David","ÚO Brno - město",null,null,77,392,80]
["Zhoř Jaroslav","ÚO Blansko",null,null,87,3,81]
[null,"ÚO Pelhřimov",null,null,null,13,82]
["Šlachta Roman","ÚO Brno - venkov",null,null,107,23,83]
["Jeřábek Martin","ÚO Vyškov",null,null,118,33,84]
["Slavík Martin","ÚO Hodonín",null,null,8,43,85]
["Škapa Miroslav","ÚO Žďár nad Sázavou",null,null,18,53,86]
["Urbánek Pavel","ÚO Třebíč",null,null,28,63,87]
["Pospíšil Karel","ÚO Břeclav",null,null,38,73,88]
[null,"ÚO Jihlava",null,null,null,83,89]
[null,"ÚO Havlíčkův Brod",null,null,null,93,90]
[null,"ÚO Znojmo",null,null,null,103,91]
["Gargula Josef","ÚO Brno - město",null,null,78,113,92]
["Pěnča Josef","ÚO Blansko",null,null,89,123,93]
[null,"ÚO Pelhřimov",null,null,null,133,94]
["Podloučka Pavel","ÚO Brno - venkov",null,null,108,143,95]
["Rajci Miroslav","ÚO Vyškov",null,null,119,153,96]
[null,"ÚO Hodonín",null,null,null,163,97]
[null,"ÚO Žďár nad Sázavou",null,null,null,173,98]
[null,"ÚO Třebíč",null,null,null,183,99]
[null,"ÚO Břeclav",null,null,null,193,100]
[null,"ÚO Jihlava",null,null,null,203,101]
[null,"ÚO Havlíčkův Brod",null,null,null,213,102]
[null,"ÚO Znojmo",null,null,null,223,103]
[null,"ÚO Brno - město",null,null,null,233,104]
[null,"ÚO Blansko",null,null,null,243,105]
[null,"ÚO Pelhřimov",null,null,null,253,106]
[null,"ÚO Brno - venkov",null,null,null,263,107]
[null,"ÚO Vyškov",null,null,null,273,108]
[null,"ÚO Hodonín",null,null,null,283,109]
[null,"ÚO Žďár nad Sázavou",null,null,null,293,110]
[null,"ÚO Třebíč",null,null,null,303,111]
[null,"ÚO Břeclav",null,null,null,313,112]
[null,"ÚO Jihlava",null,null,null,323,113]
[null,"ÚO Havlíčkův Brod",null,null,null,333,114]
[null,"ÚO Znojmo",null,null,null,343,115]
[null,"ÚO Brno - město",null,null,null,353,116]
[null,"ÚO Blansko",null,null,null,363,117]
[null,"ÚO Pelhřimov",null,null,null,373,118]
[null,"ÚO Brno - venkov",null,null,null,383,119]
[null,"ÚO Vyškov",null,null,null,393,120]
[null,null,null,null,null,4,121]
[null,null,null,null,null,14,122]
[null,null,null,null,null,24,123]
[null,null,null,null,null,34,124]
[null,null,null,null,null,44,125]
[null,null,null,null,null,54,126]
[null,null,null,null,null,64,127]
[null,null,null,null,null,74,128]
[null,null,null,null,null,84,129]
[null,null,null,null,null,94,130]
[null,null,null,null,null,104,131]
[null,null,null,null,null,114,132]
[null,null,null,null,null,124,133]
[null,null,null,null,null,134,134]
[null,null,null,null,null,144,135]
[null,null,null,null,null,154,136]
[null,null,null,null,null,164,137]
[null,null,null,null,null,174,138]
[null,null,null,null,null,184,139]
[null,null,null,null,null,194,140]
[null,null,null,null,null,204,141]
[null,null,null,null,null,214,142]
[null,null,null,null,null,224,143]
[null,null,null,null,null,234,144]
[null,null,null,null,null,244,145]
[null,null,null,null,null,254,146]
[null,null,null,null,null,264,147]
[null,null,null,null,null,274,148]
[null,null,null,null,null,284,149]
[null,null,null,null,null,294,150]
[null,null,null,null,null,304,151]
[null,null,null,null,null,314,152]
[null,null,null,null,null,324,153]
[null,null,null,null,null,334,154]
[null,null,null,null,null,344,155]
[null,null,null,null,null,354,156]
[null,null,null,null,null,364,157]
[null,null,null,null,null,374,158]
[null,null,null,null,null,384,159]
[null,null,null,null,null,394,160]
[null,null,null,null,null,5,161]
[null,null,null,null,null,15,162]
[null,null,null,null,null,25,163]
[null,null,null,null,null,35,164]
[null,null,null,null,null,45,165]
[null,null,null,null,null,55,166]
[null,null,null,null,null,65,167]
[null,null,null,null,null,75,168]
[null,null,null,null,null,85,169]
[null,null,null,null,null,95,170]
[null,null,null,null,null,105,171]
[null,null,null,null,null,115,172]
[null,null,null,null,null,125,173]
[null,null,null,null,null,135,174]
[null,null,null,null,null,145,175]
[null,null,null,null,null,155,176]
[null,null,null,null,null,165,177]
[null,null,null,null,null,175,178]
[null,null,null,null,null,185,179]
[null,null,null,null,null,195,180]
[null,null,null,null,null,205,181]
[null,null,null,null,null,215,182]
[null,null,null,null,null,225,183]
[null,null,null,null,null,235,184]
[null,null,null,null,null,245,185]
[null,null,null,null,null,255,186]
[null,null,null,null,null,265,187]
[null,null,null,null,null,275,188]
[null,null,null,null,null,285,189]
[null,null,null,null,null,295,190]
[null,null,null,null,null,305,191]
[null,null,null,null,null,315,192]
[null,null,null,null,null,325,193]
[null,null,null,null,null,335,194]
[null,null,null,null,null,345,195]
[null,null,null,null,null,355,196]
[null,null,null,null,null,365,197]
[null,null,null,null,null,375,198]
[null,null,null,null,null,385,199]
[null,null,null,null,null,395,200]
[null,null,null,null,null,6,201]
[null,null,null,null,null,16,202]
[null,null,null,null,null,26,203]
[null,null,null,null,null,36,204]
[null,null,null,null,null,46,205]
[null,null,null,null,null,56,206]
[null,null,null,null,null,66,207]
[null,null,null,null,null,76,208]
[null,null,null,null,null,86,209]
[null,null,null,null,null,96,210]
[null,null,null,null,null,106,211]
[null,null,null,null,null,116,212]
[null,null,null,null,null,126,213]
[null,null,null,null,null,136,214]
[null,null,null,null,null,146,215]
[null,null,null,null,null,156,216]
[null,null,null,null,null,166,217]
[null,null,null,null,null,176,218]
[null,null,null,null,null,186,219]
[null,null,null,null,null,196,220]
[null,null,null,null,null,206,221]
[null,null,null,null,null,216,222]
[null,null,null,null,null,226,223]
[null,null,null,null,null,236,224]
[null,null,null,null,null,246,225]
[null,null,null,null,null,256,226]
[null,null,null,null,null,266,227]
[null,null,null,null,null,276,228]
[null,null,null,null,null,286,229]
[null,null,null,null,null,296,230]
[null,null,null,null,null,306,231]
[null,null,null,null,null,316,232]
[null,null,null,null,null,326,233]
[null,null,null,null,null,336,234]
[null,null,null,null,null,346,235]
[null,null,null,null,null,356,236]
[null,null,null,null,null,366,237]
[null,null,null,null,null,376,238]
[null,null,null,null,null,386,239]
[null,null,null,null,null,396,240]
[null,null,null,null,null,7,241]
[null,null,null,null,null,17,242]
[null,null,null,null,null,27,243]
[null,null,null,null,null,37,244]
[null,null,null,null,null,47,245]
[null,null,null,null,null,57,246]
[null,null,null,null,null,67,247]
[null,null,null,null,null,77,248]
[null,null,null,null,null,87,249]
[null,null,null,null,null,97,250]
[null,null,null,null,null,107,251]
[null,null,null,null,null,117,252]
[null,null,null,null,null,127,253]
[null,null,null,null,null,137,254]
[null,null,null,null,null,147,255]
[null,null,null,null,null,157,256]
[null,null,null,null,null,167,257]
[null,null,null,null,null,177,258]
[null,null,null,null,null,187,259]
[null,null,null,null,null,197,260]
[null,null,null,null,null,207,261]
[null,null,null,null,null,217,262]
[null,null,null,null,null,227,263]
[null,null,null,null,null,237,264]
[null,null,null,null,null,247,265]
[null,null,null,null,null,257,266]
[null,null,null,null,null,267,267]
[null,null,null,null,null,277,268]
[null,null,null,null,null,287,269]
[null,null,null,null,null,297,270]
[null,null,null,null,null,307,271]
[null,null,null,null,null,317,272]
[null,null,null,null,null,327,273]
[null,null,null,null,null,337,274]
[null,null,null,null,null,347,275]
[null,null,null,null,null,357,276]
[null,null,null,null,null,367,277]
[null,null,null,null,null,377,278]
[null,null,null,null,null,387,279]
[null,null,null,null,null,397,280]
[null,null,null,null,null,8,281]
[null,null,null,null,null,18,282]
[null,null,null,null,null,28,283]
[null,null,null,null,null,38,284]
[null,null,null,null,null,48,285]
[null,null,null,null,null,58,286]
[null,null,null,null,null,68,287]
[null,null,null,null,null,78,288]
[null,null,null,null,null,88,289]
[null,null,null,null,null,98,290]
[null,null,null,null,null,108,291]
[null,null,null,null,null,118,292]
[null,null,null,null,null,128,293]
[null,null,null,null,null,138,294]
[null,null,null,null,null,148,295]
[null,null,null,null,null,158,296]
[null,null,null,null,null,168,297]
[null,null,null,null,null,178,298]
[null,null,null,null,null,188,299]
[null,null,null,null,null,198,300]
[null,null,null,null,null,208,301]
[null,null,null,null,null,218,302]
[null,null,null,null,null,228,303]
[null,null,null,null,null,238,304]
[null,null,null,null,null,248,305]
[null,null,null,null,null,258,306]
[null,null,null,null,null,268,307]
[null,null,null,null,null,278,308]
[null,null,null,null,null,288,309]
[null,null,null,null,null,298,310]
[null,null,null,null,null,308,311]
[null,null,null,null,null,318,312]
[null,null,null,null,null,328,313]
[null,null,null,null,null,338,314]
[null,null,null,null,null,348,315]
[null,null,null,null,null,358,316]
[null,null,null,null,null,368,317]
[null,null,null,null,null,378,318]
[null,null,null,null,null,388,319]
[null,null,null,null,null,398,320]
[null,null,null,null,null,9,321]
[null,null,null,null,null,19,322]
[null,null,null,null,null,29,323]
[null,null,null,null,null,39,324]
[null,null,null,null,null,49,325]
[null,null,null,null,null,59,326]
[null,null,null,null,null,69,327]
[null,null,null,null,null,79,328]
[null,null,null,null,null,89,329]
[null,null,null,null,null,99,330]
[null,null,null,null,null,109,331]
[null,null,null,null,null,119,332]
[null,null,null,null,null,129,333]
[null,null,null,null,null,139,334]
[null,null,null,null,null,149,335]
[null,null,null,null,null,159,336]
[null,null,null,null,null,169,337]
[null,null,null,null,null,179,338]
[null,null,null,null,null,189,339]
[null,null,null,null,null,199,340]
[null,null,null,null,null,209,341]
[null,null,null,null,null,219,342]
[null,null,null,null,null,229,343]
[null,null,null,null,null,239,344]
[null,null,null,null,null,249,345]
[null,null,null,null,null,259,346]
[null,null,null,null,null,269,347]
[null,null,null,null,null,279,348]
[null,null,null,null,null,289,349]
[null,null,null,null,null,299,350]
[null,null,null,null,null,309,351]
[null,null,null,null,null,319,352]
[null,null,null,null,null,329,353]
[null,null,null,null,null,339,354]
[null,null,null,null,null,349,355]
[null,null,null,null,null,359,356]
[null,null,null,null,null,369,357]
[null,null,null,null,null,379,358]
[null,null,null,null,null,389,359]
[null,null,null,null,null,399,360]
[null,null,null,null,null,10,361]
[null,null,null,null,null,20,362]
[null,null,null,null,null,30,363]
[null,null,null,null,null,40,364]
[null,null,null,null,null,50,365]
[null,null,null,null,null,60,366]
[null,null,null,null,null,70,367]
[null,null,null,null,null,80,368]
[null,null,null,null,null,90,369]
[null,null,null,null,null,100,370]
[null,null,null,null,null,110,371]
[null,null,null,null,null,120,372]
[null,null,null,null,null,130,373]
[null,null,null,null,null,140,374]
[null,null,null,null,null,150,375]
[null,null,null,null,null,160,376]
[null,null,null,null,null,170,377]
[null,null,null,null,null,180,378]
[null,null,null,null,null,190,379]
[null,null,null,null,null,200,380]
[null,null,null,null,null,210,381]
[null,null,null,null,null,220,382]
[null,null,null,null,null,230,383]
[null,null,null,null,null,240,384]
[null,null,null,null,null,250,385]
[null,null,null,null,null,260,386]
[null,null,null,null,null,270,387]
[null,null,null,null,null,280,388]
[null,null,null,null,null,290,389]
[null,null,null,null,null,300,390]
[null,null,null,null,null,310,391]
[null,null,null,null,null,320,392]
[null,null,null,null,null,330,393]
[null,null,null,null,null,340,394]
[null,null,null,null,null,350,395]
[null,null,null,null,null,360,396]
[null,null,null,null,null,370,397]
[null,null,null,null,null,380,398]
[null,null,null,null,null,390,399]
[null,null,null,null,null,400,400]

{"sheet":"JVez","index":31,"n_rows":400,"n_cols":7,"rows_kept":400,"cut":false,"hidden":false,"merged":[]}
["Kusalík Miroslav","ÚO Hodonín",null,null,1,1,1]
["Hejl Petr","ÚO Žďár nad Sázavou",null,null,11,11,2]
["Hons Lukáš","ÚO Třebíč",null,null,21,21,3]
["Rajchman Jan","ÚO Břeclav",null,null,31,31,4]
[null,"ÚO Jihlava",null,null,null,41,5]
["Kubát Pavel","ÚO Havlíčkův Brod",null,null,51,51,6]
[null,"ÚO Znojmo",null,null,null,61,7]
["Jocov Jaroslav","ÚO Brno - město",null,null,71,71,8]
["Hofírek Michal","ÚO Blansko",null,null,81,81,9]
["Klíma Petr","ÚO Pelhřimov",null,null,91,91,10]
["Novotný Pavel","ÚO Brno - venkov",null,null,101,101,11]
["Dvořáček Jan","ÚO Vyškov",null,null,111,111,12]
["Synek Petr","ÚO Hodonín",null,null,2,121,13]
["Ptáček Jindřich","ÚO Žďár nad Sázavou",null,null,13,131,14]
["Fila Vojtěch","ÚO Třebíč",null,null,22,141,15]
["Celta Vojtěch","ÚO Břeclav",null,null,33,151,16]
["Štěpanovský Marek","ÚO Jihlava",null,null,45,161,17]
["Kadlec Jan","ÚO Havlíčkův Brod",null,null,53,171,18]
["Kaňa Jindřich","ÚO Znojmo",null,null,62,181,19]
["Medek Martin","ÚO Brno - město",null,null,72,191,20]
["Kubík František","ÚO Blansko",null,null,83,201,21]
["Blažek jiří","ÚO Pelhřimov",null,null,92,211,22]
["Šmerek Jakub","ÚO Brno - venkov",null,null,102,221,23]
["Kavečka Marek","ÚO Vyškov",null,null,112,231,24]
["Kadara Josef","ÚO Hodonín",null,null,3,241,25]
["Průža Jiří","ÚO Žďár nad Sázavou",null,null,14,251,26]
["Hnízdil Pavel","ÚO Třebíč",null,null,23,261,27]
["Ondráček Martin","ÚO Břeclav",null,null,34,271,28]
["Pařil Jiří","ÚO Jihlava",null,null,41,281,29]
["Veselý Petr","ÚO Havlíčkův Brod",null,null,54,291,30]
["Cejpek Zdeněk","ÚO Znojmo",null,null,63,301,31]
["Daněk Lukáš","ÚO Brno - město",null,null,73,311,32]
["Bílek Martin","ÚO Blansko",null,null,84,321,33]
["Podhrázský Petr","ÚO Pelhřimov",null,null,98,331,34]
["Tinka Martin","ÚO Brno - venkov",null,null,103,341,35]
["Pospíšil Jan","ÚO Vyškov",null,null,113,351,36]
["Novák Dušan","ÚO Hodonín",null,null,4,361,37]
["Sláma Josef","ÚO Žďár nad Sázavou",null,null,16,371,38]
["Traxler Pavel","ÚO Třebíč",null,null,24,381,39]
["Schäfer Jiří","ÚO Břeclav",null,null,35,391,40]
["Skurčák František","ÚO Jihlava",null,null,46,2,41]
["Drahoš Adam","ÚO Havlíčkův Brod",null,null,55,12,42]
["Hušek Dominik","ÚO Znojmo",null,null,64,22,43]
["Kalinič Marek","ÚO Brno - město",null,null,74,32,44]
["Čech Radim","ÚO Blansko",null,null,85,42,45]
["Paulík Václav","ÚO Pelhřimov",null,null,99,52,46]
["Šindelka Tomáš","ÚO Brno - venkov",null,null,104,62,47]
["Najman Lukáš","ÚO Vyškov",null,null,114,72,48]
["Svitálek Roman","ÚO Hodonín",null,null,5,82,49]
["Špaček Marek","ÚO Žďár nad Sázavou",null,null,17,92,50]
["Slatinský Petr","ÚO Třebíč",null,null,25,102,51]
["Brveník Jan","ÚO Břeclav",null,null,36,112,52]
["Pařil Milan","ÚO Jihlava",null,null,42,122,53]
["Tvrdý Zdeněk","ÚO Havlíčkův Brod",null,null,57,132,54]
["Jiříkovský David","ÚO Znojmo",null,null,65,142,55]
["Kinc Michal","ÚO Brno - město",null,null,75,152,56]
["Škaroupka Jiří","ÚO Blansko",null,null,86,162,57]
["Ryšavý Vilém","ÚO Pelhřimov",null,null,94,172,58]
["Seehofner Jakub","ÚO Brno - venkov",null,null,105,182,59]
["Masař Tomáš","ÚO Vyškov",null,null,116,192,60]
[null,"ÚO Hodonín",null,null,null,202,61]
["Škapa Miroslav","ÚO Žďár nad Sázavou",null,null,18,212,62]
["Stuchlík Martin","ÚO Třebíč",null,null,26,222,63]
["Barát Michal","ÚO Břeclav",null,null,37,232,64]
["Štumar Michal","ÚO Jihlava",null,null,47,242,65]
["Prchal Jan","ÚO Havlíčkův Brod",null,null,58,252,66]
["Pokorný Martin","ÚO Znojmo",null,null,66,262,67]
["Klíč Miloš","ÚO Brno - město",null,null,76,272,68]
["Zhoř Jaroslav","ÚO Blansko",null,null,87,282,69]
["Janko Vladimír","ÚO Pelhřimov",null,null,93,292,70]
["Antl Vladimír","ÚO Brno - venkov",null,null,106,302,71]
["Pupík Jan","ÚO Vyškov",null,null,117,312,72]
["Kudláč Lukáš","ÚO Hodonín",null,null,7,322,73]
["Řehoř Radim","ÚO Žďár nad Sázavou",null,null,15,332,74]
["Čurda Aleš","ÚO Třebíč",null,null,27,342,75]
["Pospíšil Karel","ÚO Břeclav",null,null,38,352,76]
["Šebesta Pavel","ÚO Jihlava",null,null,44,362,77]
["Stehlík Ondřej","ÚO Havlíčkův Brod",null,null,59,372,78]
["Sarga Aleš","ÚO Znojmo",null,null,67,382,79]
["Hlávka Petr","ÚO Brno - město",null,null,79,392,80]
["Jarůška Marek","ÚO Blansko",null,null,88,3,81]
["Dvořák Martin","ÚO Pelhřimov",null,null,97,13,82]
["Šlachta Roman","ÚO Brno - venkov",null,null,107,23,83]
["Jeřábek Martin","ÚO Vyškov",null,null,118,33,84]
["Slavík Martin","ÚO Hodonín",null,null,8,43,85]
["Kunfürst Michal","ÚO Žďár nad Sázavou",null,null,12,53,86]
["Šťastný Libor","ÚO Třebíč",null,null,30,63,87]
["Kaňa Jakub","ÚO Břeclav",null,null,39,73,88]
[null,"ÚO Jihlava",null,null,null,83,89]
[null,"ÚO Havlíčkův Brod",null,null,null,93,90]
[null,"ÚO Znojmo",null,null,null,103,91]
["Minařík David","ÚO Brno - město",null,null,77,113,92]
["Pěnča Josef","ÚO Blansko",null,null,89,123,93]
[null,"ÚO Pelhřimov",null,null,null,133,94]
["Podloučka Pavel","ÚO Brno - venkov",null,null,108,143,95]
["Rajci Miroslav","ÚO Vyškov",null,null,119,153,96]
[null,"ÚO Hodonín",null,null,null,163,97]
[null,"ÚO Žďár nad Sázavou",null,null,null,173,98]
[null,"ÚO Třebíč",null,null,null,183,99]
[null,"ÚO Břeclav",null,null,null,193,100]
[null,"ÚO Jihlava",null,null,null,203,101]
[null,"ÚO Havlíčkův Brod",null,null,null,213,102]
[null,"ÚO Znojmo",null,null,null,223,103]
[null,"ÚO Brno - město",null,null,null,233,104]
[null,"ÚO Blansko",null,null,null,243,105]
[null,"ÚO Pelhřimov",null,null,null,253,106]
[null,"ÚO Brno - venkov",null,null,null,263,107]
[null,"ÚO Vyškov",null,null,null,273,108]
[null,"ÚO Hodonín",null,null,null,283,109]
[null,"ÚO Žďár nad Sázavou",null,null,null,293,110]
[null,"ÚO Třebíč",null,null,null,303,111]
[null,"ÚO Břeclav",null,null,null,313,112]
[null,"ÚO Jihlava",null,null,null,323,113]
[null,"ÚO Havlíčkův Brod",null,null,null,333,114]
[null,"ÚO Znojmo",null,null,null,343,115]
[null,"ÚO Brno - město",null,null,null,353,116]
[null,"ÚO Blansko",null,null,null,363,117]
[null,"ÚO Pelhřimov",null,null,null,373,118]
[null,"ÚO Brno - venkov",null,null,null,383,119]
[null,"ÚO Vyškov",null,null,null,393,120]
[null,null,null,null,null,4,121]
[null,null,null,null,null,14,122]
[null,null,null,null,null,24,123]
[null,null,null,null,null,34,124]
[null,null,null,null,null,44,125]
[null,null,null,null,null,54,126]
[null,null,null,null,null,64,127]
[null,null,null,null,null,74,128]
[null,null,null,null,null,84,129]
[null,null,null,null,null,94,130]
[null,null,null,null,null,104,131]
[null,null,null,null,null,114,132]
[null,null,null,null,null,124,133]
[null,null,null,null,null,134,134]
[null,null,null,null,null,144,135]
[null,null,null,null,null,154,136]
[null,null,null,null,null,164,137]
[null,null,null,null,null,174,138]
[null,null,null,null,null,184,139]
[null,null,null,null,null,194,140]
[null,null,null,null,null,204,141]
[null,null,null,null,null,214,142]
[null,null,null,null,null,224,143]
[null,null,null,null,null,234,144]
[null,null,null,null,null,244,145]
[null,null,null,null,null,254,146]
[null,null,null,null,null,264,147]
[null,null,null,null,null,274,148]
[null,null,null,null,null,284,149]
[null,null,null,null,null,294,150]
[null,null,null,null,null,304,151]
[null,null,null,null,null,314,152]
[null,null,null,null,null,324,153]
[null,null,null,null,null,334,154]
[null,null,null,null,null,344,155]
[null,null,null,null,null,354,156]
[null,null,null,null,null,364,157]
[null,null,null,null,null,374,158]
[null,null,null,null,null,384,159]
[null,null,null,null,null,394,160]
[null,null,null,null,null,5,161]
[null,null,null,null,null,15,162]
[null,null,null,null,null,25,163]
[null,null,null,null,null,35,164]
[null,null,null,null,null,45,165]
[null,null,null,null,null,55,166]
[null,null,null,null,null,65,167]
[null,null,null,null,null,75,168]
[null,null,null,null,null,85,169]
[null,null,null,null,null,95,170]
[null,null,null,null,null,105,171]
[null,null,null,null,null,115,172]
[null,null,null,null,null,125,173]
[null,null,null,null,null,135,174]
[null,null,null,null,null,145,175]
[null,null,null,null,null,155,176]
[null,null,null,null,null,165,177]
[null,null,null,null,null,175,178]
[null,null,null,null,null,185,179]
[null,null,null,null,null,195,180]
[null,null,null,null,null,205,181]
[null,null,null,null,null,215,182]
[null,null,null,null,null,225,183]
[null,null,null,null,null,235,184]
[null,null,null,null,null,245,185]
[null,null,null,null,null,255,186]
[null,null,null,null,null,265,187]
[null,null,null,null,null,275,188]
[null,null,null,null,null,285,189]
[null,null,null,null,null,295,190]
[null,null,null,null,null,305,191]
[null,null,null,null,null,315,192]
[null,null,null,null,null,325,193]
[null,null,null,null,null,335,194]
[null,null,null,null,null,345,195]
[null,null,null,null,null,355,196]
[null,null,null,null,null,365,197]
[null,null,null,null,null,375,198]
[null,null,null,null,null,385,199]
[null,null,null,null,null,395,200]
[null,null,null,null,null,6,201]
[null,null,null,null,null,16,202]
[null,null,null,null,null,26,203]
[null,null,null,null,null,36,204]
[null,null,null,null,null,46,205]
[null,null,null,null,null,56,206]
[null,null,null,null,null,66,207]
[null,null,null,null,null,76,208]
[null,null,null,null,null,86,209]
[null,null,null,null,null,96,210]
[null,null,null,null,null,106,211]
[null,null,null,null,null,116,212]
[null,null,null,null,null,126,213]
[null,null,null,null,null,136,214]
[null,null,null,null,null,146,215]
[null,null,null,null,null,156,216]
[null,null,null,null,null,166,217]
[null,null,null,null,null,176,218]
[null,null,null,null,null,186,219]
[null,null,null,null,null,196,220]
[null,null,null,null,null,206,221]
[null,null,null,null,null,216,222]
[null,null,null,null,null,226,223]
[null,null,null,null,null,236,224]
[null,null,null,null,null,246,225]
[null,null,null,null,null,256,226]
[null,null,null,null,null,266,227]
[null,null,null,null,null,276,228]
[null,null,null,null,null,286,229]
[null,null,null,null,null,296,230]
[null,null,null,null,null,306,231]
[null,null,null,null,null,316,232]
[null,null,null,null,null,326,233]
[null,null,null,null,null,336,234]
[null,null,null,null,null,346,235]
[null,null,null,null,null,356,236]
[null,null,null,null,null,366,237]
[null,null,null,null,null,376,238]
[null,null,null,null,null,386,239]
[null,null,null,null,null,396,240]
[null,null,null,null,null,7,241]
[null,null,null,null,null,17,242]
[null,null,null,null,null,27,243]
[null,null,null,null,null,37,244]
[null,null,null,null,null,47,245]
[null,null,null,null,null,57,246]
[null,null,null,null,null,67,247]
[null,null,null,null,null,77,248]
[null,null,null,null,null,87,249]
[null,null,null,null,null,97,250]
[null,null,null,null,null,107,251]
[null,null,null,null,null,117,252]
[null,null,null,null,null,127,253]
[null,null,null,null,null,137,254]
[null,null,null,null,null,147,255]
[null,null,null,null,null,157,256]
[null,null,null,null,null,167,257]
[null,null,null,null,null,177,258]
[null,null,null,null,null,187,259]
[null,null,null,null,null,197,260]
[null,null,null,null,null,207,261]
[null,null,null,null,null,217,262]
[null,null,null,null,null,227,263]
[null,null,null,null,null,237,264]
[null,null,null,null,null,247,265]
[null,null,null,null,null,257,266]
[null,null,null,null,null,267,267]
[null,null,null,null,null,277,268]
[null,null,null,null,null,287,269]
[null,null,null,null,null,297,270]
[null,null,null,null,null,307,271]
[null,null,null,null,null,317,272]
[null,null,null,null,null,327,273]
[null,null,null,null,null,337,274]
[null,null,null,null,null,347,275]
[null,null,null,null,null,357,276]
[null,null,null,null,null,367,277]
[null,null,null,null,null,377,278]
[null,null,null,null,null,387,279]
[null,null,null,null,null,397,280]
[null,null,null,null,null,8,281]
[null,null,null,null,null,18,282]
[null,null,null,null,null,28,283]
[null,null,null,null,null,38,284]
[null,null,null,null,null,48,285]
[null,null,null,null,null,58,286]
[null,null,null,null,null,68,287]
[null,null,null,null,null,78,288]
[null,null,null,null,null,88,289]
[null,null,null,null,null,98,290]
[null,null,null,null,null,108,291]
[null,null,null,null,null,118,292]
[null,null,null,null,null,128,293]
[null,null,null,null,null,138,294]
[null,null,null,null,null,148,295]
[null,null,null,null,null,158,296]
[null,null,null,null,null,168,297]
[null,null,null,null,null,178,298]
[null,null,null,null,null,188,299]
[null,null,null,null,null,198,300]
[null,null,null,null,null,208,301]
[null,null,null,null,null,218,302]
[null,null,null,null,null,228,303]
[null,null,null,null,null,238,304]
[null,null,null,null,null,248,305]
[null,null,null,null,null,258,306]
[null,null,null,null,null,268,307]
[null,null,null,null,null,278,308]
[null,null,null,null,null,288,309]
[null,null,null,null,null,298,310]
[null,null,null,null,null,308,311]
[null,null,null,null,null,318,312]
[null,null,null,null,null,328,313]
[null,null,null,null,null,338,314]
[null,null,null,null,null,348,315]
[null,null,null,null,null,358,316]
[null,null,null,null,null,368,317]
[null,null,null,null,null,378,318]
[null,null,null,null,null,388,319]
[null,null,null,null,null,398,320]
[null,null,null,null,null,9,321]
[null,null,null,null,null,19,322]
[null,null,null,null,null,29,323]
[null,null,null,null,null,39,324]
[null,null,null,null,null,49,325]
[null,null,null,null,null,59,326]
[null,null,null,null,null,69,327]
[null,null,null,null,null,79,328]
[null,null,null,null,null,89,329]
[null,null,null,null,null,99,330]
[null,null,null,null,null,109,331]
[null,null,null,null,null,119,332]
[null,null,null,null,null,129,333]
[null,null,null,null,null,139,334]
[null,null,null,null,null,149,335]
[null,null,null,null,null,159,336]
[null,null,null,null,null,169,337]
[null,null,null,null,null,179,338]
[null,null,null,null,null,189,339]
[null,null,null,null,null,199,340]
[null,null,null,null,null,209,341]
[null,null,null,null,null,219,342]
[null,null,null,null,null,229,343]
[null,null,null,null,null,239,344]
[null,null,null,null,null,249,345]
[null,null,null,null,null,259,346]
[null,null,null,null,null,269,347]
[null,null,null,null,null,279,348]
[null,null,null,null,null,289,349]
[null,null,null,null,null,299,350]
[null,null,null,null,null,309,351]
[null,null,null,null,null,319,352]
[null,null,null,null,null,329,353]
[null,null,null,null,null,339,354]
[null,null,null,null,null,349,355]
[null,null,null,null,null,359,356]
[null,null,null,null,null,369,357]
[null,null,null,null,null,379,358]
[null,null,null,null,null,389,359]
[null,null,null,null,null,399,360]
[null,null,null,null,null,10,361]
[null,null,null,null,null,20,362]
[null,null,null,null,null,30,363]
[null,null,null,null,null,40,364]
[null,null,null,null,null,50,365]
[null,null,null,null,null,60,366]
[null,null,null,null,null,70,367]
[null,null,null,null,null,80,368]
[null,null,null,null,null,90,369]
[null,null,null,null,null,100,370]
[null,null,null,null,null,110,371]
[null,null,null,null,null,120,372]
[null,null,null,null,null,130,373]
[null,null,null,null,null,140,374]
[null,null,null,null,null,150,375]
[null,null,null,null,null,160,376]
[null,null,null,null,null,170,377]
[null,null,null,null,null,180,378]
[null,null,null,null,null,190,379]
[null,null,null,null,null,200,380]
[null,null,null,null,null,210,381]
[null,null,null,null,null,220,382]
[null,null,null,null,null,230,383]
[null,null,null,null,null,240,384]
[null,null,null,null,null,250,385]
[null,null,null,null,null,260,386]
[null,null,null,null,null,270,387]
[null,null,null,null,null,280,388]
[null,null,null,null,null,290,389]
[null,null,null,null,null,300,390]
[null,null,null,null,null,310,391]
[null,null,null,null,null,320,392]
[null,null,null,null,null,330,393]
[null,null,null,null,null,340,394]
[null,null,null,null,null,350,395]
[null,null,null,null,null,360,396]
[null,null,null,null,null,370,397]
[null,null,null,null,null,380,398]
[null,null,null,null,null,390,399]
[null,null,null,null,null,400,400]

{"sheet":"POM","index":32,"n_rows":40,"n_cols":24,"rows_kept":40,"cut":false,"hidden":false,"merged":[]}
[1,"HZS Zlínského kraje",20,1,"","",21,11,null,22,"HZS Plzeňského kraje Domažlice",0,0,"","",0,{"$f":"IF($K1=\"\",\"\",RANK($P1,$P$1:$P$50,1))","v":1},{"$f":"IF($K1=\"\",\"\",RANK($L1,$L$1:$L$50,1))","v":1},1,{"$f":"COUNT(P:P)","v":20},null,"Výsledky",{"$f":"COUNTA('PJ-V'!E5:G404,'PJ-V'!J5:L404)","v":0},{"$f":"COUNTA('V-V'!E5:G404,'V-V'!J5:L404)","v":0}]
[2,"HZS Moravskoslezského kraje Ostrava",20,1,"","",21,11,null,23,"HZS Plzeňského kraje Plžeň",0,0,"","",0,1,1,1,null,null,"St.listina",1,1]
[3,"HZS Kraje Vysočina",20,1,"","",21,11,null,24,"HZS Středočeského kraje Kraj. Výběr",0,0,"","",0,1,1,1,null,null,"Družstva",1,1]
[4,"HZS Pardubického kraje Pardubice",20,1,"","",21,11,null,25,"HZS Královéhradeckého kraje",0,0,"","",0,1,1,1,null,null,"4x100m",1]
[5,"HZS Olomouckého kraje Přerov",20,1,"","",21,11,null,26,"HZS Hlavního města Prahy",0,0,"","",0,1,1,1,null,null,"PÚ",0]
[6,"HZSP SŽDC Č. Třebová",20,1,"","",21,11,null,27,"HZS Moravskoslezského kraje Karviná",0,0,"","",0,1,1,1]
[7,"HZS Jihočeského kraje",20,1,"","",21,11,null,28,"HZS Středočeského kraje M.Boleslav",0,0,"","",0,1,1,1]
[8,"HZSP DEZA Valaš. Meziříčí",20,1,"","",21,11,null,29,"HZS Jihočeského kraje Strakonice",0,0,"","",0,1,1,1]
[9,"HZS Libereckého kraje",20,1,"","",21,11,null,30,"HZSP SŽDC Plzeň",0,0,"","",0,1,1,1]
[10,"HZS Olomouckého kraje Prostějov",20,1,"","",21,11,null,31,"SDH DNEBOH",0,0,"","",0,1,1,1]
[11,"","","","","","","",null,1,"HZS Zlínského kraje",20,1,"","",21,11,11,11]
[12,"","","","","","","",null,2,"HZS Moravskoslezského kraje Ostrava",20,1,"","",21,11,11,11]
[13,"","","","","","","",null,3,"HZS Kraje Vysočina",20,1,"","",21,11,11,11]
[14,"","","","","","","",null,4,"HZS Pardubického kraje Pardubice",20,1,"","",21,11,11,11]
[15,"","","","","","","",null,5,"HZS Olomouckého kraje Přerov",20,1,"","",21,11,11,11]
[16,"","","","","","","",null,6,"HZSP SŽDC Č. Třebová",20,1,"","",21,11,11,11]
[17,"","","","","","","",null,7,"HZS Jihočeského kraje",20,1,"","",21,11,11,11]
[18,"","","","","","","",null,8,"HZSP DEZA Valaš. Meziříčí",20,1,"","",21,11,11,11]
[19,"","","","","","","",null,9,"HZS Libereckého kraje",20,1,"","",21,11,11,11]
[20,"","","","","","","",null,10,"HZS Olomouckého kraje Prostějov",20,1,"","",21,11,11,11]
[21,"","","","","","","",null,11,"","","","","","","",""]
[22,"HZS Plzeňského kraje Domažlice",0,0,"","",0,1,null,12,"","","","","","","",""]
[23,"HZS Plzeňského kraje Plžeň",0,0,"","",0,1,null,13,"","","","","","","",""]
[24,"HZS Středočeského kraje Kraj. Výběr",0,0,"","",0,1,null,14,"","","","","","","",""]
[25,"HZS Královéhradeckého kraje",0,0,"","",0,1,null,15,"","","","","","","",""]
[26,"HZS Hlavního města Prahy",0,0,"","",0,1,null,16,"","","","","","","",""]
[27,"HZS Moravskoslezského kraje Karviná",0,0,"","",0,1,null,17,"","","","","","","",""]
[28,"HZS Středočeského kraje M.Boleslav",0,0,"","",0,1,null,18,"","","","","","","",""]
[29,"HZS Jihočeského kraje Strakonice",0,0,"","",0,1,null,19,"","","","","","","",""]
[30,"HZSP SŽDC Plzeň",0,0,"","",0,1,null,20,"","","","","","","",""]
[31,"SDH DNEBOH",0,0,"","",0,1,null,21,"","","","","","","",""]
[32,"","","","","","","",null,32,"","","","","","","",""]
[33,"","","","","","","",null,33,"","","","","","","",""]
[34,"","","","","","","",null,34,"","","","","","","",""]
[35,"","","","","","","",null,35,"","","","","","","",""]
[36,"","","","","","","",null,36,"","","","","","","",""]
[37,"","","","","","","",null,37,"","","","","","","",""]
[38,"","","","","","","",null,38,"","","","","","","",""]
[39,"","","","","","","",null,39,"","","","","","","",""]
[40,"","","","","","","",null,40,"","","","","","","",""]

{"sheet":"Seznam","index":33,"n_rows":20,"n_cols":19,"rows_kept":20,"cut":false,"hidden":false,"merged":[[14,2,14,6],[23,3,23,15],[25,3,25,15],[16,2,16,6],[17,2,17,6],[0,1,0,15],[2,1,2,2],[2,7,2,15],[2,4,2,6],[15,2,15,6],[8,2,8,6],[9,2,9,6],[10,2,10,6],[11,2,11,6],[6,2,6,6],[12,2,12,6],[13,2,13,6]]}
[null,"Přihláška"]
[]
[null,"Startovní číslo:",null,9,"SDH / HZS / Tým:",null,null,"HZSP Deza"]
[]
[null,null,null,null,null,null,null,0,null,0,null,{"$f":"IF(AND(H5=1,J5=1),1,0)","v":0}]
[]
[null,null,"Přijmení a Jméno soutěžícího",null,null,null,null,null,"100m",null,"věž",null,"St. číslo",null,null,null,null,{"$f":"OR(R9>1,R10>1,R11>1,R12>1,R13>1,R14>1,R15>1,R16>1)","v":false},{"$f":"OR(S9>1,S10>1,S11>1,S12>1,S13>1,S14>1,S15>1,S16>1)","v":false}]
[]
[null,"1.","Martin Gášek",null,null,null,null,null,null,null,null,null,{"$f":"IF($L$5=1,($D$3-1)*10+1,IF($I9=\"\",\"\",($I9-1)*Start!$E$5+$D$3))","v":""},null,null,null,null,{"$f":"COUNTIF(I$9:I$18,1)","v":0},{"$f":"COUNTIF(K$9:K$18,1)","v":0}]
[null,"2.","Aleš Navrátil",null,null,null,null,null,null,null,null,null,{"$f":"IF($L$5=1,($D$3-1)*10+2,IF($I10=\"\",\"\",($I10-1)*Start!$E$5+$D$3))","v":""},null,null,null,null,{"$f":"COUNTIF(I$9:I$18,2)","v":0},{"$f":"COUNTIF(K$9:K$18,2)","v":0}]
[null,"3.","Martin Koňařík",null,null,null,null,null,null,null,null,null,{"$f":"IF($L$5=1,($D$3-1)*10+3,IF($I11=\"\",\"\",($I11-1)*Start!$E$5+$D$3))","v":""},null,null,null,null,{"$f":"COUNTIF(I$9:I$18,3)","v":0},{"$f":"COUNTIF(K$9:K$18,3)","v":0}]
[null,"4.","Karel Kozák",null,null,null,null,null,null,null,null,null,{"$f":"IF($L$5=1,($D$3-1)*10+4,IF($I12=\"\",\"\",($I12-1)*Start!$E$5+$D$3))","v":""},null,null,null,null,{"$f":"COUNTIF(I$9:I$18,4)","v":0},{"$f":"COUNTIF(K$9:K$18,4)","v":0}]
[null,"5.","Tomáš Skalka",null,null,null,null,null,null,null,null,null,{"$f":"IF($L$5=1,($D$3-1)*10+5,IF($I13=\"\",\"\",($I13-1)*Start!$E$5+$D$3))","v":""},null,null,null,null,{"$f":"COUNTIF(I$9:I$18,5)","v":0},{"$f":"COUNTIF(K$9:K$18,5)","v":0}]
[null,"6.","Jan Gášek",null,null,null,null,null,null,null,null,null,{"$f":"IF($L$5=1,($D$3-1)*10+6,IF($I14=\"\",\"\",($I14-1)*Start!$E$5+$D$3))","v":""},null,null,null,null,{"$f":"COUNTIF(I$9:I$18,6)","v":0},{"$f":"COUNTIF(K$9:K$18,6)","v":0}]
[null,"7.","Michal Brodacký",null,null,null,null,null,null,null,null,null,{"$f":"IF($L$5=1,($D$3-1)*10+7,IF($I15=\"\",\"\",($I15-1)*Start!$E$5+$D$3))","v":""},null,null,null,null,{"$f":"COUNTIF(I$9:I$18,7)","v":0},{"$f":"COUNTIF(K$9:K$18,7)","v":0}]
[null,"8.",null,null,null,null,null,null,null,null,null,null,{"$f":"IF($L$5=1,($D$3-1)*10+8,IF($I16=\"\",\"\",($I16-1)*Start!$E$5+$D$3))","v":""},null,null,null,null,{"$f":"COUNTIF(I$9:I$18,8)","v":0},{"$f":"COUNTIF(K$9:K$18,8)","v":0}]
[null,"9.",null,null,null,null,null,null,null,null,null,null,{"$f":"IF($L$5=1,($D$3-1)*10+9,IF($I17=\"\",\"\",($I17-1)*Start!$E$5+$D$3))","v":""},null,null,null,null,{"$f":"COUNTIF(I$9:I$18,\"\")","v":10},{"$f":"COUNTIF(K$9:K$18,\"\")","v":10}]
[null,"10.",null,null,null,null,null,null,null,null,null,null,{"$f":"IF($L$5=1,($D$3-1)*10+10,IF($I18=\"\",\"\",($I18-1)*Start!$E$5+$D$3))","v":""}]
[]
[null,null,null,null,null,null,null,null,{"$f":"IF($H$3=\"\",\"\",COUNTA(I$9:I$18))","v":0},null,{"$f":"IF($H$3=\"\",\"\",COUNTA(K$9:K$18))","v":0}]

{"sheet":"Data","index":34,"n_rows":44,"n_cols":39,"rows_kept":44,"cut":false,"hidden":false,"merged":[[0,1,0,12],[2,3,2,12],[2,16,2,25],[2,27,2,36]]}
[null,"DATA - Seznamy soutěžících"]
[null,null,null,null,null,null,null,null,null,null,null,null,null,null,"NE",null,null,null,null,null,null,null,null,null,null,null,null,null,null,null,null,null,null,null,null,null,null,null,"NE"]
[null,2,null,"Soutěžící",null,null,null,null,null,null,null,null,null,null,null,null,"100m",null,null,null,null,null,null,null,null,null,null,"věž"]
[null,"st.č.","Družstvo",1,2,3,4,5,6,7,8,9,10,null,"U",null,1,2,3,4,5,6,7,8,9,10,null,1,2,3,4,5,6,7,8,9,10,null,"O"]
[null,1,{"$f":"IF(Start!C7=\"\",\"\",Start!C7)","v":"HZS Jihočeského kraje"},"Stanislav Šmíd","Pavel Janů","Marek Šenkýř","Jan Kučera","Vojtěch Bašta","Ondřej Huml","Michal Doktor",null,null,null,null,"ANO",null,null,null,null,null,null,null,null,null,null,null,null,null,null,null,null,null,null,null,null,null,null,null,"ANO"]
[null,2,{"$f":"IF(Start!C8=\"\",\"\",Start!C8)","v":"HZS Kraje Vysočina"},"Lukáš Hons","Vilém Ryšavý","Martin Caha","Jiří Joukl","Marek Peštál","Pavel Hnízdil","Stanislav Hladík","Martin Klimeš","Radek Nechvátal",null,null,"ANO",null,null,null,null,null,null,null,null,null,null,null,null,null,null,null,null,null,null,null,null,null,null,null,"ANO"]
[null,3,{"$f":"IF(Start!C9=\"\",\"\",Start!C9)","v":"HZS Zlínského Kraje"},"Radek Chmela","Petr Kuchařík","Ondřej Soukeník","Petr Kuchařík","Petr Hynera","Petr Vaculín","Luděk Otypka","Marek Pavelka","Pavel Abrhám",null,null,"ANO",null,null,null,null,null,null,null,null,null,null,null,null,null,null,null,null,null,null,null,null,null,null,null,"NE"]
[null,4,{"$f":"IF(Start!C10=\"\",\"\",Start!C10)","v":"HZS správa železnic"},"Roman Snášel","Jakub Purkart","Pavel Sova","Jindřich Slabihoudek","Roman Herynk","Jakub Komorous","Jiří Vodrážka",null,null,null,null,"ANO",null,null,null,null,null,null,null,null,null,null,null,null,null,null,null,null,null,null,null,null,null,null,null,"NE"]
[null,5,{"$f":"IF(Start!C11=\"\",\"\",Start!C11)","v":"HZS Libereckého Kraje"},"Jakub Kozák","Jiří Brázda","Marek Neumann","Filip Kokta","Jan Žilík","Matěj Masný","Jan Lampa",null,null,null,null,"ANO",null,null,null,null,null,null,null,null,null,null,null,null,null,null,null,null,null,null,null,null,null,null,null,"NE"]
[null,6,{"$f":"IF(Start!C12=\"\",\"\",Start!C12)","v":"HZS Pardubického Kraje"},"Michal Vraný","Jakub Dušek","Patrik Serbousek","Aleš Leder","David Netolický","Pavel Petrovič","Rudolf Dubec",null,null,null,null,"ANO",null,null,null,null,null,null,null,null,null,null,null,null,null,null,null,null,null,null,null,null,null,null,null,"NE"]
[null,7,{"$f":"IF(Start!C13=\"\",\"\",Start!C13)","v":"HZS Královohradeckého Kr."},"Martin Lidmila","Jiří Škodný","Vojtěch Klenka","Patrik Kligl","Václav Novotný","Miroslav Mareček","Dominik Bělský",null,null,null,null,"ANO",null,null,null,null,null,null,null,null,null,null,null,null,null,null,null,null,null,null,null,null,null,null,null,"NE"]
[null,8,{"$f":"IF(Start!C14=\"\",\"\",Start!C14)","v":"HZS Plzeňského Kraje"},"Milan Sedláček","Zbyněk Kováč","David Dopirák","Jaroslav Hrdličák","Jiří Hnyk","Martin Vondrovic","Michal Bečvář",null,null,null,null,"ANO",null,null,null,null,null,null,null,null,null,null,null,null,null,null,null,null,null,null,null,null,null,null,null,"NE"]
[null,9,{"$f":"IF(Start!C15=\"\",\"\",Start!C15)","v":"HZSP Deza"},"Martin Gášek","Aleš Navrátil","Martin Koňařík","Karel Kozák","Tomáš Skalka","Jan Gášek","Michal Brodacký",null,null,null,null,"ANO",null,null,null,null,null,null,null,null,null,null,null,null,null,null,null,null,null,null,null,null,null,null,null,"NE"]
[null,10,{"$f":"IF(Start!C16=\"\",\"\",Start!C16)","v":""},null,null,null,null,null,null,null,null,null,null,null,"ANO",null,null,null,null,null,null,null,null,null,null,null,null,null,null,null,null,null,null,null,null,null,null,null,"ANO"]
[null,11,{"$f":"IF(Start!C17=\"\",\"\",Start!C17)","v":""},null,null,null,null,null,null,null,null,null,null,null,"ANO",null,null,null,null,null,null,null,null,null,null,null,null,null,null,null,null,null,null,null,null,null,null,null,"ANO"]
[null,12,{"$f":"IF(Start!C18=\"\",\"\",Start!C18)","v":""},null,null,null,null,null,null,null,null,null,null,null,"ANO",null,null,null,null,null,null,null,null,null,null,null,null,null,null,null,null,null,null,null,null,null,null,null,"ANO"]
[null,13,{"$f":"IF(Start!C19=\"\",\"\",Start!C19)","v":""},null,null,null,null,null,null,null,null,null,null,null,"ANO",null,null,null,null,null,null,null,null,null,null,null,null,null,null,null,null,null,null,null,null,null,null,null,"ANO"]
[null,14,{"$f":"IF(Start!C20=\"\",\"\",Start!C20)","v":""},null,null,null,null,null,null,null,null,null,null,null,"ANO",null,null,null,null,null,null,null,null,null,null,null,null,null,null,null,null,null,null,null,null,null,null,null,"NE"]
[null,15,{"$f":"IF(Start!C21=\"\",\"\",Start!C21)","v":""},null,null,null,null,null,null,null,null,null,null,null,"ANO",null,null,null,null,null,null,null,null,null,null,null,null,null,null,null,null,null,null,null,null,null,null,null,"NE"]
[null,16,{"$f":"IF(Start!C22=\"\",\"\",Start!C22)","v":""},null,null,null,null,null,null,null,null,null,null,null,"ANO",null,null,null,null,null,null,null,null,null,null,null,null,null,null,null,null,null,null,null,null,null,null,null,"NE"]
[null,17,{"$f":"IF(Start!C23=\"\",\"\",Start!C23)","v":""},null,null,null,null,null,null,null,null,null,null,null,"ANO",null,null,null,null,null,null,null,null,null,null,null,null,null,null,null,null,null,null,null,null,null,null,null,"NE"]
[null,18,{"$f":"IF(Start!C24=\"\",\"\",Start!C24)","v":""},null,null,null,null,null,null,null,null,null,null,null,"ANO",null,null,null,null,null,null,null,null,null,null,null,null,null,null,null,null,null,null,null,null,null,null,null,"NE"]
[null,19,{"$f":"IF(Start!C25=\"\",\"\",Start!C25)","v":""},null,null,null,null,null,null,null,null,null,null,null,"ANO",null,null,null,null,null,null,null,null,null,null,null,null,null,null,null,null,null,null,null,null,null,null,null,"NE"]
[null,20,{"$f":"IF(Start!C26=\"\",\"\",Start!C26)","v":""},null,null,null,null,null,null,null,null,null,null,null,"ANO",null,null,null,null,null,null,null,null,null,null,null,null,null,null,null,null,null,null,null,null,null,null,null,"NE"]
[null,21,{"$f":"IF(Start!C27=\"\",\"\",Start!C27)","v":""},null,null,null,null,null,null,null,null,null,null,null,"ANO",null,null,null,null,null,null,null,null,null,null,null,null,null,null,null,null,null,null,null,null,null,null,null,"NE"]
[null,22,{"$f":"IF(Start!C28=\"\",\"\",Start!C28)","v":""},null,null,null,null,null,null,null,null,null,null,null,"ANO",null,null,null,null,null,null,null,null,null,null,null,null,null,null,null,null,null,null,null,null,null,null,null,"NE"]
[null,23,{"$f":"IF(Start!C29=\"\",\"\",Start!C29)","v":""},null,null,null,null,null,null,null,null,null,null,null,"NE",null,null,null,null,null,null,null,null,null,null,null,null,null,null,null,null,null,null,null,null,null,null,null,"NE"]
[null,24,{"$f":"IF(Start!C30=\"\",\"\",Start!C30)","v":""},null,null,null,null,null,null,null,null,null,null,null,"NE",null,null,null,null,null,null,null,null,null,null,null,null,null,null,null,null,null,null,null,null,null,null,null,"NE"]
[null,25,{"$f":"IF(Start!C31=\"\",\"\",Start!C31)","v":""},null,null,null,null,null,null,null,null,null,null,null,"NE",null,null,null,null,null,null,null,null,null,null,null,null,null,null,null,null,null,null,null,null,null,null,null,"NE"]
[null,26,{"$f":"IF(Start!C32=\"\",\"\",Start!C32)","v":""},null,null,null,null,null,null,null,null,null,null,null,"NE",null,null,null,null,null,null,null,null,null,null,null,null,null,null,null,null,null,null,null,null,null,null,null,"NE"]
[null,27,{"$f":"IF(Start!C33=\"\",\"\",Start!C33)","v":""},null,null,null,null,null,null,null,null,null,null,null,"NE",null,null,null,null,null,null,null,null,null,null,null,null,null,null,null,null,null,null,null,null,null,null,null,"NE"]
[null,28,{"$f":"IF(Start!C34=\"\",\"\",Start!C34)","v":""},null,null,null,null,null,null,null,null,null,null,null,"NE",null,null,null,null,null,null,null,null,null,null,null,null,null,null,null,null,null,null,null,null,null,null,null,"NE"]
[null,29,{"$f":"IF(Start!C35=\"\",\"\",Start!C35)","v":""},null,null,null,null,null,null,null,null,null,null,null,"NE",null,null,null,null,null,null,null,null,null,null,null,null,null,null,null,null,null,null,null,null,null,null,null,"NE"]
[null,30,{"$f":"IF(Start!C36=\"\",\"\",Start!C36)","v":""},null,null,null,null,null,null,null,null,null,null,null,"NE",null,null,null,null,null,null,null,null,null,null,null,null,null,null,null,null,null,null,null,null,null,null,null,"NE"]
[null,31,{"$f":"IF(Start!C37=\"\",\"\",Start!C37)","v":""},null,null,null,null,null,null,null,null,null,null,null,"NE",null,null,null,null,null,null,null,null,null,null,null,null,null,null,null,null,null,null,null,null,null,null,null,"NE"]
[null,32,{"$f":"IF(Start!C38=\"\",\"\",Start!C38)","v":""},null,null,null,null,null,null,null,null,null,null,null,"NE",null,null,null,null,null,null,null,null,null,null,null,null,null,null,null,null,null,null,null,null,null,null,null,"NE"]
[null,33,{"$f":"IF(Start!C39=\"\",\"\",Start!C39)","v":""},null,null,null,null,null,null,null,null,null,null,null,"NE",null,null,null,null,null,null,null,null,null,null,null,null,null,null,null,null,null,null,null,null,null,null,null,"NE"]
[null,34,{"$f":"IF(Start!C40=\"\",\"\",Start!C40)","v":""},null,null,null,null,null,null,null,null,null,null,null,"NE",null,null,null,null,null,null,null,null,null,null,null,null,null,null,null,null,null,null,null,null,null,null,null,"NE"]
[null,35,{"$f":"IF(Start!C41=\"\",\"\",Start!C41)","v":""},null,null,null,null,null,null,null,null,null,null,null,"NE",null,null,null,null,null,null,null,null,null,null,null,null,null,null,null,null,null,null,null,null,null,null,null,"NE"]
[null,36,{"$f":"IF(Start!C42=\"\",\"\",Start!C42)","v":""},null,null,null,null,null,null,null,null,null,null,null,"NE",null,null,null,null,null,null,null,null,null,null,null,null,null,null,null,null,null,null,null,null,null,null,null,"NE"]
[null,37,{"$f":"IF(Start!C43=\"\",\"\",Start!C43)","v":""},null,null,null,null,null,null,null,null,null,null,null,"NE",null,null,null,null,null,null,null,null,null,null,null,null,null,null,null,null,null,null,null,null,null,null,null,"NE"]
[null,38,{"$f":"IF(Start!C44=\"\",\"\",Start!C44)","v":""},null,null,null,null,null,null,null,null,null,null,null,"NE",null,null,null,null,null,null,null,null,null,null,null,null,null,null,null,null,null,null,null,null,null,null,null,"NE"]
[null,39,{"$f":"IF(Start!C45=\"\",\"\",Start!C45)","v":""},null,null,null,null,null,null,null,null,null,null,null,"NE",null,null,null,null,null,null,null,null,null,null,null,null,null,null,null,null,null,null,null,null,null,null,null,"NE"]
[null,40,{"$f":"IF(Start!C46=\"\",\"\",Start!C46)","v":""},null,null,null,null,null,null,null,null,null,null,null,"NE",null,null,null,null,null,null,null,null,null,null,null,null,null,null,null,null,null,null,null,null,null,null,null,"NE"]

{"sheet":"RozC1","index":35,"n_rows":46,"n_cols":13,"rows_kept":46,"cut":false,"hidden":false,"merged":[[5,3,5,12],[0,1,0,12],[1,1,1,12],[2,1,2,12]]}
[null,"Rozdělovník startovních čísel"]
[null,{"$f":"Start!B2","v":"VC ČR v požárním útoku družstev HZS krajů a HZS podniků"}]
[null,{"$f":"Start!B3","v":"Petrovice 19.9.2019"}]
[]
[null,"Kat.:",{"$f":"Start!C5","v":"MUŽI"},1,2,3,4,5,6,7,8,9,10]
[null,"st.č.","SDH / HZS / Tým","Startovní čísla pro tým"]
[null,1,{"$f":"IF(Start!C7=\"\",\"\",Start!C7)","v":"HZS Jihočeského kraje"},{"$f":"IF($C7=\"\",\"\",(D$5-1)*Start!$E$5+$B7)","v":1},{"$f":"IF($C7=\"\",\"\",(E$5-1)*Start!$E$5+$B7)","v":10},{"$f":"IF($C7=\"\",\"\",(F$5-1)*Start!$E$5+$B7)","v":19},{"$f":"IF($C7=\"\",\"\",(G$5-1)*Start!$E$5+$B7)","v":28},{"$f":"IF($C7=\"\",\"\",(H$5-1)*Start!$E$5+$B7)","v":37},{"$f":"IF($C7=\"\",\"\",(I$5-1)*Start!$E$5+$B7)","v":46},{"$f":"IF($C7=\"\",\"\",(J$5-1)*Start!$E$5+$B7)","v":55},{"$f":"IF($C7=\"\",\"\",(K$5-1)*Start!$E$5+$B7)","v":64},{"$f":"IF($C7=\"\",\"\",(L$5-1)*Start!$E$5+$B7)","v":73},{"$f":"IF($C7=\"\",\"\",(M$5-1)*Start!$E$5+$B7)","v":82}]
[null,2,{"$f":"IF(Start!C8=\"\",\"\",Start!C8)","v":"HZS Kraje Vysočina"},{"$f":"IF($C8=\"\",\"\",(D$5-1)*Start!$E$5+$B8)","v":2},{"$f":"IF($C8=\"\",\"\",(E$5-1)*Start!$E$5+$B8)","v":11},{"$f":"IF($C8=\"\",\"\",(F$5-1)*Start!$E$5+$B8)","v":20},{"$f":"IF($C8=\"\",\"\",(G$5-1)*Start!$E$5+$B8)","v":29},{"$f":"IF($C8=\"\",\"\",(H$5-1)*Start!$E$5+$B8)","v":38},{"$f":"IF($C8=\"\",\"\",(I$5-1)*Start!$E$5+$B8)","v":47},{"$f":"IF($C8=\"\",\"\",(J$5-1)*Start!$E$5+$B8)","v":56},{"$f":"IF($C8=\"\",\"\",(K$5-1)*Start!$E$5+$B8)","v":65},{"$f":"IF($C8=\"\",\"\",(L$5-1)*Start!$E$5+$B8)","v":74},{"$f":"IF($C8=\"\",\"\",(M$5-1)*Start!$E$5+$B8)","v":83}]
[null,3,{"$f":"IF(Start!C9=\"\",\"\",Start!C9)","v":"HZS Zlínského Kraje"},{"$f":"IF($C9=\"\",\"\",(D$5-1)*Start!$E$5+$B9)","v":3},{"$f":"IF($C9=\"\",\"\",(E$5-1)*Start!$E$5+$B9)","v":12},{"$f":"IF($C9=\"\",\"\",(F$5-1)*Start!$E$5+$B9)","v":21},{"$f":"IF($C9=\"\",\"\",(G$5-1)*Start!$E$5+$B9)","v":30},{"$f":"IF($C9=\"\",\"\",(H$5-1)*Start!$E$5+$B9)","v":39},{"$f":"IF($C9=\"\",\"\",(I$5-1)*Start!$E$5+$B9)","v":48},{"$f":"IF($C9=\"\",\"\",(J$5-1)*Start!$E$5+$B9)","v":57},{"$f":"IF($C9=\"\",\"\",(K$5-1)*Start!$E$5+$B9)","v":66},{"$f":"IF($C9=\"\",\"\",(L$5-1)*Start!$E$5+$B9)","v":75},{"$f":"IF($C9=\"\",\"\",(M$5-1)*Start!$E$5+$B9)","v":84}]
[null,4,{"$f":"IF(Start!C10=\"\",\"\",Start!C10)","v":"HZS správa železnic"},{"$f":"IF($C10=\"\",\"\",(D$5-1)*Start!$E$5+$B10)","v":4},{"$f":"IF($C10=\"\",\"\",(E$5-1)*Start!$E$5+$B10)","v":13},{"$f":"IF($C10=\"\",\"\",(F$5-1)*Start!$E$5+$B10)","v":22},{"$f":"IF($C10=\"\",\"\",(G$5-1)*Start!$E$5+$B10)","v":31},{"$f":"IF($C10=\"\",\"\",(H$5-1)*Start!$E$5+$B10)","v":40},{"$f":"IF($C10=\"\",\"\",(I$5-1)*Start!$E$5+$B10)","v":49},{"$f":"IF($C10=\"\",\"\",(J$5-1)*Start!$E$5+$B10)","v":58},{"$f":"IF($C10=\"\",\"\",(K$5-1)*Start!$E$5+$B10)","v":67},{"$f":"IF($C10=\"\",\"\",(L$5-1)*Start!$E$5+$B10)","v":76},{"$f":"IF($C10=\"\",\"\",(M$5-1)*Start!$E$5+$B10)","v":85}]
[null,5,{"$f":"IF(Start!C11=\"\",\"\",Start!C11)","v":"HZS Libereckého Kraje"},{"$f":"IF($C11=\"\",\"\",(D$5-1)*Start!$E$5+$B11)","v":5},{"$f":"IF($C11=\"\",\"\",(E$5-1)*Start!$E$5+$B11)","v":14},{"$f":"IF($C11=\"\",\"\",(F$5-1)*Start!$E$5+$B11)","v":23},{"$f":"IF($C11=\"\",\"\",(G$5-1)*Start!$E$5+$B11)","v":32},{"$f":"IF($C11=\"\",\"\",(H$5-1)*Start!$E$5+$B11)","v":41},{"$f":"IF($C11=\"\",\"\",(I$5-1)*Start!$E$5+$B11)","v":50},{"$f":"IF($C11=\"\",\"\",(J$5-1)*Start!$E$5+$B11)","v":59},{"$f":"IF($C11=\"\",\"\",(K$5-1)*Start!$E$5+$B11)","v":68},{"$f":"IF($C11=\"\",\"\",(L$5-1)*Start!$E$5+$B11)","v":77},{"$f":"IF($C11=\"\",\"\",(M$5-1)*Start!$E$5+$B11)","v":86}]
[null,6,{"$f":"IF(Start!C12=\"\",\"\",Start!C12)","v":"HZS Pardubického Kraje"},{"$f":"IF($C12=\"\",\"\",(D$5-1)*Start!$E$5+$B12)","v":6},{"$f":"IF($C12=\"\",\"\",(E$5-1)*Start!$E$5+$B12)","v":15},{"$f":"IF($C12=\"\",\"\",(F$5-1)*Start!$E$5+$B12)","v":24},{"$f":"IF($C12=\"\",\"\",(G$5-1)*Start!$E$5+$B12)","v":33},{"$f":"IF($C12=\"\",\"\",(H$5-1)*Start!$E$5+$B12)","v":42},{"$f":"IF($C12=\"\",\"\",(I$5-1)*Start!$E$5+$B12)","v":51},{"$f":"IF($C12=\"\",\"\",(J$5-1)*Start!$E$5+$B12)","v":60},{"$f":"IF($C12=\"\",\"\",(K$5-1)*Start!$E$5+$B12)","v":69},{"$f":"IF($C12=\"\",\"\",(L$5-1)*Start!$E$5+$B12)","v":78},{"$f":"IF($C12=\"\",\"\",(M$5-1)*Start!$E$5+$B12)","v":87}]
[null,7,{"$f":"IF(Start!C13=\"\",\"\",Start!C13)","v":"HZS Královohradeckého Kr."},{"$f":"IF($C13=\"\",\"\",(D$5-1)*Start!$E$5+$B13)","v":7},{"$f":"IF($C13=\"\",\"\",(E$5-1)*Start!$E$5+$B13)","v":16},{"$f":"IF($C13=\"\",\"\",(F$5-1)*Start!$E$5+$B13)","v":25},{"$f":"IF($C13=\"\",\"\",(G$5-1)*Start!$E$5+$B13)","v":34},{"$f":"IF($C13=\"\",\"\",(H$5-1)*Start!$E$5+$B13)","v":43},{"$f":"IF($C13=\"\",\"\",(I$5-1)*Start!$E$5+$B13)","v":52},{"$f":"IF($C13=\"\",\"\",(J$5-1)*Start!$E$5+$B13)","v":61},{"$f":"IF($C13=\"\",\"\",(K$5-1)*Start!$E$5+$B13)","v":70},{"$f":"IF($C13=\"\",\"\",(L$5-1)*Start!$E$5+$B13)","v":79},{"$f":"IF($C13=\"\",\"\",(M$5-1)*Start!$E$5+$B13)","v":88}]
[null,8,{"$f":"IF(Start!C14=\"\",\"\",Start!C14)","v":"HZS Plzeňského Kraje"},{"$f":"IF($C14=\"\",\"\",(D$5-1)*Start!$E$5+$B14)","v":8},{"$f":"IF($C14=\"\",\"\",(E$5-1)*Start!$E$5+$B14)","v":17},{"$f":"IF($C14=\"\",\"\",(F$5-1)*Start!$E$5+$B14)","v":26},{"$f":"IF($C14=\"\",\"\",(G$5-1)*Start!$E$5+$B14)","v":35},{"$f":"IF($C14=\"\",\"\",(H$5-1)*Start!$E$5+$B14)","v":44},{"$f":"IF($C14=\"\",\"\",(I$5-1)*Start!$E$5+$B14)","v":53},{"$f":"IF($C14=\"\",\"\",(J$5-1)*Start!$E$5+$B14)","v":62},{"$f":"IF($C14=\"\",\"\",(K$5-1)*Start!$E$5+$B14)","v":71},{"$f":"IF($C14=\"\",\"\",(L$5-1)*Start!$E$5+$B14)","v":80},{"$f":"IF($C14=\"\",\"\",(M$5-1)*Start!$E$5+$B14)","v":89}]
[null,9,{"$f":"IF(Start!C15=\"\",\"\",Start!C15)","v":"HZSP Deza"},{"$f":"IF($C15=\"\",\"\",(D$5-1)*Start!$E$5+$B15)","v":9},{"$f":"IF($C15=\"\",\"\",(E$5-1)*Start!$E$5+$B15)","v":18},{"$f":"IF($C15=\"\",\"\",(F$5-1)*Start!$E$5+$B15)","v":27},{"$f":"IF($C15=\"\",\"\",(G$5-1)*Start!$E$5+$B15)","v":36},{"$f":"IF($C15=\"\",\"\",(H$5-1)*Start!$E$5+$B15)","v":45},{"$f":"IF($C15=\"\",\"\",(I$5-1)*Start!$E$5+$B15)","v":54},{"$f":"IF($C15=\"\",\"\",(J$5-1)*Start!$E$5+$B15)","v":63},{"$f":"IF($C15=\"\",\"\",(K$5-1)*Start!$E$5+$B15)","v":72},{"$f":"IF($C15=\"\",\"\",(L$5-1)*Start!$E$5+$B15)","v":81},{"$f":"IF($C15=\"\",\"\",(M$5-1)*Start!$E$5+$B15)","v":90}]
[null,10,{"$f":"IF(Start!C16=\"\",\"\",Start!C16)","v":""},{"$f":"IF($C16=\"\",\"\",(D$5-1)*Start!$E$5+$B16)","v":""},{"$f":"IF($C16=\"\",\"\",(E$5-1)*Start!$E$5+$B16)","v":""},{"$f":"IF($C16=\"\",\"\",(F$5-1)*Start!$E$5+$B16)","v":""},{"$f":"IF($C16=\"\",\"\",(G$5-1)*Start!$E$5+$B16)","v":""},{"$f":"IF($C16=\"\",\"\",(H$5-1)*Start!$E$5+$B16)","v":""},{"$f":"IF($C16=\"\",\"\",(I$5-1)*Start!$E$5+$B16)","v":""},{"$f":"IF($C16=\"\",\"\",(J$5-1)*Start!$E$5+$B16)","v":""},{"$f":"IF($C16=\"\",\"\",(K$5-1)*Start!$E$5+$B16)","v":""},{"$f":"IF($C16=\"\",\"\",(L$5-1)*Start!$E$5+$B16)","v":""},{"$f":"IF($C16=\"\",\"\",(M$5-1)*Start!$E$5+$B16)","v":""}]
[null,11,{"$f":"IF(Start!C17=\"\",\"\",Start!C17)","v":""},{"$f":"IF($C17=\"\",\"\",(D$5-1)*Start!$E$5+$B17)","v":""},{"$f":"IF($C17=\"\",\"\",(E$5-1)*Start!$E$5+$B17)","v":""},{"$f":"IF($C17=\"\",\"\",(F$5-1)*Start!$E$5+$B17)","v":""},{"$f":"IF($C17=\"\",\"\",(G$5-1)*Start!$E$5+$B17)","v":""},{"$f":"IF($C17=\"\",\"\",(H$5-1)*Start!$E$5+$B17)","v":""},{"$f":"IF($C17=\"\",\"\",(I$5-1)*Start!$E$5+$B17)","v":""},{"$f":"IF($C17=\"\",\"\",(J$5-1)*Start!$E$5+$B17)","v":""},{"$f":"IF($C17=\"\",\"\",(K$5-1)*Start!$E$5+$B17)","v":""},{"$f":"IF($C17=\"\",\"\",(L$5-1)*Start!$E$5+$B17)","v":""},{"$f":"IF($C17=\"\",\"\",(M$5-1)*Start!$E$5+$B17)","v":""}]
[null,12,{"$f":"IF(Start!C18=\"\",\"\",Start!C18)","v":""},{"$f":"IF($C18=\"\",\"\",(D$5-1)*Start!$E$5+$B18)","v":""},{"$f":"IF($C18=\"\",\"\",(E$5-1)*Start!$E$5+$B18)","v":""},{"$f":"IF($C18=\"\",\"\",(F$5-1)*Start!$E$5+$B18)","v":""},{"$f":"IF($C18=\"\",\"\",(G$5-1)*Start!$E$5+$B18)","v":""},{"$f":"IF($C18=\"\",\"\",(H$5-1)*Start!$E$5+$B18)","v":""},{"$f":"IF($C18=\"\",\"\",(I$5-1)*Start!$E$5+$B18)","v":""},{"$f":"IF($C18=\"\",\"\",(J$5-1)*Start!$E$5+$B18)","v":""},{"$f":"IF($C18=\"\",\"\",(K$5-1)*Start!$E$5+$B18)","v":""},{"$f":"IF($C18=\"\",\"\",(L$5-1)*Start!$E$5+$B18)","v":""},{"$f":"IF($C18=\"\",\"\",(M$5-1)*Start!$E$5+$B18)","v":""}]
[null,13,{"$f":"IF(Start!C19=\"\",\"\",Start!C19)","v":""},{"$f":"IF($C19=\"\",\"\",(D$5-1)*Start!$E$5+$B19)","v":""},{"$f":"IF($C19=\"\",\"\",(E$5-1)*Start!$E$5+$B19)","v":""},{"$f":"IF($C19=\"\",\"\",(F$5-1)*Start!$E$5+$B19)","v":""},{"$f":"IF($C19=\"\",\"\",(G$5-1)*Start!$E$5+$B19)","v":""},{"$f":"IF($C19=\"\",\"\",(H$5-1)*Start!$E$5+$B19)","v":""},{"$f":"IF($C19=\"\",\"\",(I$5-1)*Start!$E$5+$B19)","v":""},{"$f":"IF($C19=\"\",\"\",(J$5-1)*Start!$E$5+$B19)","v":""},{"$f":"IF($C19=\"\",\"\",(K$5-1)*Start!$E$5+$B19)","v":""},{"$f":"IF($C19=\"\",\"\",(L$5-1)*Start!$E$5+$B19)","v":""},{"$f":"IF($C19=\"\",\"\",(M$5-1)*Start!$E$5+$B19)","v":""}]
[null,14,{"$f":"IF(Start!C20=\"\",\"\",Start!C20)","v":""},{"$f":"IF($C20=\"\",\"\",(D$5-1)*Start!$E$5+$B20)","v":""},{"$f":"IF($C20=\"\",\"\",(E$5-1)*Start!$E$5+$B20)","v":""},{"$f":"IF($C20=\"\",\"\",(F$5-1)*Start!$E$5+$B20)","v":""},{"$f":"IF($C20=\"\",\"\",(G$5-1)*Start!$E$5+$B20)","v":""},{"$f":"IF($C20=\"\",\"\",(H$5-1)*Start!$E$5+$B20)","v":""},{"$f":"IF($C20=\"\",\"\",(I$5-1)*Start!$E$5+$B20)","v":""},{"$f":"IF($C20=\"\",\"\",(J$5-1)*Start!$E$5+$B20)","v":""},{"$f":"IF($C20=\"\",\"\",(K$5-1)*Start!$E$5+$B20)","v":""},{"$f":"IF($C20=\"\",\"\",(L$5-1)*Start!$E$5+$B20)","v":""},{"$f":"IF($C20=\"\",\"\",(M$5-1)*Start!$E$5+$B20)","v":""}]
[null,15,{"$f":"IF(Start!C21=\"\",\"\",Start!C21)","v":""},{"$f":"IF($C21=\"\",\"\",(D$5-1)*Start!$E$5+$B21)","v":""},{"$f":"IF($C21=\"\",\"\",(E$5-1)*Start!$E$5+$B21)","v":""},{"$f":"IF($C21=\"\",\"\",(F$5-1)*Start!$E$5+$B21)","v":""},{"$f":"IF($C21=\"\",\"\",(G$5-1)*Start!$E$5+$B21)","v":""},{"$f":"IF($C21=\"\",\"\",(H$5-1)*Start!$E$5+$B21)","v":""},{"$f":"IF($C21=\"\",\"\",(I$5-1)*Start!$E$5+$B21)","v":""},{"$f":"IF($C21=\"\",\"\",(J$5-1)*Start!$E$5+$B21)","v":""},{"$f":"IF($C21=\"\",\"\",(K$5-1)*Start!$E$5+$B21)","v":""},{"$f":"IF($C21=\"\",\"\",(L$5-1)*Start!$E$5+$B21)","v":""},{"$f":"IF($C21=\"\",\"\",(M$5-1)*Start!$E$5+$B21)","v":""}]
[null,16,{"$f":"IF(Start!C22=\"\",\"\",Start!C22)","v":""},{"$f":"IF($C22=\"\",\"\",(D$5-1)*Start!$E$5+$B22)","v":""},{"$f":"IF($C22=\"\",\"\",(E$5-1)*Start!$E$5+$B22)","v":""},{"$f":"IF($C22=\"\",\"\",(F$5-1)*Start!$E$5+$B22)","v":""},{"$f":"IF($C22=\"\",\"\",(G$5-1)*Start!$E$5+$B22)","v":""},{"$f":"IF($C22=\"\",\"\",(H$5-1)*Start!$E$5+$B22)","v":""},{"$f":"IF($C22=\"\",\"\",(I$5-1)*Start!$E$5+$B22)","v":""},{"$f":"IF($C22=\"\",\"\",(J$5-1)*Start!$E$5+$B22)","v":""},{"$f":"IF($C22=\"\",\"\",(K$5-1)*Start!$E$5+$B22)","v":""},{"$f":"IF($C22=\"\",\"\",(L$5-1)*Start!$E$5+$B22)","v":""},{"$f":"IF($C22=\"\",\"\",(M$5-1)*Start!$E$5+$B22)","v":""}]
[null,17,{"$f":"IF(Start!C23=\"\",\"\",Start!C23)","v":""},{"$f":"IF($C23=\"\",\"\",(D$5-1)*Start!$E$5+$B23)","v":""},{"$f":"IF($C23=\"\",\"\",(E$5-1)*Start!$E$5+$B23)","v":""},{"$f":"IF($C23=\"\",\"\",(F$5-1)*Start!$E$5+$B23)","v":""},{"$f":"IF($C23=\"\",\"\",(G$5-1)*Start!$E$5+$B23)","v":""},{"$f":"IF($C23=\"\",\"\",(H$5-1)*Start!$E$5+$B23)","v":""},{"$f":"IF($C23=\"\",\"\",(I$5-1)*Start!$E$5+$B23)","v":""},{"$f":"IF($C23=\"\",\"\",(J$5-1)*Start!$E$5+$B23)","v":""},{"$f":"IF($C23=\"\",\"\",(K$5-1)*Start!$E$5+$B23)","v":""},{"$f":"IF($C23=\"\",\"\",(L$5-1)*Start!$E$5+$B23)","v":""},{"$f":"IF($C23=\"\",\"\",(M$5-1)*Start!$E$5+$B23)","v":""}]
[null,18,{"$f":"IF(Start!C24=\"\",\"\",Start!C24)","v":""},{"$f":"IF($C24=\"\",\"\",(D$5-1)*Start!$E$5+$B24)","v":""},{"$f":"IF($C24=\"\",\"\",(E$5-1)*Start!$E$5+$B24)","v":""},{"$f":"IF($C24=\"\",\"\",(F$5-1)*Start!$E$5+$B24)","v":""},{"$f":"IF($C24=\"\",\"\",(G$5-1)*Start!$E$5+$B24)","v":""},{"$f":"IF($C24=\"\",\"\",(H$5-1)*Start!$E$5+$B24)","v":""},{"$f":"IF($C24=\"\",\"\",(I$5-1)*Start!$E$5+$B24)","v":""},{"$f":"IF($C24=\"\",\"\",(J$5-1)*Start!$E$5+$B24)","v":""},{"$f":"IF($C24=\"\",\"\",(K$5-1)*Start!$E$5+$B24)","v":""},{"$f":"IF($C24=\"\",\"\",(L$5-1)*Start!$E$5+$B24)","v":""},{"$f":"IF($C24=\"\",\"\",(M$5-1)*Start!$E$5+$B24)","v":""}]
[null,19,{"$f":"IF(Start!C25=\"\",\"\",Start!C25)","v":""},{"$f":"IF($C25=\"\",\"\",(D$5-1)*Start!$E$5+$B25)","v":""},{"$f":"IF($C25=\"\",\"\",(E$5-1)*Start!$E$5+$B25)","v":""},{"$f":"IF($C25=\"\",\"\",(F$5-1)*Start!$E$5+$B25)","v":""},{"$f":"IF($C25=\"\",\"\",(G$5-1)*Start!$E$5+$B25)","v":""},{"$f":"IF($C25=\"\",\"\",(H$5-1)*Start!$E$5+$B25)","v":""},{"$f":"IF($C25=\"\",\"\",(I$5-1)*Start!$E$5+$B25)","v":""},{"$f":"IF($C25=\"\",\"\",(J$5-1)*Start!$E$5+$B25)","v":""},{"$f":"IF($C25=\"\",\"\",(K$5-1)*Start!$E$5+$B25)","v":""},{"$f":"IF($C25=\"\",\"\",(L$5-1)*Start!$E$5+$B25)","v":""},{"$f":"IF($C25=\"\",\"\",(M$5-1)*Start!$E$5+$B25)","v":""}]
[null,20,{"$f":"IF(Start!C26=\"\",\"\",Start!C26)","v":""},{"$f":"IF($C26=\"\",\"\",(D$5-1)*Start!$E$5+$B26)","v":""},{"$f":"IF($C26=\"\",\"\",(E$5-1)*Start!$E$5+$B26)","v":""},{"$f":"IF($C26=\"\",\"\",(F$5-1)*Start!$E$5+$B26)","v":""},{"$f":"IF($C26=\"\",\"\",(G$5-1)*Start!$E$5+$B26)","v":""},{"$f":"IF($C26=\"\",\"\",(H$5-1)*Start!$E$5+$B26)","v":""},{"$f":"IF($C26=\"\",\"\",(I$5-1)*Start!$E$5+$B26)","v":""},{"$f":"IF($C26=\"\",\"\",(J$5-1)*Start!$E$5+$B26)","v":""},{"$f":"IF($C26=\"\",\"\",(K$5-1)*Start!$E$5+$B26)","v":""},{"$f":"IF($C26=\"\",\"\",(L$5-1)*Start!$E$5+$B26)","v":""},{"$f":"IF($C26=\"\",\"\",(M$5-1)*Start!$E$5+$B26)","v":""}]
[null,21,{"$f":"IF(Start!C27=\"\",\"\",Start!C27)","v":""},{"$f":"IF($C27=\"\",\"\",(D$5-1)*Start!$E$5+$B27)","v":""},{"$f":"IF($C27=\"\",\"\",(E$5-1)*Start!$E$5+$B27)","v":""},{"$f":"IF($C27=\"\",\"\",(F$5-1)*Start!$E$5+$B27)","v":""},{"$f":"IF($C27=\"\",\"\",(G$5-1)*Start!$E$5+$B27)","v":""},{"$f":"IF($C27=\"\",\"\",(H$5-1)*Start!$E$5+$B27)","v":""},{"$f":"IF($C27=\"\",\"\",(I$5-1)*Start!$E$5+$B27)","v":""},{"$f":"IF($C27=\"\",\"\",(J$5-1)*Start!$E$5+$B27)","v":""},{"$f":"IF($C27=\"\",\"\",(K$5-1)*Start!$E$5+$B27)","v":""},{"$f":"IF($C27=\"\",\"\",(L$5-1)*Start!$E$5+$B27)","v":""},{"$f":"IF($C27=\"\",\"\",(M$5-1)*Start!$E$5+$B27)","v":""}]
[null,22,{"$f":"IF(Start!C28=\"\",\"\",Start!C28)","v":""},{"$f":"IF($C28=\"\",\"\",(D$5-1)*Start!$E$5+$B28)","v":""},{"$f":"IF($C28=\"\",\"\",(E$5-1)*Start!$E$5+$B28)","v":""},{"$f":"IF($C28=\"\",\"\",(F$5-1)*Start!$E$5+$B28)","v":""},{"$f":"IF($C28=\"\",\"\",(G$5-1)*Start!$E$5+$B28)","v":""},{"$f":"IF($C28=\"\",\"\",(H$5-1)*Start!$E$5+$B28)","v":""},{"$f":"IF($C28=\"\",\"\",(I$5-1)*Start!$E$5+$B28)","v":""},{"$f":"IF($C28=\"\",\"\",(J$5-1)*Start!$E$5+$B28)","v":""},{"$f":"IF($C28=\"\",\"\",(K$5-1)*Start!$E$5+$B28)","v":""},{"$f":"IF($C28=\"\",\"\",(L$5-1)*Start!$E$5+$B28)","v":""},{"$f":"IF($C28=\"\",\"\",(M$5-1)*Start!$E$5+$B28)","v":""}]
[null,23,{"$f":"IF(Start!C29=\"\",\"\",Start!C29)","v":""},{"$f":"IF($C29=\"\",\"\",(D$5-1)*Start!$E$5+$B29)","v":""},{"$f":"IF($C29=\"\",\"\",(E$5-1)*Start!$E$5+$B29)","v":""},{"$f":"IF($C29=\"\",\"\",(F$5-1)*Start!$E$5+$B29)","v":""},{"$f":"IF($C29=\"\",\"\",(G$5-1)*Start!$E$5+$B29)","v":""},{"$f":"IF($C29=\"\",\"\",(H$5-1)*Start!$E$5+$B29)","v":""},{"$f":"IF($C29=\"\",\"\",(I$5-1)*Start!$E$5+$B29)","v":""},{"$f":"IF($C29=\"\",\"\",(J$5-1)*Start!$E$5+$B29)","v":""},{"$f":"IF($C29=\"\",\"\",(K$5-1)*Start!$E$5+$B29)","v":""},{"$f":"IF($C29=\"\",\"\",(L$5-1)*Start!$E$5+$B29)","v":""},{"$f":"IF($C29=\"\",\"\",(M$5-1)*Start!$E$5+$B29)","v":""}]
[null,24,{"$f":"IF(Start!C30=\"\",\"\",Start!C30)","v":""},{"$f":"IF($C30=\"\",\"\",(D$5-1)*Start!$E$5+$B30)","v":""},{"$f":"IF($C30=\"\",\"\",(E$5-1)*Start!$E$5+$B30)","v":""},{"$f":"IF($C30=\"\",\"\",(F$5-1)*Start!$E$5+$B30)","v":""},{"$f":"IF($C30=\"\",\"\",(G$5-1)*Start!$E$5+$B30)","v":""},{"$f":"IF($C30=\"\",\"\",(H$5-1)*Start!$E$5+$B30)","v":""},{"$f":"IF($C30=\"\",\"\",(I$5-1)*Start!$E$5+$B30)","v":""},{"$f":"IF($C30=\"\",\"\",(J$5-1)*Start!$E$5+$B30)","v":""},{"$f":"IF($C30=\"\",\"\",(K$5-1)*Start!$E$5+$B30)","v":""},{"$f":"IF($C30=\"\",\"\",(L$5-1)*Start!$E$5+$B30)","v":""},{"$f":"IF($C30=\"\",\"\",(M$5-1)*Start!$E$5+$B30)","v":""}]
[null,25,{"$f":"IF(Start!C31=\"\",\"\",Start!C31)","v":""},{"$f":"IF($C31=\"\",\"\",(D$5-1)*Start!$E$5+$B31)","v":""},{"$f":"IF($C31=\"\",\"\",(E$5-1)*Start!$E$5+$B31)","v":""},{"$f":"IF($C31=\"\",\"\",(F$5-1)*Start!$E$5+$B31)","v":""},{"$f":"IF($C31=\"\",\"\",(G$5-1)*Start!$E$5+$B31)","v":""},{"$f":"IF($C31=\"\",\"\",(H$5-1)*Start!$E$5+$B31)","v":""},{"$f":"IF($C31=\"\",\"\",(I$5-1)*Start!$E$5+$B31)","v":""},{"$f":"IF($C31=\"\",\"\",(J$5-1)*Start!$E$5+$B31)","v":""},{"$f":"IF($C31=\"\",\"\",(K$5-1)*Start!$E$5+$B31)","v":""},{"$f":"IF($C31=\"\",\"\",(L$5-1)*Start!$E$5+$B31)","v":""},{"$f":"IF($C31=\"\",\"\",(M$5-1)*Start!$E$5+$B31)","v":""}]
[null,26,{"$f":"IF(Start!C32=\"\",\"\",Start!C32)","v":""},{"$f":"IF($C32=\"\",\"\",(D$5-1)*Start!$E$5+$B32)","v":""},{"$f":"IF($C32=\"\",\"\",(E$5-1)*Start!$E$5+$B32)","v":""},{"$f":"IF($C32=\"\",\"\",(F$5-1)*Start!$E$5+$B32)","v":""},{"$f":"IF($C32=\"\",\"\",(G$5-1)*Start!$E$5+$B32)","v":""},{"$f":"IF($C32=\"\",\"\",(H$5-1)*Start!$E$5+$B32)","v":""},{"$f":"IF($C32=\"\",\"\",(I$5-1)*Start!$E$5+$B32)","v":""},{"$f":"IF($C32=\"\",\"\",(J$5-1)*Start!$E$5+$B32)","v":""},{"$f":"IF($C32=\"\",\"\",(K$5-1)*Start!$E$5+$B32)","v":""},{"$f":"IF($C32=\"\",\"\",(L$5-1)*Start!$E$5+$B32)","v":""},{"$f":"IF($C32=\"\",\"\",(M$5-1)*Start!$E$5+$B32)","v":""}]
[null,27,{"$f":"IF(Start!C33=\"\",\"\",Start!C33)","v":""},{"$f":"IF($C33=\"\",\"\",(D$5-1)*Start!$E$5+$B33)","v":""},{"$f":"IF($C33=\"\",\"\",(E$5-1)*Start!$E$5+$B33)","v":""},{"$f":"IF($C33=\"\",\"\",(F$5-1)*Start!$E$5+$B33)","v":""},{"$f":"IF($C33=\"\",\"\",(G$5-1)*Start!$E$5+$B33)","v":""},{"$f":"IF($C33=\"\",\"\",(H$5-1)*Start!$E$5+$B33)","v":""},{"$f":"IF($C33=\"\",\"\",(I$5-1)*Start!$E$5+$B33)","v":""},{"$f":"IF($C33=\"\",\"\",(J$5-1)*Start!$E$5+$B33)","v":""},{"$f":"IF($C33=\"\",\"\",(K$5-1)*Start!$E$5+$B33)","v":""},{"$f":"IF($C33=\"\",\"\",(L$5-1)*Start!$E$5+$B33)","v":""},{"$f":"IF($C33=\"\",\"\",(M$5-1)*Start!$E$5+$B33)","v":""}]
[null,28,{"$f":"IF(Start!C34=\"\",\"\",Start!C34)","v":""},{"$f":"IF($C34=\"\",\"\",(D$5-1)*Start!$E$5+$B34)","v":""},{"$f":"IF($C34=\"\",\"\",(E$5-1)*Start!$E$5+$B34)","v":""},{"$f":"IF($C34=\"\",\"\",(F$5-1)*Start!$E$5+$B34)","v":""},{"$f":"IF($C34=\"\",\"\",(G$5-1)*Start!$E$5+$B34)","v":""},{"$f":"IF($C34=\"\",\"\",(H$5-1)*Start!$E$5+$B34)","v":""},{"$f":"IF($C34=\"\",\"\",(I$5-1)*Start!$E$5+$B34)","v":""},{"$f":"IF($C34=\"\",\"\",(J$5-1)*Start!$E$5+$B34)","v":""},{"$f":"IF($C34=\"\",\"\",(K$5-1)*Start!$E$5+$B34)","v":""},{"$f":"IF($C34=\"\",\"\",(L$5-1)*Start!$E$5+$B34)","v":""},{"$f":"IF($C34=\"\",\"\",(M$5-1)*Start!$E$5+$B34)","v":""}]
[null,29,{"$f":"IF(Start!C35=\"\",\"\",Start!C35)","v":""},{"$f":"IF($C35=\"\",\"\",(D$5-1)*Start!$E$5+$B35)","v":""},{"$f":"IF($C35=\"\",\"\",(E$5-1)*Start!$E$5+$B35)","v":""},{"$f":"IF($C35=\"\",\"\",(F$5-1)*Start!$E$5+$B35)","v":""},{"$f":"IF($C35=\"\",\"\",(G$5-1)*Start!$E$5+$B35)","v":""},{"$f":"IF($C35=\"\",\"\",(H$5-1)*Start!$E$5+$B35)","v":""},{"$f":"IF($C35=\"\",\"\",(I$5-1)*Start!$E$5+$B35)","v":""},{"$f":"IF($C35=\"\",\"\",(J$5-1)*Start!$E$5+$B35)","v":""},{"$f":"IF($C35=\"\",\"\",(K$5-1)*Start!$E$5+$B35)","v":""},{"$f":"IF($C35=\"\",\"\",(L$5-1)*Start!$E$5+$B35)","v":""},{"$f":"IF($C35=\"\",\"\",(M$5-1)*Start!$E$5+$B35)","v":""}]
[null,30,{"$f":"IF(Start!C36=\"\",\"\",Start!C36)","v":""},{"$f":"IF($C36=\"\",\"\",(D$5-1)*Start!$E$5+$B36)","v":""},{"$f":"IF($C36=\"\",\"\",(E$5-1)*Start!$E$5+$B36)","v":""},{"$f":"IF($C36=\"\",\"\",(F$5-1)*Start!$E$5+$B36)","v":""},{"$f":"IF($C36=\"\",\"\",(G$5-1)*Start!$E$5+$B36)","v":""},{"$f":"IF($C36=\"\",\"\",(H$5-1)*Start!$E$5+$B36)","v":""},{"$f":"IF($C36=\"\",\"\",(I$5-1)*Start!$E$5+$B36)","v":""},{"$f":"IF($C36=\"\",\"\",(J$5-1)*Start!$E$5+$B36)","v":""},{"$f":"IF($C36=\"\",\"\",(K$5-1)*Start!$E$5+$B36)","v":""},{"$f":"IF($C36=\"\",\"\",(L$5-1)*Start!$E$5+$B36)","v":""},{"$f":"IF($C36=\"\",\"\",(M$5-1)*Start!$E$5+$B36)","v":""}]
[null,31,{"$f":"IF(Start!C37=\"\",\"\",Start!C37)","v":""},{"$f":"IF($C37=\"\",\"\",(D$5-1)*Start!$E$5+$B37)","v":""},{"$f":"IF($C37=\"\",\"\",(E$5-1)*Start!$E$5+$B37)","v":""},{"$f":"IF($C37=\"\",\"\",(F$5-1)*Start!$E$5+$B37)","v":""},{"$f":"IF($C37=\"\",\"\",(G$5-1)*Start!$E$5+$B37)","v":""},{"$f":"IF($C37=\"\",\"\",(H$5-1)*Start!$E$5+$B37)","v":""},{"$f":"IF($C37=\"\",\"\",(I$5-1)*Start!$E$5+$B37)","v":""},{"$f":"IF($C37=\"\",\"\",(J$5-1)*Start!$E$5+$B37)","v":""},{"$f":"IF($C37=\"\",\"\",(K$5-1)*Start!$E$5+$B37)","v":""},{"$f":"IF($C37=\"\",\"\",(L$5-1)*Start!$E$5+$B37)","v":""},{"$f":"IF($C37=\"\",\"\",(M$5-1)*Start!$E$5+$B37)","v":""}]
[null,32,{"$f":"IF(Start!C38=\"\",\"\",Start!C38)","v":""},{"$f":"IF($C38=\"\",\"\",(D$5-1)*Start!$E$5+$B38)","v":""},{"$f":"IF($C38=\"\",\"\",(E$5-1)*Start!$E$5+$B38)","v":""},{"$f":"IF($C38=\"\",\"\",(F$5-1)*Start!$E$5+$B38)","v":""},{"$f":"IF($C38=\"\",\"\",(G$5-1)*Start!$E$5+$B38)","v":""},{"$f":"IF($C38=\"\",\"\",(H$5-1)*Start!$E$5+$B38)","v":""},{"$f":"IF($C38=\"\",\"\",(I$5-1)*Start!$E$5+$B38)","v":""},{"$f":"IF($C38=\"\",\"\",(J$5-1)*Start!$E$5+$B38)","v":""},{"$f":"IF($C38=\"\",\"\",(K$5-1)*Start!$E$5+$B38)","v":""},{"$f":"IF($C38=\"\",\"\",(L$5-1)*Start!$E$5+$B38)","v":""},{"$f":"IF($C38=\"\",\"\",(M$5-1)*Start!$E$5+$B38)","v":""}]
[null,33,{"$f":"IF(Start!C39=\"\",\"\",Start!C39)","v":""},{"$f":"IF($C39=\"\",\"\",(D$5-1)*Start!$E$5+$B39)","v":""},{"$f":"IF($C39=\"\",\"\",(E$5-1)*Start!$E$5+$B39)","v":""},{"$f":"IF($C39=\"\",\"\",(F$5-1)*Start!$E$5+$B39)","v":""},{"$f":"IF($C39=\"\",\"\",(G$5-1)*Start!$E$5+$B39)","v":""},{"$f":"IF($C39=\"\",\"\",(H$5-1)*Start!$E$5+$B39)","v":""},{"$f":"IF($C39=\"\",\"\",(I$5-1)*Start!$E$5+$B39)","v":""},{"$f":"IF($C39=\"\",\"\",(J$5-1)*Start!$E$5+$B39)","v":""},{"$f":"IF($C39=\"\",\"\",(K$5-1)*Start!$E$5+$B39)","v":""},{"$f":"IF($C39=\"\",\"\",(L$5-1)*Start!$E$5+$B39)","v":""},{"$f":"IF($C39=\"\",\"\",(M$5-1)*Start!$E$5+$B39)","v":""}]
[null,34,{"$f":"IF(Start!C40=\"\",\"\",Start!C40)","v":""},{"$f":"IF($C40=\"\",\"\",(D$5-1)*Start!$E$5+$B40)","v":""},{"$f":"IF($C40=\"\",\"\",(E$5-1)*Start!$E$5+$B40)","v":""},{"$f":"IF($C40=\"\",\"\",(F$5-1)*Start!$E$5+$B40)","v":""},{"$f":"IF($C40=\"\",\"\",(G$5-1)*Start!$E$5+$B40)","v":""},{"$f":"IF($C40=\"\",\"\",(H$5-1)*Start!$E$5+$B40)","v":""},{"$f":"IF($C40=\"\",\"\",(I$5-1)*Start!$E$5+$B40)","v":""},{"$f":"IF($C40=\"\",\"\",(J$5-1)*Start!$E$5+$B40)","v":""},{"$f":"IF($C40=\"\",\"\",(K$5-1)*Start!$E$5+$B40)","v":""},{"$f":"IF($C40=\"\",\"\",(L$5-1)*Start!$E$5+$B40)","v":""},{"$f":"IF($C40=\"\",\"\",(M$5-1)*Start!$E$5+$B40)","v":""}]
[null,35,{"$f":"IF(Start!C41=\"\",\"\",Start!C41)","v":""},{"$f":"IF($C41=\"\",\"\",(D$5-1)*Start!$E$5+$B41)","v":""},{"$f":"IF($C41=\"\",\"\",(E$5-1)*Start!$E$5+$B41)","v":""},{"$f":"IF($C41=\"\",\"\",(F$5-1)*Start!$E$5+$B41)","v":""},{"$f":"IF($C41=\"\",\"\",(G$5-1)*Start!$E$5+$B41)","v":""},{"$f":"IF($C41=\"\",\"\",(H$5-1)*Start!$E$5+$B41)","v":""},{"$f":"IF($C41=\"\",\"\",(I$5-1)*Start!$E$5+$B41)","v":""},{"$f":"IF($C41=\"\",\"\",(J$5-1)*Start!$E$5+$B41)","v":""},{"$f":"IF($C41=\"\",\"\",(K$5-1)*Start!$E$5+$B41)","v":""},{"$f":"IF($C41=\"\",\"\",(L$5-1)*Start!$E$5+$B41)","v":""},{"$f":"IF($C41=\"\",\"\",(M$5-1)*Start!$E$5+$B41)","v":""}]
[null,36,{"$f":"IF(Start!C42=\"\",\"\",Start!C42)","v":""},{"$f":"IF($C42=\"\",\"\",(D$5-1)*Start!$E$5+$B42)","v":""},{"$f":"IF($C42=\"\",\"\",(E$5-1)*Start!$E$5+$B42)","v":""},{"$f":"IF($C42=\"\",\"\",(F$5-1)*Start!$E$5+$B42)","v":""},{"$f":"IF($C42=\"\",\"\",(G$5-1)*Start!$E$5+$B42)","v":""},{"$f":"IF($C42=\"\",\"\",(H$5-1)*Start!$E$5+$B42)","v":""},{"$f":"IF($C42=\"\",\"\",(I$5-1)*Start!$E$5+$B42)","v":""},{"$f":"IF($C42=\"\",\"\",(J$5-1)*Start!$E$5+$B42)","v":""},{"$f":"IF($C42=\"\",\"\",(K$5-1)*Start!$E$5+$B42)","v":""},{"$f":"IF($C42=\"\",\"\",(L$5-1)*Start!$E$5+$B42)","v":""},{"$f":"IF($C42=\"\",\"\",(M$5-1)*Start!$E$5+$B42)","v":""}]
[null,37,{"$f":"IF(Start!C43=\"\",\"\",Start!C43)","v":""},{"$f":"IF($C43=\"\",\"\",(D$5-1)*Start!$E$5+$B43)","v":""},{"$f":"IF($C43=\"\",\"\",(E$5-1)*Start!$E$5+$B43)","v":""},{"$f":"IF($C43=\"\",\"\",(F$5-1)*Start!$E$5+$B43)","v":""},{"$f":"IF($C43=\"\",\"\",(G$5-1)*Start!$E$5+$B43)","v":""},{"$f":"IF($C43=\"\",\"\",(H$5-1)*Start!$E$5+$B43)","v":""},{"$f":"IF($C43=\"\",\"\",(I$5-1)*Start!$E$5+$B43)","v":""},{"$f":"IF($C43=\"\",\"\",(J$5-1)*Start!$E$5+$B43)","v":""},{"$f":"IF($C43=\"\",\"\",(K$5-1)*Start!$E$5+$B43)","v":""},{"$f":"IF($C43=\"\",\"\",(L$5-1)*Start!$E$5+$B43)","v":""},{"$f":"IF($C43=\"\",\"\",(M$5-1)*Start!$E$5+$B43)","v":""}]
[null,38,{"$f":"IF(Start!C44=\"\",\"\",Start!C44)","v":""},{"$f":"IF($C44=\"\",\"\",(D$5-1)*Start!$E$5+$B44)","v":""},{"$f":"IF($C44=\"\",\"\",(E$5-1)*Start!$E$5+$B44)","v":""},{"$f":"IF($C44=\"\",\"\",(F$5-1)*Start!$E$5+$B44)","v":""},{"$f":"IF($C44=\"\",\"\",(G$5-1)*Start!$E$5+$B44)","v":""},{"$f":"IF($C44=\"\",\"\",(H$5-1)*Start!$E$5+$B44)","v":""},{"$f":"IF($C44=\"\",\"\",(I$5-1)*Start!$E$5+$B44)","v":""},{"$f":"IF($C44=\"\",\"\",(J$5-1)*Start!$E$5+$B44)","v":""},{"$f":"IF($C44=\"\",\"\",(K$5-1)*Start!$E$5+$B44)","v":""},{"$f":"IF($C44=\"\",\"\",(L$5-1)*Start!$E$5+$B44)","v":""},{"$f":"IF($C44=\"\",\"\",(M$5-1)*Start!$E$5+$B44)","v":""}]
[null,39,{"$f":"IF(Start!C45=\"\",\"\",Start!C45)","v":""},{"$f":"IF($C45=\"\",\"\",(D$5-1)*Start!$E$5+$B45)","v":""},{"$f":"IF($C45=\"\",\"\",(E$5-1)*Start!$E$5+$B45)","v":""},{"$f":"IF($C45=\"\",\"\",(F$5-1)*Start!$E$5+$B45)","v":""},{"$f":"IF($C45=\"\",\"\",(G$5-1)*Start!$E$5+$B45)","v":""},{"$f":"IF($C45=\"\",\"\",(H$5-1)*Start!$E$5+$B45)","v":""},{"$f":"IF($C45=\"\",\"\",(I$5-1)*Start!$E$5+$B45)","v":""},{"$f":"IF($C45=\"\",\"\",(J$5-1)*Start!$E$5+$B45)","v":""},{"$f":"IF($C45=\"\",\"\",(K$5-1)*Start!$E$5+$B45)","v":""},{"$f":"IF($C45=\"\",\"\",(L$5-1)*Start!$E$5+$B45)","v":""},{"$f":"IF($C45=\"\",\"\",(M$5-1)*Start!$E$5+$B45)","v":""}]
[null,40,{"$f":"IF(Start!C46=\"\",\"\",Start!C46)","v":""},{"$f":"IF($C46=\"\",\"\",(D$5-1)*Start!$E$5+$B46)","v":""},{"$f":"IF($C46=\"\",\"\",(E$5-1)*Start!$E$5+$B46)","v":""},{"$f":"IF($C46=\"\",\"\",(F$5-1)*Start!$E$5+$B46)","v":""},{"$f":"IF($C46=\"\",\"\",(G$5-1)*Start!$E$5+$B46)","v":""},{"$f":"IF($C46=\"\",\"\",(H$5-1)*Start!$E$5+$B46)","v":""},{"$f":"IF($C46=\"\",\"\",(I$5-1)*Start!$E$5+$B46)","v":""},{"$f":"IF($C46=\"\",\"\",(J$5-1)*Start!$E$5+$B46)","v":""},{"$f":"IF($C46=\"\",\"\",(K$5-1)*Start!$E$5+$B46)","v":""},{"$f":"IF($C46=\"\",\"\",(L$5-1)*Start!$E$5+$B46)","v":""},{"$f":"IF($C46=\"\",\"\",(M$5-1)*Start!$E$5+$B46)","v":""}]

{"sheet":"RozC2","index":36,"n_rows":46,"n_cols":13,"rows_kept":46,"cut":false,"hidden":false,"merged":[[5,3,5,12],[0,1,0,12],[1,1,1,12],[2,1,2,12]]}
[null,"Rozdělovník startovních čísel"]
[null,{"$f":"Start!B2","v":"VC ČR v požárním útoku družstev HZS krajů a HZS podniků"}]
[null,{"$f":"Start!B3","v":"Petrovice 19.9.2019"}]
[]
[null,"Kat.:",{"$f":"Start!C5","v":"MUŽI"},1,2,3,4,5,6,7,8,9,10]
[null,"st.č.","SDH / HZS / Tým","Startovní čísla pro tým"]
[null,1,{"$f":"IF(Start!C7=\"\",\"\",Start!C7)","v":"HZS Jihočeského kraje"},{"$f":"IF($C7=\"\",\"\",($B7-1)*10+D$5)","v":1},{"$f":"IF($C7=\"\",\"\",($B7-1)*10+E$5)","v":2},3,4,5,6,7,8,9,10]
[null,2,{"$f":"IF(Start!C8=\"\",\"\",Start!C8)","v":"HZS Kraje Vysočina"},{"$f":"IF($C8=\"\",\"\",($B8-1)*10+D$5)","v":11},12,13,14,15,16,17,18,19,20]
[null,3,{"$f":"IF(Start!C9=\"\",\"\",Start!C9)","v":"HZS Zlínského Kraje"},21,22,23,24,25,26,27,28,29,30]
[null,4,{"$f":"IF(Start!C10=\"\",\"\",Start!C10)","v":"HZS správa železnic"},31,32,33,34,35,36,37,38,39,40]
[null,5,{"$f":"IF(Start!C11=\"\",\"\",Start!C11)","v":"HZS Libereckého Kraje"},41,42,43,44,45,46,47,48,49,50]
[null,6,{"$f":"IF(Start!C12=\"\",\"\",Start!C12)","v":"HZS Pardubického Kraje"},51,52,53,54,55,56,57,58,59,60]
[null,7,{"$f":"IF(Start!C13=\"\",\"\",Start!C13)","v":"HZS Královohradeckého Kr."},61,62,63,64,65,66,67,68,69,70]
[null,8,{"$f":"IF(Start!C14=\"\",\"\",Start!C14)","v":"HZS Plzeňského Kraje"},71,72,73,74,75,76,77,78,79,80]
[null,9,{"$f":"IF(Start!C15=\"\",\"\",Start!C15)","v":"HZSP Deza"},81,82,83,84,85,86,87,88,89,90]
[null,10,{"$f":"IF(Start!C16=\"\",\"\",Start!C16)","v":""},"","","","","","","","","",""]
[null,11,{"$f":"IF(Start!C17=\"\",\"\",Start!C17)","v":""},"","","","","","","","","",""]
[null,12,{"$f":"IF(Start!C18=\"\",\"\",Start!C18)","v":""},"","","","","","","","","",""]
[null,13,{"$f":"IF(Start!C19=\"\",\"\",Start!C19)","v":""},"","","","","","","","","",""]
[null,14,{"$f":"IF(Start!C20=\"\",\"\",Start!C20)","v":""},"","","","","","","","","",""]
[null,15,{"$f":"IF(Start!C21=\"\",\"\",Start!C21)","v":""},"","","","","","","","","",""]
[null,16,{"$f":"IF(Start!C22=\"\",\"\",Start!C22)","v":""},"","","","","","","","","",""]
[null,17,{"$f":"IF(Start!C23=\"\",\"\",Start!C23)","v":""},"","","","","","","","","",""]
[null,18,{"$f":"IF(Start!C24=\"\",\"\",Start!C24)","v":""},"","","","","","","","","",""]
[null,19,{"$f":"IF(Start!C25=\"\",\"\",Start!C25)","v":""},"","","","","","","","","",""]
[null,20,{"$f":"IF(Start!C26=\"\",\"\",Start!C26)","v":""},"","","","","","","","","",""]
[null,21,{"$f":"IF(Start!C27=\"\",\"\",Start!C27)","v":""},"","","","","","","","","",""]
[null,22,{"$f":"IF(Start!C28=\"\",\"\",Start!C28)","v":""},"","","","","","","","","",""]
[null,23,{"$f":"IF(Start!C29=\"\",\"\",Start!C29)","v":""},"","","","","","","","","",""]
[null,24,{"$f":"IF(Start!C30=\"\",\"\",Start!C30)","v":""},"","","","","","","","","",""]
[null,25,{"$f":"IF(Start!C31=\"\",\"\",Start!C31)","v":""},"","","","","","","","","",""]
[null,26,{"$f":"IF(Start!C32=\"\",\"\",Start!C32)","v":""},"","","","","","","","","",""]
[null,27,{"$f":"IF(Start!C33=\"\",\"\",Start!C33)","v":""},"","","","","","","","","",""]
[null,28,{"$f":"IF(Start!C34=\"\",\"\",Start!C34)","v":""},"","","","","","","","","",""]
[null,29,{"$f":"IF(Start!C35=\"\",\"\",Start!C35)","v":""},"","","","","","","","","",""]
[null,30,{"$f":"IF(Start!C36=\"\",\"\",Start!C36)","v":""},"","","","","","","","","",""]
[null,31,{"$f":"IF(Start!C37=\"\",\"\",Start!C37)","v":""},"","","","","","","","","",""]
[null,32,{"$f":"IF(Start!C38=\"\",\"\",Start!C38)","v":""},"","","","","","","","","",""]
[null,33,{"$f":"IF(Start!C39=\"\",\"\",Start!C39)","v":""},"","","","","","","","","",""]
[null,34,{"$f":"IF(Start!C40=\"\",\"\",Start!C40)","v":""},"","","","","","","","","",""]
[null,35,{"$f":"IF(Start!C41=\"\",\"\",Start!C41)","v":""},"","","","","","","","","",""]
[null,36,{"$f":"IF(Start!C42=\"\",\"\",Start!C42)","v":""},"","","","","","","","","",""]
[null,37,{"$f":"IF(Start!C43=\"\",\"\",Start!C43)","v":""},"","","","","","","","","",""]
[null,38,{"$f":"IF(Start!C44=\"\",\"\",Start!C44)","v":""},"","","","","","","","","",""]
[null,39,{"$f":"IF(Start!C45=\"\",\"\",Start!C45)","v":""},"","","","","","","","","",""]
[null,40,{"$f":"IF(Start!C46=\"\",\"\",Start!C46)","v":""},"","","","","","","","","",""]