Workbook

Sheet VZOR
E1: VYUČTOVÁNÍ za měsíc | G1: VZOR
A3: na základě uzavřené dohody o provedení práce * podle § 75 zákoníku práce č.: | H3: HSOS-
A4: na základě uzavřené dohody o pracovní činnosti * podle § 76 zákoníku práce č.: | H4: HSOS-
A6: OEČ zaměstnance: | D6: 10015020 | F6: Jméno a příjmení zaměstnance: | H6: Josef Novák
A8: datum | C8: výkon práce | E8: počet hodin | F8: Kč za hodinu | G8: celkem Kč | H8: stručný popis činnosti
C9: od | D9: do | H9: dozorčí, vrátný
A10: po | B10: 1 | C10: 0.29166667 | D10: 10:00 | E10: =D10-C10 -> 0.125 | F10: 100 | G10: 300
A11: út | B11: 2
A12: st | B12: 3 | C12: 7:00 | D12: 10:00 | E12: =D12-C12 -> 0.125 | F12: 100 | G12: 300
A13: čt | B13: 4 | C13: 7:00 | D13: 10:00 | E13: =D13-C13 -> 0.125 | F13: 100 | G13: 300
A14: pá | B14: 5 | H14: 7:00-15:30 výkon práce, nemoc
A15: so | B15: 6 | H15: 7:00-15:30 výkon práce, nemoc
A16: ne | B16: 7 | H16: 7:00-15:30 výkon práce, nemoc
A17: po | B17: 8 | H17: 7:00-15:30 výkon práce, nemoc
A18: út | B18: 9 | H18: 7:00-15:30 výkon práce, nemoc
A19: st | B19: 10 | H19: 7:00-15:30 výkon práce, nemoc
A20: čt | B20: 11 | H20: 7:00-15:30 výkon práce, nemoc
A21: pá | B21: 12 | H21: 7:00-15:30 výkon práce, nemoc
A22: so | B22: 13 | H22: 7:00-15:30 výkon práce, nemoc
A23: ne | B23: 14 | H23: 7:00-15:30 výkon práce, nemoc
A24: po | B24: 15 | C24: 0.29166667 | D24: 10:00 | E24: =D24-C24 -> 0.125 | F24: 100 | G24: 300
A25: út | B25: 16 | C25: 7:00 | D25: 10:00 | E25: =D25-C25 -> 0.125 | F25: 100 | G25: 300
A26: st | B26: 17 | C26: 0.29166667 | D26: 10:00 | H26: 3 hod DOVOLENÁ
A27: čt | B27: 18 | C27: 7:00 | D27: 10:00 | H27: 3 hod DOVOLENÁ
A28: pá | B28: 19 | C28: 7:00 | D28: 10:00 | H28: 3 hod DOVOLENÁ
A29: so | B29: 20
A30: ne | B30: 21
A31: po | B31: 22 | C31: 7:00 | D31: 10:00 | E31: =D31-C31 -> 0.125 | F31: 100 | G31: 300
A32: út | B32: 23 | C32: 0.29166667 | D32: 10:00 | E32: =D32-C32 -> 0.125 | F32: 100 | G32: 300
A33: st | B33: 24 | C33: 7:00 | D33: 10:00 | E33: =D33-C33 -> 0.125 | F33: 100 | G33: 300
A34: čt | B34: 25 | C34: 7:00 | D34: 10:00 | E34: =D34-C34 -> 0.125 | F34: 100 | G34: 300
A35: pá | B35: 26 | C35: 7:00 | D35: 10:00 | E35: =D35-C35 -> 0.125 | F35: 100 | G35: 300
A36: so | B36: 27
A37: ne | B37: 28
A38: po | B38: 29 | C38: 7:00 | D38: 10:00 | E38: =D38-C38 -> 0.125 | F38: 100 | G38: 300
A39: út | B39: 30 | C39: 7:00 | D39: 10:00 | E39: =D39-C39 -> 0.125 | F39: 100 | G39: 300
A40: st | B40: 31 | C40: 0.29166667 | D40: 10:00 | E40: =D40-C40 -> 0.125 | F40: 100 | G40: 300
A41: Součet | E41: =E10+E11+E12+E13+E14+E15+E16+E17+E18+E19+E20+E21+E22+E23+E24+E25+E26+E27+E28+E29+E30+E31+E32+E33+E34+E35+E36+E37+E38+E39+E40 -> 1.625 | G41: =G10+G11+G12+G13+G14+G15+G16+G17+G18+G19+G20+G21+G22+G23+G24+G25+G26+G27+G28+G29+G30+G31+G32+G33+G34+G35+G36+G37+G38+G39+G40 -> 3900 | H41: Datum: | J41: 43861
A42: CELKEM od počátku roku | E42: =E41 -> 1.625 | H42: Vypracoval: | J42: Josef Novák
H43: Podpis: | J43: Josef Novák
A45: Výsledek práce*) | I45: (projekt, posudek apod.)
A46: je uložen u | F46: (pracoviště HZS ČR) a zaevidován pod číslem | L46: .
A48: Potvrzuji, že (v případě nehmotného plnění, např. konzultace, výuka nebo praktický výcvik) byly splněny
A49: podmínky stanovené v dohodě*).
A51: Potvrzuji, že zaměstnanec vykonal práci ve vykázaném rozsahu a splnil zadané úkoly v požadovaném rozsahu,
A52: kvalitě a termínu.
A54: V | B54: Ostravě | D54: dne | E54: 43861
F55: jméno(a), příjmení a podpis pověřeného zaměstnance
A57: Schvaluji a souhlasím s výplatou sjednané odměny na účet zaměstnance.
A58: Odměna je splatná v prvním výplatním termínu zaměstnavatele po odevzdání práce.
A60: datum
F61: jméno(a), příjmení a podpis vedoucího zaměstnance
A63: datum | F63: Ing. Martin Nekula, MBA
F64: jméno(a), příjmení a podpis příkazce operace
A66: datum | F66: Bc. Daniela Budinová
F67: jméno(a), příjmení a podpis správce rozpočtu
A69: *) Nehodící se škrtněte

Sheet Leden 2026
E1: VYUČTOVÁNÍ za měsíc | G1: 1/2026
A3: na základě uzavřené dohody o provedení práce * podle § 75 zákoníku práce č.:
A4: na základě uzavřené dohody o pracovní činnosti * podle § 76 zákoníku práce č.:
A6: OEČ zaměstnance: | F6: Jméno a příjmení zaměstnance:
A8: datum | C8: výkon práce | E8: počet hodin | F8: Kč za hodinu | G8: celkem Kč | H8: stručný popis činnosti
C9: od | D9: do | H9: HASÍK
A10: čt | B10: 1 | E10: =(D10-C10+(D10<C10))-0.0208333333333333*(IF((D10-C10+(D10<C10))>0.25,1,0)+IF((D10-C10+(D10<C10))>0.5,1,0)+IF((D10-C10+(D10<C10))>0.75,1,0)) -> 0 | G10: =ABS((HOUR('Leden 2026'!E10)+MINUTE('Leden 2026'!E10)/60))*F10 -> 0
A11: pá | B11: 2 | E11: =(D11-C11+(D11<C11))-0.0208333333333333*(IF((D11-C11+(D11<C11))>0.25,1,0)+IF((D11-C11+(D11<C11))>0.5,1,0)+IF((D11-C11+(D11<C11))>0.75,1,0)) -> 0 | G11: =ABS((HOUR('Leden 2026'!E11)+MINUTE('Leden 2026'!E11)/60))*F11 -> 0
A12: so | B12: 3 | E12: =(D12-C12+(D12<C12))-0.0208333333333333*(IF((D12-C12+(D12<C12))>0.25,1,0)+IF((D12-C12+(D12<C12))>0.5,1,0)+IF((D12-C12+(D12<C12))>0.75,1,0)) -> 0 | G12: =ABS((HOUR('Leden 2026'!E12)+MINUTE('Leden 2026'!E12)/60))*F12 -> 0
A13: ne | B13: 4 | E13: =(D13-C13+(D13<C13))-0.0208333333333333*(IF((D13-C13+(D13<C13))>0.25,1,0)+IF((D13-C13+(D13<C13))>0.5,1,0)+IF((D13-C13+(D13<C13))>0.75,1,0)) -> 0 | G13: =ABS((HOUR('Leden 2026'!E13)+MINUTE('Leden 2026'!E13)/60))*F13 -> 0
A14: po | B14: 5 | E14: =(D14-C14+(D14<C14))-0.0208333333333333*(IF((D14-C14+(D14<C14))>0.25,1,0)+IF((D14-C14+(D14<C14))>0.5,1,0)+IF((D14-C14+(D14<C14))>0.75,1,0)) -> 0 | G14: =ABS((HOUR('Leden 2026'!E14)+MINUTE('Leden 2026'!E14)/60))*F14 -> 0
A15: út | B15: 6 | E15: =(D15-C15+(D15<C15))-0.0208333333333333*(IF((D15-C15+(D15<C15))>0.25,1,0)+IF((D15-C15+(D15<C15))>0.5,1,0)+IF((D15-C15+(D15<C15))>0.75,1,0)) -> 0 | G15: =ABS((HOUR('Leden 2026'!E15)+MINUTE('Leden 2026'!E15)/60))*F15 -> 0
A16: st | B16: 7 | E16: =(D16-C16+(D16<C16))-0.0208333333333333*(IF((D16-C16+(D16<C16))>0.25,1,0)+IF((D16-C16+(D16<C16))>0.5,1,0)+IF((D16-C16+(D16<C16))>0.75,1,0)) -> 0 | G16: =ABS((HOUR('Leden 2026'!E16)+MINUTE('Leden 2026'!E16)/60))*F16 -> 0
A17: čt | B17: 8 | E17: =(D17-C17+(D17<C17))-0.0208333333333333*(IF((D17-C17+(D17<C17))>0.25,1,0)+IF((D17-C17+(D17<C17))>0.5,1,0)+IF((D17-C17+(D17<C17))>0.75,1,0)) -> 0 | G17: =ABS((HOUR('Leden 2026'!E17)+MINUTE('Leden 2026'!E17)/60))*F17 -> 0
A18: pá | B18: 9 | E18: =(D18-C18+(D18<C18))-0.0208333333333333*(IF((D18-C18+(D18<C18))>0.25,1,0)+IF((D18-C18+(D18<C18))>0.5,1,0)+IF((D18-C18+(D18<C18))>0.75,1,0)) -> 0 | G18: =ABS((HOUR('Leden 2026'!E18)+MINUTE('Leden 2026'!E18)/60))*F18 -> 0
A19: so | B19: 10 | E19: =(D19-C19+(D19<C19))-0.0208333333333333*(IF((D19-C19+(D19<C19))>0.25,1,0)+IF((D19-C19+(D19<C19))>0.5,1,0)+IF((D19-C19+(D19<C19))>0.75,1,0)) -> 0 | G19: =ABS((HOUR('Leden 2026'!E19)+MINUTE('Leden 2026'!E19)/60))*F19 -> 0
A20: ne | B20: 11 | E20: =(D20-C20+(D20<C20))-0.0208333333333333*(IF((D20-C20+(D20<C20))>0.25,1,0)+IF((D20-C20+(D20<C20))>0.5,1,0)+IF((D20-C20+(D20<C20))>0.75,1,0)) -> 0 | G20: =ABS((HOUR('Leden 2026'!E20)+MINUTE('Leden 2026'!E20)/60))*F20 -> 0
A21: po | B21: 12 | E21: =(D21-C21+(D21<C21))-0.0208333333333333*(IF((D21-C21+(D21<C21))>0.25,1,0)+IF((D21-C21+(D21<C21))>0.5,1,0)+IF((D21-C21+(D21<C21))>0.75,1,0)) -> 0 | G21: =ABS((HOUR('Leden 2026'!E21)+MINUTE('Leden 2026'!E21)/60))*F21 -> 0
... A40: so | B40: 31 | E40: =(D40-C40+(D40<C40))-0.0208333333333333*(IF((D40-C40+(D40<C40))>0.25,1,0)+IF((D40-C40+(D40<C40))>0.5,1,0)+IF((D40-C40+(D40<C40))>0.75,1,0)) -> 0 | G40: =ABS((HOUR('Leden 2026'!E40)+MINUTE('Leden 2026'!E40)/60))*F40 -> 0
A41: Součet | E41: =E10+E11+E12+E13+E14+E15+E16+E17+E18+E19+E20+E21+E22+E23+E24+E25+E26+E27+E28+E29+E30+E31+E32+E33+E34+E35+E36+E37+E38+E39+E40 -> 0 | G41: =G10+G11+G12+G13+G14+G15+G16+G17+G18+G19+G20+G21+G22+G23+G24+G25+G26+G27+G28+G29+G30+G31+G32+G33+G34+G35+G36+G37+G38+G39+G40 -> 0 | H41: Datum:
A42: CELKEM od počátku roku | E42: =E41 -> 0 | H42: Vypracoval:
H43: Podpis:
A45: Výsledek práce*) | I45: (projekt, posudek apod.)
A46: je uložen u | F46: (pracoviště HZS ČR) a zaevidován pod číslem | L46: .
A48: Potvrzuji, že (v případě nehmotného plnění, např. konzultace, výuka nebo praktický výcvik) byly splněny
A49: podmínky stanovené v dohodě*).
A51: Potvrzuji, že zaměstnanec vykonal práci ve vykázaném rozsahu a splnil zadané úkoly v požadovaném rozsahu,
A52: kvalitě a termínu.
A54: V | B54: Ostravě | D54: dne
F55: jméno(a), příjmení a podpis pověřeného zaměstnance
A57: Schvaluji a souhlasím s výplatou sjednané odměny na účet zaměstnance.
A58: Odměna je splatná v prvním výplatním termínu zaměstnavatele po odevzdání práce.
A60: datum
F61: jméno(a), příjmení a podpis vedoucího zaměstnance
A63: datum | F63: Ing. Martin Nekula, MBA
F64: jméno(a), příjmení a podpis příkazce operace
A66: datum | F66: Bc. Daniela Budinová
F67: jméno(a), příjmení a podpis správce rozpočtu
A69: *) Nehodící se škrtněte

Sheet Únor 2026
E1: VYUČTOVÁNÍ za měsíc | G1: 2/2026
A3: na základě uzavřené dohody o provedení práce * podle § 75 zákoníku práce č.: | H3: ='Leden 2026'!H3 -> 0
A4: na základě uzavřené dohody o pracovní činnosti * podle § 76 zákoníku práce č.: | H4: ='Leden 2026'!H4 -> 0
A6: OEČ zaměstnance: | D6: ='Leden 2026'!D6 -> 0 | F6: Jméno a příjmení zaměstnance: | H6: ='Leden 2026'!H6 -> 0
A8: datum | C8: výkon práce | E8: počet hodin | F8: Kč za hodinu | G8: celkem Kč | H8: stručný popis činnosti
C9: od | D9: do | H9: ='Leden 2026'!H9 -> HASÍK
A10: ne | B10: 1 | E10: =(D10-C10+(D10<C10))-0.0208333333333333*(IF((D10-C10+(D10<C10))>0.25,1,0)+IF((D10-C10+(D10<C10))>0.5,1,0)+IF((D10-C10+(D10<C10))>0.75,1,0)) -> 0 | G10: =ABS((HOUR('Únor 2026'!E10)+MINUTE('Únor 2026'!E10)/60))*F10 -> 0
A11: po | B11: 2 | E11: =(D11-C11+(D11<C11))-0.0208333333333333*(IF((D11-C11+(D11<C11))>0.25,1,0)+IF((D11-C11+(D11<C11))>0.5,1,0)+IF((D11-C11+(D11<C11))>0.75,1,0)) -> 0 | G11: =ABS((HOUR('Únor 2026'!E11)+MINUTE('Únor 2026'!E11)/60))*F11 -> 0
A12: út | B12: 3 | E12: =(D12-C12+(D12<C12))-0.0208333333333333*(IF((D12-C12+(D12<C12))>0.25,1,0)+IF((D12-C12+(D12<C12))>0.5,1,0)+IF((D12-C12+(D12<C12))>0.75,1,0)) -> 0 | G12: =ABS((HOUR('Únor 2026'!E12)+MINUTE('Únor 2026'!E12)/60))*F12 -> 0
A13: st | B13: 4 | E13: =(D13-C13+(D13<C13))-0.0208333333333333*(IF((D13-C13+(D13<C13))>0.25,1,0)+IF((D13-C13+(D13<C13))>0.5,1,0)+IF((D13-C13+(D13<C13))>0.75,1,0)) -> 0 | G13: =ABS((HOUR('Únor 2026'!E13)+MINUTE('Únor 2026'!E13)/60))*F13 -> 0
A14: čt | B14: 5 | E14: =(D14-C14+(D14<C14))-0.0208333333333333*(IF((D14-C14+(D14<C14))>0.25,1,0)+IF((D14-C14+(D14<C14))>0.5,1,0)+IF((D14-C14+(D14<C14))>0.75,1,0)) -> 0 | G14: =ABS((HOUR('Únor 2026'!E14)+MINUTE('Únor 2026'!E14)/60))*F14 -> 0
A15: pá | B15: 6 | E15: =(D15-C15+(D15<C15))-0.0208333333333333*(IF((D15-C15+(D15<C15))>0.25,1,0)+IF((D15-C15+(D15<C15))>0.5,1,0)+IF((D15-C15+(D15<C15))>0.75,1,0)) -> 0 | G15: =ABS((HOUR('Únor 2026'!E15)+MINUTE('Únor 2026'!E15)/60))*F15 -> 0
A16: so | B16: 7 | E16: =(D16-C16+(D16<C16))-0.0208333333333333*(IF((D16-C16+(D16<C16))>0.25,1,0)+IF((D16-C16+(D16<C16))>0.5,1,0)+IF((D16-C16+(D16<C16))>0.75,1,0)) -> 0 | G16: =ABS((HOUR('Únor 2026'!E16)+MINUTE('Únor 2026'!E16)/60))*F16 -> 0
A17: ne | B17: 8 | E17: =(D17-C17+(D17<C17))-0.0208333333333333*(IF((D17-C17+(D17<C17))>0.25,1,0)+IF((D17-C17+(D17<C17))>0.5,1,0)+IF((D17-C17+(D17<C17))>0.75,1,0)) -> 0 | G17: =ABS((HOUR('Únor 2026'!E17)+MINUTE('Únor 2026'!E17)/60))*F17 -> 0
A18: po | B18: 9 | E18: =(D18-C18+(D18<C18))-0.0208333333333333*(IF((D18-C18+(D18<C18))>0.25,1,0)+IF((D18-C18+(D18<C18))>0.5,1,0)+IF((D18-C18+(D18<C18))>0.75,1,0)) -> 0 | G18: =ABS((HOUR('Únor 2026'!E18)+MINUTE('Únor 2026'!E18)/60))*F18 -> 0
A19: út | B19: 10 | E19: =(D19-C19+(D19<C19))-0.0208333333333333*(IF((D19-C19+(D19<C19))>0.25,1,0)+IF((D19-C19+(D19<C19))>0.5,1,0)+IF((D19-C19+(D19<C19))>0.75,1,0)) -> 0 | G19: =ABS((HOUR('Únor 2026'!E19)+MINUTE('Únor 2026'!E19)/60))*F19 -> 0
A20: st | B20: 11 | E20: =(D20-C20+(D20<C20))-0.0208333333333333*(IF((D20-C20+(D20<C20))>0.25,1,0)+IF((D20-C20+(D20<C20))>0.5,1,0)+IF((D20-C20+(D20<C20))>0.75,1,0)) -> 0 | G20: =ABS((HOUR('Únor 2026'!E20)+MINUTE('Únor 2026'!E20)/60))*F20 -> 0
A21: čt | B21: 12 | E21: =(D21-C21+(D21<C21))-0.0208333333333333*(IF((D21-C21+(D21<C21))>0.25,1,0)+IF((D21-C21+(D21<C21))>0.5,1,0)+IF((D21-C21+(D21<C21))>0.75,1,0)) -> 0 | G21: =ABS((HOUR('Únor 2026'!E21)+MINUTE('Únor 2026'!E21)/60))*F21 -> 0
... A37: so | B37: 28 | E37: =(D37-C37+(D37<C37))-0.0208333333333333*(IF((D37-C37+(D37<C37))>0.25,1,0)+IF((D37-C37+(D37<C37))>0.5,1,0)+IF((D37-C37+(D37<C37))>0.75,1,0)) -> 0 | G37: =ABS((HOUR('Únor 2026'!E37)+MINUTE('Únor 2026'!E37)/60))*F37 -> 0
A38: Součet | E38: =E10+E11+E12+E13+E14+E15+E16+E17+E18+E19+E20+E21+E22+E23+E24+E25+E26+E27+E28+E29+E30+E31+E32+E33+E34+E35+E36+E37 -> 0 | G38: =G10+G11+G12+G13+G14+G15+G16+G17+G18+G19+G20+G21+G22+G23+G24+G25+G26+G27+G28+G29+G30+G31+G32+G33+G34+G35+G36+G37 -> 0 | H38: Datum:
A39: CELKEM od počátku roku | E39: =E38+'Leden 2026'!E41 -> 0 | H39: Vypracoval: | J39: ='Leden 2026'!J42 -> 0
H40: Podpis:
A42: Výsledek práce*) | I42: (projekt, posudek apod.)
A43: je uložen u | F43: (pracoviště HZS ČR) a zaevidován pod číslem | L43: .
A45: Potvrzuji, že (v případě nehmotného plnění, např. konzultace, výuka nebo praktický výcvik) byly splněny
A46: podmínky stanovené v dohodě*).
A48: Potvrzuji, že zaměstnanec vykonal práci ve vykázaném rozsahu a splnil zadané úkoly v požadovaném rozsahu,
A49: kvalitě a termínu.
A51: V | B51: ='Leden 2026'!B54 -> Ostravě | D51: dne | F51: ='Leden 2026'!F54 -> 0
F52: jméno(a), příjmení a podpis pověřeného zaměstnance
A54: Schvaluji a souhlasím s výplatou sjednané odměny na účet zaměstnance.
A55: Odměna je splatná v prvním výplatním termínu zaměstnavatele po odevzdání práce.
A57: datum | F57: ='Leden 2026'!F60 -> 0
F58: jméno(a), příjmení a podpis vedoucího zaměstnance
A60: datum | F60: ='Leden 2026'!F63 -> Ing. Martin Nekula, MBA
F61: jméno(a), příjmení a podpis příkazce operace
A63: datum | F63: ='Leden 2026'!F66 -> Bc. Daniela Budinová
F64: jméno(a), příjmení a podpis správce rozpočtu
A66: *) Nehodící se škrtněte

Sheet Březen 2026
E1: VYUČTOVÁNÍ za měsíc | G1: 3/2026
A3: na základě uzavřené dohody o provedení práce * podle § 75 zákoníku práce č.: | H3: ='Leden 2026'!H3 -> 0
A4: na základě uzavřené dohody o pracovní činnosti * podle § 76 zákoníku práce č.: | H4: ='Leden 2026'!H4 -> 0
A6: OEČ zaměstnance: | D6: ='Leden 2026'!D6 -> 0 | F6: Jméno a příjmení zaměstnance: | H6: ='Leden 2026'!H6 -> 0
A8: datum | C8: výkon práce | E8: počet hodin | F8: Kč za hodinu | G8: celkem Kč | H8: stručný popis činnosti
C9: od | D9: do | H9: ='Leden 2026'!H9 -> HASÍK
A10: ne | B10: 1 | E10: =(D10-C10+(D10<C10))-0.0208333333333333*(IF((D10-C10+(D10<C10))>0.25,1,0)+IF((D10-C10+(D10<C10))>0.5,1,0)+IF((D10-C10+(D10<C10))>0.75,1,0)) -> 0 | G10: =ABS((HOUR('Březen 2026'!E10)+MINUTE('Březen 2026'!E10)/60))*F10 -> 0
A11: po | B11: 2 | E11: =(D11-C11+(D11<C11))-0.0208333333333333*(IF((D11-C11+(D11<C11))>0.25,1,0)+IF((D11-C11+(D11<C11))>0.5,1,0)+IF((D11-C11+(D11<C11))>0.75,1,0)) -> 0 | G11: =ABS((HOUR('Březen 2026'!E11)+MINUTE('Březen 2026'!E11)/60))*F11 -> 0
A12: út | B12: 3 | E12: =(D12-C12+(D12<C12))-0.0208333333333333*(IF((D12-C12+(D12<C12))>0.25,1,0)+IF((D12-C12+(D12<C12))>0.5,1,0)+IF((D12-C12+(D12<C12))>0.75,1,0)) -> 0 | G12: =ABS((HOUR('Březen 2026'!E12)+MINUTE('Březen 2026'!E12)/60))*F12 -> 0
A13: st | B13: 4 | E13: =(D13-C13+(D13<C13))-0.0208333333333333*(IF((D13-C13+(D13<C13))>0.25,1,0)+IF((D13-C13+(D13<C13))>0.5,1,0)+IF((D13-C13+(D13<C13))>0.75,1,0)) -> 0 | G13: =ABS((HOUR('Březen 2026'!E13)+MINUTE('Březen 2026'!E13)/60))*F13 -> 0
A14: čt | B14: 5 | E14: =(D14-C14+(D14<C14))-0.0208333333333333*(IF((D14-C14+(D14<C14))>0.25,1,0)+IF((D14-C14+(D14<C14))>0.5,1,0)+IF((D14-C14+(D14<C14))>0.75,1,0)) -> 0 | G14: =ABS((HOUR('Březen 2026'!E14)+MINUTE('Březen 2026'!E14)/60))*F14 -> 0
A15: pá | B15: 6 | E15: =(D15-C15+(D15<C15))-0.0208333333333333*(IF((D15-C15+(D15<C15))>0.25,1,0)+IF((D15-C15+(D15<C15))>0.5,1,0)+IF((D15-C15+(D15<C15))>0.75,1,0)) -> 0 | G15: =ABS((HOUR('Březen 2026'!E15)+MINUTE('Březen 2026'!E15)/60))*F15 -> 0
A16: so | B16: 7 | E16: =(D16-C16+(D16<C16))-0.0208333333333333*(IF((D16-C16+(D16<C16))>0.25,1,0)+IF((D16-C16+(D16<C16))>0.5,1,0)+IF((D16-C16+(D16<C16))>0.75,1,0)) -> 0 | G16: =ABS((HOUR('Březen 2026'!E16)+MINUTE('Březen 2026'!E16)/60))*F16 -> 0
A17: ne | B17: 8 | E17: =(D17-C17+(D17<C17))-0.0208333333333333*(IF((D17-C17+(D17<C17))>0.25,1,0)+IF((D17-C17+(D17<C17))>0.5,1,0)+IF((D17-C17+(D17<C17))>0.75,1,0)) -> 0 | G17: =ABS((HOUR('Březen 2026'!E17)+MINUTE('Březen 2026'!E17)/60))*F17 -> 0
A18: po | B18: 9 | E18: =(D18-C18+(D18<C18))-0.0208333333333333*(IF((D18-C18+(D18<C18))>0.25,1,0)+IF((D18-C18+(D18<C18))>0.5,1,0)+IF((D18-C18+(D18<C18))>0.75,1,0)) -> 0 | G18: =ABS((HOUR('Březen 2026'!E18)+MINUTE('Březen 2026'!E18)/60))*F18 -> 0
A19: út | B19: 10 | E19: =(D19-C19+(D19<C19))-0.0208333333333333*(IF((D19-C19+(D19<C19))>0.25,1,0)+IF((D19-C19+(D19<C19))>0.5,1,0)+IF((D19-C19+(D19<C19))>0.75,1,0)) -> 0 | G19: =ABS((HOUR('Březen 2026'!E19)+MINUTE('Březen 2026'!E19)/60))*F19 -> 0
A20: st | B20: 11 | E20: =(D20-C20+(D20<C20))-0.0208333333333333*(IF((D20-C20+(D20<C20))>0.25,1,0)+IF((D20-C20+(D20<C20))>0.5,1,0)+IF((D20-C20+(D20<C20))>0.75,1,0)) -> 0 | G20: =ABS((HOUR('Březen 2026'!E20)+MINUTE('Březen 2026'!E20)/60))*F20 -> 0
A21: čt | B21: 12 | E21: =(D21-C21+(D21<C21))-0.0208333333333333*(IF((D21-C21+(D21<C21))>0.25,1,0)+IF((D21-C21+(D21<C21))>0.5,1,0)+IF((D21-C21+(D21<C21))>0.75,1,0)) -> 0 | G21: =ABS((HOUR('Březen 2026'!E21)+MINUTE('Březen 2026'!E21)/60))*F21 -> 0
... A40: út | B40: 31 | E40: =(D40-C40+(D40<C40))-0.0208333333333333*(IF((D40-C40+(D40<C40))>0.25,1,0)+IF((D40-C40+(D40<C40))>0.5,1,0)+IF((D40-C40+(D40<C40))>0.75,1,0)) -> 0 | G40: =ABS((HOUR('Březen 2026'!E40)+MINUTE('Březen 2026'!E40)/60))*F40 -> 0
A41: Součet | E41: =E10+E11+E12+E13+E14+E15+E16+E17+E18+E19+E20+E21+E22+E23+E24+E25+E26+E27+E28+E29+E30+E31+E32+E33+E34+E35+E36+E37+E38+E39+E40 -> 0 | G41: =G10+G11+G12+G13+G14+G15+G16+G17+G18+G19+G20+G21+G22+G23+G24+G25+G26+G27+G28+G29+G30+G31+G32+G33+G34+G35+G36+G37+G38+G39+G40 -> 0 | H41: Datum:
A42: CELKEM od počátku roku | E42: =E41+'Leden 2026'!E41+'Únor 2026'!E38 -> 0 | H42: Vypracoval: | J42: ='Leden 2026'!J42 -> 0
H43: Podpis:
A45: Výsledek práce*) | I45: (projekt, posudek apod.)
A46: je uložen u | F46: (pracoviště HZS ČR) a zaevidován pod číslem | L46: .
A48: Potvrzuji, že (v případě nehmotného plnění, např. konzultace, výuka nebo praktický výcvik) byly splněny
A49: podmínky stanovené v dohodě*).
A51: Potvrzuji, že zaměstnanec vykonal práci ve vykázaném rozsahu a splnil zadané úkoly v požadovaném rozsahu,
A52: kvalitě a termínu.
A54: V | B54: ='Leden 2026'!B54 -> Ostravě | D54: dne | F54: ='Leden 2026'!F54 -> 0
F55: jméno(a), příjmení a podpis pověřeného zaměstnance
A57: Schvaluji a souhlasím s výplatou sjednané odměny na účet zaměstnance.
A58: Odměna je splatná v prvním výplatním termínu zaměstnavatele po odevzdání práce.
A60: datum | F60: ='Leden 2026'!F60 -> 0
F61: jméno(a), příjmení a podpis vedoucího zaměstnance
A63: datum | F63: ='Leden 2026'!F63 -> Ing. Martin Nekula, MBA
F64: jméno(a), příjmení a podpis příkazce operace
A66: datum | F66: ='Leden 2026'!F66 -> Bc. Daniela Budinová
F67: jméno(a), příjmení a podpis správce rozpočtu
A69: *) Nehodící se škrtněte

Sheet Duben 2026
E1: VYUČTOVÁNÍ za měsíc | G1: 4/2026
A3: na základě uzavřené dohody o provedení práce * podle § 75 zákoníku práce č.: | H3: ='Leden 2026'!H3 -> 0
A4: na základě uzavřené dohody o pracovní činnosti * podle § 76 zákoníku práce č.: | H4: ='Leden 2026'!H4 -> 0
A6: OEČ zaměstnance: | D6: ='Leden 2026'!D6 -> 0 | F6: Jméno a příjmení zaměstnance: | H6: ='Leden 2026'!H6 -> 0
A8: datum | C8: výkon práce | E8: počet hodin | F8: Kč za hodinu | G8: celkem Kč | H8: stručný popis činnosti
C9: od | D9: do | H9: ='Leden 2026'!H9 -> HASÍK
A10: st | B10: 1 | E10: =(D10-C10+(D10<C10))-0.0208333333333333*(IF((D10-C10+(D10<C10))>0.25,1,0)+IF((D10-C10+(D10<C10))>0.5,1,0)+IF((D10-C10+(D10<C10))>0.75,1,0)) -> 0 | G10: =ABS((HOUR('Duben 2026'!E10)+MINUTE('Duben 2026'!E10)/60))*F10 -> 0
A11: čt | B11: 2 | E11: =(D11-C11+(D11<C11))-0.0208333333333333*(IF((D11-C11+(D11<C11))>0.25,1,0)+IF((D11-C11+(D11<C11))>0.5,1,0)+IF((D11-C11+(D11<C11))>0.75,1,0)) -> 0 | G11: =ABS((HOUR('Duben 2026'!E11)+MINUTE('Duben 2026'!E11)/60))*F11 -> 0
A12: pá | B12: 3 | E12: =(D12-C12+(D12<C12))-0.0208333333333333*(IF((D12-C12+(D12<C12))>0.25,1,0)+IF((D12-C12+(D12<C12))>0.5,1,0)+IF((D12-C12+(D12<C12))>0.75,1,0)) -> 0 | G12: =ABS((HOUR('Duben 2026'!E12)+MINUTE('Duben 2026'!E12)/60))*F12 -> 0
A13: so | B13: 4 | E13: =(D13-C13+(D13<C13))-0.0208333333333333*(IF((D13-C13+(D13<C13))>0.25,1,0)+IF((D13-C13+(D13<C13))>0.5,1,0)+IF((D13-C13+(D13<C13))>0.75,1,0)) -> 0 | G13: =ABS((HOUR('Duben 2026'!E13)+MINUTE('Duben 2026'!E13)/60))*F13 -> 0
A14: ne | B14: 5 | E14: =(D14-C14+(D14<C14))-0.0208333333333333*(IF((D14-C14+(D14<C14))>0.25,1,0)+IF((D14-C14+(D14<C14))>0.5,1,0)+IF((D14-C14+(D14<C14))>0.75,1,0)) -> 0 | G14: =ABS((HOUR('Duben 2026'!E14)+MINUTE('Duben 2026'!E14)/60))*F14 -> 0
A15: po | B15: 6 | E15: =(D15-C15+(D15<C15))-0.0208333333333333*(IF((D15-C15+(D15<C15))>0.25,1,0)+IF((D15-C15+(D15<C15))>0.5,1,0)+IF((D15-C15+(D15<C15))>0.75,1,0)) -> 0 | G15: =ABS((HOUR('Duben 2026'!E15)+MINUTE('Duben 2026'!E15)/60))*F15 -> 0
A16: út | B16: 7 | E16: =(D16-C16+(D16<C16))-0.0208333333333333*(IF((D16-C16+(D16<C16))>0.25,1,0)+IF((D16-C16+(D16<C16))>0.5,1,0)+IF((D16-C16+(D16<C16))>0.75,1,0)) -> 0 | G16: =ABS((HOUR('Duben 2026'!E16)+MINUTE('Duben 2026'!E16)/60))*F16 -> 0
A17: st | B17: 8 | E17: =(D17-C17+(D17<C17))-0.0208333333333333*(IF((D17-C17+(D17<C17))>0.25,1,0)+IF((D17-C17+(D17<C17))>0.5,1,0)+IF((D17-C17+(D17<C17))>0.75,1,0)) -> 0 | G17: =ABS((HOUR('Duben 2026'!E17)+MINUTE('Duben 2026'!E17)/60))*F17 -> 0
A18: čt | B18: 9 | E18: =(D18-C18+(D18<C18))-0.0208333333333333*(IF((D18-C18+(D18<C18))>0.25,1,0)+IF((D18-C18+(D18<C18))>0.5,1,0)+IF((D18-C18+(D18<C18))>0.75,1,0)) -> 0 | G18: =ABS((HOUR('Duben 2026'!E18)+MINUTE('Duben 2026'!E18)/60))*F18 -> 0
A19: pá | B19: 10 | E19: =(D19-C19+(D19<C19))-0.0208333333333333*(IF((D19-C19+(D19<C19))>0.25,1,0)+IF((D19-C19+(D19<C19))>0.5,1,0)+IF((D19-C19+(D19<C19))>0.75,1,0)) -> 0 | G19: =ABS((HOUR('Duben 2026'!E19)+MINUTE('Duben 2026'!E19)/60))*F19 -> 0
A20: so | B20: 11 | E20: =(D20-C20+(D20<C20))-0.0208333333333333*(IF((D20-C20+(D20<C20))>0.25,1,0)+IF((D20-C20+(D20<C20))>0.5,1,0)+IF((D20-C20+(D20<C20))>0.75,1,0)) -> 0 | G20: =ABS((HOUR('Duben 2026'!E20)+MINUTE('Duben 2026'!E20)/60))*F20 -> 0
A21: ne | B21: 12 | E21: =(D21-C21+(D21<C21))-0.0208333333333333*(IF((D21-C21+(D21<C21))>0.25,1,0)+IF((D21-C21+(D21<C21))>0.5,1,0)+IF((D21-C21+(D21<C21))>0.75,1,0)) -> 0 | G21: =ABS((HOUR('Duben 2026'!E21)+MINUTE('Duben 2026'!E21)/60))*F21 -> 0
... A39: čt | B39: 30 | E39: =(D39-C39+(D39<C39))-0.0208333333333333*(IF((D39-C39+(D39<C39))>0.25,1,0)+IF((D39-C39+(D39<C39))>0.5,1,0)+IF((D39-C39+(D39<C39))>0.75,1,0)) -> 0 | G39: =ABS((HOUR('Duben 2026'!E39)+MINUTE('Duben 2026'!E39)/60))*F39 -> 0
A40: Součet | E40: =E10+E11+E12+E13+E14+E15+E16+E17+E18+E19+E20+E21+E22+E23+E24+E25+E26+E27+E28+E29+E30+E31+E32+E33+E34+E35+E36+E37+E38+E39 -> 0 | G40: =G10+G11+G12+G13+G14+G15+G16+G17+G18+G19+G20+G21+G22+G23+G24+G25+G26+G27+G28+G29+G30+G31+G32+G33+G34+G35+G36+G37+G38+G39 -> 0 | H40: Datum:
A41: CELKEM od počátku roku | E41: =E40+'Leden 2026'!E41+'Únor 2026'!E38+'Březen 2026'!E41 -> 0 | H41: Vypracoval: | J41: ='Leden 2026'!J42 -> 0
H42: Podpis:
A44: Výsledek práce*) | I44: (projekt, posudek apod.)
A45: je uložen u | F45: (pracoviště HZS ČR) a zaevidován pod číslem | L45: .
A47: Potvrzuji, že (v případě nehmotného plnění, např. konzultace, výuka nebo praktický výcvik) byly splněny
A48: podmínky stanovené v dohodě*).
A50: Potvrzuji, že zaměstnanec vykonal práci ve vykázaném rozsahu a splnil zadané úkoly v požadovaném rozsahu,
A51: kvalitě a termínu.
A53: V | B53: ='Leden 2026'!B54 -> Ostravě | D53: dne | F53: ='Leden 2026'!F54 -> 0
F54: jméno(a), příjmení a podpis pověřeného zaměstnance
A56: Schvaluji a souhlasím s výplatou sjednané odměny na účet zaměstnance.
A57: Odměna je splatná v prvním výplatním termínu zaměstnavatele po odevzdání práce.
A59: datum | F59: ='Leden 2026'!F60 -> 0
F60: jméno(a), příjmení a podpis vedoucího zaměstnance
A62: datum | F62: ='Leden 2026'!F63 -> Ing. Martin Nekula, MBA
F63: jméno(a), příjmení a podpis příkazce operace
A65: datum | F65: ='Leden 2026'!F66 -> Bc. Daniela Budinová
F66: jméno(a), příjmení a podpis správce rozpočtu
A68: *) Nehodící se škrtněte

Sheet Květen 2026
E1: VYUČTOVÁNÍ za měsíc | G1: 5/2026
A3: na základě uzavřené dohody o provedení práce * podle § 75 zákoníku práce č.: | H3: ='Leden 2026'!H3 -> 0
A4: na základě uzavřené dohody o pracovní činnosti * podle § 76 zákoníku práce č.: | H4: ='Leden 2026'!H4 -> 0
A6: OEČ zaměstnance: | D6: ='Leden 2026'!D6 -> 0 | F6: Jméno a příjmení zaměstnance: | H6: ='Leden 2026'!H6 -> 0
A8: datum | C8: výkon práce | E8: počet hodin | F8: Kč za hodinu | G8: celkem Kč | H8: stručný popis činnosti
C9: od | D9: do | H9: ='Leden 2026'!H9 -> HASÍK
A10: pá | B10: 1 | E10: =(D10-C10+(D10<C10))-0.0208333333333333*(IF((D10-C10+(D10<C10))>0.25,1,0)+IF((D10-C10+(D10<C10))>0.5,1,0)+IF((D10-C10+(D10<C10))>0.75,1,0)) -> 0 | G10: =ABS((HOUR('Květen 2026'!E10)+MINUTE('Květen 2026'!E10)/60))*F10 -> 0
A11: so | B11: 2 | E11: =(D11-C11+(D11<C11))-0.0208333333333333*(IF((D11-C11+(D11<C11))>0.25,1,0)+IF((D11-C11+(D11<C11))>0.5,1,0)+IF((D11-C11+(D11<C11))>0.75,1,0)) -> 0 | G11: =ABS((HOUR('Květen 2026'!E11)+MINUTE('Květen 2026'!E11)/60))*F11 -> 0
A12: ne | B12: 3 | E12: =(D12-C12+(D12<C12))-0.0208333333333333*(IF((D12-C12+(D12<C12))>0.25,1,0)+IF((D12-C12+(D12<C12))>0.5,1,0)+IF((D12-C12+(D12<C12))>0.75,1,0)) -> 0 | G12: =ABS((HOUR('Květen 2026'!E12)+MINUTE('Květen 2026'!E12)/60))*F12 -> 0
A13: po | B13: 4 | E13: =(D13-C13+(D13<C13))-0.0208333333333333*(IF((D13-C13+(D13<C13))>0.25,1,0)+IF((D13-C13+(D13<C13))>0.5,1,0)+IF((D13-C13+(D13<C13))>0.75,1,0)) -> 0 | G13: =ABS((HOUR('Květen 2026'!E13)+MINUTE('Květen 2026'!E13)/60))*F13 -> 0
A14: út | B14: 5 | E14: =(D14-C14+(D14<C14))-0.0208333333333333*(IF((D14-C14+(D14<C14))>0.25,1,0)+IF((D14-C14+(D14<C14))>0.5,1,0)+IF((D14-C14+(D14<C14))>0.75,1,0)) -> 0 | G14: =ABS((HOUR('Květen 2026'!E14)+MINUTE('Květen 2026'!E14)/60))*F14 -> 0
A15: st | B15: 6 | E15: =(D15-C15+(D15<C15))-0.0208333333333333*(IF((D15-C15+(D15<C15))>0.25,1,0)+IF((D15-C15+(D15<C15))>0.5,1,0)+IF((D15-C15+(D15<C15))>0.75,1,0)) -> 0 | G15: =ABS((HOUR('Květen 2026'!E15)+MINUTE('Květen 2026'!E15)/60))*F15 -> 0
A16: čt | B16: 7 | E16: =(D16-C16+(D16<C16))-0.0208333333333333*(IF((D16-C16+(D16<C16))>0.25,1,0)+IF((D16-C16+(D16<C16))>0.5,1,0)+IF((D16-C16+(D16<C16))>0.75,1,0)) -> 0 | G16: =ABS((HOUR('Květen 2026'!E16)+MINUTE('Květen 2026'!E16)/60))*F16 -> 0
A17: pá | B17: 8 | E17: =(D17-C17+(D17<C17))-0.0208333333333333*(IF((D17-C17+(D17<C17))>0.25,1,0)+IF((D17-C17+(D17<C17))>0.5,1,0)+IF((D17-C17+(D17<C17))>0.75,1,0)) -> 0 | G17: =ABS((HOUR('Květen 2026'!E17)+MINUTE('Květen 2026'!E17)/60))*F17 -> 0
A18: so | B18: 9 | E18: =(D18-C18+(D18<C18))-0.0208333333333333*(IF((D18-C18+(D18<C18))>0.25,1,0)+IF((D18-C18+(D18<C18))>0.5,1,0)+IF((D18-C18+(D18<C18))>0.75,1,0)) -> 0 | G18: =ABS((HOUR('Květen 2026'!E18)+MINUTE('Květen 2026'!E18)/60))*F18 -> 0
A19: ne | B19: 10 | E19: =(D19-C19+(D19<C19))-0.0208333333333333*(IF((D19-C19+(D19<C19))>0.25,1,0)+IF((D19-C19+(D19<C19))>0.5,1,0)+IF((D19-C19+(D19<C19))>0.75,1,0)) -> 0 | G19: =ABS((HOUR('Květen 2026'!E19)+MINUTE('Květen 2026'!E19)/60))*F19 -> 0
A20: po | B20: 11 | E20: =(D20-C20+(D20<C20))-0.0208333333333333*(IF((D20-C20+(D20<C20))>0.25,1,0)+IF((D20-C20+(D20<C20))>0.5,1,0)+IF((D20-C20+(D20<C20))>0.75,1,0)) -> 0 | G20: =ABS((HOUR('Květen 2026'!E20)+MINUTE('Květen 2026'!E20)/60))*F20 -> 0
A21: út | B21: 12 | E21: =(D21-C21+(D21<C21))-0.0208333333333333*(IF((D21-C21+(D21<C21))>0.25,1,0)+IF((D21-C21+(D21<C21))>0.5,1,0)+IF((D21-C21+(D21<C21))>0.75,1,0)) -> 0 | G21: =ABS((HOUR('Květen 2026'!E21)+MINUTE('Květen 2026'!E21)/60))*F21 -> 0
... A40: ne | B40: 31 | E40: =(D40-C40+(D40<C40))-0.0208333333333333*(IF((D40-C40+(D40<C40))>0.25,1,0)+IF((D40-C40+(D40<C40))>0.5,1,0)+IF((D40-C40+(D40<C40))>0.75,1,0)) -> 0 | G40: =ABS((HOUR('Květen 2026'!E40)+MINUTE('Květen 2026'!E40)/60))*F40 -> 0
A41: Součet | E41: =E10+E11+E12+E13+E14+E15+E16+E17+E18+E19+E20+E21+E22+E23+E24+E25+E26+E27+E28+E29+E30+E31+E32+E33+E34+E35+E36+E37+E38+E39+E40 -> 0 | G41: =G10+G11+G12+G13+G14+G15+G16+G17+G18+G19+G20+G21+G22+G23+G24+G25+G26+G27+G28+G29+G30+G31+G32+G33+G34+G35+G36+G37+G38+G39+G40 -> 0 | H41: Datum:
A42: CELKEM od počátku roku | E42: =E41+'Leden 2026'!E41+'Únor 2026'!E38+'Březen 2026'!E41+'Duben 2026'!E40 -> 0 | H42: Vypracoval: | J42: ='Leden 2026'!J42 -> 0
H43: Podpis:
A45: Výsledek práce*) | I45: (projekt, posudek apod.)
A46: je uložen u | F46: (pracoviště HZS ČR) a zaevidován pod číslem | L46: .
A48: Potvrzuji, že (v případě nehmotného plnění, např. konzultace, výuka nebo praktický výcvik) byly splněny
A49: podmínky stanovené v dohodě*).
A51: Potvrzuji, že zaměstnanec vykonal práci ve vykázaném rozsahu a splnil zadané úkoly v požadovaném rozsahu,
A52: kvalitě a termínu.
A54: V | B54: ='Leden 2026'!B54 -> Ostravě | D54: dne | F54: ='Leden 2026'!F54 -> 0
F55: jméno(a), příjmení a podpis pověřeného zaměstnance
A57: Schvaluji a souhlasím s výplatou sjednané odměny na účet zaměstnance.
A58: Odměna je splatná v prvním výplatním termínu zaměstnavatele po odevzdání práce.
A60: datum | F60: ='Leden 2026'!F60 -> 0
F61: jméno(a), příjmení a podpis vedoucího zaměstnance
A63: datum | F63: ='Leden 2026'!F63 -> Ing. Martin Nekula, MBA
F64: jméno(a), příjmení a podpis příkazce operace
A66: datum | F66: ='Leden 2026'!F66 -> Bc. Daniela Budinová
F67: jméno(a), příjmení a podpis správce rozpočtu
A69: *) Nehodící se škrtněte

Sheet Červen 2026
E1: VYUČTOVÁNÍ za měsíc | G1: 6/2026
A3: na základě uzavřené dohody o provedení práce * podle § 75 zákoníku práce č.: | H3: ='Leden 2026'!H3 -> 0
A4: na základě uzavřené dohody o pracovní činnosti * podle § 76 zákoníku práce č.: | H4: ='Leden 2026'!H4 -> 0
A6: OEČ zaměstnance: | D6: ='Leden 2026'!D6 -> 0 | F6: Jméno a příjmení zaměstnance: | H6: ='Leden 2026'!H6 -> 0
A8: datum | C8: výkon práce | E8: počet hodin | F8: Kč za hodinu | G8: celkem Kč | H8: stručný popis činnosti
C9: od | D9: do | H9: ='Leden 2026'!H9 -> HASÍK
A10: po | B10: 1 | E10: =(D10-C10+(D10<C10))-0.0208333333333333*(IF((D10-C10+(D10<C10))>0.25,1,0)+IF((D10-C10+(D10<C10))>0.5,1,0)+IF((D10-C10+(D10<C10))>0.75,1,0)) -> 0 | G10: =ABS((HOUR('Červen 2026'!E10)+MINUTE('Červen 2026'!E10)/60))*F10 -> 0
A11: út | B11: 2 | E11: =(D11-C11+(D11<C11))-0.0208333333333333*(IF((D11-C11+(D11<C11))>0.25,1,0)+IF((D11-C11+(D11<C11))>0.5,1,0)+IF((D11-C11+(D11<C11))>0.75,1,0)) -> 0 | G11: =ABS((HOUR('Červen 2026'!E11)+MINUTE('Červen 2026'!E11)/60))*F11 -> 0
A12: st | B12: 3 | E12: =(D12-C12+(D12<C12))-0.0208333333333333*(IF((D12-C12+(D12<C12))>0.25,1,0)+IF((D12-C12+(D12<C12))>0.5,1,0)+IF((D12-C12+(D12<C12))>0.75,1,0)) -> 0 | G12: =ABS((HOUR('Červen 2026'!E12)+MINUTE('Červen 2026'!E12)/60))*F12 -> 0
A13: čt | B13: 4 | E13: =(D13-C13+(D13<C13))-0.0208333333333333*(IF((D13-C13+(D13<C13))>0.25,1,0)+IF((D13-C13+(D13<C13))>0.5,1,0)+IF((D13-C13+(D13<C13))>0.75,1,0)) -> 0 | G13: =ABS((HOUR('Červen 2026'!E13)+MINUTE('Červen 2026'!E13)/60))*F13 -> 0
A14: pá | B14: 5 | E14: =(D14-C14+(D14<C14))-0.0208333333333333*(IF((D14-C14+(D14<C14))>0.25,1,0)+IF((D14-C14+(D14<C14))>0.5,1,0)+IF((D14-C14+(D14<C14))>0.75,1,0)) -> 0 | G14: =ABS((HOUR('Červen 2026'!E14)+MINUTE('Červen 2026'!E14)/60))*F14 -> 0
A15: so | B15: 6 | E15: =(D15-C15+(D15<C15))-0.0208333333333333*(IF((D15-C15+(D15<C15))>0.25,1,0)+IF((D15-C15+(D15<C15))>0.5,1,0)+IF((D15-C15+(D15<C15))>0.75,1,0)) -> 0 | G15: =ABS((HOUR('Červen 2026'!E15)+MINUTE('Červen 2026'!E15)/60))*F15 -> 0
A16: ne | B16: 7 | E16: =(D16-C16+(D16<C16))-0.0208333333333333*(IF((D16-C16+(D16<C16))>0.25,1,0)+IF((D16-C16+(D16<C16))>0.5,1,0)+IF((D16-C16+(D16<C16))>0.75,1,0)) -> 0 | G16: =ABS((HOUR('Červen 2026'!E16)+MINUTE('Červen 2026'!E16)/60))*F16 -> 0
A17: po | B17: 8 | E17: =(D17-C17+(D17<C17))-0.0208333333333333*(IF((D17-C17+(D17<C17))>0.25,1,0)+IF((D17-C17+(D17<C17))>0.5,1,0)+IF((D17-C17+(D17<C17))>0.75,1,0)) -> 0 | G17: =ABS((HOUR('Červen 2026'!E17)+MINUTE('Červen 2026'!E17)/60))*F17 -> 0
A18: út | B18: 9 | E18: =(D18-C18+(D18<C18))-0.0208333333333333*(IF((D18-C18+(D18<C18))>0.25,1,0)+IF((D18-C18+(D18<C18))>0.5,1,0)+IF((D18-C18+(D18<C18))>0.75,1,0)) -> 0 | G18: =ABS((HOUR('Červen 2026'!E18)+MINUTE('Červen 2026'!E18)/60))*F18 -> 0
A19: st | B19: 10 | E19: =(D19-C19+(D19<C19))-0.0208333333333333*(IF((D19-C19+(D19<C19))>0.25,1,0)+IF((D19-C19+(D19<C19))>0.5,1,0)+IF((D19-C19+(D19<C19))>0.75,1,0)) -> 0 | G19: =ABS((HOUR('Červen 2026'!E19)+MINUTE('Červen 2026'!E19)/60))*F19 -> 0
A20: čt | B20: 11 | E20: =(D20-C20+(D20<C20))-0.0208333333333333*(IF((D20-C20+(D20<C20))>0.25,1,0)+IF((D20-C20+(D20<C20))>0.5,1,0)+IF((D20-C20+(D20<C20))>0.75,1,0)) -> 0 | G20: =ABS((HOUR('Červen 2026'!E20)+MINUTE('Červen 2026'!E20)/60))*F20 -> 0
A21: pá | B21: 12 | E21: =(D21-C21+(D21<C21))-0.0208333333333333*(IF((D21-C21+(D21<C21))>0.25,1,0)+IF((D21-C21+(D21<C21))>0.5,1,0)+IF((D21-C21+(D21<C21))>0.75,1,0)) -> 0 | G21: =ABS((HOUR('Červen 2026'!E21)+MINUTE('Červen 2026'!E21)/60))*F21 -> 0
... A39: út | B39: 30 | E39: =(D39-C39+(D39<C39))-0.0208333333333333*(IF((D39-C39+(D39<C39))>0.25,1,0)+IF((D39-C39+(D39<C39))>0.5,1,0)+IF((D39-C39+(D39<C39))>0.75,1,0)) -> 0 | G39: =ABS((HOUR('Červen 2026'!E39)+MINUTE('Červen 2026'!E39)/60))*F39 -> 0
A40: Součet | E40: =E10+E11+E12+E13+E14+E15+E16+E17+E18+E19+E20+E21+E22+E23+E24+E25+E26+E27+E28+E29+E30+E31+E32+E33+E34+E35+E36+E37+E38+E39 -> 0 | G40: =G10+G11+G12+G13+G14+G15+G16+G17+G18+G19+G20+G21+G22+G23+G24+G25+G26+G27+G28+G29+G30+G31+G32+G33+G34+G35+G36+G37+G38+G39 -> 0 | H40: Datum:
A41: CELKEM od počátku roku | E41: =E40+'Leden 2026'!E41+'Únor 2026'!E38+'Březen 2026'!E41+'Duben 2026'!E40+'Květen 2026'!E41 -> 0 | H41: Vypracoval: | J41: ='Leden 2026'!J42 -> 0
H42: Podpis:
A44: Výsledek práce*) | I44: (projekt, posudek apod.)
A45: je uložen u | F45: (pracoviště HZS ČR) a zaevidován pod číslem | L45: .
A47: Potvrzuji, že (v případě nehmotného plnění, např. konzultace, výuka nebo praktický výcvik) byly splněny
A48: podmínky stanovené v dohodě*).
A50: Potvrzuji, že zaměstnanec vykonal práci ve vykázaném rozsahu a splnil zadané úkoly v požadovaném rozsahu,
A51: kvalitě a termínu.
A53: V | B53: ='Leden 2026'!B54 -> Ostravě | D53: dne | F53: ='Leden 2026'!F54 -> 0
F54: jméno(a), příjmení a podpis pověřeného zaměstnance
A56: Schvaluji a souhlasím s výplatou sjednané odměny na účet zaměstnance.
A57: Odměna je splatná v prvním výplatním termínu zaměstnavatele po odevzdání práce.
A59: datum | F59: ='Leden 2026'!F60 -> 0
F60: jméno(a), příjmení a podpis vedoucího zaměstnance
A62: datum | F62: ='Leden 2026'!F63 -> Ing. Martin Nekula, MBA
F63: jméno(a), příjmení a podpis příkazce operace
A65: datum | F65: ='Leden 2026'!F66 -> Bc. Daniela Budinová
F66: jméno(a), příjmení a podpis správce rozpočtu
A68: *) Nehodící se škrtněte

Sheet Červenec 2026
E1: VYUČTOVÁNÍ za měsíc | G1: 7/2026
A3: na základě uzavřené dohody o provedení práce * podle § 75 zákoníku práce č.: | H3: ='Leden 2026'!H3 -> 0
A4: na základě uzavřené dohody o pracovní činnosti * podle § 76 zákoníku práce č.: | H4: ='Leden 2026'!H4 -> 0
A6: OEČ zaměstnance: | D6: ='Leden 2026'!D6 -> 0 | F6: Jméno a příjmení zaměstnance: | H6: ='Leden 2026'!H6 -> 0
A8: datum | C8: výkon práce | E8: počet hodin | F8: Kč za hodinu | G8: celkem Kč | H8: stručný popis činnosti
C9: od | D9: do | H9: ='Leden 2026'!H9 -> HASÍK
A10: st | B10: 1 | E10: =(D10-C10+(D10<C10))-0.0208333333333333*(IF((D10-C10+(D10<C10))>0.25,1,0)+IF((D10-C10+(D10<C10))>0.5,1,0)+IF((D10-C10+(D10<C10))>0.75,1,0)) -> 0 | G10: =ABS((HOUR('Červenec 2026'!E10)+MINUTE('Červenec 2026'!E10)/60))*F10 -> 0
A11: čt | B11: 2 | E11: =(D11-C11+(D11<C11))-0.0208333333333333*(IF((D11-C11+(D11<C11))>0.25,1,0)+IF((D11-C11+(D11<C11))>0.5,1,0)+IF((D11-C11+(D11<C11))>0.75,1,0)) -> 0 | G11: =ABS((HOUR('Červenec 2026'!E11)+MINUTE('Červenec 2026'!E11)/60))*F11 -> 0
A12: pá | B12: 3 | E12: =(D12-C12+(D12<C12))-0.0208333333333333*(IF((D12-C12+(D12<C12))>0.25,1,0)+IF((D12-C12+(D12<C12))>0.5,1,0)+IF((D12-C12+(D12<C12))>0.75,1,0)) -> 0 | G12: =ABS((HOUR('Červenec 2026'!E12)+MINUTE('Červenec 2026'!E12)/60))*F12 -> 0
A13: so | B13: 4 | E13: =(D13-C13+(D13<C13))-0.0208333333333333*(IF((D13-C13+(D13<C13))>0.25,1,0)+IF((D13-C13+(D13<C13))>0.5,1,0)+IF((D13-C13+(D13<C13))>0.75,1,0)) -> 0 | G13: =ABS((HOUR('Červenec 2026'!E13)+MINUTE('Červenec 2026'!E13)/60))*F13 -> 0
A14: ne | B14: 5 | E14: =(D14-C14+(D14<C14))-0.0208333333333333*(IF((D14-C14+(D14<C14))>0.25,1,0)+IF((D14-C14+(D14<C14))>0.5,1,0)+IF((D14-C14+(D14<C14))>0.75,1,0)) -> 0 | G14: =ABS((HOUR('Červenec 2026'!E14)+MINUTE('Červenec 2026'!E14)/60))*F14 -> 0
A15: po | B15: 6 | E15: =(D15-C15+(D15<C15))-0.0208333333333333*(IF((D15-C15+(D15<C15))>0.25,1,0)+IF((D15-C15+(D15<C15))>0.5,1,0)+IF((D15-C15+(D15<C15))>0.75,1,0)) -> 0 | G15: =ABS((HOUR('Červenec 2026'!E15)+MINUTE('Červenec 2026'!E15)/60))*F15 -> 0
A16: út | B16: 7 | E16: =(D16-C16+(D16<C16))-0.0208333333333333*(IF((D16-C16+(D16<C16))>0.25,1,0)+IF((D16-C16+(D16<C16))>0.5,1,0)+IF((D16-C16+(D16<C16))>0.75,1,0)) -> 0 | G16: =ABS((HOUR('Červenec 2026'!E16)+MINUTE('Červenec 2026'!E16)/60))*F16 -> 0
A17: st | B17: 8 | E17: =(D17-C17+(D17<C17))-0.0208333333333333*(IF((D17-C17+(D17<C17))>0.25,1,0)+IF((D17-C17+(D17<C17))>0.5,1,0)+IF((D17-C17+(D17<C17))>0.75,1,0)) -> 0 | G17: =ABS((HOUR('Červenec 2026'!E17)+MINUTE('Červenec 2026'!E17)/60))*F17 -> 0
A18: čt | B18: 9 | E18: =(D18-C18+(D18<C18))-0.0208333333333333*(IF((D18-C18+(D18<C18))>0.25,1,0)+IF((D18-C18+(D18<C18))>0.5,1,0)+IF((D18-C18+(D18<C18))>0.75,1,0)) -> 0 | G18: =ABS((HOUR('Červenec 2026'!E18)+MINUTE('Červenec 2026'!E18)/60))*F18 -> 0
A19: pá | B19: 10 | E19: =(D19-C19+(D19<C19))-0.0208333333333333*(IF((D19-C19+(D19<C19))>0.25,1,0)+IF((D19-C19+(D19<C19))>0.5,1,0)+IF((D19-C19+(D19<C19))>0.75,1,0)) -> 0 | G19: =ABS((HOUR('Červenec 2026'!E19)+MINUTE('Červenec 2026'!E19)/60))*F19 -> 0
A20: so | B20: 11 | E20: =(D20-C20+(D20<C20))-0.0208333333333333*(IF((D20-C20+(D20<C20))>0.25,1,0)+IF((D20-C20+(D20<C20))>0.5,1,0)+IF((D20-C20+(D20<C20))>0.75,1,0)) -> 0 | G20: =ABS((HOUR('Červenec 2026'!E20)+MINUTE('Červenec 2026'!E20)/60))*F20 -> 0
A21: ne | B21: 12 | E21: =(D21-C21+(D21<C21))-0.0208333333333333*(IF((D21-C21+(D21<C21))>0.25,1,0)+IF((D21-C21+(D21<C21))>0.5,1,0)+IF((D21-C21+(D21<C21))>0.75,1,0)) -> 0 | G21: =ABS((HOUR('Červenec 2026'!E21)+MINUTE('Červenec 2026'!E21)/60))*F21 -> 0
... A40: pá | B40: 31 | E40: =(D40-C40+(D40<C40))-0.0208333333333333*(IF((D40-C40+(D40<C40))>0.25,1,0)+IF((D40-C40+(D40<C40))>0.5,1,0)+IF((D40-C40+(D40<C40))>0.75,1,0)) -> 0 | G40: =ABS((HOUR('Červenec 2026'!E40)+MINUTE('Červenec 2026'!E40)/60))*F40 -> 0
A41: Součet | E41: =E10+E11+E12+E13+E14+E15+E16+E17+E18+E19+E20+E21+E22+E23+E24+E25+E26+E27+E28+E29+E30+E31+E32+E33+E34+E35+E36+E37+E38+E39+E40 -> 0 | G41: =G10+G11+G12+G13+G14+G15+G16+G17+G18+G19+G20+G21+G22+G23+G24+G25+G26+G27+G28+G29+G30+G31+G32+G33+G34+G35+G36+G37+G38+G39+G40 -> 0 | H41: Datum:
A42: CELKEM od počátku roku | E42: =E41+'Leden 2026'!E41+'Únor 2026'!E38+'Březen 2026'!E41+'Duben 2026'!E40+'Květen 2026'!E41+'Červen 2026'!E40 -> 0 | H42: Vypracoval: | J42: ='Leden 2026'!J42 -> 0
H43: Podpis:
A45: Výsledek práce*) | I45: (projekt, posudek apod.)
A46: je uložen u | F46: (pracoviště HZS ČR) a zaevidován pod číslem | L46: .
A48: Potvrzuji, že (v případě nehmotného plnění, např. konzultace, výuka nebo praktický výcvik) byly splněny
A49: podmínky stanovené v dohodě*).
A51: Potvrzuji, že zaměstnanec vykonal práci ve vykázaném rozsahu a splnil zadané úkoly v požadovaném rozsahu,
A52: kvalitě a termínu.
A54: V | B54: ='Leden 2026'!B54 -> Ostravě | D54: dne | F54: ='Leden 2026'!F54 -> 0
F55: jméno(a), příjmení a podpis pověřeného zaměstnance
A57: Schvaluji a souhlasím s výplatou sjednané odměny na účet zaměstnance.
A58: Odměna je splatná v prvním výplatním termínu zaměstnavatele po odevzdání práce.
A60: datum | F60: ='Leden 2026'!F60 -> 0
F61: jméno(a), příjmení a podpis vedoucího zaměstnance
A63: datum | F63: ='Leden 2026'!F63 -> Ing. Martin Nekula, MBA
F64: jméno(a), příjmení a podpis příkazce operace
A66: datum | F66: ='Leden 2026'!F66 -> Bc. Daniela Budinová
F67: jméno(a), příjmení a podpis správce rozpočtu
A69: *) Nehodící se škrtněte

Sheet Srpen 2026
E1: VYUČTOVÁNÍ za měsíc | G1: 8/2026
A3: na základě uzavřené dohody o provedení práce * podle § 75 zákoníku práce č.: | H3: ='Leden 2026'!H3 -> 0
A4: na základě uzavřené dohody o pracovní činnosti * podle § 76 zákoníku práce č.: | H4: ='Leden 2026'!H4 -> 0
A6: OEČ zaměstnance: | D6: ='Leden 2026'!D6 -> 0 | F6: Jméno a příjmení zaměstnance: | H6: ='Leden 2026'!H6 -> 0
A8: datum | C8: výkon práce | E8: počet hodin | F8: Kč za hodinu | G8: celkem Kč | H8: stručný popis činnosti
C9: od | D9: do | H9: ='Leden 2026'!H9 -> HASÍK
A10: pá | B10: 1 | E10: =(D10-C10+(D10<C10))-0.0208333333333333*(IF((D10-C10+(D10<C10))>0.25,1,0)+IF((D10-C10+(D10<C10))>0.5,1,0)+IF((D10-C10+(D10<C10))>0.75,1,0)) -> 0 | G10: =ABS((HOUR('Srpen 2026'!E10)+MINUTE('Srpen 2026'!E10)/60))*F10 -> 0
A11: so | B11: 2 | E11: =(D11-C11+(D11<C11))-0.0208333333333333*(IF((D11-C11+(D11<C11))>0.25,1,0)+IF((D11-C11+(D11<C11))>0.5,1,0)+IF((D11-C11+(D11<C11))>0.75,1,0)) -> 0 | G11: =ABS((HOUR('Srpen 2026'!E11)+MINUTE('Srpen 2026'!E11)/60))*F11 -> 0
A12: ne | B12: 3 | E12: =(D12-C12+(D12<C12))-0.0208333333333333*(IF((D12-C12+(D12<C12))>0.25,1,0)+IF((D12-C12+(D12<C12))>0.5,1,0)+IF((D12-C12+(D12<C12))>0.75,1,0)) -> 0 | G12: =ABS((HOUR('Srpen 2026'!E12)+MINUTE('Srpen 2026'!E12)/60))*F12 -> 0
A13: po | B13: 4 | E13: =(D13-C13+(D13<C13))-0.0208333333333333*(IF((D13-C13+(D13<C13))>0.25,1,0)+IF((D13-C13+(D13<C13))>0.5,1,0)+IF((D13-C13+(D13<C13))>0.75,1,0)) -> 0 | G13: =ABS((HOUR('Srpen 2026'!E13)+MINUTE('Srpen 2026'!E13)/60))*F13 -> 0
A14: út | B14: 5 | E14: =(D14-C14+(D14<C14))-0.0208333333333333*(IF((D14-C14+(D14<C14))>0.25,1,0)+IF((D14-C14+(D14<C14))>0.5,1,0)+IF((D14-C14+(D14<C14))>0.75,1,0)) -> 0 | G14: =ABS((HOUR('Srpen 2026'!E14)+MINUTE('Srpen 2026'!E14)/60))*F14 -> 0
A15: st | B15: 6 | E15: =(D15-C15+(D15<C15))-0.0208333333333333*(IF((D15-C15+(D15<C15))>0.25,1,0)+IF((D15-C15+(D15<C15))>0.5,1,0)+IF((D15-C15+(D15<C15))>0.75,1,0)) -> 0 | G15: =ABS((HOUR('Srpen 2026'!E15)+MINUTE('Srpen 2026'!E15)/60))*F15 -> 0
A16: čt | B16: 7 | E16: =(D16-C16+(D16<C16))-0.0208333333333333*(IF((D16-C16+(D16<C16))>0.25,1,0)+IF((D16-C16+(D16<C16))>0.5,1,0)+IF((D16-C16+(D16<C16))>0.75,1,0)) -> 0 | G16: =ABS((HOUR('Srpen 2026'!E16)+MINUTE('Srpen 2026'!E16)/60))*F16 -> 0
A17: pá | B17: 8 | E17: =(D17-C17+(D17<C17))-0.0208333333333333*(IF((D17-C17+(D17<C17))>0.25,1,0)+IF((D17-C17+(D17<C17))>0.5,1,0)+IF((D17-C17+(D17<C17))>0.75,1,0)) -> 0 | G17: =ABS((HOUR('Srpen 2026'!E17)+MINUTE('Srpen 2026'!E17)/60))*F17 -> 0
A18: so | B18: 9 | E18: =(D18-C18+(D18<C18))-0.0208333333333333*(IF((D18-C18+(D18<C18))>0.25,1,0)+IF((D18-C18+(D18<C18))>0.5,1,0)+IF((D18-C18+(D18<C18))>0.75,1,0)) -> 0 | G18: =ABS((HOUR('Srpen 2026'!E18)+MINUTE('Srpen 2026'!E18)/60))*F18 -> 0
A19: ne | B19: 10 | E19: =(D19-C19+(D19<C19))-0.0208333333333333*(IF((D19-C19+(D19<C19))>0.25,1,0)+IF((D19-C19+(D19<C19))>0.5,1,0)+IF((D19-C19+(D19<C19))>0.75,1,0)) -> 0 | G19: =ABS((HOUR('Srpen 2026'!E19)+MINUTE('Srpen 2026'!E19)/60))*F19 -> 0
A20: po | B20: 11 | E20: =(D20-C20+(D20<C20))-0.0208333333333333*(IF((D20-C20+(D20<C20))>0.25,1,0)+IF((D20-C20+(D20<C20))>0.5,1,0)+IF((D20-C20+(D20<C20))>0.75,1,0)) -> 0 | G20: =ABS((HOUR('Srpen 2026'!E20)+MINUTE('Srpen 2026'!E20)/60))*F20 -> 0
A21: út | B21: 12 | E21: =(D21-C21+(D21<C21))-0.0208333333333333*(IF((D21-C21+(D21<C21))>0.25,1,0)+IF((D21-C21+(D21<C21))>0.5,1,0)+IF((D21-C21+(D21<C21))>0.75,1,0)) -> 0 | G21: =ABS((HOUR('Srpen 2026'!E21)+MINUTE('Srpen 2026'!E21)/60))*F21 -> 0
... A40: ne | B40: 31 | E40: =(D40-C40+(D40<C40))-0.0208333333333333*(IF((D40-C40+(D40<C40))>0.25,1,0)+IF((D40-C40+(D40<C40))>0.5,1,0)+IF((D40-C40+(D40<C40))>0.75,1,0)) -> 0 | G40: =ABS((HOUR('Srpen 2026'!E40)+MINUTE('Srpen 2026'!E40)/60))*F40 -> 0
A41: Součet | E41: =E10+E11+E12+E13+E14+E15+E16+E17+E18+E19+E20+E21+E22+E23+E24+E25+E26+E27+E28+E29+E30+E31+E32+E33+E34+E35+E36+E37+E38+E39+E40 -> 0 | G41: =G10+G11+G12+G13+G14+G15+G16+G17+G18+G19+G20+G21+G22+G23+G24+G25+G26+G27+G28+G29+G30+G31+G32+G33+G34+G35+G36+G37+G38+G39+G40 -> 0 | H41: Datum:
A42: CELKEM od počátku roku | E42: =E41+'Leden 2026'!E41+'Únor 2026'!E38+'Březen 2026'!E41+'Duben 2026'!E40+'Květen 2026'!E41+'Červen 2026'!E40+'Červenec 2026'!E41 -> 0 | H42: Vypracoval: | J42: ='Leden 2026'!J42 -> 0
H43: Podpis:
A45: Výsledek práce*) | I45: (projekt, posudek apod.)
A46: je uložen u | F46: (pracoviště HZS ČR) a zaevidován pod číslem | L46: .
A48: Potvrzuji, že (v případě nehmotného plnění, např. konzultace, výuka nebo praktický výcvik) byly splněny
A49: podmínky stanovené v dohodě*).
A51: Potvrzuji, že zaměstnanec vykonal práci ve vykázaném rozsahu a splnil zadané úkoly v požadovaném rozsahu,
A52: kvalitě a termínu.
A54: V | B54: ='Leden 2026'!B54 -> Ostravě | D54: dne | F54: ='Leden 2026'!F54 -> 0
F55: jméno(a), příjmení a podpis pověřeného zaměstnance
A57: Schvaluji a souhlasím s výplatou sjednané odměny na účet zaměstnance.
A58: Odměna je splatná v prvním výplatním termínu zaměstnavatele po odevzdání práce.
A60: datum | F60: ='Leden 2026'!F60 -> 0
F61: jméno(a), příjmení a podpis vedoucího zaměstnance
A63: datum | F63: ='Leden 2026'!F63 -> Ing. Martin Nekula, MBA
F64: jméno(a), příjmení a podpis příkazce operace
A66: datum | F66: ='Leden 2026'!F66 -> Bc. Daniela Budinová
F67: jméno(a), příjmení a podpis správce rozpočtu
A69: *) Nehodící se škrtněte

Sheet Září 2026
E1: VYUČTOVÁNÍ za měsíc | G1: 9/2026
A3: na základě uzavřené dohody o provedení práce * podle § 75 zákoníku práce č.: | H3: ='Leden 2026'!H3 -> 0
A4: na základě uzavřené dohody o pracovní činnosti * podle § 76 zákoníku práce č.: | H4: ='Leden 2026'!H4 -> 0
A6: OEČ zaměstnance: | D6: ='Leden 2026'!D6 -> 0 | F6: Jméno a příjmení zaměstnance: | H6: ='Leden 2026'!H6 -> 0
A8: datum | C8: výkon práce | E8: počet hodin | F8: Kč za hodinu | G8: celkem Kč | H8: stručný popis činnosti
C9: od | D9: do | H9: ='Leden 2026'!H9 -> HASÍK
A10: út | B10: 1 | E10: =(D10-C10+(D10<C10))-0.0208333333333333*(IF((D10-C10+(D10<C10))>0.25,1,0)+IF((D10-C10+(D10<C10))>0.5,1,0)+IF((D10-C10+(D10<C10))>0.75,1,0)) -> 0 | G10: =ABS((HOUR('Září 2026'!E10)+MINUTE('Září 2026'!E10)/60))*F10 -> 0
A11: st | B11: 2 | E11: =(D11-C11+(D11<C11))-0.0208333333333333*(IF((D11-C11+(D11<C11))>0.25,1,0)+IF((D11-C11+(D11<C11))>0.5,1,0)+IF((D11-C11+(D11<C11))>0.75,1,0)) -> 0 | G11: =ABS((HOUR('Září 2026'!E11)+MINUTE('Září 2026'!E11)/60))*F11 -> 0
A12: čt | B12: 3 | E12: =(D12-C12+(D12<C12))-0.0208333333333333*(IF((D12-C12+(D12<C12))>0.25,1,0)+IF((D12-C12+(D12<C12))>0.5,1,0)+IF((D12-C12+(D12<C12))>0.75,1,0)) -> 0 | G12: =ABS((HOUR('Září 2026'!E12)+MINUTE('Září 2026'!E12)/60))*F12 -> 0
A13: pá | B13: 4 | E13: =(D13-C13+(D13<C13))-0.0208333333333333*(IF((D13-C13+(D13<C13))>0.25,1,0)+IF((D13-C13+(D13<C13))>0.5,1,0)+IF((D13-C13+(D13<C13))>0.75,1,0)) -> 0 | G13: =ABS((HOUR('Září 2026'!E13)+MINUTE('Září 2026'!E13)/60))*F13 -> 0
A14: so | B14: 5 | E14: =(D14-C14+(D14<C14))-0.0208333333333333*(IF((D14-C14+(D14<C14))>0.25,1,0)+IF((D14-C14+(D14<C14))>0.5,1,0)+IF((D14-C14+(D14<C14))>0.75,1,0)) -> 0 | G14: =ABS((HOUR('Září 2026'!E14)+MINUTE('Září 2026'!E14)/60))*F14 -> 0
A15: ne | B15: 6 | E15: =(D15-C15+(D15<C15))-0.0208333333333333*(IF((D15-C15+(D15<C15))>0.25,1,0)+IF((D15-C15+(D15<C15))>0.5,1,0)+IF((D15-C15+(D15<C15))>0.75,1,0)) -> 0 | G15: =ABS((HOUR('Září 2026'!E15)+MINUTE('Září 2026'!E15)/60))*F15 -> 0
A16: po | B16: 7 | E16: =(D16-C16+(D16<C16))-0.0208333333333333*(IF((D16-C16+(D16<C16))>0.25,1,0)+IF((D16-C16+(D16<C16))>0.5,1,0)+IF((D16-C16+(D16<C16))>0.75,1,0)) -> 0 | G16: =ABS((HOUR('Září 2026'!E16)+MINUTE('Září 2026'!E16)/60))*F16 -> 0
A17: út | B17: 8 | E17: =(D17-C17+(D17<C17))-0.0208333333333333*(IF((D17-C17+(D17<C17))>0.25,1,0)+IF((D17-C17+(D17<C17))>0.5,1,0)+IF((D17-C17+(D17<C17))>0.75,1,0)) -> 0 | G17: =ABS((HOUR('Září 2026'!E17)+MINUTE('Září 2026'!E17)/60))*F17 -> 0
A18: st | B18: 9 | E18: =(D18-C18+(D18<C18))-0.0208333333333333*(IF((D18-C18+(D18<C18))>0.25,1,0)+IF((D18-C18+(D18<C18))>0.5,1,0)+IF((D18-C18+(D18<C18))>0.75,1,0)) -> 0 | G18: =ABS((HOUR('Září 2026'!E18)+MINUTE('Září 2026'!E18)/60))*F18 -> 0
A19: čt | B19: 10 | E19: =(D19-C19+(D19<C19))-0.0208333333333333*(IF((D19-C19+(D19<C19))>0.25,1,0)+IF((D19-C19+(D19<C19))>0.5,1,0)+IF((D19-C19+(D19<C19))>0.75,1,0)) -> 0 | G19: =ABS((HOUR('Září 2026'!E19)+MINUTE('Září 2026'!E19)/60))*F19 -> 0
A20: pá | B20: 11 | E20: =(D20-C20+(D20<C20))-0.0208333333333333*(IF((D20-C20+(D20<C20))>0.25,1,0)+IF((D20-C20+(D20<C20))>0.5,1,0)+IF((D20-C20+(D20<C20))>0.75,1,0)) -> 0 | G20: =ABS((HOUR('Září 2026'!E20)+MINUTE('Září 2026'!E20)/60))*F20 -> 0
A21: so | B21: 12 | E21: =(D21-C21+(D21<C21))-0.0208333333333333*(IF((D21-C21+(D21<C21))>0.25,1,0)+IF((D21-C21+(D21<C21))>0.5,1,0)+IF((D21-C21+(D21<C21))>0.75,1,0)) -> 0 | G21: =ABS((HOUR('Září 2026'!E21)+MINUTE('Září 2026'!E21)/60))*F21 -> 0
... A39: st | B39: 30 | E39: =(D39-C39+(D39<C39))-0.0208333333333333*(IF((D39-C39+(D39<C39))>0.25,1,0)+IF((D39-C39+(D39<C39))>0.5,1,0)+IF((D39-C39+(D39<C39))>0.75,1,0)) -> 0 | G39: =ABS((HOUR('Září 2026'!E39)+MINUTE('Září 2026'!E39)/60))*F39 -> 0
A40: Součet | E40: =E10+E11+E12+E13+E14+E15+E16+E17+E18+E19+E20+E21+E22+E23+E24+E25+E26+E27+E28+E29+E30+E31+E32+E33+E34+E35+E36+E37+E38+E39 -> 0 | G40: =G10+G11+G12+G13+G14+G15+G16+G17+G18+G19+G20+G21+G22+G23+G24+G25+G26+G27+G28+G29+G30+G31+G32+G33+G34+G35+G36+G37+G38+G39 -> 0 | H40: Datum:
A41: CELKEM od počátku roku | E41: =E40+'Leden 2026'!E41+'Únor 2026'!E38+'Březen 2026'!E41+'Duben 2026'!E40+'Květen 2026'!E41+'Červen 2026'!E40+'Červenec 2026'!E41+'Srpen 2026'!E41 -> 0 | H41: Vypracoval: | J41: ='Leden 2026'!J42 -> 0
H42: Podpis:
A44: Výsledek práce*) | I44: (projekt, posudek apod.)
A45: je uložen u | F45: (pracoviště HZS ČR) a zaevidován pod číslem | L45: .
A47: Potvrzuji, že (v případě nehmotného plnění, např. konzultace, výuka nebo praktický výcvik) byly splněny
A48: podmínky stanovené v dohodě*).
A50: Potvrzuji, že zaměstnanec vykonal práci ve vykázaném rozsahu a splnil zadané úkoly v požadovaném rozsahu,
A51: kvalitě a termínu.
A53: V | B53: ='Leden 2026'!B54 -> Ostravě | D53: dne | F53: ='Leden 2026'!F54 -> 0
F54: jméno(a), příjmení a podpis pověřeného zaměstnance
A56: Schvaluji a souhlasím s výplatou sjednané odměny na účet zaměstnance.
A57: Odměna je splatná v prvním výplatním termínu zaměstnavatele po odevzdání práce.
A59: datum | F59: ='Leden 2026'!F60 -> 0
F60: jméno(a), příjmení a podpis vedoucího zaměstnance
A62: datum | F62: ='Leden 2026'!F63 -> Ing. Martin Nekula, MBA
F63: jméno(a), příjmení a podpis příkazce operace
A65: datum | F65: ='Leden 2026'!F66 -> Bc. Daniela Budinová
F66: jméno(a), příjmení a podpis správce rozpočtu
A68: *) Nehodící se škrtněte

Sheet Říjen 2026
E1: VYUČTOVÁNÍ za měsíc | G1: 10/2026
A3: na základě uzavřené dohody o provedení práce * podle § 75 zákoníku práce č.: | H3: ='Leden 2026'!H3 -> 0
A4: na základě uzavřené dohody o pracovní činnosti * podle § 76 zákoníku práce č.: | H4: ='Leden 2026'!H4 -> 0
A6: OEČ zaměstnance: | D6: ='Leden 2026'!D6 -> 0 | F6: Jméno a příjmení zaměstnance: | H6: ='Leden 2026'!H6 -> 0
A8: datum | C8: výkon práce | E8: počet hodin | F8: Kč za hodinu | G8: celkem Kč | H8: stručný popis činnosti
C9: od | D9: do | H9: ='Leden 2026'!H9 -> HASÍK
A10: čt | B10: 1 | E10: =(D10-C10+(D10<C10))-0.0208333333333333*(IF((D10-C10+(D10<C10))>0.25,1,0)+IF((D10-C10+(D10<C10))>0.5,1,0)+IF((D10-C10+(D10<C10))>0.75,1,0)) -> 0 | G10: =ABS((HOUR('Říjen 2026'!E10)+MINUTE('Říjen 2026'!E10)/60))*F10 -> 0
A11: pá | B11: 2 | E11: =(D11-C11+(D11<C11))-0.0208333333333333*(IF((D11-C11+(D11<C11))>0.25,1,0)+IF((D11-C11+(D11<C11))>0.5,1,0)+IF((D11-C11+(D11<C11))>0.75,1,0)) -> 0 | G11: =ABS((HOUR('Říjen 2026'!E11)+MINUTE('Říjen 2026'!E11)/60))*F11 -> 0
A12: so | B12: 3 | E12: =(D12-C12+(D12<C12))-0.0208333333333333*(IF((D12-C12+(D12<C12))>0.25,1,0)+IF((D12-C12+(D12<C12))>0.5,1,0)+IF((D12-C12+(D12<C12))>0.75,1,0)) -> 0 | G12: =ABS((HOUR('Říjen 2026'!E12)+MINUTE('Říjen 2026'!E12)/60))*F12 -> 0
A13: ne | B13: 4 | E13: =(D13-C13+(D13<C13))-0.0208333333333333*(IF((D13-C13+(D13<C13))>0.25,1,0)+IF((D13-C13+(D13<C13))>0.5,1,0)+IF((D13-C13+(D13<C13))>0.75,1,0)) -> 0 | G13: =ABS((HOUR('Říjen 2026'!E13)+MINUTE('Říjen 2026'!E13)/60))*F13 -> 0
A14: po | B14: 5 | E14: =(D14-C14+(D14<C14))-0.0208333333333333*(IF((D14-C14+(D14<C14))>0.25,1,0)+IF((D14-C14+(D14<C14))>0.5,1,0)+IF((D14-C14+(D14<C14))>0.75,1,0)) -> 0 | G14: =ABS((HOUR('Říjen 2026'!E14)+MINUTE('Říjen 2026'!E14)/60))*F14 -> 0
A15: út | B15: 6 | E15: =(D15-C15+(D15<C15))-0.0208333333333333*(IF((D15-C15+(D15<C15))>0.25,1,0)+IF((D15-C15+(D15<C15))>0.5,1,0)+IF((D15-C15+(D15<C15))>0.75,1,0)) -> 0 | G15: =ABS((HOUR('Říjen 2026'!E15)+MINUTE('Říjen 2026'!E15)/60))*F15 -> 0
A16: st | B16: 7 | E16: =(D16-C16+(D16<C16))-0.0208333333333333*(IF((D16-C16+(D16<C16))>0.25,1,0)+IF((D16-C16+(D16<C16))>0.5,1,0)+IF((D16-C16+(D16<C16))>0.75,1,0)) -> 0 | G16: =ABS((HOUR('Říjen 2026'!E16)+MINUTE('Říjen 2026'!E16)/60))*F16 -> 0
A17: čt | B17: 8 | E17: =(D17-C17+(D17<C17))-0.0208333333333333*(IF((D17-C17+(D17<C17))>0.25,1,0)+IF((D17-C17+(D17<C17))>0.5,1,0)+IF((D17-C17+(D17<C17))>0.75,1,0)) -> 0 | G17: =ABS((HOUR('Říjen 2026'!E17)+MINUTE('Říjen 2026'!E17)/60))*F17 -> 0
A18: pá | B18: 9 | E18: =(D18-C18+(D18<C18))-0.0208333333333333*(IF((D18-C18+(D18<C18))>0.25,1,0)+IF((D18-C18+(D18<C18))>0.5,1,0)+IF((D18-C18+(D18<C18))>0.75,1,0)) -> 0 | G18: =ABS((HOUR('Říjen 2026'!E18)+MINUTE('Říjen 2026'!E18)/60))*F18 -> 0
A19: so | B19: 10 | E19: =(D19-C19+(D19<C19))-0.0208333333333333*(IF((D19-C19+(D19<C19))>0.25,1,0)+IF((D19-C19+(D19<C19))>0.5,1,0)+IF((D19-C19+(D19<C19))>0.75,1,0)) -> 0 | G19: =ABS((HOUR('Říjen 2026'!E19)+MINUTE('Říjen 2026'!E19)/60))*F19 -> 0
A20: ne | B20: 11 | E20: =(D20-C20+(D20<C20))-0.0208333333333333*(IF((D20-C20+(D20<C20))>0.25,1,0)+IF((D20-C20+(D20<C20))>0.5,1,0)+IF((D20-C20+(D20<C20))>0.75,1,0)) -> 0 | G20: =ABS((HOUR('Říjen 2026'!E20)+MINUTE('Říjen 2026'!E20)/60))*F20 -> 0
A21: po | B21: 12 | E21: =(D21-C21+(D21<C21))-0.0208333333333333*(IF((D21-C21+(D21<C21))>0.25,1,0)+IF((D21-C21+(D21<C21))>0.5,1,0)+IF((D21-C21+(D21<C21))>0.75,1,0)) -> 0 | G21: =ABS((HOUR('Říjen 2026'!E21)+MINUTE('Říjen 2026'!E21)/60))*F21 -> 0
... A40: so | B40: 31 | E40: =(D40-C40+(D40<C40))-0.0208333333333333*(IF((D40-C40+(D40<C40))>0.25,1,0)+IF((D40-C40+(D40<C40))>0.5,1,0)+IF((D40-C40+(D40<C40))>0.75,1,0)) -> 0 | G40: =ABS((HOUR('Říjen 2026'!E40)+MINUTE('Říjen 2026'!E40)/60))*F40 -> 0
A41: Součet | E41: =E10+E11+E12+E13+E14+E15+E16+E17+E18+E19+E20+E21+E22+E23+E24+E25+E26+E27+E28+E29+E30+E31+E32+E33+E34+E35+E36+E37+E38+E39+E40 -> 0 | G41: =G10+G11+G12+G13+G14+G15+G16+G17+G18+G19+G20+G21+G22+G23+G24+G25+G26+G27+G28+G29+G30+G31+G32+G33+G34+G35+G36+G37+G38+G39+G40 -> 0 | H41: Datum:
A42: CELKEM od počátku roku | E42: =E41+'Leden 2026'!E41+'Únor 2026'!E38+'Březen 2026'!E41+'Duben 2026'!E40+'Květen 2026'!E41+'Červen 2026'!E40+'Červenec 2026'!E41+'Srpen 2026'!E41+'Září 2026'!E40 -> 0 | H42: Vypracoval: | J42: ='Leden 2026'!J42 -> 0
H43: Podpis:
A45: Výsledek práce*) | I45: (projekt, posudek apod.)
A46: je uložen u | F46: (pracoviště HZS ČR) a zaevidován pod číslem | L46: .
A48: Potvrzuji, že (v případě nehmotného plnění, např. konzultace, výuka nebo praktický výcvik) byly splněny
A49: podmínky stanovené v dohodě*).
A51: Potvrzuji, že zaměstnanec vykonal práci ve vykázaném rozsahu a splnil zadané úkoly v požadovaném rozsahu,
A52: kvalitě a termínu.
A54: V | B54: ='Leden 2026'!B54 -> Ostravě | D54: dne | F54: ='Leden 2026'!F54 -> 0
F55: jméno(a), příjmení a podpis pověřeného zaměstnance
A57: Schvaluji a souhlasím s výplatou sjednané odměny na účet zaměstnance.
A58: Odměna je splatná v prvním výplatním termínu zaměstnavatele po odevzdání práce.
A60: datum | F60: ='Leden 2026'!F60 -> 0
F61: jméno(a), příjmení a podpis vedoucího zaměstnance
A63: datum | F63: ='Leden 2026'!F63 -> Ing. Martin Nekula, MBA
F64: jméno(a), příjmení a podpis příkazce operace
A66: datum | F66: ='Leden 2026'!F66 -> Bc. Daniela Budinová
F67: jméno(a), příjmení a podpis správce rozpočtu
A69: *) Nehodící se škrtněte

Sheet Listopad 2026
E1: VYUČTOVÁNÍ za měsíc | G1: 11/2026
A3: na základě uzavřené dohody o provedení práce * podle § 75 zákoníku práce č.: | H3: ='Leden 2026'!H3 -> 0
A4: na základě uzavřené dohody o pracovní činnosti * podle § 76 zákoníku práce č.: | H4: ='Leden 2026'!H4 -> 0
A6: OEČ zaměstnance: | D6: ='Leden 2026'!D6 -> 0 | F6: Jméno a příjmení zaměstnance: | H6: ='Leden 2026'!H6 -> 0
A8: datum | C8: výkon práce | E8: počet hodin | F8: Kč za hodinu | G8: celkem Kč | H8: stručný popis činnosti
C9: od | D9: do | H9: ='Leden 2026'!H9 -> HASÍK
A10: ne | B10: 1 | E10: =(D10-C10+(D10<C10))-0.0208333333333333*(IF((D10-C10+(D10<C10))>0.25,1,0)+IF((D10-C10+(D10<C10))>0.5,1,0)+IF((D10-C10+(D10<C10))>0.75,1,0)) -> 0 | G10: =ABS((HOUR('Listopad 2026'!E10)+MINUTE('Listopad 2026'!E10)/60))*F10 -> 0
A11: po | B11: 2 | E11: =(D11-C11+(D11<C11))-0.0208333333333333*(IF((D11-C11+(D11<C11))>0.25,1,0)+IF((D11-C11+(D11<C11))>0.5,1,0)+IF((D11-C11+(D11<C11))>0.75,1,0)) -> 0 | G11: =ABS((HOUR('Listopad 2026'!E11)+MINUTE('Listopad 2026'!E11)/60))*F11 -> 0
A12: út | B12: 3 | E12: =(D12-C12+(D12<C12))-0.0208333333333333*(IF((D12-C12+(D12<C12))>0.25,1,0)+IF((D12-C12+(D12<C12))>0.5,1,0)+IF((D12-C12+(D12<C12))>0.75,1,0)) -> 0 | G12: =ABS((HOUR('Listopad 2026'!E12)+MINUTE('Listopad 2026'!E12)/60))*F12 -> 0
A13: st | B13: 4 | E13: =(D13-C13+(D13<C13))-0.0208333333333333*(IF((D13-C13+(D13<C13))>0.25,1,0)+IF((D13-C13+(D13<C13))>0.5,1,0)+IF((D13-C13+(D13<C13))>0.75,1,0)) -> 0 | G13: =ABS((HOUR('Listopad 2026'!E13)+MINUTE('Listopad 2026'!E13)/60))*F13 -> 0
A14: čt | B14: 5 | E14: =(D14-C14+(D14<C14))-0.0208333333333333*(IF((D14-C14+(D14<C14))>0.25,1,0)+IF((D14-C14+(D14<C14))>0.5,1,0)+IF((D14-C14+(D14<C14))>0.75,1,0)) -> 0 | G14: =ABS((HOUR('Listopad 2026'!E14)+MINUTE('Listopad 2026'!E14)/60))*F14 -> 0
A15: pá | B15: 6 | E15: =(D15-C15+(D15<C15))-0.0208333333333333*(IF((D15-C15+(D15<C15))>0.25,1,0)+IF((D15-C15+(D15<C15))>0.5,1,0)+IF((D15-C15+(D15<C15))>0.75,1,0)) -> 0 | G15: =ABS((HOUR('Listopad 2026'!E15)+MINUTE('Listopad 2026'!E15)/60))*F15 -> 0
A16: so | B16: 7 | E16: =(D16-C16+(D16<C16))-0.0208333333333333*(IF((D16-C16+(D16<C16))>0.25,1,0)+IF((D16-C16+(D16<C16))>0.5,1,0)+IF((D16-C16+(D16<C16))>0.75,1,0)) -> 0 | G16: =ABS((HOUR('Listopad 2026'!E16)+MINUTE('Listopad 2026'!E16)/60))*F16 -> 0
A17: ne | B17: 8 | E17: =(D17-C17+(D17<C17))-0.0208333333333333*(IF((D17-C17+(D17<C17))>0.25,1,0)+IF((D17-C17+(D17<C17))>0.5,1,0)+IF((D17-C17+(D17<C17))>0.75,1,0)) -> 0 | G17: =ABS((HOUR('Listopad 2026'!E17)+MINUTE('Listopad 2026'!E17)/60))*F17 -> 0
A18: po | B18: 9 | E18: =(D18-C18+(D18<C18))-0.0208333333333333*(IF((D18-C18+(D18<C18))>0.25,1,0)+IF((D18-C18+(D18<C18))>0.5,1,0)+IF((D18-C18+(D18<C18))>0.75,1,0)) -> 0 | G18: =ABS((HOUR('Listopad 2026'!E18)+MINUTE('Listopad 2026'!E18)/60))*F18 -> 0
A19: út | B19: 10 | E19: =(D19-C19+(D19<C19))-0.0208333333333333*(IF((D19-C19+(D19<C19))>0.25,1,0)+IF((D19-C19+(D19<C19))>0.5,1,0)+IF((D19-C19+(D19<C19))>0.75,1,0)) -> 0 | G19: =ABS((HOUR('Listopad 2026'!E19)+MINUTE('Listopad 2026'!E19)/60))*F19 -> 0
A20: st | B20: 11 | E20: =(D20-C20+(D20<C20))-0.0208333333333333*(IF((D20-C20+(D20<C20))>0.25,1,0)+IF((D20-C20+(D20<C20))>0.5,1,0)+IF((D20-C20+(D20<C20))>0.75,1,0)) -> 0 | G20: =ABS((HOUR('Listopad 2026'!E20)+MINUTE('Listopad 2026'!E20)/60))*F20 -> 0
A21: čt | B21: 12 | E21: =(D21-C21+(D21<C21))-0.0208333333333333*(IF((D21-C21+(D21<C21))>0.25,1,0)+IF((D21-C21+(D21<C21))>0.5,1,0)+IF((D21-C21+(D21<C21))>0.75,1,0)) -> 0 | G21: =ABS((HOUR('Listopad 2026'!E21)+MINUTE('Listopad 2026'!E21)/60))*F21 -> 0
... A39: po | B39: 30 | E39: =(D39-C39+(D39<C39))-0.0208333333333333*(IF((D39-C39+(D39<C39))>0.25,1,0)+IF((D39-C39+(D39<C39))>0.5,1,0)+IF((D39-C39+(D39<C39))>0.75,1,0)) -> 0 | G39: =ABS((HOUR('Listopad 2026'!E39)+MINUTE('Listopad 2026'!E39)/60))*F39 -> 0
A40: Součet | E40: =E10+E11+E12+E13+E14+E15+E16+E17+E18+E19+E20+E21+E22+E23+E24+E25+E26+E27+E28+E29+E30+E31+E32+E33+E34+E35+E36+E37+E38+E39 -> 0 | G40: =G10+G11+G12+G13+G14+G15+G16+G17+G18+G19+G20+G21+G22+G23+G24+G25+G26+G27+G28+G29+G30+G31+G32+G33+G34+G35+G36+G37+G38+G39 -> 0 | H40: Datum:
A41: CELKEM od počátku roku | E41: =E40+'Leden 2026'!E41+'Únor 2026'!E38+'Březen 2026'!E41+'Duben 2026'!E40+'Květen 2026'!E41+'Červen 2026'!E40+'Červenec 2026'!E41+'Srpen 2026'!E41+'Září 2026'!E40+'Říjen 2026'!E41 -> 0 | H41: Vypracoval: | J41: ='Leden 2026'!J42 -> 0
H42: Podpis:
A44: Výsledek práce*) | I44: (projekt, posudek apod.)
A45: je uložen u | F45: (pracoviště HZS ČR) a zaevidován pod číslem | L45: .
A47: Potvrzuji, že (v případě nehmotného plnění, např. konzultace, výuka nebo praktický výcvik) byly splněny
A48: podmínky stanovené v dohodě*).
A50: Potvrzuji, že zaměstnanec vykonal práci ve vykázaném rozsahu a splnil zadané úkoly v požadovaném rozsahu,
A51: kvalitě a termínu.
A53: V | B53: ='Leden 2026'!B54 -> Ostravě | D53: dne | F53: ='Leden 2026'!F54 -> 0
F54: jméno(a), příjmení a podpis pověřeného zaměstnance
A56: Schvaluji a souhlasím s výplatou sjednané odměny na účet zaměstnance.
A57: Odměna je splatná v prvním výplatním termínu zaměstnavatele po odevzdání práce.
A59: datum | F59: ='Leden 2026'!F60 -> 0
F60: jméno(a), příjmení a podpis vedoucího zaměstnance
A62: datum | F62: ='Leden 2026'!F63 -> Ing. Martin Nekula, MBA
F63: jméno(a), příjmení a podpis příkazce operace
A65: datum | F65: ='Leden 2026'!F66 -> Bc. Daniela Budinová
F66: jméno(a), příjmení a podpis správce rozpočtu
A68: *) Nehodící se škrtněte

Sheet Prosinec 2026
E1: VYUČTOVÁNÍ za měsíc | G1: 12/2026
A3: na základě uzavřené dohody o provedení práce * podle § 75 zákoníku práce č.: | H3: ='Leden 2026'!H3 -> 0
A4: na základě uzavřené dohody o pracovní činnosti * podle § 76 zákoníku práce č.: | H4: ='Leden 2026'!H4 -> 0
A6: OEČ zaměstnance: | D6: ='Leden 2026'!D6 -> 0 | F6: Jméno a příjmení zaměstnance: | H6: ='Leden 2026'!H6 -> 0
A8: datum | C8: výkon práce | E8: počet hodin | F8: Kč za hodinu | G8: celkem Kč | H8: stručný popis činnosti
C9: od | D9: do | H9: ='Leden 2026'!H9 -> HASÍK
A10: út | B10: 1 | E10: =(D10-C10+(D10<C10))-0.0208333333333333*(IF((D10-C10+(D10<C10))>0.25,1,0)+IF((D10-C10+(D10<C10))>0.5,1,0)+IF((D10-C10+(D10<C10))>0.75,1,0)) -> 0 | G10: =ABS((HOUR('Prosinec 2026'!E10)+MINUTE('Prosinec 2026'!E10)/60))*F10 -> 0
A11: st | B11: 2 | E11: =(D11-C11+(D11<C11))-0.0208333333333333*(IF((D11-C11+(D11<C11))>0.25,1,0)+IF((D11-C11+(D11<C11))>0.5,1,0)+IF((D11-C11+(D11<C11))>0.75,1,0)) -> 0 | G11: =ABS((HOUR('Prosinec 2026'!E11)+MINUTE('Prosinec 2026'!E11)/60))*F11 -> 0
A12: čt | B12: 3 | E12: =(D12-C12+(D12<C12))-0.0208333333333333*(IF((D12-C12+(D12<C12))>0.25,1,0)+IF((D12-C12+(D12<C12))>0.5,1,0)+IF((D12-C12+(D12<C12))>0.75,1,0)) -> 0 | G12: =ABS((HOUR('Prosinec 2026'!E12)+MINUTE('Prosinec 2026'!E12)/60))*F12 -> 0
A13: pá | B13: 4 | E13: =(D13-C13+(D13<C13))-0.0208333333333333*(IF((D13-C13+(D13<C13))>0.25,1,0)+IF((D13-C13+(D13<C13))>0.5,1,0)+IF((D13-C13+(D13<C13))>0.75,1,0)) -> 0 | G13: =ABS((HOUR('Prosinec 2026'!E13)+MINUTE('Prosinec 2026'!E13)/60))*F13 -> 0
A14: so | B14: 5 | E14: =(D14-C14+(D14<C14))-0.0208333333333333*(IF((D14-C14+(D14<C14))>0.25,1,0)+IF((D14-C14+(D14<C14))>0.5,1,0)+IF((D14-C14+(D14<C14))>0.75,1,0)) -> 0 | G14: =ABS((HOUR('Prosinec 2026'!E14)+MINUTE('Prosinec 2026'!E14)/60))*F14 -> 0
A15: ne | B15: 6 | E15: =(D15-C15+(D15<C15))-0.0208333333333333*(IF((D15-C15+(D15<C15))>0.25,1,0)+IF((D15-C15+(D15<C15))>0.5,1,0)+IF((D15-C15+(D15<C15))>0.75,1,0)) -> 0 | G15: =ABS((HOUR('Prosinec 2026'!E15)+MINUTE('Prosinec 2026'!E15)/60))*F15 -> 0
A16: po | B16: 7 | E16: =(D16-C16+(D16<C16))-0.0208333333333333*(IF((D16-C16+(D16<C16))>0.25,1,0)+IF((D16-C16+(D16<C16))>0.5,1,0)+IF((D16-C16+(D16<C16))>0.75,1,0)) -> 0 | G16: =ABS((HOUR('Prosinec 2026'!E16)+MINUTE('Prosinec 2026'!E16)/60))*F16 -> 0
A17: út | B17: 8 | E17: =(D17-C17+(D17<C17))-0.0208333333333333*(IF((D17-C17+(D17<C17))>0.25,1,0)+IF((D17-C17+(D17<C17))>0.5,1,0)+IF((D17-C17+(D17<C17))>0.75,1,0)) -> 0 | G17: =ABS((HOUR('Prosinec 2026'!E17)+MINUTE('Prosinec 2026'!E17)/60))*F17 -> 0
A18: st | B18: 9 | E18: =(D18-C18+(D18<C18))-0.0208333333333333*(IF((D18-C18+(D18<C18))>0.25,1,0)+IF((D18-C18+(D18<C18))>0.5,1,0)+IF((D18-C18+(D18<C18))>0.75,1,0)) -> 0 | G18: =ABS((HOUR('Prosinec 2026'!E18)+MINUTE('Prosinec 2026'!E18)/60))*F18 -> 0
A19: čt | B19: 10 | E19: =(D19-C19+(D19<C19))-0.0208333333333333*(IF((D19-C19+(D19<C19))>0.25,1,0)+IF((D19-C19+(D19<C19))>0.5,1,0)+IF((D19-C19+(D19<C19))>0.75,1,0)) -> 0 | G19: =ABS((HOUR('Prosinec 2026'!E19)+MINUTE('Prosinec 2026'!E19)/60))*F19 -> 0
A20: pá | B20: 11 | E20: =(D20-C20+(D20<C20))-0.0208333333333333*(IF((D20-C20+(D20<C20))>0.25,1,0)+IF((D20-C20+(D20<C20))>0.5,1,0)+IF((D20-C20+(D20<C20))>0.75,1,0)) -> 0 | G20: =ABS((HOUR('Prosinec 2026'!E20)+MINUTE('Prosinec 2026'!E20)/60))*F20 -> 0
A21: so | B21: 12 | E21: =(D21-C21+(D21<C21))-0.0208333333333333*(IF((D21-C21+(D21<C21))>0.25,1,0)+IF((D21-C21+(D21<C21))>0.5,1,0)+IF((D21-C21+(D21<C21))>0.75,1,0)) -> 0 | G21: =ABS((HOUR('Prosinec 2026'!E21)+MINUTE('Prosinec 2026'!E21)/60))*F21 -> 0
... A40: čt | B40: 31 | E40: =(D40-C40+(D40<C40))-0.0208333333333333*(IF((D40-C40+(D40<C40))>0.25,1,0)+IF((D40-C40+(D40<C40))>0.5,1,0)+IF((D40-C40+(D40<C40))>0.75,1,0)) -> 0 | G40: =ABS((HOUR('Prosinec 2026'!E40)+MINUTE('Prosinec 2026'!E40)/60))*F40 -> 0
A41: Součet | E41: =E10+E11+E12+E13+E14+E15+E16+E17+E18+E19+E20+E21+E22+E23+E24+E25+E26+E27+E28+E29+E30+E31+E32+E33+E34+E35+E36+E37+E38+E39+E40 -> 0 | G41: =G10+G11+G12+G13+G14+G15+G16+G17+G18+G19+G20+G21+G22+G23+G24+G25+G26+G27+G28+G29+G30+G31+G32+G33+G34+G35+G36+G37+G38+G39+G40 -> 0 | H41: Datum:
A42: CELKEM od počátku roku | E42: =E41+'Leden 2026'!E41+'Únor 2026'!E38+'Březen 2026'!E41+'Duben 2026'!E40+'Květen 2026'!E41+'Červen 2026'!E40+'Červenec 2026'!E41+'Srpen 2026'!E41+'Září 2026'!E40+'Říjen 2026'!E41+'Listopad 2026'!E40 -> 0 | H42: Vypracoval: | J42: ='Leden 2026'!J42 -> 0
H43: Podpis:
A45: Výsledek práce*) | I45: (projekt, posudek apod.)
A46: je uložen u | F46: (pracoviště HZS ČR) a zaevidován pod číslem | L46: .
A48: Potvrzuji, že (v případě nehmotného plnění, např. konzultace, výuka nebo praktický výcvik) byly splněny
A49: podmínky stanovené v dohodě*).
A51: Potvrzuji, že zaměstnanec vykonal práci ve vykázaném rozsahu a splnil zadané úkoly v požadovaném rozsahu,
A52: kvalitě a termínu.
A54: V | B54: ='Leden 2026'!B54 -> Ostravě | D54: dne | F54: ='Leden 2026'!F54 -> 0
F55: jméno(a), příjmení a podpis pověřeného zaměstnance
A57: Schvaluji a souhlasím s výplatou sjednané odměny na účet zaměstnance.
A58: Odměna je splatná v prvním výplatním termínu zaměstnavatele po odevzdání práce.
A60: datum | F60: ='Leden 2026'!F60 -> 0
F61: jméno(a), příjmení a podpis vedoucího zaměstnance
A63: datum | F63: ='Leden 2026'!F63 -> Ing. Martin Nekula, MBA
F64: jméno(a), příjmení a podpis příkazce operace
A66: datum | F66: ='Leden 2026'!F66 -> Bc. Daniela Budinová
F67: jméno(a), příjmení a podpis správce rozpočtu
A69: *) Nehodící se škrtněte
